BEGIN:VCALENDAR
VERSION:2.0
PRODID:-//World Awareness Children&#039;s Museum - ECPv6.15.20//NONSGML v1.0//EN
CALSCALE:GREGORIAN
METHOD:PUBLISH
X-WR-CALNAME:World Awareness Children&#039;s Museum
X-ORIGINAL-URL:https://worldchildrensmuseum.org
X-WR-CALDESC:Events for World Awareness Children&#039;s Museum
REFRESH-INTERVAL;VALUE=DURATION:PT1H
X-Robots-Tag:noindex
X-PUBLISHED-TTL:PT1H
BEGIN:VTIMEZONE
TZID:America/New_York
BEGIN:DAYLIGHT
TZOFFSETFROM:-0500
TZOFFSETTO:-0400
TZNAME:EDT
DTSTART:20220313T070000
END:DAYLIGHT
BEGIN:STANDARD
TZOFFSETFROM:-0400
TZOFFSETTO:-0500
TZNAME:EST
DTSTART:20221106T060000
END:STANDARD
BEGIN:DAYLIGHT
TZOFFSETFROM:-0500
TZOFFSETTO:-0400
TZNAME:EDT
DTSTART:20230312T070000
END:DAYLIGHT
BEGIN:STANDARD
TZOFFSETFROM:-0400
TZOFFSETTO:-0500
TZNAME:EST
DTSTART:20231105T060000
END:STANDARD
BEGIN:DAYLIGHT
TZOFFSETFROM:-0500
TZOFFSETTO:-0400
TZNAME:EDT
DTSTART:20240310T070000
END:DAYLIGHT
BEGIN:STANDARD
TZOFFSETFROM:-0400
TZOFFSETTO:-0500
TZNAME:EST
DTSTART:20241103T060000
END:STANDARD
END:VTIMEZONE
BEGIN:VEVENT
DTSTART;TZID=America/New_York:20230312T100000
DTEND;TZID=America/New_York:20230312T150000
DTSTAMP:20260423T164650
CREATED:20220325T231023Z
LAST-MODIFIED:20230312T025346Z
UID:10001743-1678615200-1678633200@worldchildrensmuseum.org
SUMMARY:Free Day!
DESCRIPTION:Visit the museum for free today thanks to Stewart’s Holiday Match and all who contributed! We are pleased to offer these free days from 10am-3pm on the Second Sunday of the month. Donations are appreciated\, but not required. \nFree Days are generously sponsored by Stewart’s Holiday Match.  \nYou can learn more by visiting www.stewartsshops.com/community-giving
URL:https://worldchildrensmuseum.org/events/free-day-12/
LOCATION:NY
END:VEVENT
BEGIN:VEVENT
DTSTART;TZID=America/New_York:20230312T100000
DTEND;TZID=America/New_York:20230312T150000
DTSTAMP:20260423T164650
CREATED:20220824T022743Z
LAST-MODIFIED:20221221T214114Z
UID:10001974-1678615200-1678633200@worldchildrensmuseum.org
SUMMARY:Open for General Admission
DESCRIPTION:Pre-registration is encouraged: wacm.ticketleap.com/admission-2022 \nAdmission Costs:Members: FreeNot-Yet-Members: $7 per person\, children under 3 are free.Please visit our website for more information on admission: https://worldchildrensmuseum.org/for-visitors/
URL:https://worldchildrensmuseum.org/events/open-for-general-admission-398/
LOCATION:World Awareness Children’s Museum\, 89 Warren St\, Glens Falls\, NY 12801\, USA
END:VEVENT
BEGIN:VEVENT
DTSTART;VALUE=DATE:20230314
DTEND;VALUE=DATE:20230315
DTSTAMP:20260423T164650
CREATED:20220907T045618Z
LAST-MODIFIED:20230314T030833Z
UID:10002112-1678752000-1678838399@worldchildrensmuseum.org
SUMMARY:MUSEUM CLOSED
DESCRIPTION:
URL:https://worldchildrensmuseum.org/events/museum-closed-58/
LOCATION:NY
END:VEVENT
BEGIN:VEVENT
DTSTART;VALUE=DATE:20230315
DTEND;VALUE=DATE:20230316
DTSTAMP:20260423T164650
CREATED:20220907T045619Z
LAST-MODIFIED:20230315T032357Z
UID:10002113-1678838400-1678924799@worldchildrensmuseum.org
SUMMARY:MUSEUM CLOSED
DESCRIPTION:
URL:https://worldchildrensmuseum.org/events/museum-closed-59/
LOCATION:NY
END:VEVENT
BEGIN:VEVENT
DTSTART;TZID=America/New_York:20230317T133000
DTEND;TZID=America/New_York:20230317T143000
DTSTAMP:20260423T164650
CREATED:20230301T015336Z
LAST-MODIFIED:20230317T032405Z
UID:10002252-1679059800-1679063400@worldchildrensmuseum.org
SUMMARY:Storytime Friday
DESCRIPTION:Reading: “Fiona’s Luck” by Teresa Bateman \nEveryone is welcome at our recurring program\, Storytime Fridays! This program is appropriate for all ages and includes a story and a craft.  \nCost: Free with admission
URL:https://worldchildrensmuseum.org/events/storytime-friday-23/
LOCATION:NY
END:VEVENT
BEGIN:VEVENT
DTSTART;TZID=America/New_York:20230318T130000
DTEND;TZID=America/New_York:20230318T140000
DTSTAMP:20260423T164650
CREATED:20230301T015337Z
LAST-MODIFIED:20230318T032333Z
UID:10002251-1679144400-1679148000@worldchildrensmuseum.org
SUMMARY:Irish Step Dancing Performance
DESCRIPTION:The Wild Irish Acres Dancers will transport you and your family to the Emerald Isle during this special Irish step dancing performance!  \nCost: Free with admission
URL:https://worldchildrensmuseum.org/events/irish-step-dancing-performance/
LOCATION:NY
END:VEVENT
BEGIN:VEVENT
DTSTART;TZID=America/New_York:20230319T130000
DTEND;TZID=America/New_York:20230319T140000
DTSTAMP:20260423T164650
CREATED:20230301T015337Z
LAST-MODIFIED:20230319T032329Z
UID:10002237-1679230800-1679234400@worldchildrensmuseum.org
SUMMARY:POSTPONED to March 25: Celtic Letters Paint & Sip
DESCRIPTION:Join us for our popular family-friendly Paint & Sip series. Artists will paint their own Celtic letters on canvas to celebrate St. Patrick’s Day\, with instruction from local artist Patrice Jarvis-Weber. \nCost: $10 per person. Members get a 10% discount! Please call to reserve your spot: 518-793-2773 or visit wacm.ticketleap.com to reserve online. \nThis class is limited to 9 people.
URL:https://worldchildrensmuseum.org/events/celtic-letters-paint-sip/
LOCATION:NY
END:VEVENT
BEGIN:VEVENT
DTSTART;TZID=America/New_York:20230320T100000
DTEND;TZID=America/New_York:20230320T150000
DTSTAMP:20260423T164650
CREATED:20220824T022744Z
LAST-MODIFIED:20221221T214115Z
UID:10001975-1679306400-1679324400@worldchildrensmuseum.org
SUMMARY:Open for General Admission
DESCRIPTION:Pre-registration is encouraged: wacm.ticketleap.com/admission-2022 \nAdmission Costs:Members: FreeNot-Yet-Members: $7 per person\, children under 3 are free.Please visit our website for more information on admission: https://worldchildrensmuseum.org/for-visitors/
URL:https://worldchildrensmuseum.org/events/open-for-general-admission-404/
LOCATION:World Awareness Children’s Museum\, 89 Warren St\, Glens Falls\, NY 12801\, USA
END:VEVENT
BEGIN:VEVENT
DTSTART;TZID=America/New_York:20230320T103000
DTEND;TZID=America/New_York:20230320T113000
DTSTAMP:20260423T164650
CREATED:20230301T015337Z
LAST-MODIFIED:20230320T033841Z
UID:10002239-1679308200-1679311800@worldchildrensmuseum.org
SUMMARY:CANCELED: "Lucky Slime" Slime Lab
DESCRIPTION:Become a Slime Scientist and make some lucky green slime! Cost: Free with admission
URL:https://worldchildrensmuseum.org/events/lucky-slime-slime-lab/
LOCATION:NY
END:VEVENT
BEGIN:VEVENT
DTSTART;VALUE=DATE:20230321
DTEND;VALUE=DATE:20230322
DTSTAMP:20260423T164650
CREATED:20220907T045620Z
LAST-MODIFIED:20230321T034137Z
UID:10002115-1679356800-1679443199@worldchildrensmuseum.org
SUMMARY:MUSEUM CLOSED
DESCRIPTION:
URL:https://worldchildrensmuseum.org/events/museum-closed-61/
LOCATION:NY
END:VEVENT
BEGIN:VEVENT
DTSTART;VALUE=DATE:20230322
DTEND;VALUE=DATE:20230323
DTSTAMP:20260423T164650
CREATED:20220907T045620Z
LAST-MODIFIED:20230322T035343Z
UID:10002114-1679443200-1679529599@worldchildrensmuseum.org
SUMMARY:MUSEUM CLOSED
DESCRIPTION:
URL:https://worldchildrensmuseum.org/events/museum-closed-60/
LOCATION:NY
END:VEVENT
BEGIN:VEVENT
DTSTART;TZID=America/New_York:20230324T100000
DTEND;TZID=America/New_York:20230324T150000
DTSTAMP:20260423T164650
CREATED:20220824T022745Z
LAST-MODIFIED:20221221T214115Z
UID:10001976-1679652000-1679670000@worldchildrensmuseum.org
SUMMARY:Open for General Admission
DESCRIPTION:Pre-registration is encouraged: wacm.ticketleap.com/admission-2022 \nAdmission Costs:Members: FreeNot-Yet-Members: $7 per person\, children under 3 are free.Please visit our website for more information on admission: https://worldchildrensmuseum.org/for-visitors/
URL:https://worldchildrensmuseum.org/events/open-for-general-admission-406/
LOCATION:World Awareness Children’s Museum\, 89 Warren St\, Glens Falls\, NY 12801\, USA
END:VEVENT
BEGIN:VEVENT
DTSTART;TZID=America/New_York:20230324T133000
DTEND;TZID=America/New_York:20230324T143000
DTSTAMP:20260423T164650
CREATED:20230301T015338Z
LAST-MODIFIED:20230324T040832Z
UID:10002241-1679664600-1679668200@worldchildrensmuseum.org
SUMMARY:Storytime Friday
DESCRIPTION:Reading: “Seven Special Somethingsby Adib Khorram \nEveryone is welcome at our recurring program\, Storytime Fridays! This program is appropriate for all ages and includes a story and a craft.  \nCost: Free with admission
URL:https://worldchildrensmuseum.org/events/storytime-friday-24/
LOCATION:NY
END:VEVENT
BEGIN:VEVENT
DTSTART;TZID=America/New_York:20230325T100000
DTEND;TZID=America/New_York:20230325T150000
DTSTAMP:20260423T164650
CREATED:20220824T022745Z
LAST-MODIFIED:20221221T214115Z
UID:10001977-1679738400-1679756400@worldchildrensmuseum.org
SUMMARY:Open for General Admission
DESCRIPTION:Pre-registration is encouraged: wacm.ticketleap.com/admission-2022 \nAdmission Costs:Members: FreeNot-Yet-Members: $7 per person\, children under 3 are free.Please visit our website for more information on admission: https://worldchildrensmuseum.org/for-visitors/
URL:https://worldchildrensmuseum.org/events/open-for-general-admission-407/
LOCATION:World Awareness Children’s Museum\, 89 Warren St\, Glens Falls\, NY 12801\, USA
END:VEVENT
BEGIN:VEVENT
DTSTART;TZID=America/New_York:20230325T130000
DTEND;TZID=America/New_York:20230325T140000
DTSTAMP:20260423T164650
CREATED:20230301T015338Z
LAST-MODIFIED:20230325T040904Z
UID:10002243-1679749200-1679752800@worldchildrensmuseum.org
SUMMARY:Rainbow Art Mini Masterpieces Class
DESCRIPTION:Join us for our workshop series\, Mini Masterpieces! During this class\, artists will paint their own rainbow masterpiece on a tiny 4”x4” canvas. This class is taught by local artist Patrice Jarvis-Weber and is recommended for children ages 10 and older. \nCost: $8 per person. Members get a 10% discount! Please call to reserve your spot: 518-793-2773 or visit wacm.ticketleap.com to reserve online. \nThis class is limited to 9 people.
URL:https://worldchildrensmuseum.org/events/rainbow-art-mini-masterpieces-class/
LOCATION:NY
END:VEVENT
BEGIN:VEVENT
DTSTART;TZID=America/New_York:20230325T130000
DTEND;TZID=America/New_York:20230325T140000
DTSTAMP:20260423T164650
CREATED:20230319T032330Z
LAST-MODIFIED:20230325T040904Z
UID:10002441-1679749200-1679752800@worldchildrensmuseum.org
SUMMARY:Celtic Letters Paint & Sip
DESCRIPTION:Join us for our popular family-friendly Paint & Sip series. Artists will paint their own Celtic letters on canvas to celebrate St. Patrick’s Day\, with instruction from local artist Patrice Jarvis-Weber. \nCost: $10 per person. Members get a 10% discount! Please call to reserve your spot: 518-793-2773 or visit wacm.ticketleap.com to reserve online. \nThis class is limited to 9 people.
URL:https://worldchildrensmuseum.org/events/celtic-letters-paint-sip-2/
LOCATION:NY
END:VEVENT
BEGIN:VEVENT
DTSTART;TZID=America/New_York:20230326T100000
DTEND;TZID=America/New_York:20230326T150000
DTSTAMP:20260423T164650
CREATED:20220824T022745Z
LAST-MODIFIED:20221221T214116Z
UID:10001978-1679824800-1679842800@worldchildrensmuseum.org
SUMMARY:Open for General Admission
DESCRIPTION:Pre-registration is encouraged: wacm.ticketleap.com/admission-2022 \nAdmission Costs:Members: FreeNot-Yet-Members: $7 per person\, children under 3 are free.Please visit our website for more information on admission: https://worldchildrensmuseum.org/for-visitors/
URL:https://worldchildrensmuseum.org/events/open-for-general-admission-408/
LOCATION:World Awareness Children’s Museum\, 89 Warren St\, Glens Falls\, NY 12801\, USA
END:VEVENT
BEGIN:VEVENT
DTSTART;TZID=America/New_York:20230327T100000
DTEND;TZID=America/New_York:20230327T150000
DTSTAMP:20260423T164650
CREATED:20220824T022745Z
LAST-MODIFIED:20221221T214116Z
UID:10001979-1679911200-1679929200@worldchildrensmuseum.org
SUMMARY:Open for General Admission
DESCRIPTION:Pre-registration is encouraged: wacm.ticketleap.com/admission-2022 \nAdmission Costs:Members: FreeNot-Yet-Members: $7 per person\, children under 3 are free.Please visit our website for more information on admission: https://worldchildrensmuseum.org/for-visitors/
URL:https://worldchildrensmuseum.org/events/open-for-general-admission-409/
LOCATION:World Awareness Children’s Museum\, 89 Warren St\, Glens Falls\, NY 12801\, USA
END:VEVENT
BEGIN:VEVENT
DTSTART;VALUE=DATE:20230328
DTEND;VALUE=DATE:20230329
DTSTAMP:20260423T164650
CREATED:20220907T045621Z
LAST-MODIFIED:20230328T042331Z
UID:10002116-1679961600-1680047999@worldchildrensmuseum.org
SUMMARY:MUSEUM CLOSED
DESCRIPTION:
URL:https://worldchildrensmuseum.org/events/museum-closed-62/
LOCATION:NY
END:VEVENT
BEGIN:VEVENT
DTSTART;VALUE=DATE:20230329
DTEND;VALUE=DATE:20230330
DTSTAMP:20260423T164650
CREATED:20220907T045621Z
LAST-MODIFIED:20230329T042340Z
UID:10002117-1680048000-1680134399@worldchildrensmuseum.org
SUMMARY:MUSEUM CLOSED
DESCRIPTION:
URL:https://worldchildrensmuseum.org/events/museum-closed-63/
LOCATION:NY
END:VEVENT
BEGIN:VEVENT
DTSTART;TZID=America/New_York:20230330T100000
DTEND;TZID=America/New_York:20230330T150000
DTSTAMP:20260423T164650
CREATED:20220824T022746Z
LAST-MODIFIED:20221221T214116Z
UID:10001753-1680170400-1680188400@worldchildrensmuseum.org
SUMMARY:Open for General Admission
DESCRIPTION:Pre-registration is encouraged: wacm.ticketleap.com/admission-2022 \nAdmission Costs:Members: FreeNot-Yet-Members: $7 per person\, children under 3 are free.Please visit our website for more information on admission: https://worldchildrensmuseum.org/for-visitors/
URL:https://worldchildrensmuseum.org/events/open-for-general-admission-410/
LOCATION:World Awareness Children’s Museum\, 89 Warren St\, Glens Falls\, NY 12801\, USA
END:VEVENT
BEGIN:VEVENT
DTSTART;TZID=America/New_York:20230330T103000
DTEND;TZID=America/New_York:20230330T113000
DTSTAMP:20260423T164650
CREATED:20230301T015339Z
LAST-MODIFIED:20230330T042332Z
UID:10002245-1680172200-1680175800@worldchildrensmuseum.org
SUMMARY:Flower Painting for Preschoolers
DESCRIPTION:Children will learn about the parts of a flower and paint their own! Cost: Free with admission
URL:https://worldchildrensmuseum.org/events/flower-painting-for-preschoolers/
LOCATION:NY
END:VEVENT
BEGIN:VEVENT
DTSTART;TZID=America/New_York:20230331T100000
DTEND;TZID=America/New_York:20230331T150000
DTSTAMP:20260423T164650
CREATED:20220824T022746Z
LAST-MODIFIED:20221221T214116Z
UID:10001754-1680256800-1680274800@worldchildrensmuseum.org
SUMMARY:Open for General Admission
DESCRIPTION:Pre-registration is encouraged: wacm.ticketleap.com/admission-2022 \nAdmission Costs:Members: FreeNot-Yet-Members: $7 per person\, children under 3 are free.Please visit our website for more information on admission: https://worldchildrensmuseum.org/for-visitors/
URL:https://worldchildrensmuseum.org/events/open-for-general-admission-411/
LOCATION:World Awareness Children’s Museum\, 89 Warren St\, Glens Falls\, NY 12801\, USA
END:VEVENT
BEGIN:VEVENT
DTSTART;TZID=America/New_York:20230401T100000
DTEND;TZID=America/New_York:20230401T150000
DTSTAMP:20260423T164650
CREATED:20220824T022746Z
LAST-MODIFIED:20221221T214116Z
UID:10001755-1680343200-1680361200@worldchildrensmuseum.org
SUMMARY:Open for General Admission
DESCRIPTION:Pre-registration is encouraged: wacm.ticketleap.com/admission-2022 \nAdmission Costs:Members: FreeNot-Yet-Members: $7 per person\, children under 3 are free.Please visit our website for more information on admission: https://worldchildrensmuseum.org/for-visitors/
URL:https://worldchildrensmuseum.org/events/open-for-general-admission-412/
LOCATION:World Awareness Children’s Museum\, 89 Warren St\, Glens Falls\, NY 12801\, USA
END:VEVENT
BEGIN:VEVENT
DTSTART;TZID=America/New_York:20230402T100000
DTEND;TZID=America/New_York:20230402T150000
DTSTAMP:20260423T164650
CREATED:20220824T022746Z
LAST-MODIFIED:20221221T214116Z
UID:10001756-1680429600-1680447600@worldchildrensmuseum.org
SUMMARY:Open for General Admission
DESCRIPTION:Pre-registration is encouraged: wacm.ticketleap.com/admission-2022 \nAdmission Costs:Members: FreeNot-Yet-Members: $7 per person\, children under 3 are free.Please visit our website for more information on admission: https://worldchildrensmuseum.org/for-visitors/
URL:https://worldchildrensmuseum.org/events/open-for-general-admission-413/
LOCATION:World Awareness Children’s Museum\, 89 Warren St\, Glens Falls\, NY 12801\, USA
END:VEVENT
BEGIN:VEVENT
DTSTART;VALUE=DATE:20230404
DTEND;VALUE=DATE:20230405
DTSTAMP:20260423T164650
CREATED:20220907T045622Z
LAST-MODIFIED:20230404T043833Z
UID:10002142-1680566400-1680652799@worldchildrensmuseum.org
SUMMARY:MUSEUM CLOSED
DESCRIPTION:
URL:https://worldchildrensmuseum.org/events/museum-closed-65/
LOCATION:NY
END:VEVENT
BEGIN:VEVENT
DTSTART;VALUE=DATE:20230405
DTEND;VALUE=DATE:20230406
DTSTAMP:20260423T164650
CREATED:20220907T045622Z
LAST-MODIFIED:20230405T043832Z
UID:10002118-1680652800-1680739199@worldchildrensmuseum.org
SUMMARY:MUSEUM CLOSED
DESCRIPTION:
URL:https://worldchildrensmuseum.org/events/museum-closed-64/
LOCATION:NY
END:VEVENT
BEGIN:VEVENT
DTSTART;TZID=America/New_York:20230406T100000
DTEND;TZID=America/New_York:20230406T150000
DTSTAMP:20260423T164650
CREATED:20220824T022747Z
LAST-MODIFIED:20221221T214117Z
UID:10001757-1680775200-1680793200@worldchildrensmuseum.org
SUMMARY:Open for General Admission
DESCRIPTION:Pre-registration is encouraged: wacm.ticketleap.com/admission-2022 \nAdmission Costs:Members: FreeNot-Yet-Members: $7 per person\, children under 3 are free.Please visit our website for more information on admission: https://worldchildrensmuseum.org/for-visitors/
URL:https://worldchildrensmuseum.org/events/open-for-general-admission-415/
LOCATION:World Awareness Children’s Museum\, 89 Warren St\, Glens Falls\, NY 12801\, USA
END:VEVENT
BEGIN:VEVENT
DTSTART;TZID=America/New_York:20230407T100000
DTEND;TZID=America/New_York:20230407T150000
DTSTAMP:20260423T164650
CREATED:20220824T022747Z
LAST-MODIFIED:20221221T214117Z
UID:10001758-1680861600-1680879600@worldchildrensmuseum.org
SUMMARY:Open for General Admission
DESCRIPTION:Pre-registration is encouraged: wacm.ticketleap.com/admission-2022 \nAdmission Costs:Members: FreeNot-Yet-Members: $7 per person\, children under 3 are free.Please visit our website for more information on admission: https://worldchildrensmuseum.org/for-visitors/
URL:https://worldchildrensmuseum.org/events/open-for-general-admission-416/
LOCATION:World Awareness Children’s Museum\, 89 Warren St\, Glens Falls\, NY 12801\, USA
END:VEVENT
BEGIN:VEVENT
DTSTART;TZID=America/New_York:20230407T133000
DTEND;TZID=America/New_York:20230407T143000
DTSTAMP:20260423T164650
CREATED:20230330T042331Z
LAST-MODIFIED:20230407T043834Z
UID:10002458-1680874200-1680877800@worldchildrensmuseum.org
SUMMARY:Storytime Friday: Qingming Festival
DESCRIPTION:Reading: “The Fearless Flights of Hazel Ying Lee” by Julie Leung \nEveryone is welcome at our recurring program\, Storytime Fridays! This program is appropriate for all ages and includes a story and a craft.  \nCost: Free with admission
URL:https://worldchildrensmuseum.org/events/storytime-friday-qingming-festival/
LOCATION:NY
END:VEVENT
END:VCALENDAR