BEGIN:VCALENDAR
VERSION:2.0
PRODID:-//World Awareness Children&#039;s Museum - ECPv6.15.20//NONSGML v1.0//EN
CALSCALE:GREGORIAN
METHOD:PUBLISH
X-WR-CALNAME:World Awareness Children&#039;s Museum
X-ORIGINAL-URL:https://worldchildrensmuseum.org
X-WR-CALDESC:Events for World Awareness Children&#039;s Museum
REFRESH-INTERVAL;VALUE=DURATION:PT1H
X-Robots-Tag:noindex
X-PUBLISHED-TTL:PT1H
BEGIN:VTIMEZONE
TZID:America/New_York
BEGIN:DAYLIGHT
TZOFFSETFROM:-0500
TZOFFSETTO:-0400
TZNAME:EDT
DTSTART:20250309T070000
END:DAYLIGHT
BEGIN:STANDARD
TZOFFSETFROM:-0400
TZOFFSETTO:-0500
TZNAME:EST
DTSTART:20251102T060000
END:STANDARD
BEGIN:DAYLIGHT
TZOFFSETFROM:-0500
TZOFFSETTO:-0400
TZNAME:EDT
DTSTART:20260308T070000
END:DAYLIGHT
BEGIN:STANDARD
TZOFFSETFROM:-0400
TZOFFSETTO:-0500
TZNAME:EST
DTSTART:20261101T060000
END:STANDARD
BEGIN:DAYLIGHT
TZOFFSETFROM:-0500
TZOFFSETTO:-0400
TZNAME:EDT
DTSTART:20270314T070000
END:DAYLIGHT
BEGIN:STANDARD
TZOFFSETFROM:-0400
TZOFFSETTO:-0500
TZNAME:EST
DTSTART:20271107T060000
END:STANDARD
END:VTIMEZONE
BEGIN:VEVENT
DTSTART;TZID=America/New_York:20260503T100000
DTEND;TZID=America/New_York:20260503T150000
DTSTAMP:20260423T111858
CREATED:20250416T173955Z
LAST-MODIFIED:20250619T190935Z
UID:10004427-1777802400-1777820400@worldchildrensmuseum.org
SUMMARY:Open for General Admission
DESCRIPTION:Tickets can be purchased online at https://wacm.ticketleap.com/museum-admission-2024/Admission Costs:Members: FreeNot-Yet-Members: $7 per person\, children under 12mo. are free.Please visit our website for more information on admission: https://worldchildrensmuseum.org/for-visitors/
URL:https://worldchildrensmuseum.org/events/open-for-general-admission-2246/
LOCATION:World Awareness Children’s Museum\, 89 Warren St\, Glens Falls\, NY\, United States
GEO:43.310029;-73.639958
X-APPLE-STRUCTURED-LOCATION;VALUE=URI;X-ADDRESS=World Awareness Children’s Museum 89 Warren St Glens Falls NY United States;X-APPLE-RADIUS=500;X-TITLE=89 Warren St:geo:-73.639958,43.310029
END:VEVENT
BEGIN:VEVENT
DTSTART;TZID=America/New_York:20260504T100000
DTEND;TZID=America/New_York:20260504T150000
DTSTAMP:20260423T111858
CREATED:20250416T182445Z
LAST-MODIFIED:20250619T190935Z
UID:10004428-1777888800-1777906800@worldchildrensmuseum.org
SUMMARY:Open for General Admission
DESCRIPTION:Tickets can be purchased online at https://wacm.ticketleap.com/museum-admission-2024/Admission Costs:Members: FreeNot-Yet-Members: $7 per person\, children under 12mo. are free.Please visit our website for more information on admission: https://worldchildrensmuseum.org/for-visitors/
URL:https://worldchildrensmuseum.org/events/open-for-general-admission-2247/
LOCATION:World Awareness Children’s Museum\, 89 Warren St\, Glens Falls\, NY\, United States
GEO:43.310029;-73.639958
X-APPLE-STRUCTURED-LOCATION;VALUE=URI;X-ADDRESS=World Awareness Children’s Museum 89 Warren St Glens Falls NY United States;X-APPLE-RADIUS=500;X-TITLE=89 Warren St:geo:-73.639958,43.310029
END:VEVENT
BEGIN:VEVENT
DTSTART;TZID=America/New_York:20260504T103000
DTEND;TZID=America/New_York:20260504T113000
DTSTAMP:20260423T111858
CREATED:20260415T032443Z
LAST-MODIFIED:20260422T034506Z
UID:10006685-1777890600-1777894200@worldchildrensmuseum.org
SUMMARY:Fiesta Sensory Play for Preschoolers! Colors of Cinco de Mayo
DESCRIPTION:Fiesta Sensory PlayCelebrate with a colorful\, hands-on sensory experience inspired by festive traditions! Lil' Explorers' are invited to scoop\, pour\, sort\, and explore a variety of bright materials\, textures\, and playful elements. This open-ended activity encourages curiosity\, fine motor skills\, and joyful discovery through play. \nAges: 2–5 yearsCost: Free with admission
URL:https://worldchildrensmuseum.org/events/fiesta-sensory-play-for-preschoolers-colors-of-cinco-de-mayo/
LOCATION:89 Warren St\, Glens Falls\, NY\, United States
GEO:43.30952;-73.64401
END:VEVENT
BEGIN:VEVENT
DTSTART;TZID=America/New_York:20260507T100000
DTEND;TZID=America/New_York:20260507T150000
DTSTAMP:20260423T111858
CREATED:20250416T190924Z
LAST-MODIFIED:20250619T190935Z
UID:10004429-1778148000-1778166000@worldchildrensmuseum.org
SUMMARY:Open for General Admission
DESCRIPTION:Tickets can be purchased online at https://wacm.ticketleap.com/museum-admission-2024/Admission Costs:Members: FreeNot-Yet-Members: $7 per person\, children under 12mo. are free.Please visit our website for more information on admission: https://worldchildrensmuseum.org/for-visitors/
URL:https://worldchildrensmuseum.org/events/open-for-general-admission-2248/
LOCATION:World Awareness Children’s Museum\, 89 Warren St\, Glens Falls\, NY\, United States
GEO:43.310029;-73.639958
X-APPLE-STRUCTURED-LOCATION;VALUE=URI;X-ADDRESS=World Awareness Children’s Museum 89 Warren St Glens Falls NY United States;X-APPLE-RADIUS=500;X-TITLE=89 Warren St:geo:-73.639958,43.310029
END:VEVENT
BEGIN:VEVENT
DTSTART;TZID=America/New_York:20260507T120000
DTEND;TZID=America/New_York:20260507T130000
DTSTAMP:20260423T111858
CREATED:20260415T032447Z
LAST-MODIFIED:20260422T034510Z
UID:10006687-1778155200-1778158800@worldchildrensmuseum.org
SUMMARY:Kinder Krafts!
DESCRIPTION:Get creative with hands-on art designed just for preschoolers! Little artists will explore simple projects that encourage imagination\, fine motor skills\, and self-expression. Perfect for small hands and big ideas\, this program invites children to create\, play\, and take home their own special masterpiece. \nAges: 2–5 yearsCost: Free with admission \nCost: Free with admission.
URL:https://worldchildrensmuseum.org/events/kinder-krafts-20/
LOCATION:89 Warren St\, Glens Falls\, NY\, United States
GEO:43.30952;-73.64401
END:VEVENT
BEGIN:VEVENT
DTSTART;TZID=America/New_York:20260508T100000
DTEND;TZID=America/New_York:20260508T150000
DTSTAMP:20260423T111858
CREATED:20250417T155452Z
LAST-MODIFIED:20250619T190936Z
UID:10004430-1778234400-1778252400@worldchildrensmuseum.org
SUMMARY:Open for General Admission
DESCRIPTION:Tickets can be purchased online at https://wacm.ticketleap.com/museum-admission-2024/Admission Costs:Members: FreeNot-Yet-Members: $7 per person\, children under 12mo. are free.Please visit our website for more information on admission: https://worldchildrensmuseum.org/for-visitors/
URL:https://worldchildrensmuseum.org/events/open-for-general-admission-2249/
LOCATION:World Awareness Children’s Museum\, 89 Warren St\, Glens Falls\, NY\, United States
GEO:43.310029;-73.639958
X-APPLE-STRUCTURED-LOCATION;VALUE=URI;X-ADDRESS=World Awareness Children’s Museum 89 Warren St Glens Falls NY United States;X-APPLE-RADIUS=500;X-TITLE=89 Warren St:geo:-73.639958,43.310029
END:VEVENT
BEGIN:VEVENT
DTSTART;TZID=America/New_York:20260508T103000
DTEND;TZID=America/New_York:20260508T113000
DTSTAMP:20260423T111858
CREATED:20260415T032449Z
LAST-MODIFIED:20260422T034516Z
UID:10006689-1778236200-1778239800@worldchildrensmuseum.org
SUMMARY:Storytime Friday AM
DESCRIPTION:Everyone is welcome at Storytime Fridays\, a recurring program designed to spark joy and curiosity in little ones!  \nEach week\, we explore early literacy skills through movement\, imaginative play\, and a creative craft that brings the story to life. Perfect for toddlers\, preschoolers\, and their caregivers. \nCost: Free with Admission
URL:https://worldchildrensmuseum.org/events/storytime-friday-am-17/
LOCATION:89 Warren St\, Glens Falls\, NY\, United States
GEO:43.30952;-73.64401
END:VEVENT
BEGIN:VEVENT
DTSTART;TZID=America/New_York:20260508T120000
DTEND;TZID=America/New_York:20260508T130000
DTSTAMP:20260423T111858
CREATED:20260415T032450Z
LAST-MODIFIED:20260422T034517Z
UID:10006690-1778241600-1778245200@worldchildrensmuseum.org
SUMMARY:Handprint Friends
DESCRIPTION:Create your own unique “friend” each week using your very own handprint! Perfect for children ages 2 and up\, this fun and creative series lets little artists bring home a new handmade friend every Friday. \nCost: Free with admission
URL:https://worldchildrensmuseum.org/events/handprint-friends-20/
LOCATION:89 Warren St\, Glens Falls\, NY\, United States
GEO:43.30952;-73.64401
END:VEVENT
BEGIN:VEVENT
DTSTART;TZID=America/New_York:20260508T133000
DTEND;TZID=America/New_York:20260508T143000
DTSTAMP:20260423T111858
CREATED:20260415T032452Z
LAST-MODIFIED:20260422T034518Z
UID:10006691-1778247000-1778250600@worldchildrensmuseum.org
SUMMARY:Storytime Friday PM
DESCRIPTION:Everyone is welcome at Storytime Fridays\, a recurring program designed to spark joy and curiosity in little ones!  \nEach week\, we explore early literacy skills through movement\, imaginative play\, and a creative craft that brings the story to life. Perfect for toddlers\, preschoolers\, and their caregivers. \nCost: Free with Admission
URL:https://worldchildrensmuseum.org/events/storytime-friday-pm-17/
LOCATION:89 Warren St\, Glens Falls\, NY\, United States
GEO:43.30952;-73.64401
END:VEVENT
BEGIN:VEVENT
DTSTART;TZID=America/New_York:20260509T100000
DTEND;TZID=America/New_York:20260509T150000
DTSTAMP:20260423T111858
CREATED:20250417T190927Z
LAST-MODIFIED:20250619T190936Z
UID:10004432-1778320800-1778338800@worldchildrensmuseum.org
SUMMARY:Open for General Admission
DESCRIPTION:Tickets can be purchased online at https://wacm.ticketleap.com/museum-admission-2024/Admission Costs:Members: FreeNot-Yet-Members: $7 per person\, children under 12mo. are free.Please visit our website for more information on admission: https://worldchildrensmuseum.org/for-visitors/
URL:https://worldchildrensmuseum.org/events/open-for-general-admission-2250/
LOCATION:World Awareness Children’s Museum\, 89 Warren St\, Glens Falls\, NY\, United States
GEO:43.310029;-73.639958
X-APPLE-STRUCTURED-LOCATION;VALUE=URI;X-ADDRESS=World Awareness Children’s Museum 89 Warren St Glens Falls NY United States;X-APPLE-RADIUS=500;X-TITLE=89 Warren St:geo:-73.639958,43.310029
END:VEVENT
BEGIN:VEVENT
DTSTART;TZID=America/New_York:20260510T100000
DTEND;TZID=America/New_York:20260510T150000
DTSTAMP:20260423T111858
CREATED:20250418T153927Z
LAST-MODIFIED:20260422T034526Z
UID:10004433-1778407200-1778425200@worldchildrensmuseum.org
SUMMARY:Free Day!
DESCRIPTION:Visit the museum for free today\, thanks to Stewart’s Holiday Match and all who contributed! We are pleased to offer these free days from 10am-3pm once per month. Donations are appreciated but not required. \nFree Days are generously sponsored by Stewart’s Holiday Match.  \nYou can learn more by visiting www.stewartsshops.com/community-giving
URL:https://worldchildrensmuseum.org/events/free-day-61/
LOCATION:NY
END:VEVENT
BEGIN:VEVENT
DTSTART;TZID=America/New_York:20260510T100000
DTEND;TZID=America/New_York:20260510T150000
DTSTAMP:20260423T111858
CREATED:20260415T032503Z
LAST-MODIFIED:20260422T034523Z
UID:10006698-1778407200-1778425200@worldchildrensmuseum.org
SUMMARY:Mother's Day Button Card: Make & Take Craft
DESCRIPTION:Mother’s Day Button Card: Make & Take CraftCreate a heartfelt card to celebrate someone special! Children will design a colorful card using buttons and simple materials\, inspired by the message “Moms are like buttons—they hold everything together.” This self-guided activity encourages creativity and thoughtful expression through art. \nCost: Free with admission & while supplies last
URL:https://worldchildrensmuseum.org/events/mothers-day-button-card-make-take-craft/
LOCATION:89 Warren St\, Glens Falls\, NY\, United States
GEO:43.30952;-73.64401
END:VEVENT
BEGIN:VEVENT
DTSTART;TZID=America/New_York:20260511T100000
DTEND;TZID=America/New_York:20260511T150000
DTSTAMP:20260423T111858
CREATED:20250418T192418Z
LAST-MODIFIED:20250619T190936Z
UID:10004435-1778493600-1778511600@worldchildrensmuseum.org
SUMMARY:Open for General Admission
DESCRIPTION:Tickets can be purchased online at https://wacm.ticketleap.com/museum-admission-2024/Admission Costs:Members: FreeNot-Yet-Members: $7 per person\, children under 12mo. are free.Please visit our website for more information on admission: https://worldchildrensmuseum.org/for-visitors/
URL:https://worldchildrensmuseum.org/events/open-for-general-admission-2252/
LOCATION:World Awareness Children’s Museum\, 89 Warren St\, Glens Falls\, NY\, United States
GEO:43.310029;-73.639958
X-APPLE-STRUCTURED-LOCATION;VALUE=URI;X-ADDRESS=World Awareness Children’s Museum 89 Warren St Glens Falls NY United States;X-APPLE-RADIUS=500;X-TITLE=89 Warren St:geo:-73.639958,43.310029
END:VEVENT
BEGIN:VEVENT
DTSTART;TZID=America/New_York:20260511T103000
DTEND;TZID=America/New_York:20260511T113000
DTSTAMP:20260423T111858
CREATED:20260415T032506Z
LAST-MODIFIED:20260415T032506Z
UID:10006700-1778495400-1778499000@worldchildrensmuseum.org
SUMMARY:Scribble Squad: Fiesta Colors!
DESCRIPTION:Fiesta Colors: Scribble SquadLittle artists are invited to explore bright\, festive colors inspired by Cinco de Mayo! Children will scribble\, swirl\, and create using playful materials while discovering color\, movement\, and texture. This process-based art activity encourages sensory exploration\, creativity\, and early mark-making skills in a fun and welcoming environment. \nDetails:Ages: 1–3 yearsCost: Free with admissionCapacity: Limited to 8 scribblers per sessionReserve your spot: Call 518-793-2773 or visit https://www.ticketleap.events/events/wacm-1
URL:https://worldchildrensmuseum.org/events/scribble-squad-fiesta-colors-2/
LOCATION:89 Warren St\, Glens Falls\, NY\, United States
GEO:43.30952;-73.64401
END:VEVENT
BEGIN:VEVENT
DTSTART;TZID=America/New_York:20260511T103000
DTEND;TZID=America/New_York:20260511T113000
DTSTAMP:20260423T111858
CREATED:20260415T032506Z
LAST-MODIFIED:20260422T034531Z
UID:10006694-1778495400-1778499000@worldchildrensmuseum.org
SUMMARY:Scribble Squad: Fiesta Colors!
DESCRIPTION:Fiesta Colors: Scribble SquadLittle artists are invited to explore bright\, festive colors inspired by Cinco de Mayo! Children will scribble\, swirl\, and create using playful materials while discovering color\, movement\, and texture. This process-based art activity encourages sensory exploration\, creativity\, and early mark-making skills in a fun and welcoming environment. \nDetails:Ages: 1–3 yearsCost: Free with admissionCapacity: Limited to 8 scribblers per sessionReserve your spot: Call 518-793-2773 or visit https://www.ticketleap.events/events/wacm-1
URL:https://worldchildrensmuseum.org/events/scribble-squad-fiesta-colors/
LOCATION:89 Warren St\, Glens Falls\, NY\, United States
GEO:43.30952;-73.64401
END:VEVENT
BEGIN:VEVENT
DTSTART;TZID=America/New_York:20260514T100000
DTEND;TZID=America/New_York:20260514T150000
DTSTAMP:20260423T111858
CREATED:20250419T182425Z
LAST-MODIFIED:20250619T190936Z
UID:10004436-1778752800-1778770800@worldchildrensmuseum.org
SUMMARY:Open for General Admission
DESCRIPTION:Tickets can be purchased online at https://wacm.ticketleap.com/museum-admission-2024/Admission Costs:Members: FreeNot-Yet-Members: $7 per person\, children under 12mo. are free.Please visit our website for more information on admission: https://worldchildrensmuseum.org/for-visitors/
URL:https://worldchildrensmuseum.org/events/open-for-general-admission-2253/
LOCATION:World Awareness Children’s Museum\, 89 Warren St\, Glens Falls\, NY\, United States
GEO:43.310029;-73.639958
X-APPLE-STRUCTURED-LOCATION;VALUE=URI;X-ADDRESS=World Awareness Children’s Museum 89 Warren St Glens Falls NY United States;X-APPLE-RADIUS=500;X-TITLE=89 Warren St:geo:-73.639958,43.310029
END:VEVENT
BEGIN:VEVENT
DTSTART;TZID=America/New_York:20260514T103000
DTEND;TZID=America/New_York:20260514T113000
DTSTAMP:20260423T111858
CREATED:20260415T032509Z
LAST-MODIFIED:20260422T034535Z
UID:10006701-1778754600-1778758200@worldchildrensmuseum.org
SUMMARY:Kinder Rhythm
DESCRIPTION:Join us for a lively\, intergenerational\, interactive music session ideal for children ages 1–5. This program inspires creativity\, joyful play\, and social connection through the power of group rhythm-making. We’ll sing\, dance\, play instruments\, and move to the beat together! \n \nCost: Free with Admission
URL:https://worldchildrensmuseum.org/events/kinder-rhythm-25/
LOCATION:89 Warren St\, Glens Falls\, NY\, United States
GEO:43.30952;-73.64401
END:VEVENT
BEGIN:VEVENT
DTSTART;TZID=America/New_York:20260514T120000
DTEND;TZID=America/New_York:20260514T130000
DTSTAMP:20260423T111858
CREATED:20260415T032510Z
LAST-MODIFIED:20260422T034536Z
UID:10006702-1778760000-1778763600@worldchildrensmuseum.org
SUMMARY:Kinder Krafts!
DESCRIPTION:Get creative with hands-on art designed just for preschoolers! Little artists will explore simple projects that encourage imagination\, fine motor skills\, and self-expression. Perfect for small hands and big ideas\, this program invites children to create\, play\, and take home their own special masterpiece. \nAges: 2–5 yearsCost: Free with admission \nCost: Free with admission.
URL:https://worldchildrensmuseum.org/events/kinder-krafts-21/
LOCATION:89 Warren St\, Glens Falls\, NY\, United States
GEO:43.30952;-73.64401
END:VEVENT
BEGIN:VEVENT
DTSTART;TZID=America/New_York:20260515T100000
DTEND;TZID=America/New_York:20260515T150000
DTSTAMP:20260423T111858
CREATED:20250419T192416Z
LAST-MODIFIED:20250619T190936Z
UID:10004437-1778839200-1778857200@worldchildrensmuseum.org
SUMMARY:Open for General Admission
DESCRIPTION:Tickets can be purchased online at https://wacm.ticketleap.com/museum-admission-2024/Admission Costs:Members: FreeNot-Yet-Members: $7 per person\, children under 12mo. are free.Please visit our website for more information on admission: https://worldchildrensmuseum.org/for-visitors/
URL:https://worldchildrensmuseum.org/events/open-for-general-admission-2254/
LOCATION:World Awareness Children’s Museum\, 89 Warren St\, Glens Falls\, NY\, United States
GEO:43.310029;-73.639958
X-APPLE-STRUCTURED-LOCATION;VALUE=URI;X-ADDRESS=World Awareness Children’s Museum 89 Warren St Glens Falls NY United States;X-APPLE-RADIUS=500;X-TITLE=89 Warren St:geo:-73.639958,43.310029
END:VEVENT
BEGIN:VEVENT
DTSTART;TZID=America/New_York:20260515T103000
DTEND;TZID=America/New_York:20260515T113000
DTSTAMP:20260423T111858
CREATED:20260415T032512Z
LAST-MODIFIED:20260422T034538Z
UID:10006704-1778841000-1778844600@worldchildrensmuseum.org
SUMMARY:Storytime Friday AM
DESCRIPTION:Everyone is welcome at Storytime Fridays\, a recurring program designed to spark joy and curiosity in little ones!  \nEach week\, we explore early literacy skills through movement\, imaginative play\, and a creative craft that brings the story to life. Perfect for toddlers\, preschoolers\, and their caregivers. \nCost: Free with Admission
URL:https://worldchildrensmuseum.org/events/storytime-friday-am-18/
LOCATION:89 Warren St\, Glens Falls\, NY\, United States
GEO:43.30952;-73.64401
END:VEVENT
BEGIN:VEVENT
DTSTART;TZID=America/New_York:20260515T120000
DTEND;TZID=America/New_York:20260515T130000
DTSTAMP:20260423T111858
CREATED:20260415T032519Z
LAST-MODIFIED:20260422T034540Z
UID:10006705-1778846400-1778850000@worldchildrensmuseum.org
SUMMARY:Handprint Friends
DESCRIPTION:Create your own unique “friend” each week using your very own handprint! Perfect for children ages 2 and up\, this fun and creative series lets little artists bring home a new handmade friend every Friday. \nCost: Free with admission
URL:https://worldchildrensmuseum.org/events/handprint-friends-21/
LOCATION:89 Warren St\, Glens Falls\, NY\, United States
GEO:43.30952;-73.64401
END:VEVENT
BEGIN:VEVENT
DTSTART;TZID=America/New_York:20260515T133000
DTEND;TZID=America/New_York:20260515T143000
DTSTAMP:20260423T111858
CREATED:20260415T032519Z
LAST-MODIFIED:20260422T034543Z
UID:10006706-1778851800-1778855400@worldchildrensmuseum.org
SUMMARY:Storytime Friday PM
DESCRIPTION:Everyone is welcome at Storytime Fridays\, a recurring program designed to spark joy and curiosity in little ones!  \nEach week\, we explore early literacy skills through movement\, imaginative play\, and a creative craft that brings the story to life. Perfect for toddlers\, preschoolers\, and their caregivers. \nCost: Free with Admission
URL:https://worldchildrensmuseum.org/events/storytime-friday-pm-18/
LOCATION:89 Warren St\, Glens Falls\, NY\, United States
GEO:43.30952;-73.64401
END:VEVENT
BEGIN:VEVENT
DTSTART;TZID=America/New_York:20260516T100000
DTEND;TZID=America/New_York:20260516T150000
DTSTAMP:20260423T111858
CREATED:20250420T192415Z
LAST-MODIFIED:20250619T190937Z
UID:10004438-1778925600-1778943600@worldchildrensmuseum.org
SUMMARY:Open for General Admission
DESCRIPTION:Tickets can be purchased online at https://wacm.ticketleap.com/museum-admission-2024/Admission Costs:Members: FreeNot-Yet-Members: $7 per person\, children under 12mo. are free.Please visit our website for more information on admission: https://worldchildrensmuseum.org/for-visitors/
URL:https://worldchildrensmuseum.org/events/open-for-general-admission-2255/
LOCATION:World Awareness Children’s Museum\, 89 Warren St\, Glens Falls\, NY\, United States
GEO:43.310029;-73.639958
X-APPLE-STRUCTURED-LOCATION;VALUE=URI;X-ADDRESS=World Awareness Children’s Museum 89 Warren St Glens Falls NY United States;X-APPLE-RADIUS=500;X-TITLE=89 Warren St:geo:-73.639958,43.310029
END:VEVENT
BEGIN:VEVENT
DTSTART;TZID=America/New_York:20260517T100000
DTEND;TZID=America/New_York:20260517T150000
DTSTAMP:20260423T111858
CREATED:20250421T155414Z
LAST-MODIFIED:20250619T190937Z
UID:10004439-1779012000-1779030000@worldchildrensmuseum.org
SUMMARY:Open for General Admission
DESCRIPTION:Tickets can be purchased online at https://wacm.ticketleap.com/museum-admission-2024/Admission Costs:Members: FreeNot-Yet-Members: $7 per person\, children under 12mo. are free.Please visit our website for more information on admission: https://worldchildrensmuseum.org/for-visitors/
URL:https://worldchildrensmuseum.org/events/open-for-general-admission-2256/
LOCATION:World Awareness Children’s Museum\, 89 Warren St\, Glens Falls\, NY\, United States
GEO:43.310029;-73.639958
X-APPLE-STRUCTURED-LOCATION;VALUE=URI;X-ADDRESS=World Awareness Children’s Museum 89 Warren St Glens Falls NY United States;X-APPLE-RADIUS=500;X-TITLE=89 Warren St:geo:-73.639958,43.310029
END:VEVENT
BEGIN:VEVENT
DTSTART;TZID=America/New_York:20260517T100000
DTEND;TZID=America/New_York:20260517T150000
DTSTAMP:20260423T111858
CREATED:20260415T032530Z
LAST-MODIFIED:20260422T034553Z
UID:10006713-1779012000-1779030000@worldchildrensmuseum.org
SUMMARY:You Keep Growing! Are you taller than an ostrich?
DESCRIPTION:You Keep Growing! (Self-Guided Activity)How tall are you today? Are you taller than an ostrich… or maybe still growing like one?  \nVisit our measuring wall and see how you stack up against animals from around the world! This playful activity is part of our Freedom to Grow theme\, celebrating all the ways we learn\, change\, and grow every day. \nReady to measure? Ask our GRO Team at the front desk to help you find out how much you’ve grown! \nCost: Free with admission
URL:https://worldchildrensmuseum.org/events/you-keep-growing-are-you-taller-than-an-ostrich/
LOCATION:89 Warren St\, Glens Falls\, NY\, United States
GEO:43.30952;-73.64401
END:VEVENT
BEGIN:VEVENT
DTSTART;TZID=America/New_York:20260518T100000
DTEND;TZID=America/New_York:20260518T150000
DTSTAMP:20260423T111858
CREATED:20250421T192424Z
LAST-MODIFIED:20250619T190937Z
UID:10004440-1779098400-1779116400@worldchildrensmuseum.org
SUMMARY:Open for General Admission
DESCRIPTION:Tickets can be purchased online at https://wacm.ticketleap.com/museum-admission-2024/Admission Costs:Members: FreeNot-Yet-Members: $7 per person\, children under 12mo. are free.Please visit our website for more information on admission: https://worldchildrensmuseum.org/for-visitors/
URL:https://worldchildrensmuseum.org/events/open-for-general-admission-2257/
LOCATION:World Awareness Children’s Museum\, 89 Warren St\, Glens Falls\, NY\, United States
GEO:43.310029;-73.639958
X-APPLE-STRUCTURED-LOCATION;VALUE=URI;X-ADDRESS=World Awareness Children’s Museum 89 Warren St Glens Falls NY United States;X-APPLE-RADIUS=500;X-TITLE=89 Warren St:geo:-73.639958,43.310029
END:VEVENT
BEGIN:VEVENT
DTSTART;TZID=America/New_York:20260518T103000
DTEND;TZID=America/New_York:20260518T120000
DTSTAMP:20260423T111858
CREATED:20260415T032533Z
LAST-MODIFIED:20260422T034554Z
UID:10006715-1779100200-1779105600@worldchildrensmuseum.org
SUMMARY:Homeschool Hangout
DESCRIPTION:Homeschool Hangout (Self-Guided Activity)Take a trip around the world—right here at the museum! Homeschool families are invited to explore together using a museum passport that guides you through each exhibit. Along the way\, discover optional learning stations with books\, activities\, and videos for those who want to dig deeper. \nThis relaxed\, self-guided experience is a great way to connect\, explore\, and meet other homeschool families. \nCost: Free with admission
URL:https://worldchildrensmuseum.org/events/homeschool-hangout-4/
LOCATION:89 Warren St\, Glens Falls\, NY\, United States
GEO:43.30952;-73.64401
END:VEVENT
BEGIN:VEVENT
DTSTART;TZID=America/New_York:20260521T100000
DTEND;TZID=America/New_York:20260521T150000
DTSTAMP:20260423T111858
CREATED:20250510T192441Z
LAST-MODIFIED:20250619T190937Z
UID:10004465-1779357600-1779375600@worldchildrensmuseum.org
SUMMARY:Open for General Admission
DESCRIPTION:Tickets can be purchased online at https://wacm.ticketleap.com/museum-admission-2024/Admission Costs:Members: FreeNot-Yet-Members: $7 per person\, children under 12mo. are free.Please visit our website for more information on admission: https://worldchildrensmuseum.org/for-visitors/
URL:https://worldchildrensmuseum.org/events/open-for-general-admission-2258/
LOCATION:World Awareness Children’s Museum\, 89 Warren St\, Glens Falls\, NY\, United States
GEO:43.310029;-73.639958
X-APPLE-STRUCTURED-LOCATION;VALUE=URI;X-ADDRESS=World Awareness Children’s Museum 89 Warren St Glens Falls NY United States;X-APPLE-RADIUS=500;X-TITLE=89 Warren St:geo:-73.639958,43.310029
END:VEVENT
BEGIN:VEVENT
DTSTART;TZID=America/New_York:20260521T103000
DTEND;TZID=America/New_York:20260521T113000
DTSTAMP:20260423T111858
CREATED:20260415T032534Z
LAST-MODIFIED:20260422T034559Z
UID:10006711-1779359400-1779363000@worldchildrensmuseum.org
SUMMARY:Kinder Rhythm
DESCRIPTION:Join us for a lively\, intergenerational\, interactive music session ideal for children ages 1–5. This program inspires creativity\, joyful play\, and social connection through the power of group rhythm-making. We’ll sing\, dance\, play instruments\, and move to the beat together! \n \nCost: Free with Admission
URL:https://worldchildrensmuseum.org/events/kinder-rhythm-26/
LOCATION:89 Warren St\, Glens Falls\, NY\, United States
GEO:43.30952;-73.64401
END:VEVENT
BEGIN:VEVENT
DTSTART;TZID=America/New_York:20260521T120000
DTEND;TZID=America/New_York:20260521T130000
DTSTAMP:20260423T111858
CREATED:20260415T032533Z
LAST-MODIFIED:20260422T034601Z
UID:10006709-1779364800-1779368400@worldchildrensmuseum.org
SUMMARY:Kinder Krafts!
DESCRIPTION:Get creative with hands-on art designed just for preschoolers! Little artists will explore simple projects that encourage imagination\, fine motor skills\, and self-expression. Perfect for small hands and big ideas\, this program invites children to create\, play\, and take home their own special masterpiece. \nAges: 2–5 yearsCost: Free with admission \nCost: Free with admission.
URL:https://worldchildrensmuseum.org/events/kinder-krafts-22/
LOCATION:89 Warren St\, Glens Falls\, NY\, United States
GEO:43.30952;-73.64401
END:VEVENT
END:VCALENDAR