BEGIN:VCALENDAR
VERSION:2.0
PRODID:-//World Awareness Children&#039;s Museum - ECPv6.15.20//NONSGML v1.0//EN
CALSCALE:GREGORIAN
METHOD:PUBLISH
X-WR-CALNAME:World Awareness Children&#039;s Museum
X-ORIGINAL-URL:https://worldchildrensmuseum.org
X-WR-CALDESC:Events for World Awareness Children&#039;s Museum
REFRESH-INTERVAL;VALUE=DURATION:PT1H
X-Robots-Tag:noindex
X-PUBLISHED-TTL:PT1H
BEGIN:VTIMEZONE
TZID:America/New_York
BEGIN:DAYLIGHT
TZOFFSETFROM:-0500
TZOFFSETTO:-0400
TZNAME:EDT
DTSTART:20210314T070000
END:DAYLIGHT
BEGIN:STANDARD
TZOFFSETFROM:-0400
TZOFFSETTO:-0500
TZNAME:EST
DTSTART:20211107T060000
END:STANDARD
BEGIN:DAYLIGHT
TZOFFSETFROM:-0500
TZOFFSETTO:-0400
TZNAME:EDT
DTSTART:20220313T070000
END:DAYLIGHT
BEGIN:STANDARD
TZOFFSETFROM:-0400
TZOFFSETTO:-0500
TZNAME:EST
DTSTART:20221106T060000
END:STANDARD
BEGIN:DAYLIGHT
TZOFFSETFROM:-0500
TZOFFSETTO:-0400
TZNAME:EDT
DTSTART:20230312T070000
END:DAYLIGHT
BEGIN:STANDARD
TZOFFSETFROM:-0400
TZOFFSETTO:-0500
TZNAME:EST
DTSTART:20231105T060000
END:STANDARD
END:VTIMEZONE
BEGIN:VEVENT
DTSTART;TZID=America/New_York:20220830T130000
DTEND;TZID=America/New_York:20220830T140000
DTSTAMP:20260424T122458
CREATED:20220730T011120Z
LAST-MODIFIED:20220830T034018Z
UID:10001651-1661864400-1661868000@worldchildrensmuseum.org
SUMMARY:August Paint & Sip
DESCRIPTION:Join us for our popular family-friendly Paint & Sip series. Artists will paint their own masterpiece on canvas with instruction from local artist  \nPatrice Jarvis-Weber.  \nCost: $10 per person. Members get a 10% discount! \nPlease call to reserve your spot: 518-793-2773 or visit https://wacm.ticketleap.com/083022/ to reserve online. This class is limited to 9 people.
URL:https://worldchildrensmuseum.org/events/august-paint-sip/
LOCATION:NY
END:VEVENT
BEGIN:VEVENT
DTSTART;TZID=America/New_York:20220830T100000
DTEND;TZID=America/New_York:20220830T150000
DTSTAMP:20260424T122458
CREATED:20220531T215633Z
LAST-MODIFIED:20220830T034018Z
UID:10001817-1661853600-1661871600@worldchildrensmuseum.org
SUMMARY:Open for General Admission
DESCRIPTION:Pre-registration is encouraged: wacm.ticketleap.com/admission-2022 \nAdmission Costs:Members: FreeNot-Yet-Members: $7 per person\, children under 3 are free.Please visit our website for more information on admission: https://worldchildrensmuseum.org/for-visitors/ \nMasks are required for all visitors ages 3 and up\, regardless of vaccination status. 
URL:https://worldchildrensmuseum.org/events/open-for-general-admission-259/
LOCATION:World Awareness Children’s Museum\, 89 Warren St\, Glens Falls\, NY 12801\, USA
END:VEVENT
BEGIN:VEVENT
DTSTART;TZID=America/New_York:20220829T100000
DTEND;TZID=America/New_York:20220829T150000
DTSTAMP:20260424T122458
CREATED:20220531T215633Z
LAST-MODIFIED:20220829T032658Z
UID:10001816-1661767200-1661785200@worldchildrensmuseum.org
SUMMARY:Open for General Admission
DESCRIPTION:Pre-registration is encouraged: wacm.ticketleap.com/admission-2022 \nAdmission Costs:Members: FreeNot-Yet-Members: $7 per person\, children under 3 are free.Please visit our website for more information on admission: https://worldchildrensmuseum.org/for-visitors/ \nMasks are required for all visitors ages 3 and up\, regardless of vaccination status. 
URL:https://worldchildrensmuseum.org/events/open-for-general-admission-258/
LOCATION:World Awareness Children’s Museum\, 89 Warren St\, Glens Falls\, NY 12801\, USA
END:VEVENT
BEGIN:VEVENT
DTSTART;TZID=America/New_York:20220828T100000
DTEND;TZID=America/New_York:20220828T150000
DTSTAMP:20260424T122458
CREATED:20220531T215633Z
LAST-MODIFIED:20220828T031004Z
UID:10001632-1661680800-1661698800@worldchildrensmuseum.org
SUMMARY:Open for General Admission
DESCRIPTION:Pre-registration is encouraged: wacm.ticketleap.com/admission-2022 \nAdmission Costs:Members: FreeNot-Yet-Members: $7 per person\, children under 3 are free.Please visit our website for more information on admission: https://worldchildrensmuseum.org/for-visitors/ \nMasks are required for all visitors ages 3 and up\, regardless of vaccination status. 
URL:https://worldchildrensmuseum.org/events/open-for-general-admission-257/
LOCATION:World Awareness Children’s Museum\, 89 Warren St\, Glens Falls\, NY 12801\, USA
END:VEVENT
BEGIN:VEVENT
DTSTART;TZID=America/New_York:20220827T100000
DTEND;TZID=America/New_York:20220827T150000
DTSTAMP:20260424T122458
CREATED:20220531T215633Z
LAST-MODIFIED:20220827T025531Z
UID:10001630-1661594400-1661612400@worldchildrensmuseum.org
SUMMARY:Open for General Admission
DESCRIPTION:Pre-registration is encouraged: wacm.ticketleap.com/admission-2022 \nAdmission Costs:Members: FreeNot-Yet-Members: $7 per person\, children under 3 are free.Please visit our website for more information on admission: https://worldchildrensmuseum.org/for-visitors/ \nMasks are required for all visitors ages 3 and up\, regardless of vaccination status. 
URL:https://worldchildrensmuseum.org/events/open-for-general-admission-256/
LOCATION:World Awareness Children’s Museum\, 89 Warren St\, Glens Falls\, NY 12801\, USA
END:VEVENT
BEGIN:VEVENT
DTSTART;TZID=America/New_York:20220826T183000
DTEND;TZID=America/New_York:20220826T203000
DTSTAMP:20260424T122458
CREATED:20220602T221206Z
LAST-MODIFIED:20220826T024650Z
UID:10001809-1661538600-1661545800@worldchildrensmuseum.org
SUMMARY:Museum Members Drop-Off Night
DESCRIPTION:Join us for this brand new membership perk! Once per month\, museum members can drop their children off for a fun night of games\, crafts\, and museum exploration. This program is appropriate for children ages 3 and older\, and all children must be fully potty-trained. \nCost: $10 per child. \nPlease call to reserve your spot: 518-793-2773 or visit wacm.ticketleap.com to reserve online. \nThis program is for museum members only and is limited to 10 children. \nClick Here to become a member today!
URL:https://worldchildrensmuseum.org/events/museum-members-drop-off-night-3/
LOCATION:NY
END:VEVENT
BEGIN:VEVENT
DTSTART;TZID=America/New_York:20220826T100000
DTEND;TZID=America/New_York:20220826T150000
DTSTAMP:20260424T122458
CREATED:20220730T011119Z
LAST-MODIFIED:20220826T024649Z
UID:10001650-1661508000-1661526000@worldchildrensmuseum.org
SUMMARY:Dinosaur Camp: Pre-K - 2nd Grade
DESCRIPTION:During Dinosaur Camp\, children will become paleontologists and learn about dinosaurs from all around the world! Each day\, children will "travel" to a different country\, learn about the culture in that country\, and find dinosaur fossils! \nPricing: Museum Members: $175 per child per week. Not-yet-members: $200 per child per week.  \nOptional Before Care: $55 per child per week. Optional After Care: $55 per child per week. \nCamp sessions are limited to 9 children. \nTo register\, please call 518-793-2773 or visit wacm.ticketleap.com/dinocamp22
URL:https://worldchildrensmuseum.org/events/dinosaur-camp-pre-k-2nd-grade-5/
LOCATION:NY
END:VEVENT
BEGIN:VEVENT
DTSTART;TZID=America/New_York:20220826T100000
DTEND;TZID=America/New_York:20220826T150000
DTSTAMP:20260424T122458
CREATED:20220531T215633Z
LAST-MODIFIED:20220826T024649Z
UID:10001628-1661508000-1661526000@worldchildrensmuseum.org
SUMMARY:Open for General Admission
DESCRIPTION:Pre-registration is encouraged: wacm.ticketleap.com/admission-2022 \nAdmission Costs:Members: FreeNot-Yet-Members: $7 per person\, children under 3 are free.Please visit our website for more information on admission: https://worldchildrensmuseum.org/for-visitors/ \nMasks are required for all visitors ages 3 and up\, regardless of vaccination status. 
URL:https://worldchildrensmuseum.org/events/open-for-general-admission-255/
LOCATION:World Awareness Children’s Museum\, 89 Warren St\, Glens Falls\, NY 12801\, USA
END:VEVENT
BEGIN:VEVENT
DTSTART;TZID=America/New_York:20220825T100000
DTEND;TZID=America/New_York:20220825T150000
DTSTAMP:20260424T122458
CREATED:20220730T011119Z
LAST-MODIFIED:20220825T024031Z
UID:10001649-1661421600-1661439600@worldchildrensmuseum.org
SUMMARY:Dinosaur Camp: Pre-K - 2nd Grade
DESCRIPTION:During Dinosaur Camp\, children will become paleontologists and learn about dinosaurs from all around the world! Each day\, children will "travel" to a different country\, learn about the culture in that country\, and find dinosaur fossils! \nPricing: Museum Members: $175 per child per week. Not-yet-members: $200 per child per week.  \nOptional Before Care: $55 per child per week. Optional After Care: $55 per child per week. \nCamp sessions are limited to 9 children. \nTo register\, please call 518-793-2773 or visit wacm.ticketleap.com/dinocamp22
URL:https://worldchildrensmuseum.org/events/dinosaur-camp-pre-k-2nd-grade-4/
LOCATION:NY
END:VEVENT
BEGIN:VEVENT
DTSTART;TZID=America/New_York:20220825T100000
DTEND;TZID=America/New_York:20220825T150000
DTSTAMP:20260424T122458
CREATED:20220531T215632Z
LAST-MODIFIED:20220825T024031Z
UID:10001626-1661421600-1661439600@worldchildrensmuseum.org
SUMMARY:Open for General Admission
DESCRIPTION:Pre-registration is encouraged: wacm.ticketleap.com/admission-2022 \nAdmission Costs:Members: FreeNot-Yet-Members: $7 per person\, children under 3 are free.Please visit our website for more information on admission: https://worldchildrensmuseum.org/for-visitors/ \nMasks are required for all visitors ages 3 and up\, regardless of vaccination status. 
URL:https://worldchildrensmuseum.org/events/open-for-general-admission-254/
LOCATION:World Awareness Children’s Museum\, 89 Warren St\, Glens Falls\, NY 12801\, USA
END:VEVENT
BEGIN:VEVENT
DTSTART;TZID=America/New_York:20220824T100000
DTEND;TZID=America/New_York:20220824T150000
DTSTAMP:20260424T122458
CREATED:20220730T011118Z
LAST-MODIFIED:20220824T022713Z
UID:10001833-1661335200-1661353200@worldchildrensmuseum.org
SUMMARY:Dinosaur Camp: Pre-K - 2nd Grade
DESCRIPTION:During Dinosaur Camp\, children will become paleontologists and learn about dinosaurs from all around the world! Each day\, children will "travel" to a different country\, learn about the culture in that country\, and find dinosaur fossils! \nPricing: Museum Members: $175 per child per week. Not-yet-members: $200 per child per week.  \nOptional Before Care: $55 per child per week. Optional After Care: $55 per child per week. \nCamp sessions are limited to 9 children. \nTo register\, please call 518-793-2773 or visit wacm.ticketleap.com/dinocamp22
URL:https://worldchildrensmuseum.org/events/dinosaur-camp-pre-k-2nd-grade-3/
LOCATION:NY
END:VEVENT
BEGIN:VEVENT
DTSTART;TZID=America/New_York:20220824T100000
DTEND;TZID=America/New_York:20220824T150000
DTSTAMP:20260424T122458
CREATED:20220531T215632Z
LAST-MODIFIED:20220824T022713Z
UID:10001624-1661335200-1661353200@worldchildrensmuseum.org
SUMMARY:Open for General Admission
DESCRIPTION:Pre-registration is encouraged: wacm.ticketleap.com/admission-2022 \nAdmission Costs:Members: FreeNot-Yet-Members: $7 per person\, children under 3 are free.Please visit our website for more information on admission: https://worldchildrensmuseum.org/for-visitors/ \nMasks are required for all visitors ages 3 and up\, regardless of vaccination status. 
URL:https://worldchildrensmuseum.org/events/open-for-general-admission-253/
LOCATION:World Awareness Children’s Museum\, 89 Warren St\, Glens Falls\, NY 12801\, USA
END:VEVENT
BEGIN:VEVENT
DTSTART;TZID=America/New_York:20220823T100000
DTEND;TZID=America/New_York:20220823T150000
DTSTAMP:20260424T122458
CREATED:20220730T011118Z
LAST-MODIFIED:20220823T022509Z
UID:10001831-1661248800-1661266800@worldchildrensmuseum.org
SUMMARY:Dinosaur Camp: Pre-K - 2nd Grade
DESCRIPTION:During Dinosaur Camp\, children will become paleontologists and learn about dinosaurs from all around the world! Each day\, children will "travel" to a different country\, learn about the culture in that country\, and find dinosaur fossils! \nPricing: Museum Members: $175 per child per week. Not-yet-members: $200 per child per week.  \nOptional Before Care: $55 per child per week. Optional After Care: $55 per child per week. \nCamp sessions are limited to 9 children. \nTo register\, please call 518-793-2773 or visit wacm.ticketleap.com/dinocamp22
URL:https://worldchildrensmuseum.org/events/dinosaur-camp-pre-k-2nd-grade-2/
LOCATION:NY
END:VEVENT
BEGIN:VEVENT
DTSTART;TZID=America/New_York:20220823T100000
DTEND;TZID=America/New_York:20220823T150000
DTSTAMP:20260424T122458
CREATED:20220531T215632Z
LAST-MODIFIED:20220823T022509Z
UID:10001622-1661248800-1661266800@worldchildrensmuseum.org
SUMMARY:Open for General Admission
DESCRIPTION:Pre-registration is encouraged: wacm.ticketleap.com/admission-2022 \nAdmission Costs:Members: FreeNot-Yet-Members: $7 per person\, children under 3 are free.Please visit our website for more information on admission: https://worldchildrensmuseum.org/for-visitors/ \nMasks are required for all visitors ages 3 and up\, regardless of vaccination status. 
URL:https://worldchildrensmuseum.org/events/open-for-general-admission-252/
LOCATION:World Awareness Children’s Museum\, 89 Warren St\, Glens Falls\, NY 12801\, USA
END:VEVENT
BEGIN:VEVENT
DTSTART;TZID=America/New_York:20220822T100000
DTEND;TZID=America/New_York:20220822T150000
DTSTAMP:20260424T122458
CREATED:20220730T011118Z
LAST-MODIFIED:20220822T022520Z
UID:10001844-1661162400-1661180400@worldchildrensmuseum.org
SUMMARY:Dinosaur Camp: Pre-K - 2nd Grade
DESCRIPTION:During Dinosaur Camp\, children will become paleontologists and learn about dinosaurs from all around the world! Each day\, children will "travel" to a different country\, learn about the culture in that country\, and find dinosaur fossils! \nPricing: Museum Members: $175 per child per week. Not-yet-members: $200 per child per week.  \nOptional Before Care: $55 per child per week. Optional After Care: $55 per child per week. \nCamp sessions are limited to 9 children. \nTo register\, please call 518-793-2773 or visit wacm.ticketleap.com/dinocamp22
URL:https://worldchildrensmuseum.org/events/dinosaur-camp-pre-k-2nd-grade/
LOCATION:NY
END:VEVENT
BEGIN:VEVENT
DTSTART;TZID=America/New_York:20220822T100000
DTEND;TZID=America/New_York:20220822T150000
DTSTAMP:20260424T122458
CREATED:20220531T215632Z
LAST-MODIFIED:20220822T022520Z
UID:10001620-1661162400-1661180400@worldchildrensmuseum.org
SUMMARY:Open for General Admission
DESCRIPTION:Pre-registration is encouraged: wacm.ticketleap.com/admission-2022 \nAdmission Costs:Members: FreeNot-Yet-Members: $7 per person\, children under 3 are free.Please visit our website for more information on admission: https://worldchildrensmuseum.org/for-visitors/ \nMasks are required for all visitors ages 3 and up\, regardless of vaccination status. 
URL:https://worldchildrensmuseum.org/events/open-for-general-admission-251/
LOCATION:World Awareness Children’s Museum\, 89 Warren St\, Glens Falls\, NY 12801\, USA
END:VEVENT
BEGIN:VEVENT
DTSTART;TZID=America/New_York:20220821T100000
DTEND;TZID=America/New_York:20220821T150000
DTSTAMP:20260424T122458
CREATED:20220531T215632Z
LAST-MODIFIED:20220821T022602Z
UID:10001618-1661076000-1661094000@worldchildrensmuseum.org
SUMMARY:Open for General Admission
DESCRIPTION:Pre-registration is encouraged: wacm.ticketleap.com/admission-2022 \nAdmission Costs:Members: FreeNot-Yet-Members: $7 per person\, children under 3 are free.Please visit our website for more information on admission: https://worldchildrensmuseum.org/for-visitors/ \nMasks are required for all visitors ages 3 and up\, regardless of vaccination status. 
URL:https://worldchildrensmuseum.org/events/open-for-general-admission-250/
LOCATION:World Awareness Children’s Museum\, 89 Warren St\, Glens Falls\, NY 12801\, USA
END:VEVENT
BEGIN:VEVENT
DTSTART;TZID=America/New_York:20220820T100000
DTEND;TZID=America/New_York:20220820T150000
DTSTAMP:20260424T122458
CREATED:20220531T215631Z
LAST-MODIFIED:20220820T022536Z
UID:10001616-1660989600-1661007600@worldchildrensmuseum.org
SUMMARY:Open for General Admission
DESCRIPTION:Pre-registration is encouraged: wacm.ticketleap.com/admission-2022 \nAdmission Costs:Members: FreeNot-Yet-Members: $7 per person\, children under 3 are free.Please visit our website for more information on admission: https://worldchildrensmuseum.org/for-visitors/ \nMasks are required for all visitors ages 3 and up\, regardless of vaccination status. 
URL:https://worldchildrensmuseum.org/events/open-for-general-admission-249/
LOCATION:World Awareness Children’s Museum\, 89 Warren St\, Glens Falls\, NY 12801\, USA
END:VEVENT
BEGIN:VEVENT
DTSTART;TZID=America/New_York:20220819T100000
DTEND;TZID=America/New_York:20220819T150000
DTSTAMP:20260424T122458
CREATED:20220730T011117Z
LAST-MODIFIED:20220819T022514Z
UID:10001845-1660903200-1660921200@worldchildrensmuseum.org
SUMMARY:Messy Art Camp: 3rd Grade & Up
DESCRIPTION:During Messy Art Camp\, children will learn about different styles of “messy” art and work with local artists to create their own “messy” art projects!  \nCamp days are from 10am-3pm. Before-care is available from 8am-10am. After-care is available from 3pm-5pm.  \nPricing: Museum Members: $175 per child per week. Not-yet-members: $200 per child per week. \nOptional Before Care: $55 per child per week. Optional After Care: $55 per child per week. \nCamp sessions are limited to 9 children. \nTo register\, please call 518-793-2773 or visit wacm.ticketleap.com/messyart22
URL:https://worldchildrensmuseum.org/events/messy-art-camp-3rd-grade-up-5/
LOCATION:NY
END:VEVENT
BEGIN:VEVENT
DTSTART;TZID=America/New_York:20220819T100000
DTEND;TZID=America/New_York:20220819T150000
DTSTAMP:20260424T122458
CREATED:20220531T215631Z
LAST-MODIFIED:20220819T022513Z
UID:10001614-1660903200-1660921200@worldchildrensmuseum.org
SUMMARY:Open for General Admission
DESCRIPTION:Pre-registration is encouraged: wacm.ticketleap.com/admission-2022 \nAdmission Costs:Members: FreeNot-Yet-Members: $7 per person\, children under 3 are free.Please visit our website for more information on admission: https://worldchildrensmuseum.org/for-visitors/ \nMasks are required for all visitors ages 3 and up\, regardless of vaccination status. 
URL:https://worldchildrensmuseum.org/events/open-for-general-admission-248/
LOCATION:World Awareness Children’s Museum\, 89 Warren St\, Glens Falls\, NY 12801\, USA
END:VEVENT
BEGIN:VEVENT
DTSTART;TZID=America/New_York:20220818T100000
DTEND;TZID=America/New_York:20220818T150000
DTSTAMP:20260424T122458
CREATED:20220730T011117Z
LAST-MODIFIED:20220818T022520Z
UID:10001846-1660816800-1660834800@worldchildrensmuseum.org
SUMMARY:Messy Art Camp: 3rd Grade & Up
DESCRIPTION:During Messy Art Camp\, children will learn about different styles of “messy” art and work with local artists to create their own “messy” art projects!  \nCamp days are from 10am-3pm. Before-care is available from 8am-10am. After-care is available from 3pm-5pm.  \nPricing: Museum Members: $175 per child per week. Not-yet-members: $200 per child per week. \nOptional Before Care: $55 per child per week. Optional After Care: $55 per child per week. \nCamp sessions are limited to 9 children. \nTo register\, please call 518-793-2773 or visit wacm.ticketleap.com/messyart22
URL:https://worldchildrensmuseum.org/events/messy-art-camp-3rd-grade-up-4/
LOCATION:NY
END:VEVENT
BEGIN:VEVENT
DTSTART;TZID=America/New_York:20220818T100000
DTEND;TZID=America/New_York:20220818T150000
DTSTAMP:20260424T122458
CREATED:20220531T215631Z
LAST-MODIFIED:20220818T022520Z
UID:10001815-1660816800-1660834800@worldchildrensmuseum.org
SUMMARY:Open for General Admission
DESCRIPTION:Pre-registration is encouraged: wacm.ticketleap.com/admission-2022 \nAdmission Costs:Members: FreeNot-Yet-Members: $7 per person\, children under 3 are free.Please visit our website for more information on admission: https://worldchildrensmuseum.org/for-visitors/ \nMasks are required for all visitors ages 3 and up\, regardless of vaccination status. 
URL:https://worldchildrensmuseum.org/events/open-for-general-admission-247/
LOCATION:World Awareness Children’s Museum\, 89 Warren St\, Glens Falls\, NY 12801\, USA
END:VEVENT
BEGIN:VEVENT
DTSTART;TZID=America/New_York:20220817T100000
DTEND;TZID=America/New_York:20220817T150000
DTSTAMP:20260424T122458
CREATED:20220730T011117Z
LAST-MODIFIED:20220817T022510Z
UID:10001856-1660730400-1660748400@worldchildrensmuseum.org
SUMMARY:Messy Art Camp: 3rd Grade & Up
DESCRIPTION:During Messy Art Camp\, children will learn about different styles of “messy” art and work with local artists to create their own “messy” art projects!  \nCamp days are from 10am-3pm. Before-care is available from 8am-10am. After-care is available from 3pm-5pm.  \nPricing: Museum Members: $175 per child per week. Not-yet-members: $200 per child per week. \nOptional Before Care: $55 per child per week. Optional After Care: $55 per child per week. \nCamp sessions are limited to 9 children. \nTo register\, please call 518-793-2773 or visit wacm.ticketleap.com/messyart22
URL:https://worldchildrensmuseum.org/events/messy-art-camp-3rd-grade-up-3/
LOCATION:NY
END:VEVENT
BEGIN:VEVENT
DTSTART;TZID=America/New_York:20220817T100000
DTEND;TZID=America/New_York:20220817T150000
DTSTAMP:20260424T122458
CREATED:20220531T215631Z
LAST-MODIFIED:20220817T022510Z
UID:10001814-1660730400-1660748400@worldchildrensmuseum.org
SUMMARY:Open for General Admission
DESCRIPTION:Pre-registration is encouraged: wacm.ticketleap.com/admission-2022 \nAdmission Costs:Members: FreeNot-Yet-Members: $7 per person\, children under 3 are free.Please visit our website for more information on admission: https://worldchildrensmuseum.org/for-visitors/ \nMasks are required for all visitors ages 3 and up\, regardless of vaccination status. 
URL:https://worldchildrensmuseum.org/events/open-for-general-admission-246/
LOCATION:World Awareness Children’s Museum\, 89 Warren St\, Glens Falls\, NY 12801\, USA
END:VEVENT
BEGIN:VEVENT
DTSTART;TZID=America/New_York:20220816T100000
DTEND;TZID=America/New_York:20220816T150000
DTSTAMP:20260424T122458
CREATED:20220730T011116Z
LAST-MODIFIED:20220816T022519Z
UID:10001855-1660644000-1660662000@worldchildrensmuseum.org
SUMMARY:Messy Art Camp: 3rd Grade & Up
DESCRIPTION:During Messy Art Camp\, children will learn about different styles of “messy” art and work with local artists to create their own “messy” art projects!  \nCamp days are from 10am-3pm. Before-care is available from 8am-10am. After-care is available from 3pm-5pm.  \nPricing: Museum Members: $175 per child per week. Not-yet-members: $200 per child per week. \nOptional Before Care: $55 per child per week. Optional After Care: $55 per child per week. \nCamp sessions are limited to 9 children. \nTo register\, please call 518-793-2773 or visit wacm.ticketleap.com/messyart22
URL:https://worldchildrensmuseum.org/events/messy-art-camp-3rd-grade-up-2/
LOCATION:NY
END:VEVENT
BEGIN:VEVENT
DTSTART;TZID=America/New_York:20220816T100000
DTEND;TZID=America/New_York:20220816T150000
DTSTAMP:20260424T122458
CREATED:20220531T215631Z
LAST-MODIFIED:20220816T022519Z
UID:10001813-1660644000-1660662000@worldchildrensmuseum.org
SUMMARY:Open for General Admission
DESCRIPTION:Pre-registration is encouraged: wacm.ticketleap.com/admission-2022 \nAdmission Costs:Members: FreeNot-Yet-Members: $7 per person\, children under 3 are free.Please visit our website for more information on admission: https://worldchildrensmuseum.org/for-visitors/ \nMasks are required for all visitors ages 3 and up\, regardless of vaccination status. 
URL:https://worldchildrensmuseum.org/events/open-for-general-admission-245/
LOCATION:World Awareness Children’s Museum\, 89 Warren St\, Glens Falls\, NY 12801\, USA
END:VEVENT
BEGIN:VEVENT
DTSTART;TZID=America/New_York:20220815T100000
DTEND;TZID=America/New_York:20220815T150000
DTSTAMP:20260424T122458
CREATED:20220730T011116Z
LAST-MODIFIED:20220815T021431Z
UID:10001854-1660557600-1660575600@worldchildrensmuseum.org
SUMMARY:Messy Art Camp: 3rd Grade & Up
DESCRIPTION:During Messy Art Camp\, children will learn about different styles of “messy” art and work with local artists to create their own “messy” art projects!  \nCamp days are from 10am-3pm. Before-care is available from 8am-10am. After-care is available from 3pm-5pm.  \nPricing: Museum Members: $175 per child per week. Not-yet-members: $200 per child per week. \nOptional Before Care: $55 per child per week. Optional After Care: $55 per child per week. \nCamp sessions are limited to 9 children. \nTo register\, please call 518-793-2773 or visit wacm.ticketleap.com/messyart22
URL:https://worldchildrensmuseum.org/events/messy-art-camp-3rd-grade-up/
LOCATION:NY
END:VEVENT
BEGIN:VEVENT
DTSTART;TZID=America/New_York:20220815T100000
DTEND;TZID=America/New_York:20220815T150000
DTSTAMP:20260424T122458
CREATED:20220531T215630Z
LAST-MODIFIED:20220815T021431Z
UID:10001812-1660557600-1660575600@worldchildrensmuseum.org
SUMMARY:Open for General Admission
DESCRIPTION:Pre-registration is encouraged: wacm.ticketleap.com/admission-2022 \nAdmission Costs:Members: FreeNot-Yet-Members: $7 per person\, children under 3 are free.Please visit our website for more information on admission: https://worldchildrensmuseum.org/for-visitors/ \nMasks are required for all visitors ages 3 and up\, regardless of vaccination status. 
URL:https://worldchildrensmuseum.org/events/open-for-general-admission-244/
LOCATION:World Awareness Children’s Museum\, 89 Warren St\, Glens Falls\, NY 12801\, USA
END:VEVENT
BEGIN:VEVENT
DTSTART;TZID=America/New_York:20220814T100000
DTEND;TZID=America/New_York:20220814T150000
DTSTAMP:20260424T122458
CREATED:20220531T215630Z
LAST-MODIFIED:20220814T021006Z
UID:10001798-1660471200-1660489200@worldchildrensmuseum.org
SUMMARY:Open for General Admission
DESCRIPTION:Pre-registration is encouraged: wacm.ticketleap.com/admission-2022 \nAdmission Costs:Members: FreeNot-Yet-Members: $7 per person\, children under 3 are free.Please visit our website for more information on admission: https://worldchildrensmuseum.org/for-visitors/ \nMasks are required for all visitors ages 3 and up\, regardless of vaccination status. 
URL:https://worldchildrensmuseum.org/events/open-for-general-admission-243/
LOCATION:World Awareness Children’s Museum\, 89 Warren St\, Glens Falls\, NY 12801\, USA
END:VEVENT
BEGIN:VEVENT
DTSTART;TZID=America/New_York:20220814T100000
DTEND;TZID=America/New_York:20220814T150000
DTSTAMP:20260424T122458
CREATED:20220325T231022Z
LAST-MODIFIED:20220814T021006Z
UID:10001700-1660471200-1660489200@worldchildrensmuseum.org
SUMMARY:Free Day!
DESCRIPTION:Visit the museum for free today thanks to Stewart’s Holiday Match and all who contributed! We are pleased to offer these free days from 10am-3pm on the Second Sunday of the month. Donations are appreciated\, but not required. \nFree Days are generously sponsored by Stewart’s Holiday Match.  \nYou can learn more by visiting www.stewartsshops.com/community-giving
URL:https://worldchildrensmuseum.org/events/free-day-5/
LOCATION:NY
END:VEVENT
END:VCALENDAR