BEGIN:VCALENDAR
VERSION:2.0
PRODID:-//World Awareness Children&#039;s Museum - ECPv6.15.20//NONSGML v1.0//EN
CALSCALE:GREGORIAN
METHOD:PUBLISH
X-WR-CALNAME:World Awareness Children&#039;s Museum
X-ORIGINAL-URL:https://worldchildrensmuseum.org
X-WR-CALDESC:Events for World Awareness Children&#039;s Museum
REFRESH-INTERVAL;VALUE=DURATION:PT1H
X-Robots-Tag:noindex
X-PUBLISHED-TTL:PT1H
BEGIN:VTIMEZONE
TZID:America/New_York
BEGIN:DAYLIGHT
TZOFFSETFROM:-0500
TZOFFSETTO:-0400
TZNAME:EDT
DTSTART:20200308T070000
END:DAYLIGHT
BEGIN:STANDARD
TZOFFSETFROM:-0400
TZOFFSETTO:-0500
TZNAME:EST
DTSTART:20201101T060000
END:STANDARD
BEGIN:DAYLIGHT
TZOFFSETFROM:-0500
TZOFFSETTO:-0400
TZNAME:EDT
DTSTART:20210314T070000
END:DAYLIGHT
BEGIN:STANDARD
TZOFFSETFROM:-0400
TZOFFSETTO:-0500
TZNAME:EST
DTSTART:20211107T060000
END:STANDARD
BEGIN:DAYLIGHT
TZOFFSETFROM:-0500
TZOFFSETTO:-0400
TZNAME:EDT
DTSTART:20220313T070000
END:DAYLIGHT
BEGIN:STANDARD
TZOFFSETFROM:-0400
TZOFFSETTO:-0500
TZNAME:EST
DTSTART:20221106T060000
END:STANDARD
BEGIN:DAYLIGHT
TZOFFSETFROM:-0500
TZOFFSETTO:-0400
TZNAME:EDT
DTSTART:20230312T070000
END:DAYLIGHT
BEGIN:STANDARD
TZOFFSETFROM:-0400
TZOFFSETTO:-0500
TZNAME:EST
DTSTART:20231105T060000
END:STANDARD
END:VTIMEZONE
BEGIN:VEVENT
DTSTART;TZID=America/New_York:20220121T100000
DTEND;TZID=America/New_York:20220121T150000
DTSTAMP:20260424T070013
CREATED:20220105T182459Z
LAST-MODIFIED:20220121T191101Z
UID:10001596-1642759200-1642777200@worldchildrensmuseum.org
SUMMARY:Open for General Admission
DESCRIPTION:Pre-registration is encouraged: wacm.ticketleap.com/admission-2022 \nAdmission Costs:Members: FreeNot-Yet-Members: $7 per person\, children under 3 are free.Please visit our website for more information on admission: https://worldchildrensmuseum.org/for-visitors/ \nMasks are required for all visitors ages 3 and up\, regardless of vaccination status. 
URL:https://worldchildrensmuseum.org/events/open-for-general-admission-98/
LOCATION:World Awareness Children’s Museum\, 89 Warren St\, Glens Falls\, NY 12801\, USA
END:VEVENT
BEGIN:VEVENT
DTSTART;TZID=America/New_York:20220117T110000
DTEND;TZID=America/New_York:20220117T150000
DTSTAMP:20260424T070013
CREATED:20220105T182459Z
LAST-MODIFIED:20220117T185511Z
UID:10001597-1642417200-1642431600@worldchildrensmuseum.org
SUMMARY:Open for General Admission
DESCRIPTION:Pre-registration is encouraged: wacm.ticketleap.com/admission-2022 \nAdmission Costs:Members: FreeNot-Yet-Members: $7 per person\, children under 3 are free.Please visit our website for more information on admission: https://worldchildrensmuseum.org/for-visitors/ \nMasks are required for all visitors ages 3 and up\, regardless of vaccination status. 
URL:https://worldchildrensmuseum.org/events/open-for-general-admission-97/
LOCATION:World Awareness Children’s Museum\, 89 Warren St\, Glens Falls\, NY 12801\, USA
END:VEVENT
BEGIN:VEVENT
DTSTART;TZID=America/New_York:20220117T103000
DTEND;TZID=America/New_York:20220117T113000
DTSTAMP:20260424T070013
CREATED:20211222T165521Z
LAST-MODIFIED:20220116T185527Z
UID:10001574-1642415400-1642419000@worldchildrensmuseum.org
SUMMARY:Peaceful Hands MLK Jr. Day Craft
DESCRIPTION:Join us today to honor Martin Luther King\, Jr. by making a craft that reminds us to use our hands for good to bring peace to the world.  \nCost: Free with admission
URL:https://worldchildrensmuseum.org/events/peaceful-hands-mlk-jr-day-craft/
LOCATION:NY
END:VEVENT
BEGIN:VEVENT
DTSTART;TZID=America/New_York:20220116T130000
DTEND;TZID=America/New_York:20220116T140000
DTSTAMP:20260424T070013
CREATED:20211222T165521Z
LAST-MODIFIED:20220116T185527Z
UID:10001559-1642338000-1642341600@worldchildrensmuseum.org
SUMMARY:Mini Masterpieces Painting Class
DESCRIPTION:Join us for our newest series\, Mini Masterpieces! During this class\, artists will paint their own miniature masterpiece on a tiny canvas. This class is taught by local artist Patrice Jarvis-Weber. Please note: This class is recommended for children ages 10 and older. \nCost: $8 per person. Members get a 15% discount! \nPlease call to reserve your spot: 518-793-2773 or visit wacm.ticketleap.com to reserve online. \nThis class is limited to 9 people.
URL:https://worldchildrensmuseum.org/events/mini-masterpieces-painting-class-2/
LOCATION:NY
END:VEVENT
BEGIN:VEVENT
DTSTART;TZID=America/New_York:20220116T100000
DTEND;TZID=America/New_York:20220116T150000
DTSTAMP:20260424T070013
CREATED:20220105T182459Z
LAST-MODIFIED:20220116T185527Z
UID:10001607-1642327200-1642345200@worldchildrensmuseum.org
SUMMARY:Open for General Admission
DESCRIPTION:Pre-registration is encouraged: wacm.ticketleap.com/admission-2022 \nAdmission Costs:Members: FreeNot-Yet-Members: $7 per person\, children under 3 are free.Please visit our website for more information on admission: https://worldchildrensmuseum.org/for-visitors/ \nMasks are required for all visitors ages 3 and up\, regardless of vaccination status. 
URL:https://worldchildrensmuseum.org/events/open-for-general-admission-96/
LOCATION:World Awareness Children’s Museum\, 89 Warren St\, Glens Falls\, NY 12801\, USA
END:VEVENT
BEGIN:VEVENT
DTSTART;TZID=America/New_York:20220115T100000
DTEND;TZID=America/New_York:20220115T150000
DTSTAMP:20260424T070013
CREATED:20220115T185709Z
LAST-MODIFIED:20220115T185710Z
UID:10001538-1642240800-1642258800@worldchildrensmuseum.org
SUMMARY:MUSEUM CLOSED due to extenuating circumstances
DESCRIPTION:
URL:https://worldchildrensmuseum.org/events/museum-closed-due-to-extenuating-circumstances/
LOCATION:NY
END:VEVENT
BEGIN:VEVENT
DTSTART;TZID=America/New_York:20220115T100000
DTEND;TZID=America/New_York:20220115T150000
DTSTAMP:20260424T070013
CREATED:20220105T182459Z
LAST-MODIFIED:20220114T185507Z
UID:10001606-1642240800-1642258800@worldchildrensmuseum.org
SUMMARY:Open for General Admission
DESCRIPTION:Pre-registration is encouraged: wacm.ticketleap.com/admission-2022 \nAdmission Costs:Members: FreeNot-Yet-Members: $7 per person\, children under 3 are free.Please visit our website for more information on admission: https://worldchildrensmuseum.org/for-visitors/ \nMasks are required for all visitors ages 3 and up\, regardless of vaccination status. 
URL:https://worldchildrensmuseum.org/events/open-for-general-admission-94/
LOCATION:World Awareness Children’s Museum\, 89 Warren St\, Glens Falls\, NY 12801\, USA
END:VEVENT
BEGIN:VEVENT
DTSTART;TZID=America/New_York:20220114T103000
DTEND;TZID=America/New_York:20220114T113000
DTSTAMP:20260424T070013
CREATED:20211222T165521Z
LAST-MODIFIED:20220113T185455Z
UID:10001558-1642156200-1642159800@worldchildrensmuseum.org
SUMMARY:Storytime Friday
DESCRIPTION:Reading: Martin Luther King Jr. Day by Margaret McNamara \nEveryone is welcome at our recurring program\, Storytime Fridays! This program is appropriate for all ages and includes a story and a craft.  \nCost: Free with admission
URL:https://worldchildrensmuseum.org/events/storytime-friday-10/
LOCATION:NY
END:VEVENT
BEGIN:VEVENT
DTSTART;TZID=America/New_York:20220114T100000
DTEND;TZID=America/New_York:20220114T150000
DTSTAMP:20260424T070013
CREATED:20220105T182458Z
LAST-MODIFIED:20220114T185507Z
UID:10001605-1642154400-1642172400@worldchildrensmuseum.org
SUMMARY:Open for General Admission
DESCRIPTION:Pre-registration is encouraged: wacm.ticketleap.com/admission-2022 \nAdmission Costs:Members: FreeNot-Yet-Members: $7 per person\, children under 3 are free.Please visit our website for more information on admission: https://worldchildrensmuseum.org/for-visitors/ \nMasks are required for all visitors ages 3 and up\, regardless of vaccination status. 
URL:https://worldchildrensmuseum.org/events/open-for-general-admission-92/
LOCATION:World Awareness Children’s Museum\, 89 Warren St\, Glens Falls\, NY 12801\, USA
END:VEVENT
BEGIN:VEVENT
DTSTART;TZID=America/New_York:20220110T103000
DTEND;TZID=America/New_York:20220110T113000
DTSTAMP:20260424T070013
CREATED:20211222T165521Z
LAST-MODIFIED:20220109T185536Z
UID:10001557-1641810600-1641814200@worldchildrensmuseum.org
SUMMARY:Shaving Cream Painting
DESCRIPTION:Join us today for this fun sensory activity! Children will make their own paintings out of shaving cream\, drawing inspiration from art in the museum’s vast collection of international child-made art. \nCost: Free with admission
URL:https://worldchildrensmuseum.org/events/shaving-cream-painting/
LOCATION:NY
END:VEVENT
BEGIN:VEVENT
DTSTART;TZID=America/New_York:20220110T100000
DTEND;TZID=America/New_York:20220110T150000
DTSTAMP:20260424T070013
CREATED:20220105T182458Z
LAST-MODIFIED:20220110T185458Z
UID:10001604-1641808800-1641826800@worldchildrensmuseum.org
SUMMARY:Open for General Admission
DESCRIPTION:Pre-registration is encouraged: wacm.ticketleap.com/admission-2022 \nAdmission Costs:Members: FreeNot-Yet-Members: $7 per person\, children under 3 are free.Please visit our website for more information on admission: https://worldchildrensmuseum.org/for-visitors/ \nMasks are required for all visitors ages 3 and up\, regardless of vaccination status. 
URL:https://worldchildrensmuseum.org/events/open-for-general-admission-90/
LOCATION:World Awareness Children’s Museum\, 89 Warren St\, Glens Falls\, NY 12801\, USA
END:VEVENT
BEGIN:VEVENT
DTSTART;TZID=America/New_York:20220109T130000
DTEND;TZID=America/New_York:20220109T143000
DTSTAMP:20260424T070013
CREATED:20211222T165521Z
LAST-MODIFIED:20220109T185536Z
UID:10001556-1641733200-1641738600@worldchildrensmuseum.org
SUMMARY:Paint & Sip
DESCRIPTION:Join us for our popular family-friendly Paint & Sip series. Artists will paint their own masterpiece on canvas with instruction from local artist Patrice Jarvis-Weber.  \nCost: $20 per child/adult duo. ($5 for each additional child\, $10 for each additional adult.) \nMembers get a 10% discount! \nPlease call to reserve your spot: 518-793-2773 or visit wacm.ticketleap.com to reserve online. \nThis class is limited to 9 people.
URL:https://worldchildrensmuseum.org/events/paint-sip-3/
LOCATION:NY
END:VEVENT
BEGIN:VEVENT
DTSTART;TZID=America/New_York:20220109T100000
DTEND;TZID=America/New_York:20220109T150000
DTSTAMP:20260424T070013
CREATED:20220105T182458Z
LAST-MODIFIED:20220109T185536Z
UID:10001603-1641722400-1641740400@worldchildrensmuseum.org
SUMMARY:Open for General Admission
DESCRIPTION:Pre-registration is encouraged: wacm.ticketleap.com/admission-2022 \nAdmission Costs:Members: FreeNot-Yet-Members: $7 per person\, children under 3 are free.Please visit our website for more information on admission: https://worldchildrensmuseum.org/for-visitors/ \nMasks are required for all visitors ages 3 and up\, regardless of vaccination status. 
URL:https://worldchildrensmuseum.org/events/open-for-general-admission-88/
LOCATION:World Awareness Children’s Museum\, 89 Warren St\, Glens Falls\, NY 12801\, USA
END:VEVENT
BEGIN:VEVENT
DTSTART;TZID=America/New_York:20220108T100000
DTEND;TZID=America/New_York:20220108T150000
DTSTAMP:20260424T070013
CREATED:20220105T182457Z
LAST-MODIFIED:20220108T184115Z
UID:10001602-1641636000-1641654000@worldchildrensmuseum.org
SUMMARY:Open for General Admission
DESCRIPTION:Pre-registration is encouraged: wacm.ticketleap.com/admission-2022 \nAdmission Costs:Members: FreeNot-Yet-Members: $7 per person\, children under 3 are free.Please visit our website for more information on admission: https://worldchildrensmuseum.org/for-visitors/ \nMasks are required for all visitors ages 3 and up\, regardless of vaccination status. 
URL:https://worldchildrensmuseum.org/events/open-for-general-admission-87/
LOCATION:World Awareness Children’s Museum\, 89 Warren St\, Glens Falls\, NY 12801\, USA
END:VEVENT
BEGIN:VEVENT
DTSTART;TZID=America/New_York:20220107T100000
DTEND;TZID=America/New_York:20220107T150000
DTSTAMP:20260424T070013
CREATED:20220105T182457Z
LAST-MODIFIED:20220107T184013Z
UID:10001601-1641549600-1641567600@worldchildrensmuseum.org
SUMMARY:Open for General Admission
DESCRIPTION:Pre-registration is encouraged: wacm.ticketleap.com/admission-2022 \nAdmission Costs:Members: FreeNot-Yet-Members: $7 per person\, children under 3 are free.Please visit our website for more information on admission: https://worldchildrensmuseum.org/for-visitors/ \nMasks are required for all visitors ages 3 and up\, regardless of vaccination status. 
URL:https://worldchildrensmuseum.org/events/open-for-general-admission-86/
LOCATION:World Awareness Children’s Museum\, 89 Warren St\, Glens Falls\, NY 12801\, USA
END:VEVENT
BEGIN:VEVENT
DTSTART;TZID=America/New_York:20220107T100000
DTEND;TZID=America/New_York:20220107T150000
DTSTAMP:20260424T070013
CREATED:20211224T171014Z
LAST-MODIFIED:20220107T184013Z
UID:10001599-1641549600-1641567600@worldchildrensmuseum.org
SUMMARY:Homeschool Discount Day
DESCRIPTION:Once per quarter\, we are happy to extend a discount to our homeschool families! Homeschoolers who visit today will receive $1 off of their admission costs. We can’t wait to see you! \nUpcoming Homeschool Discount Days:April 1\, 2022July 1\, 2022October 7\, 2022
URL:https://worldchildrensmuseum.org/events/homeschool-discount-day-2/
LOCATION:NY
END:VEVENT
BEGIN:VEVENT
DTSTART;TZID=America/New_York:20220102T150000
DTEND;TZID=America/New_York:20220102T193000
DTSTAMP:20260424T070013
CREATED:20211222T165521Z
LAST-MODIFIED:20220101T174528Z
UID:10001555-1641135600-1641151800@worldchildrensmuseum.org
SUMMARY:Adirondack Thunder vs. Trois-Rivieres Lions
DESCRIPTION:We are selling discounted tickets to this “Kids Day” hockey game! There will be fun activities specifically for kids during this afternoon game\, and your ticket purchase helps WACM! Buy your tickets today at our front desk or at http://bit.ly/30EVj8i We’ll see you there! \nCost: $15 per person at the museum front desk\, $16 per person online.
URL:https://worldchildrensmuseum.org/events/adirondack-thunder-vs-trois-rivieres-lions/
LOCATION:NY
END:VEVENT
BEGIN:VEVENT
DTSTART;VALUE=DATE:20220101
DTEND;VALUE=DATE:20220102
DTSTAMP:20260424T070013
CREATED:20211123T152529Z
LAST-MODIFIED:20220101T174528Z
UID:10001554-1640995200-1641081599@worldchildrensmuseum.org
SUMMARY:MUSEUM CLOSED
DESCRIPTION:
URL:https://worldchildrensmuseum.org/events/museum-closed-3/
LOCATION:NY
END:VEVENT
BEGIN:VEVENT
DTSTART;TZID=America/New_York:20211231T103000
DTEND;TZID=America/New_York:20211231T113000
DTSTAMP:20260424T070013
CREATED:20211123T152528Z
LAST-MODIFIED:20211230T173026Z
UID:10001552-1640946600-1640950200@worldchildrensmuseum.org
SUMMARY:New Year's Eve Noisemaker Craft
DESCRIPTION:The year is almost over! Stop by today to create your own noisemaker to welcome 2022. This craft is appropriate for all children. \nCost: Free with admission.  \nDid you know – You can purchase your museum admission tickets online! Visit wacm.ticketleap.com
URL:https://worldchildrensmuseum.org/events/new-years-eve-noisemaker-craft/
LOCATION:NY
END:VEVENT
BEGIN:VEVENT
DTSTART;TZID=America/New_York:20211231T100000
DTEND;TZID=America/New_York:20211231T130000
DTSTAMP:20260424T070013
CREATED:20211123T152529Z
LAST-MODIFIED:20211231T173052Z
UID:10001553-1640944800-1640955600@worldchildrensmuseum.org
SUMMARY:OPEN 10am-1pm
DESCRIPTION:Did you know – You can purchase your museum admission tickets online! Visit wacm.ticketleap.com
URL:https://worldchildrensmuseum.org/events/open-10am-1pm/
LOCATION:NY
END:VEVENT
BEGIN:VEVENT
DTSTART;TZID=America/New_York:20211230T103000
DTEND;TZID=America/New_York:20211230T113000
DTSTAMP:20260424T070013
CREATED:20211123T152528Z
LAST-MODIFIED:20211229T172758Z
UID:10001551-1640860200-1640863800@worldchildrensmuseum.org
SUMMARY:Snowman Handprint Craft
DESCRIPTION:During this workshop\, your child will make their own whimsical snowman in the shape of their hand! This class is appropriate for all children. \nCost: Free with admission. \n Did you know – You can purchase your museum admission tickets online! Visit wacm.ticketleap.com
URL:https://worldchildrensmuseum.org/events/snowman-handprint-craft/
LOCATION:NY
END:VEVENT
BEGIN:VEVENT
DTSTART;TZID=America/New_York:20211230T100000
DTEND;TZID=America/New_York:20211230T150000
DTSTAMP:20260424T070013
CREATED:20211123T152528Z
LAST-MODIFIED:20211230T173025Z
UID:10001549-1640858400-1640876400@worldchildrensmuseum.org
SUMMARY:OPEN 10am-3pm
DESCRIPTION:Did you know – You can purchase your museum admission tickets online! Visit wacm.ticketleap.com
URL:https://worldchildrensmuseum.org/events/open-10am-3pm-4/
LOCATION:NY
END:VEVENT
BEGIN:VEVENT
DTSTART;TZID=America/New_York:20211229T100000
DTEND;TZID=America/New_York:20211229T150000
DTSTAMP:20260424T070013
CREATED:20211123T152528Z
LAST-MODIFIED:20211229T172758Z
UID:10001560-1640772000-1640790000@worldchildrensmuseum.org
SUMMARY:OPEN 10am-3pm
DESCRIPTION:Did you know – You can purchase your museum admission tickets online! Visit wacm.ticketleap.com
URL:https://worldchildrensmuseum.org/events/open-10am-3pm-3/
LOCATION:NY
END:VEVENT
BEGIN:VEVENT
DTSTART;TZID=America/New_York:20211228T130000
DTEND;TZID=America/New_York:20211228T140000
DTSTAMP:20260424T070013
CREATED:20211123T152528Z
LAST-MODIFIED:20211228T171004Z
UID:10001518-1640696400-1640700000@worldchildrensmuseum.org
SUMMARY:Mini Masterpieces Painting Class
DESCRIPTION:Join us for our newest series\, Mini Masterpieces! During this class\, artists will paint their own miniature masterpiece on a tiny canvas. This class is taught by local artist Patrice Jarvis-Weber.\nCost: $8 per person. Members get a 15% discount!\nPlease call to reserve your spot: 518-793-2773\nor visit wacm.ticketleap.com to reserve online.\nThis class is limited to 9 people and is recommended for children ages 8 and older.
URL:https://worldchildrensmuseum.org/events/mini-masterpieces-painting-class/
LOCATION:NY
END:VEVENT
BEGIN:VEVENT
DTSTART;TZID=America/New_York:20211228T100000
DTEND;TZID=America/New_York:20211228T150000
DTSTAMP:20260424T070013
CREATED:20211123T152528Z
LAST-MODIFIED:20211228T171004Z
UID:10001460-1640685600-1640703600@worldchildrensmuseum.org
SUMMARY:OPEN 10am-3pm
DESCRIPTION:Did you know – You can purchase your museum admission tickets online! Visit wacm.ticketleap.com
URL:https://worldchildrensmuseum.org/events/open-10am-3pm-2/
LOCATION:NY
END:VEVENT
BEGIN:VEVENT
DTSTART;TZID=America/New_York:20211227T100000
DTEND;TZID=America/New_York:20211227T150000
DTSTAMP:20260424T070013
CREATED:20211123T152527Z
LAST-MODIFIED:20211227T170957Z
UID:10001458-1640599200-1640617200@worldchildrensmuseum.org
SUMMARY:OPEN 10am-3pm
DESCRIPTION:Did you know – You can purchase your museum admission tickets online! Visit wacm.ticketleap.com
URL:https://worldchildrensmuseum.org/events/open-10am-3pm/
LOCATION:NY
END:VEVENT
BEGIN:VEVENT
DTSTART;VALUE=DATE:20211225
DTEND;VALUE=DATE:20211226
DTSTAMP:20260424T070013
CREATED:20211123T152527Z
LAST-MODIFIED:20211225T171010Z
UID:10001456-1640390400-1640476799@worldchildrensmuseum.org
SUMMARY:MUSEUM CLOSED
DESCRIPTION:
URL:https://worldchildrensmuseum.org/events/museum-closed-2/
LOCATION:NY
END:VEVENT
BEGIN:VEVENT
DTSTART;TZID=America/New_York:20211224T103000
DTEND;TZID=America/New_York:20211224T113000
DTSTAMP:20260424T070013
CREATED:20211123T152526Z
LAST-MODIFIED:20211223T165735Z
UID:10001452-1640341800-1640345400@worldchildrensmuseum.org
SUMMARY:Gingerbread Man Craft
DESCRIPTION:Join us today to make a fun and crafty paper gingerbread man for the holidays! This craft is appropriate for all ages. \nCost: Free with admission \n Did you know – You can purchase your museum admission tickets online! Visit wacm.ticketleap.com
URL:https://worldchildrensmuseum.org/events/gingerbread-man-craft/
LOCATION:NY
END:VEVENT
BEGIN:VEVENT
DTSTART;TZID=America/New_York:20211224T100000
DTEND;TZID=America/New_York:20211224T130000
DTSTAMP:20260424T070013
CREATED:20211123T152527Z
LAST-MODIFIED:20211224T171014Z
UID:10001454-1640340000-1640350800@worldchildrensmuseum.org
SUMMARY:MUSEUM OPEN 10am - 1pm
DESCRIPTION:Did you know – You can purchase your museum admission tickets online! Visit wacm.ticketleap.com
URL:https://worldchildrensmuseum.org/events/museum-open-10am-1pm/
LOCATION:NY
END:VEVENT
BEGIN:VEVENT
DTSTART;TZID=America/New_York:20211218T130000
DTEND;TZID=America/New_York:20211218T143000
DTSTAMP:20260424T070013
CREATED:20211123T152526Z
LAST-MODIFIED:20211218T164029Z
UID:10001450-1639832400-1639837800@worldchildrensmuseum.org
SUMMARY:Paint & Sip: Winter Scenes
DESCRIPTION:Join us for our popular family-friendly Paint & Sip series. Artists will paint their own winter masterpiece with instruction from local artist Patrice Jarvis-Weber.  \nCost: $20 per child/adult duo. ($5 for each additional child\, $10 for each additional adult.) \nMembers get a 10% discount! \nPlease call to reserve your spot: 518-793-2773 \nor visit wacm.ticketleap.com to reserve online. \nThis class is limited to 16 people.
URL:https://worldchildrensmuseum.org/events/paint-sip-winter-scenes/
LOCATION:NY
END:VEVENT
END:VCALENDAR