BEGIN:VCALENDAR
VERSION:2.0
PRODID:-//World Awareness Children&#039;s Museum - ECPv6.15.20//NONSGML v1.0//EN
CALSCALE:GREGORIAN
METHOD:PUBLISH
X-ORIGINAL-URL:https://worldchildrensmuseum.org
X-WR-CALDESC:Events for World Awareness Children&#039;s Museum
REFRESH-INTERVAL;VALUE=DURATION:PT1H
X-Robots-Tag:noindex
X-PUBLISHED-TTL:PT1H
BEGIN:VTIMEZONE
TZID:America/New_York
BEGIN:DAYLIGHT
TZOFFSETFROM:-0500
TZOFFSETTO:-0400
TZNAME:EDT
DTSTART:20240310T070000
END:DAYLIGHT
BEGIN:STANDARD
TZOFFSETFROM:-0400
TZOFFSETTO:-0500
TZNAME:EST
DTSTART:20241103T060000
END:STANDARD
BEGIN:DAYLIGHT
TZOFFSETFROM:-0500
TZOFFSETTO:-0400
TZNAME:EDT
DTSTART:20250309T070000
END:DAYLIGHT
BEGIN:STANDARD
TZOFFSETFROM:-0400
TZOFFSETTO:-0500
TZNAME:EST
DTSTART:20251102T060000
END:STANDARD
BEGIN:DAYLIGHT
TZOFFSETFROM:-0500
TZOFFSETTO:-0400
TZNAME:EDT
DTSTART:20260308T070000
END:DAYLIGHT
BEGIN:STANDARD
TZOFFSETFROM:-0400
TZOFFSETTO:-0500
TZNAME:EST
DTSTART:20261101T060000
END:STANDARD
END:VTIMEZONE
BEGIN:VEVENT
DTSTART;TZID=America/New_York:20250313T100000
DTEND;TZID=America/New_York:20250313T150000
DTSTAMP:20260421T021815
CREATED:20240321T104025Z
LAST-MODIFIED:20250313T183832Z
UID:10003904-1741860000-1741878000@worldchildrensmuseum.org
SUMMARY:Open for General Admission
DESCRIPTION:Tickets can be purchased online at https://wacm.ticketleap.com/museum-admission-2024/Admission Costs:Members: FreeNot-Yet-Members: $7 per person\, children under 12mo. are free.Please visit our website for more information on admission: https://worldchildrensmuseum.org/for-visitors/
URL:https://worldchildrensmuseum.org/events/open-for-general-admission-1916/
LOCATION:World Awareness Children’s Museum\, 89 Warren St\, Glens Falls\, NY\, United States
GEO:43.310029;-73.639958
X-APPLE-STRUCTURED-LOCATION;VALUE=URI;X-ADDRESS=World Awareness Children’s Museum 89 Warren St Glens Falls NY United States;X-APPLE-RADIUS=500;X-TITLE=89 Warren St:geo:-73.639958,43.310029
END:VEVENT
BEGIN:VEVENT
DTSTART;TZID=America/New_York:20250313T103000
DTEND;TZID=America/New_York:20250313T113000
DTSTAMP:20260421T021815
CREATED:20250217T180833Z
LAST-MODIFIED:20250313T145336Z
UID:10004346-1741861800-1741865400@worldchildrensmuseum.org
SUMMARY:Kinder Rhythm Drumming
DESCRIPTION:Kinder Rhythm Inspires creativity\, joyful play\, and social interaction through the power of group rhythm-making. This includes singing\, dancing\, playing instruments\, and moving to the beat. Come and join Susie Barber\, national and international music\, theatre\, and movement educator and drum facilitator for a morning of fun and adventure with a hands on rhythmic exploration for your child and the child in you!  As the Zimbabwe proverb says\, “If you can speak you can sing and if you can walk you can dance!” \nCost: Free with admission
URL:https://worldchildrensmuseum.org/events/kinder-rhythm-drumming-9/
LOCATION:NY
END:VEVENT
BEGIN:VEVENT
DTSTART;TZID=America/New_York:20250314T100000
DTEND;TZID=America/New_York:20250314T150000
DTSTAMP:20260421T021815
CREATED:20240322T103923Z
LAST-MODIFIED:20250314T183831Z
UID:10003905-1741946400-1741964400@worldchildrensmuseum.org
SUMMARY:Open for General Admission
DESCRIPTION:Tickets can be purchased online at https://wacm.ticketleap.com/museum-admission-2024/Admission Costs:Members: FreeNot-Yet-Members: $7 per person\, children under 12mo. are free.Please visit our website for more information on admission: https://worldchildrensmuseum.org/for-visitors/
URL:https://worldchildrensmuseum.org/events/open-for-general-admission-1917/
LOCATION:World Awareness Children’s Museum\, 89 Warren St\, Glens Falls\, NY\, United States
GEO:43.310029;-73.639958
X-APPLE-STRUCTURED-LOCATION;VALUE=URI;X-ADDRESS=World Awareness Children’s Museum 89 Warren St Glens Falls NY United States;X-APPLE-RADIUS=500;X-TITLE=89 Warren St:geo:-73.639958,43.310029
END:VEVENT
BEGIN:VEVENT
DTSTART;TZID=America/New_York:20250314T103000
DTEND;TZID=America/New_York:20250314T113000
DTSTAMP:20260421T021815
CREATED:20250217T200832Z
LAST-MODIFIED:20250314T152332Z
UID:10004352-1741948200-1741951800@worldchildrensmuseum.org
SUMMARY:Storytime Friday
DESCRIPTION:Everyone is welcome at Storytime Fridays\, a recurring program designed to spark joy and curiosity in little ones! Each week\, we explore early literacy skills through movement\, imaginative play\, and a creative craft that brings the story to life. Perfect for toddlers\, preschoolers\, and their caregivers. \nCost: Free with Admission
URL:https://worldchildrensmuseum.org/events/storytime-friday-111/
LOCATION:NY
END:VEVENT
BEGIN:VEVENT
DTSTART;TZID=America/New_York:20250314T133000
DTEND;TZID=America/New_York:20250314T143000
DTSTAMP:20260421T021815
CREATED:20250217T200832Z
LAST-MODIFIED:20250314T175404Z
UID:10004353-1741959000-1741962600@worldchildrensmuseum.org
SUMMARY:Storytime Friday
DESCRIPTION:Everyone is welcome at Storytime Fridays\, a recurring program designed to spark joy and curiosity in little ones! Each week\, we explore early literacy skills through movement\, imaginative play\, and a creative craft that brings the story to life. Perfect for toddlers\, preschoolers\, and their caregivers. \nCost: Free with Admission
URL:https://worldchildrensmuseum.org/events/storytime-friday-112/
LOCATION:NY
END:VEVENT
BEGIN:VEVENT
DTSTART;TZID=America/New_York:20250315T100000
DTEND;TZID=America/New_York:20250315T150000
DTSTAMP:20260421T021815
CREATED:20240323T103924Z
LAST-MODIFIED:20250315T185430Z
UID:10003906-1742032800-1742050800@worldchildrensmuseum.org
SUMMARY:Open for General Admission
DESCRIPTION:Tickets can be purchased online at https://wacm.ticketleap.com/museum-admission-2024/Admission Costs:Members: FreeNot-Yet-Members: $7 per person\, children under 12mo. are free.Please visit our website for more information on admission: https://worldchildrensmuseum.org/for-visitors/
URL:https://worldchildrensmuseum.org/events/open-for-general-admission-1918/
LOCATION:World Awareness Children’s Museum\, 89 Warren St\, Glens Falls\, NY\, United States
GEO:43.310029;-73.639958
X-APPLE-STRUCTURED-LOCATION;VALUE=URI;X-ADDRESS=World Awareness Children’s Museum 89 Warren St Glens Falls NY United States;X-APPLE-RADIUS=500;X-TITLE=89 Warren St:geo:-73.639958,43.310029
END:VEVENT
BEGIN:VEVENT
DTSTART;TZID=America/New_York:20250316T100000
DTEND;TZID=America/New_York:20250316T150000
DTSTAMP:20260421T021815
CREATED:20240323T103925Z
LAST-MODIFIED:20250316T185346Z
UID:10003907-1742119200-1742137200@worldchildrensmuseum.org
SUMMARY:Open for General Admission
DESCRIPTION:Tickets can be purchased online at https://wacm.ticketleap.com/museum-admission-2024/Admission Costs:Members: FreeNot-Yet-Members: $7 per person\, children under 12mo. are free.Please visit our website for more information on admission: https://worldchildrensmuseum.org/for-visitors/
URL:https://worldchildrensmuseum.org/events/open-for-general-admission-1919/
LOCATION:World Awareness Children’s Museum\, 89 Warren St\, Glens Falls\, NY\, United States
GEO:43.310029;-73.639958
X-APPLE-STRUCTURED-LOCATION;VALUE=URI;X-ADDRESS=World Awareness Children’s Museum 89 Warren St Glens Falls NY United States;X-APPLE-RADIUS=500;X-TITLE=89 Warren St:geo:-73.639958,43.310029
END:VEVENT
BEGIN:VEVENT
DTSTART;TZID=America/New_York:20250317T100000
DTEND;TZID=America/New_York:20250317T150000
DTSTAMP:20260421T021815
CREATED:20240324T103918Z
LAST-MODIFIED:20250317T185329Z
UID:10003908-1742205600-1742223600@worldchildrensmuseum.org
SUMMARY:Open for General Admission
DESCRIPTION:Tickets can be purchased online at https://wacm.ticketleap.com/museum-admission-2024/Admission Costs:Members: FreeNot-Yet-Members: $7 per person\, children under 12mo. are free.Please visit our website for more information on admission: https://worldchildrensmuseum.org/for-visitors/
URL:https://worldchildrensmuseum.org/events/open-for-general-admission-1920/
LOCATION:World Awareness Children’s Museum\, 89 Warren St\, Glens Falls\, NY\, United States
GEO:43.310029;-73.639958
X-APPLE-STRUCTURED-LOCATION;VALUE=URI;X-ADDRESS=World Awareness Children’s Museum 89 Warren St Glens Falls NY United States;X-APPLE-RADIUS=500;X-TITLE=89 Warren St:geo:-73.639958,43.310029
END:VEVENT
BEGIN:VEVENT
DTSTART;TZID=America/New_York:20250320T100000
DTEND;TZID=America/New_York:20250320T150000
DTSTAMP:20260421T021815
CREATED:20240324T103919Z
LAST-MODIFIED:20250320T183851Z
UID:10003909-1742464800-1742482800@worldchildrensmuseum.org
SUMMARY:Open for General Admission
DESCRIPTION:Tickets can be purchased online at https://wacm.ticketleap.com/museum-admission-2024/Admission Costs:Members: FreeNot-Yet-Members: $7 per person\, children under 12mo. are free.Please visit our website for more information on admission: https://worldchildrensmuseum.org/for-visitors/
URL:https://worldchildrensmuseum.org/events/open-for-general-admission-1921/
LOCATION:World Awareness Children’s Museum\, 89 Warren St\, Glens Falls\, NY\, United States
GEO:43.310029;-73.639958
X-APPLE-STRUCTURED-LOCATION;VALUE=URI;X-ADDRESS=World Awareness Children’s Museum 89 Warren St Glens Falls NY United States;X-APPLE-RADIUS=500;X-TITLE=89 Warren St:geo:-73.639958,43.310029
END:VEVENT
BEGIN:VEVENT
DTSTART;TZID=America/New_York:20250320T103000
DTEND;TZID=America/New_York:20250320T113000
DTSTAMP:20260421T021815
CREATED:20250217T180834Z
LAST-MODIFIED:20250320T152332Z
UID:10004347-1742466600-1742470200@worldchildrensmuseum.org
SUMMARY:Kinder Rhythm Drumming
DESCRIPTION:Kinder Rhythm Inspires creativity\, joyful play\, and social interaction through the power of group rhythm-making. This includes singing\, dancing\, playing instruments\, and moving to the beat. Come and join Susie Barber\, national and international music\, theatre\, and movement educator and drum facilitator for a morning of fun and adventure with a hands on rhythmic exploration for your child and the child in you!  As the Zimbabwe proverb says\, “If you can speak you can sing and if you can walk you can dance!” \nCost: Free with admission
URL:https://worldchildrensmuseum.org/events/kinder-rhythm-drumming-10/
LOCATION:NY
END:VEVENT
BEGIN:VEVENT
DTSTART;TZID=America/New_York:20250321T100000
DTEND;TZID=America/New_York:20250321T150000
DTSTAMP:20260421T021815
CREATED:20240325T103944Z
LAST-MODIFIED:20250321T183840Z
UID:10003910-1742551200-1742569200@worldchildrensmuseum.org
SUMMARY:Open for General Admission
DESCRIPTION:Tickets can be purchased online at https://wacm.ticketleap.com/museum-admission-2024/Admission Costs:Members: FreeNot-Yet-Members: $7 per person\, children under 12mo. are free.Please visit our website for more information on admission: https://worldchildrensmuseum.org/for-visitors/
URL:https://worldchildrensmuseum.org/events/open-for-general-admission-1922/
LOCATION:World Awareness Children’s Museum\, 89 Warren St\, Glens Falls\, NY\, United States
GEO:43.310029;-73.639958
X-APPLE-STRUCTURED-LOCATION;VALUE=URI;X-ADDRESS=World Awareness Children’s Museum 89 Warren St Glens Falls NY United States;X-APPLE-RADIUS=500;X-TITLE=89 Warren St:geo:-73.639958,43.310029
END:VEVENT
BEGIN:VEVENT
DTSTART;TZID=America/New_York:20250321T103000
DTEND;TZID=America/New_York:20250321T113000
DTSTAMP:20260421T021815
CREATED:20250217T200833Z
LAST-MODIFIED:20250321T152337Z
UID:10004354-1742553000-1742556600@worldchildrensmuseum.org
SUMMARY:Storytime Friday
DESCRIPTION:Everyone is welcome at Storytime Fridays\, a recurring program designed to spark joy and curiosity in little ones! Each week\, we explore early literacy skills through movement\, imaginative play\, and a creative craft that brings the story to life. Perfect for toddlers\, preschoolers\, and their caregivers. \nCost: Free with Admission
URL:https://worldchildrensmuseum.org/events/storytime-friday-113/
LOCATION:NY
END:VEVENT
BEGIN:VEVENT
DTSTART;TZID=America/New_York:20250321T133000
DTEND;TZID=America/New_York:20250321T143000
DTSTAMP:20260421T021815
CREATED:20250217T200833Z
LAST-MODIFIED:20250321T175358Z
UID:10004355-1742563800-1742567400@worldchildrensmuseum.org
SUMMARY:Storytime Friday
DESCRIPTION:Everyone is welcome at Storytime Fridays\, a recurring program designed to spark joy and curiosity in little ones! Each week\, we explore early literacy skills through movement\, imaginative play\, and a creative craft that brings the story to life. Perfect for toddlers\, preschoolers\, and their caregivers. \nCost: Free with Admission
URL:https://worldchildrensmuseum.org/events/storytime-friday-114/
LOCATION:NY
END:VEVENT
BEGIN:VEVENT
DTSTART;TZID=America/New_York:20250322T100000
DTEND;TZID=America/New_York:20250322T150000
DTSTAMP:20260421T021815
CREATED:20240326T103940Z
LAST-MODIFIED:20250322T183843Z
UID:10003911-1742637600-1742655600@worldchildrensmuseum.org
SUMMARY:Open for General Admission
DESCRIPTION:Tickets can be purchased online at https://wacm.ticketleap.com/museum-admission-2024/Admission Costs:Members: FreeNot-Yet-Members: $7 per person\, children under 12mo. are free.Please visit our website for more information on admission: https://worldchildrensmuseum.org/for-visitors/
URL:https://worldchildrensmuseum.org/events/open-for-general-admission-1923/
LOCATION:World Awareness Children’s Museum\, 89 Warren St\, Glens Falls\, NY\, United States
GEO:43.310029;-73.639958
X-APPLE-STRUCTURED-LOCATION;VALUE=URI;X-ADDRESS=World Awareness Children’s Museum 89 Warren St Glens Falls NY United States;X-APPLE-RADIUS=500;X-TITLE=89 Warren St:geo:-73.639958,43.310029
END:VEVENT
BEGIN:VEVENT
DTSTART;TZID=America/New_York:20250322T130000
DTEND;TZID=America/New_York:20250322T143000
DTSTAMP:20260421T021815
CREATED:20250108T192346Z
LAST-MODIFIED:20250322T180833Z
UID:10004284-1742648400-1742653800@worldchildrensmuseum.org
SUMMARY:Kitty Cat Paint & Sip
DESCRIPTION:Join us for our popular family-friendly Paint & Sip series taught by local artist Patrice Jarvis-Weber. Artists will paint their own kitty cat on canvas.  \nCost: $12 per person. Members get a 10% discount! Please call to reserve your spot: 518-793-2773 or visit wacm.ticketleap.com to reserve online. \nThis class is limited to 9 people.
URL:https://worldchildrensmuseum.org/events/kitty-cat-paint-sip-2/
LOCATION:NY
END:VEVENT
BEGIN:VEVENT
DTSTART;TZID=America/New_York:20250323T100000
DTEND;TZID=America/New_York:20250323T150000
DTSTAMP:20260421T021815
CREATED:20240326T103942Z
LAST-MODIFIED:20250323T185336Z
UID:10003912-1742724000-1742742000@worldchildrensmuseum.org
SUMMARY:Open for General Admission
DESCRIPTION:Tickets can be purchased online at https://wacm.ticketleap.com/museum-admission-2024/Admission Costs:Members: FreeNot-Yet-Members: $7 per person\, children under 12mo. are free.Please visit our website for more information on admission: https://worldchildrensmuseum.org/for-visitors/
URL:https://worldchildrensmuseum.org/events/open-for-general-admission-1924/
LOCATION:World Awareness Children’s Museum\, 89 Warren St\, Glens Falls\, NY\, United States
GEO:43.310029;-73.639958
X-APPLE-STRUCTURED-LOCATION;VALUE=URI;X-ADDRESS=World Awareness Children’s Museum 89 Warren St Glens Falls NY United States;X-APPLE-RADIUS=500;X-TITLE=89 Warren St:geo:-73.639958,43.310029
END:VEVENT
BEGIN:VEVENT
DTSTART;TZID=America/New_York:20250324T100000
DTEND;TZID=America/New_York:20250324T150000
DTSTAMP:20260421T021815
CREATED:20240327T103946Z
LAST-MODIFIED:20250324T183828Z
UID:10003913-1742810400-1742828400@worldchildrensmuseum.org
SUMMARY:Open for General Admission
DESCRIPTION:Tickets can be purchased online at https://wacm.ticketleap.com/museum-admission-2024/Admission Costs:Members: FreeNot-Yet-Members: $7 per person\, children under 12mo. are free.Please visit our website for more information on admission: https://worldchildrensmuseum.org/for-visitors/
URL:https://worldchildrensmuseum.org/events/open-for-general-admission-1925/
LOCATION:World Awareness Children’s Museum\, 89 Warren St\, Glens Falls\, NY\, United States
GEO:43.310029;-73.639958
X-APPLE-STRUCTURED-LOCATION;VALUE=URI;X-ADDRESS=World Awareness Children’s Museum 89 Warren St Glens Falls NY United States;X-APPLE-RADIUS=500;X-TITLE=89 Warren St:geo:-73.639958,43.310029
END:VEVENT
BEGIN:VEVENT
DTSTART;TZID=America/New_York:20250324T100000
DTEND;TZID=America/New_York:20250324T150000
DTSTAMP:20260421T021815
CREATED:20250217T183832Z
LAST-MODIFIED:20250324T183829Z
UID:10004349-1742810400-1742828400@worldchildrensmuseum.org
SUMMARY:Make & Take a Ramadan Craft!
DESCRIPTION:Celebrate Ramadan with a fun and creative Make & Take Craft! Children will design their own Paper Plate Moon & Star Decoration with materials provided by the museum. \nThis activity is perfect for children of all ages and provides a wonderful opportunity for family-friendly fun. Come and create\, celebrate\, and take home a little piece of Ramadan! \n \nWant to learn more about this holiday? Join us Friday\, 03/28 for Storytime as we read a special Ramadan-themed book! \nCost: Free with admission and while supplies last.
URL:https://worldchildrensmuseum.org/events/make-take-a-ramadan-craft/
LOCATION:NY
END:VEVENT
BEGIN:VEVENT
DTSTART;TZID=America/New_York:20250327T100000
DTEND;TZID=America/New_York:20250327T150000
DTSTAMP:20260421T021815
CREATED:20240328T105422Z
LAST-MODIFIED:20250327T183831Z
UID:10003914-1743069600-1743087600@worldchildrensmuseum.org
SUMMARY:Open for General Admission
DESCRIPTION:Tickets can be purchased online at https://wacm.ticketleap.com/museum-admission-2024/Admission Costs:Members: FreeNot-Yet-Members: $7 per person\, children under 12mo. are free.Please visit our website for more information on admission: https://worldchildrensmuseum.org/for-visitors/
URL:https://worldchildrensmuseum.org/events/open-for-general-admission-1926/
LOCATION:World Awareness Children’s Museum\, 89 Warren St\, Glens Falls\, NY\, United States
GEO:43.310029;-73.639958
X-APPLE-STRUCTURED-LOCATION;VALUE=URI;X-ADDRESS=World Awareness Children’s Museum 89 Warren St Glens Falls NY United States;X-APPLE-RADIUS=500;X-TITLE=89 Warren St:geo:-73.639958,43.310029
END:VEVENT
BEGIN:VEVENT
DTSTART;TZID=America/New_York:20250327T103000
DTEND;TZID=America/New_York:20250327T113000
DTSTAMP:20260421T021815
CREATED:20250217T180835Z
LAST-MODIFIED:20250327T152333Z
UID:10004348-1743071400-1743075000@worldchildrensmuseum.org
SUMMARY:Kinder Rhythm Drumming
DESCRIPTION:Kinder Rhythm Inspires creativity\, joyful play\, and social interaction through the power of group rhythm-making. This includes singing\, dancing\, playing instruments\, and moving to the beat. Come and join Susie Barber\, national and international music\, theatre\, and movement educator and drum facilitator for a morning of fun and adventure with a hands on rhythmic exploration for your child and the child in you!  As the Zimbabwe proverb says\, “If you can speak you can sing and if you can walk you can dance!” \nCost: Free with admission
URL:https://worldchildrensmuseum.org/events/kinder-rhythm-drumming-11/
LOCATION:NY
END:VEVENT
BEGIN:VEVENT
DTSTART;TZID=America/New_York:20250328T100000
DTEND;TZID=America/New_York:20250328T150000
DTSTAMP:20260421T021815
CREATED:20240405T105427Z
LAST-MODIFIED:20250328T185340Z
UID:10003930-1743156000-1743174000@worldchildrensmuseum.org
SUMMARY:Open for General Admission
DESCRIPTION:Tickets can be purchased online at https://wacm.ticketleap.com/museum-admission-2024/Admission Costs:Members: FreeNot-Yet-Members: $7 per person\, children under 12mo. are free.Please visit our website for more information on admission: https://worldchildrensmuseum.org/for-visitors/
URL:https://worldchildrensmuseum.org/events/open-for-general-admission-1929/
LOCATION:World Awareness Children’s Museum\, 89 Warren St\, Glens Falls\, NY\, United States
GEO:43.310029;-73.639958
X-APPLE-STRUCTURED-LOCATION;VALUE=URI;X-ADDRESS=World Awareness Children’s Museum 89 Warren St Glens Falls NY United States;X-APPLE-RADIUS=500;X-TITLE=89 Warren St:geo:-73.639958,43.310029
END:VEVENT
BEGIN:VEVENT
DTSTART;TZID=America/New_York:20250328T103000
DTEND;TZID=America/New_York:20250328T113000
DTSTAMP:20260421T021815
CREATED:20250217T200835Z
LAST-MODIFIED:20250328T152330Z
UID:10004357-1743157800-1743161400@worldchildrensmuseum.org
SUMMARY:Storytime Friday
DESCRIPTION:Everyone is welcome at Storytime Fridays\, a recurring program designed to spark joy and curiosity in little ones! Each week\, we explore early literacy skills through movement\, imaginative play\, and a creative craft that brings the story to life. Perfect for toddlers\, preschoolers\, and their caregivers. \nCost: Free with Admission
URL:https://worldchildrensmuseum.org/events/storytime-friday-116/
LOCATION:NY
END:VEVENT
BEGIN:VEVENT
DTSTART;TZID=America/New_York:20250328T133000
DTEND;TZID=America/New_York:20250328T143000
DTSTAMP:20260421T021815
CREATED:20250217T200834Z
LAST-MODIFIED:20250328T180830Z
UID:10004356-1743168600-1743172200@worldchildrensmuseum.org
SUMMARY:Storytime Friday
DESCRIPTION:Everyone is welcome at Storytime Fridays\, a recurring program designed to spark joy and curiosity in little ones! Each week\, we explore early literacy skills through movement\, imaginative play\, and a creative craft that brings the story to life. Perfect for toddlers\, preschoolers\, and their caregivers. \nCost: Free with Admission
URL:https://worldchildrensmuseum.org/events/storytime-friday-115/
LOCATION:NY
END:VEVENT
BEGIN:VEVENT
DTSTART;TZID=America/New_York:20250329T100000
DTEND;TZID=America/New_York:20250329T150000
DTSTAMP:20260421T021815
CREATED:20240406T105422Z
LAST-MODIFIED:20250329T185334Z
UID:10003931-1743242400-1743260400@worldchildrensmuseum.org
SUMMARY:Open for General Admission
DESCRIPTION:Tickets can be purchased online at https://wacm.ticketleap.com/museum-admission-2024/Admission Costs:Members: FreeNot-Yet-Members: $7 per person\, children under 12mo. are free.Please visit our website for more information on admission: https://worldchildrensmuseum.org/for-visitors/
URL:https://worldchildrensmuseum.org/events/open-for-general-admission-1930/
LOCATION:World Awareness Children’s Museum\, 89 Warren St\, Glens Falls\, NY\, United States
GEO:43.310029;-73.639958
X-APPLE-STRUCTURED-LOCATION;VALUE=URI;X-ADDRESS=World Awareness Children’s Museum 89 Warren St Glens Falls NY United States;X-APPLE-RADIUS=500;X-TITLE=89 Warren St:geo:-73.639958,43.310029
END:VEVENT
BEGIN:VEVENT
DTSTART;TZID=America/New_York:20250330T100000
DTEND;TZID=America/New_York:20250330T150000
DTSTAMP:20260421T021815
CREATED:20240406T105423Z
LAST-MODIFIED:20250330T183846Z
UID:10003932-1743328800-1743346800@worldchildrensmuseum.org
SUMMARY:Open for General Admission
DESCRIPTION:Tickets can be purchased online at https://wacm.ticketleap.com/museum-admission-2024/Admission Costs:Members: FreeNot-Yet-Members: $7 per person\, children under 12mo. are free.Please visit our website for more information on admission: https://worldchildrensmuseum.org/for-visitors/
URL:https://worldchildrensmuseum.org/events/open-for-general-admission-1931/
LOCATION:World Awareness Children’s Museum\, 89 Warren St\, Glens Falls\, NY\, United States
GEO:43.310029;-73.639958
X-APPLE-STRUCTURED-LOCATION;VALUE=URI;X-ADDRESS=World Awareness Children’s Museum 89 Warren St Glens Falls NY United States;X-APPLE-RADIUS=500;X-TITLE=89 Warren St:geo:-73.639958,43.310029
END:VEVENT
BEGIN:VEVENT
DTSTART;TZID=America/New_York:20250331T100000
DTEND;TZID=America/New_York:20250331T150000
DTSTAMP:20260421T021815
CREATED:20240407T105410Z
LAST-MODIFIED:20250331T183842Z
UID:10003933-1743415200-1743433200@worldchildrensmuseum.org
SUMMARY:Open for General Admission
DESCRIPTION:Tickets can be purchased online at https://wacm.ticketleap.com/museum-admission-2024/Admission Costs:Members: FreeNot-Yet-Members: $7 per person\, children under 12mo. are free.Please visit our website for more information on admission: https://worldchildrensmuseum.org/for-visitors/
URL:https://worldchildrensmuseum.org/events/open-for-general-admission-1932/
LOCATION:World Awareness Children’s Museum\, 89 Warren St\, Glens Falls\, NY\, United States
GEO:43.310029;-73.639958
X-APPLE-STRUCTURED-LOCATION;VALUE=URI;X-ADDRESS=World Awareness Children’s Museum 89 Warren St Glens Falls NY United States;X-APPLE-RADIUS=500;X-TITLE=89 Warren St:geo:-73.639958,43.310029
END:VEVENT
BEGIN:VEVENT
DTSTART;TZID=America/New_York:20250403T100000
DTEND;TZID=America/New_York:20250403T150000
DTSTAMP:20260421T021815
CREATED:20240408T105445Z
LAST-MODIFIED:20250403T185402Z
UID:10003934-1743674400-1743692400@worldchildrensmuseum.org
SUMMARY:Open for General Admission
DESCRIPTION:Tickets can be purchased online at https://wacm.ticketleap.com/museum-admission-2024/Admission Costs:Members: FreeNot-Yet-Members: $7 per person\, children under 12mo. are free.Please visit our website for more information on admission: https://worldchildrensmuseum.org/for-visitors/
URL:https://worldchildrensmuseum.org/events/open-for-general-admission-1933/
LOCATION:World Awareness Children’s Museum\, 89 Warren St\, Glens Falls\, NY\, United States
GEO:43.310029;-73.639958
X-APPLE-STRUCTURED-LOCATION;VALUE=URI;X-ADDRESS=World Awareness Children’s Museum 89 Warren St Glens Falls NY United States;X-APPLE-RADIUS=500;X-TITLE=89 Warren St:geo:-73.639958,43.310029
END:VEVENT
BEGIN:VEVENT
DTSTART;TZID=America/New_York:20250403T103000
DTEND;TZID=America/New_York:20250403T113000
DTSTAMP:20260421T021815
CREATED:20250321T172350Z
LAST-MODIFIED:20250403T152340Z
UID:10004388-1743676200-1743679800@worldchildrensmuseum.org
SUMMARY:Kinder Rhythm Drumming
DESCRIPTION:Kinder Rhythm Inspires creativity\, joyful play\, and social interaction through the power of group rhythm-making. This includes singing\, dancing\, playing instruments\, and moving to the beat. Come and join Susie Barber\, national and international music\, theatre\, and movement educator and drum facilitator for a morning of fun and adventure with a hands-on rhythmic exploration for your child and the child in you!  As the Zimbabwe proverb says\, “If you can speak you can sing and if you can walk you can dance!” \nCost: Free with admission
URL:https://worldchildrensmuseum.org/events/kinder-rhythm-drumming-12/
LOCATION:NY
END:VEVENT
BEGIN:VEVENT
DTSTART;TZID=America/New_York:20250404T100000
DTEND;TZID=America/New_York:20250404T150000
DTSTAMP:20260421T021815
CREATED:20240409T105417Z
LAST-MODIFIED:20250404T185332Z
UID:10003935-1743760800-1743778800@worldchildrensmuseum.org
SUMMARY:Open for General Admission
DESCRIPTION:Tickets can be purchased online at https://wacm.ticketleap.com/museum-admission-2024/Admission Costs:Members: FreeNot-Yet-Members: $7 per person\, children under 12mo. are free.Please visit our website for more information on admission: https://worldchildrensmuseum.org/for-visitors/
URL:https://worldchildrensmuseum.org/events/open-for-general-admission-1934/
LOCATION:World Awareness Children’s Museum\, 89 Warren St\, Glens Falls\, NY\, United States
GEO:43.310029;-73.639958
X-APPLE-STRUCTURED-LOCATION;VALUE=URI;X-ADDRESS=World Awareness Children’s Museum 89 Warren St Glens Falls NY United States;X-APPLE-RADIUS=500;X-TITLE=89 Warren St:geo:-73.639958,43.310029
END:VEVENT
BEGIN:VEVENT
DTSTART;TZID=America/New_York:20250404T103000
DTEND;TZID=America/New_York:20250404T113000
DTSTAMP:20260421T021815
CREATED:20250321T172350Z
LAST-MODIFIED:20250404T152349Z
UID:10004389-1743762600-1743766200@worldchildrensmuseum.org
SUMMARY:Storytime Friday
DESCRIPTION:Everyone is welcome at Storytime Fridays\, a recurring program designed to spark joy and curiosity in little ones! Each week\, we explore early literacy skills through movement\, imaginative play\, and a creative craft that brings the story to life. Perfect for toddlers\, preschoolers\, and their caregivers. \nCost: Free with Admission
URL:https://worldchildrensmuseum.org/events/storytime-friday-117/
LOCATION:NY
END:VEVENT
END:VCALENDAR