BEGIN:VCALENDAR
VERSION:2.0
PRODID:-//World Awareness Children&#039;s Museum - ECPv6.15.20//NONSGML v1.0//EN
CALSCALE:GREGORIAN
METHOD:PUBLISH
X-WR-CALNAME:World Awareness Children&#039;s Museum
X-ORIGINAL-URL:https://worldchildrensmuseum.org
X-WR-CALDESC:Events for World Awareness Children&#039;s Museum
REFRESH-INTERVAL;VALUE=DURATION:PT1H
X-Robots-Tag:noindex
X-PUBLISHED-TTL:PT1H
BEGIN:VTIMEZONE
TZID:America/New_York
BEGIN:DAYLIGHT
TZOFFSETFROM:-0500
TZOFFSETTO:-0400
TZNAME:EDT
DTSTART:20220313T070000
END:DAYLIGHT
BEGIN:STANDARD
TZOFFSETFROM:-0400
TZOFFSETTO:-0500
TZNAME:EST
DTSTART:20221106T060000
END:STANDARD
BEGIN:DAYLIGHT
TZOFFSETFROM:-0500
TZOFFSETTO:-0400
TZNAME:EDT
DTSTART:20230312T070000
END:DAYLIGHT
BEGIN:STANDARD
TZOFFSETFROM:-0400
TZOFFSETTO:-0500
TZNAME:EST
DTSTART:20231105T060000
END:STANDARD
BEGIN:DAYLIGHT
TZOFFSETFROM:-0500
TZOFFSETTO:-0400
TZNAME:EDT
DTSTART:20240310T070000
END:DAYLIGHT
BEGIN:STANDARD
TZOFFSETFROM:-0400
TZOFFSETTO:-0500
TZNAME:EST
DTSTART:20241103T060000
END:STANDARD
END:VTIMEZONE
BEGIN:VEVENT
DTSTART;VALUE=DATE:20230308
DTEND;VALUE=DATE:20230309
DTSTAMP:20260423T051552
CREATED:20220907T045617Z
LAST-MODIFIED:20230308T020833Z
UID:10002110-1678233600-1678319999@worldchildrensmuseum.org
SUMMARY:MUSEUM CLOSED
DESCRIPTION:
URL:https://worldchildrensmuseum.org/events/museum-closed-56/
LOCATION:NY
END:VEVENT
BEGIN:VEVENT
DTSTART;VALUE=DATE:20230307
DTEND;VALUE=DATE:20230308
DTSTAMP:20260423T051552
CREATED:20220907T045617Z
LAST-MODIFIED:20230307T020923Z
UID:10002111-1678147200-1678233599@worldchildrensmuseum.org
SUMMARY:MUSEUM CLOSED
DESCRIPTION:
URL:https://worldchildrensmuseum.org/events/museum-closed-57/
LOCATION:NY
END:VEVENT
BEGIN:VEVENT
DTSTART;TZID=America/New_York:20230306T100000
DTEND;TZID=America/New_York:20230306T150000
DTSTAMP:20260423T051552
CREATED:20220824T022742Z
LAST-MODIFIED:20221221T214113Z
UID:10001970-1678096800-1678114800@worldchildrensmuseum.org
SUMMARY:Open for General Admission
DESCRIPTION:Pre-registration is encouraged: wacm.ticketleap.com/admission-2022 \nAdmission Costs:Members: FreeNot-Yet-Members: $7 per person\, children under 3 are free.Please visit our website for more information on admission: https://worldchildrensmuseum.org/for-visitors/
URL:https://worldchildrensmuseum.org/events/open-for-general-admission-394/
LOCATION:World Awareness Children’s Museum\, 89 Warren St\, Glens Falls\, NY 12801\, USA
END:VEVENT
BEGIN:VEVENT
DTSTART;TZID=America/New_York:20230305T100000
DTEND;TZID=America/New_York:20230305T150000
DTSTAMP:20260423T051552
CREATED:20220824T022742Z
LAST-MODIFIED:20221221T214113Z
UID:10001980-1678010400-1678028400@worldchildrensmuseum.org
SUMMARY:Open for General Admission
DESCRIPTION:Pre-registration is encouraged: wacm.ticketleap.com/admission-2022 \nAdmission Costs:Members: FreeNot-Yet-Members: $7 per person\, children under 3 are free.Please visit our website for more information on admission: https://worldchildrensmuseum.org/for-visitors/
URL:https://worldchildrensmuseum.org/events/open-for-general-admission-393/
LOCATION:World Awareness Children’s Museum\, 89 Warren St\, Glens Falls\, NY 12801\, USA
END:VEVENT
BEGIN:VEVENT
DTSTART;TZID=America/New_York:20230304T100000
DTEND;TZID=America/New_York:20230304T150000
DTSTAMP:20260423T051552
CREATED:20220824T022742Z
LAST-MODIFIED:20221221T214113Z
UID:10001981-1677924000-1677942000@worldchildrensmuseum.org
SUMMARY:Open for General Admission
DESCRIPTION:Pre-registration is encouraged: wacm.ticketleap.com/admission-2022 \nAdmission Costs:Members: FreeNot-Yet-Members: $7 per person\, children under 3 are free.Please visit our website for more information on admission: https://worldchildrensmuseum.org/for-visitors/
URL:https://worldchildrensmuseum.org/events/open-for-general-admission-392/
LOCATION:World Awareness Children’s Museum\, 89 Warren St\, Glens Falls\, NY 12801\, USA
END:VEVENT
BEGIN:VEVENT
DTSTART;TZID=America/New_York:20230303T133000
DTEND;TZID=America/New_York:20230303T143000
DTSTAMP:20260423T051552
CREATED:20230301T015333Z
LAST-MODIFIED:20230303T020836Z
UID:10002285-1677850200-1677853800@worldchildrensmuseum.org
SUMMARY:Storytime Friday
DESCRIPTION:Reading: “A New Beginning: Celebrating the Spring Equinox” by Wendy Pfeffer \nEveryone is welcome at our recurring program\, Storytime Fridays! This program is appropriate for all ages and includes a story and a craft.  \nCost: Free with admission
URL:https://worldchildrensmuseum.org/events/storytime-friday-15/
LOCATION:NY
END:VEVENT
BEGIN:VEVENT
DTSTART;TZID=America/New_York:20230303T100000
DTEND;TZID=America/New_York:20230303T150000
DTSTAMP:20260423T051552
CREATED:20220824T022742Z
LAST-MODIFIED:20221221T214113Z
UID:10001982-1677837600-1677855600@worldchildrensmuseum.org
SUMMARY:Open for General Admission
DESCRIPTION:Pre-registration is encouraged: wacm.ticketleap.com/admission-2022 \nAdmission Costs:Members: FreeNot-Yet-Members: $7 per person\, children under 3 are free.Please visit our website for more information on admission: https://worldchildrensmuseum.org/for-visitors/
URL:https://worldchildrensmuseum.org/events/open-for-general-admission-391/
LOCATION:World Awareness Children’s Museum\, 89 Warren St\, Glens Falls\, NY 12801\, USA
END:VEVENT
BEGIN:VEVENT
DTSTART;TZID=America/New_York:20230302T100000
DTEND;TZID=America/New_York:20230302T150000
DTSTAMP:20260423T051552
CREATED:20220824T022742Z
LAST-MODIFIED:20221221T214113Z
UID:10001997-1677751200-1677769200@worldchildrensmuseum.org
SUMMARY:Open for General Admission
DESCRIPTION:Pre-registration is encouraged: wacm.ticketleap.com/admission-2022 \nAdmission Costs:Members: FreeNot-Yet-Members: $7 per person\, children under 3 are free.Please visit our website for more information on admission: https://worldchildrensmuseum.org/for-visitors/
URL:https://worldchildrensmuseum.org/events/open-for-general-admission-390/
LOCATION:World Awareness Children’s Museum\, 89 Warren St\, Glens Falls\, NY 12801\, USA
END:VEVENT
BEGIN:VEVENT
DTSTART;VALUE=DATE:20230301
DTEND;VALUE=DATE:20230302
DTSTAMP:20260423T051552
CREATED:20220907T045616Z
LAST-MODIFIED:20230301T015335Z
UID:10002109-1677628800-1677715199@worldchildrensmuseum.org
SUMMARY:MUSEUM CLOSED
DESCRIPTION:
URL:https://worldchildrensmuseum.org/events/museum-closed-55/
LOCATION:NY
END:VEVENT
BEGIN:VEVENT
DTSTART;VALUE=DATE:20230228
DTEND;VALUE=DATE:20230301
DTSTAMP:20260423T051552
CREATED:20220907T045616Z
LAST-MODIFIED:20230228T015350Z
UID:10002119-1677542400-1677628799@worldchildrensmuseum.org
SUMMARY:MUSEUM CLOSED
DESCRIPTION:
URL:https://worldchildrensmuseum.org/events/museum-closed-54/
LOCATION:NY
END:VEVENT
BEGIN:VEVENT
DTSTART;TZID=America/New_York:20230227T100000
DTEND;TZID=America/New_York:20230227T150000
DTSTAMP:20260423T051552
CREATED:20220824T022741Z
LAST-MODIFIED:20221221T214112Z
UID:10001995-1677492000-1677510000@worldchildrensmuseum.org
SUMMARY:Open for General Admission
DESCRIPTION:Pre-registration is encouraged: wacm.ticketleap.com/admission-2022 \nAdmission Costs:Members: FreeNot-Yet-Members: $7 per person\, children under 3 are free.Please visit our website for more information on admission: https://worldchildrensmuseum.org/for-visitors/
URL:https://worldchildrensmuseum.org/events/open-for-general-admission-389/
LOCATION:World Awareness Children’s Museum\, 89 Warren St\, Glens Falls\, NY 12801\, USA
END:VEVENT
BEGIN:VEVENT
DTSTART;TZID=America/New_York:20230226T100000
DTEND;TZID=America/New_York:20230226T150000
DTSTAMP:20260423T051552
CREATED:20220824T022741Z
LAST-MODIFIED:20221221T214112Z
UID:10001993-1677405600-1677423600@worldchildrensmuseum.org
SUMMARY:Open for General Admission
DESCRIPTION:Pre-registration is encouraged: wacm.ticketleap.com/admission-2022 \nAdmission Costs:Members: FreeNot-Yet-Members: $7 per person\, children under 3 are free.Please visit our website for more information on admission: https://worldchildrensmuseum.org/for-visitors/
URL:https://worldchildrensmuseum.org/events/open-for-general-admission-388/
LOCATION:World Awareness Children’s Museum\, 89 Warren St\, Glens Falls\, NY 12801\, USA
END:VEVENT
BEGIN:VEVENT
DTSTART;TZID=America/New_York:20230225T130000
DTEND;TZID=America/New_York:20230225T143000
DTSTAMP:20260423T051552
CREATED:20230130T232504Z
LAST-MODIFIED:20230224T000955Z
UID:10002284-1677330000-1677335400@worldchildrensmuseum.org
SUMMARY:Story Quilt Paint & Sip
DESCRIPTION:Join us for our popular family-friendly Paint & Sip series. Artists will paint their own story quilt square on canvas and make a community “quilt” with  \ninstruction from local artist Patrice Jarvis-Weber.  \nCost: $10 per person. Members get a 10% discount! \nPlease call to reserve your spot: 518-793-2773 or visit wacm.ticketleap.com to reserve online. This class is limited to 9 people.
URL:https://worldchildrensmuseum.org/events/story-quilt-paint-sip/
LOCATION:NY
END:VEVENT
BEGIN:VEVENT
DTSTART;TZID=America/New_York:20230225T100000
DTEND;TZID=America/New_York:20230225T150000
DTSTAMP:20260423T051552
CREATED:20220824T022741Z
LAST-MODIFIED:20221221T214112Z
UID:10001991-1677319200-1677337200@worldchildrensmuseum.org
SUMMARY:Open for General Admission
DESCRIPTION:Pre-registration is encouraged: wacm.ticketleap.com/admission-2022 \nAdmission Costs:Members: FreeNot-Yet-Members: $7 per person\, children under 3 are free.Please visit our website for more information on admission: https://worldchildrensmuseum.org/for-visitors/
URL:https://worldchildrensmuseum.org/events/open-for-general-admission-387/
LOCATION:World Awareness Children’s Museum\, 89 Warren St\, Glens Falls\, NY 12801\, USA
END:VEVENT
BEGIN:VEVENT
DTSTART;TZID=America/New_York:20230224T103000
DTEND;TZID=America/New_York:20230224T113000
DTSTAMP:20260423T051552
CREATED:20230130T232504Z
LAST-MODIFIED:20230224T000955Z
UID:10002270-1677234600-1677238200@worldchildrensmuseum.org
SUMMARY:Storytime Friday: Outer Space
DESCRIPTION:Reading: “Counting on Katherine: How Katherine Johnson Saved Apollo 13” by Helaine Becker \nEveryone is welcome at our recurring program\, Storytime Fridays! This program is appropriate for all ages and includes a story and a craft.  \nCost: Free with admission \n 
URL:https://worldchildrensmuseum.org/events/storytime-friday-outer-space/
LOCATION:NY
END:VEVENT
BEGIN:VEVENT
DTSTART;TZID=America/New_York:20230224T100000
DTEND;TZID=America/New_York:20230224T150000
DTSTAMP:20260423T051552
CREATED:20220824T022741Z
LAST-MODIFIED:20221221T214112Z
UID:10001989-1677232800-1677250800@worldchildrensmuseum.org
SUMMARY:Open for General Admission
DESCRIPTION:Pre-registration is encouraged: wacm.ticketleap.com/admission-2022 \nAdmission Costs:Members: FreeNot-Yet-Members: $7 per person\, children under 3 are free.Please visit our website for more information on admission: https://worldchildrensmuseum.org/for-visitors/
URL:https://worldchildrensmuseum.org/events/open-for-general-admission-386/
LOCATION:World Awareness Children’s Museum\, 89 Warren St\, Glens Falls\, NY 12801\, USA
END:VEVENT
BEGIN:VEVENT
DTSTART;TZID=America/New_York:20230223T113000
DTEND;TZID=America/New_York:20230223T123000
DTSTAMP:20260423T051552
CREATED:20230130T232504Z
LAST-MODIFIED:20230223T001028Z
UID:10002259-1677151800-1677155400@worldchildrensmuseum.org
SUMMARY:World Culture Workshop: Carnaval
DESCRIPTION:Join us to learn about this fun celebration! We will read a book about this celebration\, observe art from the museum’s collection\, and create a Carnaval mask to take home! \nCost: $2 per person in addition to admission. Members attend for free! (Appropriate for ages 3-9) \nPlease call to reserve your spot: 518-793-2773 or visit wacm.ticketleap.com to reserve online. \n 
URL:https://worldchildrensmuseum.org/events/world-culture-workshop-carnaval/
LOCATION:NY
END:VEVENT
BEGIN:VEVENT
DTSTART;TZID=America/New_York:20230223T100000
DTEND;TZID=America/New_York:20230223T150000
DTSTAMP:20260423T051552
CREATED:20220824T022741Z
LAST-MODIFIED:20221221T214112Z
UID:10001987-1677146400-1677164400@worldchildrensmuseum.org
SUMMARY:Open for General Admission
DESCRIPTION:Pre-registration is encouraged: wacm.ticketleap.com/admission-2022 \nAdmission Costs:Members: FreeNot-Yet-Members: $7 per person\, children under 3 are free.Please visit our website for more information on admission: https://worldchildrensmuseum.org/for-visitors/
URL:https://worldchildrensmuseum.org/events/open-for-general-admission-385/
LOCATION:World Awareness Children’s Museum\, 89 Warren St\, Glens Falls\, NY 12801\, USA
END:VEVENT
BEGIN:VEVENT
DTSTART;TZID=America/New_York:20230222T110000
DTEND;TZID=America/New_York:20230222T120000
DTSTAMP:20260423T051552
CREATED:20230130T232504Z
LAST-MODIFIED:20230222T001010Z
UID:10002258-1677063600-1677067200@worldchildrensmuseum.org
SUMMARY:Little Ones Yoga
DESCRIPTION:Guest instructor Neha Golwala leads an age-inclusive yoga class! This program is open to children of all ages. \nCost: Free with admission
URL:https://worldchildrensmuseum.org/events/little-ones-yoga-4/
LOCATION:NY
END:VEVENT
BEGIN:VEVENT
DTSTART;TZID=America/New_York:20230222T100000
DTEND;TZID=America/New_York:20230222T150000
DTSTAMP:20260423T051552
CREATED:20230130T232504Z
LAST-MODIFIED:20230222T001010Z
UID:10002257-1677060000-1677078000@worldchildrensmuseum.org
SUMMARY:Open for General Admission
DESCRIPTION:Tickets can be purchased online at wacm.ticketleap.com/admission-2023 Admission Costs:Members: FreeNot-Yet-Members: $7 per person\, children under 3 are free.Please visit our website for more information on admission: https://worldchildrensmuseum.org/for-visitors/
URL:https://worldchildrensmuseum.org/events/open-for-general-admission-700/
LOCATION:World Awareness Children’s Museum\, 89 Warren St\, Glens Falls\, NY 12801\, USA
END:VEVENT
BEGIN:VEVENT
DTSTART;TZID=America/New_York:20230221T100000
DTEND;TZID=America/New_York:20230221T150000
DTSTAMP:20260423T051552
CREATED:20230130T232503Z
LAST-MODIFIED:20230221T001004Z
UID:10002256-1676973600-1676991600@worldchildrensmuseum.org
SUMMARY:Open for General Admission
DESCRIPTION:Tickets can be purchased online at wacm.ticketleap.com/admission-2023 Admission Costs:Members: FreeNot-Yet-Members: $7 per person\, children under 3 are free.Please visit our website for more information on admission: https://worldchildrensmuseum.org/for-visitors/
URL:https://worldchildrensmuseum.org/events/open-for-general-admission-699/
LOCATION:World Awareness Children’s Museum\, 89 Warren St\, Glens Falls\, NY 12801\, USA
END:VEVENT
BEGIN:VEVENT
DTSTART;TZID=America/New_York:20230220T130000
DTEND;TZID=America/New_York:20230220T133000
DTSTAMP:20260423T051552
CREATED:20230130T232503Z
LAST-MODIFIED:20230220T001004Z
UID:10002255-1676898000-1676899800@worldchildrensmuseum.org
SUMMARY:"Colors of Invention" presented by the Children's Museum at Saratoga
DESCRIPTION:Learn about the life and struggles of the inventor of the home security system\, Marie Van Brittan Brown. Find out how and why she came up with this invention and learn about the struggles she faced as a black female inventor growing up in the mid-20th century. Then we’ll get our entrepreneurial hats on as we come up with our own security system using Cubelets! \nCost: Free with admission
URL:https://worldchildrensmuseum.org/events/colors-of-invention-presented-by-the-childrens-museum-at-saratoga/
LOCATION:World Awareness Children’s Museum\, 89 Warren St\, Glens Falls\, NY 12801\, USA
END:VEVENT
BEGIN:VEVENT
DTSTART;TZID=America/New_York:20230220T100000
DTEND;TZID=America/New_York:20230220T150000
DTSTAMP:20260423T051552
CREATED:20220824T022741Z
LAST-MODIFIED:20221221T214111Z
UID:10001986-1676887200-1676905200@worldchildrensmuseum.org
SUMMARY:Open for General Admission
DESCRIPTION:Pre-registration is encouraged: wacm.ticketleap.com/admission-2022 \nAdmission Costs:Members: FreeNot-Yet-Members: $7 per person\, children under 3 are free.Please visit our website for more information on admission: https://worldchildrensmuseum.org/for-visitors/
URL:https://worldchildrensmuseum.org/events/open-for-general-admission-384/
LOCATION:World Awareness Children’s Museum\, 89 Warren St\, Glens Falls\, NY 12801\, USA
END:VEVENT
BEGIN:VEVENT
DTSTART;TZID=America/New_York:20230219T100000
DTEND;TZID=America/New_York:20230219T150000
DTSTAMP:20260423T051552
CREATED:20220824T022740Z
LAST-MODIFIED:20221221T214111Z
UID:10001985-1676800800-1676818800@worldchildrensmuseum.org
SUMMARY:Open for General Admission
DESCRIPTION:Pre-registration is encouraged: wacm.ticketleap.com/admission-2022 \nAdmission Costs:Members: FreeNot-Yet-Members: $7 per person\, children under 3 are free.Please visit our website for more information on admission: https://worldchildrensmuseum.org/for-visitors/
URL:https://worldchildrensmuseum.org/events/open-for-general-admission-383/
LOCATION:World Awareness Children’s Museum\, 89 Warren St\, Glens Falls\, NY 12801\, USA
END:VEVENT
BEGIN:VEVENT
DTSTART;TZID=America/New_York:20230218T100000
DTEND;TZID=America/New_York:20230218T150000
DTSTAMP:20260423T051552
CREATED:20220824T022740Z
LAST-MODIFIED:20221221T214111Z
UID:10001984-1676714400-1676732400@worldchildrensmuseum.org
SUMMARY:Open for General Admission
DESCRIPTION:Pre-registration is encouraged: wacm.ticketleap.com/admission-2022 \nAdmission Costs:Members: FreeNot-Yet-Members: $7 per person\, children under 3 are free.Please visit our website for more information on admission: https://worldchildrensmuseum.org/for-visitors/
URL:https://worldchildrensmuseum.org/events/open-for-general-admission-382/
LOCATION:World Awareness Children’s Museum\, 89 Warren St\, Glens Falls\, NY 12801\, USA
END:VEVENT
BEGIN:VEVENT
DTSTART;TZID=America/New_York:20230217T100000
DTEND;TZID=America/New_York:20230217T150000
DTSTAMP:20260423T051552
CREATED:20220824T022740Z
LAST-MODIFIED:20221221T214111Z
UID:10001947-1676628000-1676646000@worldchildrensmuseum.org
SUMMARY:Open for General Admission
DESCRIPTION:Pre-registration is encouraged: wacm.ticketleap.com/admission-2022 \nAdmission Costs:Members: FreeNot-Yet-Members: $7 per person\, children under 3 are free.Please visit our website for more information on admission: https://worldchildrensmuseum.org/for-visitors/
URL:https://worldchildrensmuseum.org/events/open-for-general-admission-381/
LOCATION:World Awareness Children’s Museum\, 89 Warren St\, Glens Falls\, NY 12801\, USA
END:VEVENT
BEGIN:VEVENT
DTSTART;TZID=America/New_York:20230216T103000
DTEND;TZID=America/New_York:20230216T113000
DTSTAMP:20260423T051552
CREATED:20230130T232502Z
LAST-MODIFIED:20230215T235516Z
UID:10002254-1676543400-1676547000@worldchildrensmuseum.org
SUMMARY:Snowman in a Bag Craft
DESCRIPTION:Join us today to make a craft your child will love! \nCost: Free with admission.
URL:https://worldchildrensmuseum.org/events/snowman-in-a-bag-craft/
LOCATION:NY
END:VEVENT
BEGIN:VEVENT
DTSTART;TZID=America/New_York:20230216T100000
DTEND;TZID=America/New_York:20230216T150000
DTSTAMP:20260423T051552
CREATED:20220824T022740Z
LAST-MODIFIED:20221221T214111Z
UID:10001946-1676541600-1676559600@worldchildrensmuseum.org
SUMMARY:Open for General Admission
DESCRIPTION:Pre-registration is encouraged: wacm.ticketleap.com/admission-2022 \nAdmission Costs:Members: FreeNot-Yet-Members: $7 per person\, children under 3 are free.Please visit our website for more information on admission: https://worldchildrensmuseum.org/for-visitors/
URL:https://worldchildrensmuseum.org/events/open-for-general-admission-380/
LOCATION:World Awareness Children’s Museum\, 89 Warren St\, Glens Falls\, NY 12801\, USA
END:VEVENT
BEGIN:VEVENT
DTSTART;VALUE=DATE:20230215
DTEND;VALUE=DATE:20230216
DTSTAMP:20260423T051552
CREATED:20220907T045614Z
LAST-MODIFIED:20230215T235516Z
UID:10002120-1676419200-1676505599@worldchildrensmuseum.org
SUMMARY:MUSEUM CLOSED
DESCRIPTION:
URL:https://worldchildrensmuseum.org/events/museum-closed-51/
LOCATION:NY
END:VEVENT
BEGIN:VEVENT
DTSTART;VALUE=DATE:20230214
DTEND;VALUE=DATE:20230215
DTSTAMP:20260423T051552
CREATED:20220907T045614Z
LAST-MODIFIED:20230214T235504Z
UID:10002121-1676332800-1676419199@worldchildrensmuseum.org
SUMMARY:MUSEUM CLOSED
DESCRIPTION:
URL:https://worldchildrensmuseum.org/events/museum-closed-50/
LOCATION:NY
END:VEVENT
END:VCALENDAR