BEGIN:VCALENDAR
VERSION:2.0
PRODID:-//World Awareness Children&#039;s Museum - ECPv6.15.20//NONSGML v1.0//EN
CALSCALE:GREGORIAN
METHOD:PUBLISH
X-WR-CALNAME:World Awareness Children&#039;s Museum
X-ORIGINAL-URL:https://worldchildrensmuseum.org
X-WR-CALDESC:Events for World Awareness Children&#039;s Museum
REFRESH-INTERVAL;VALUE=DURATION:PT1H
X-Robots-Tag:noindex
X-PUBLISHED-TTL:PT1H
BEGIN:VTIMEZONE
TZID:America/New_York
BEGIN:DAYLIGHT
TZOFFSETFROM:-0500
TZOFFSETTO:-0400
TZNAME:EDT
DTSTART:20200308T070000
END:DAYLIGHT
BEGIN:STANDARD
TZOFFSETFROM:-0400
TZOFFSETTO:-0500
TZNAME:EST
DTSTART:20201101T060000
END:STANDARD
BEGIN:DAYLIGHT
TZOFFSETFROM:-0500
TZOFFSETTO:-0400
TZNAME:EDT
DTSTART:20210314T070000
END:DAYLIGHT
BEGIN:STANDARD
TZOFFSETFROM:-0400
TZOFFSETTO:-0500
TZNAME:EST
DTSTART:20211107T060000
END:STANDARD
BEGIN:DAYLIGHT
TZOFFSETFROM:-0500
TZOFFSETTO:-0400
TZNAME:EDT
DTSTART:20220313T070000
END:DAYLIGHT
BEGIN:STANDARD
TZOFFSETFROM:-0400
TZOFFSETTO:-0500
TZNAME:EST
DTSTART:20221106T060000
END:STANDARD
END:VTIMEZONE
BEGIN:VEVENT
DTSTART;TZID=America/New_York:20210523T130000
DTEND;TZID=America/New_York:20210523T140000
DTSTAMP:20260424T154850
CREATED:20210515T045512Z
LAST-MODIFIED:20210523T054328Z
UID:10001422-1621774800-1621778400@worldchildrensmuseum.org
SUMMARY:Egg Carton Turtles for World Turtle Day!
DESCRIPTION:
URL:https://worldchildrensmuseum.org/events/egg-carton-turtles-for-world-turtle-day/
LOCATION:NY
END:VEVENT
BEGIN:VEVENT
DTSTART;TZID=America/New_York:20210521T110000
DTEND;TZID=America/New_York:20210521T120000
DTSTAMP:20260424T154850
CREATED:20210421T201153Z
LAST-MODIFIED:20210521T052840Z
UID:10001412-1621594800-1621598400@worldchildrensmuseum.org
SUMMARY:Storytime Friday: The Secret Life of Squirrels
DESCRIPTION:Reading: The Secret Life of Squirrels by Nancy Rose \nEveryone is welcome at our recurring program\, Storytime Fridays! This program is appropriate for all ages and includes a story and craft.  \nCost: $6 per child\, $3 per adult. Members get $2 off! \nPlease call to reserve your spot: 518-793-2773 ext. 305. Each storytime is limited to 10 children. \n 
URL:https://worldchildrensmuseum.org/events/storytime-friday-the-secret-life-of-squirrels/
LOCATION:NY
END:VEVENT
BEGIN:VEVENT
DTSTART;TZID=America/New_York:20210519T103000
DTEND;TZID=America/New_York:20210519T113000
DTSTAMP:20260424T154850
CREATED:20210421T201153Z
LAST-MODIFIED:20210519T051334Z
UID:10001410-1621420200-1621423800@worldchildrensmuseum.org
SUMMARY:Finger Painting with Friends
DESCRIPTION:Get your hands dirty at our finger painting workshop! We’ll learn and make our own finger-painted scenes! \nCost: $6 per child\, $3 per adult. Members get $2 off! \nPlease call to reserve your spot: 518-793-2773 ext. 305. This class is limited to 8 children. \n 
URL:https://worldchildrensmuseum.org/events/finger-painting-with-friends-2/
LOCATION:NY
END:VEVENT
BEGIN:VEVENT
DTSTART;TZID=America/New_York:20210517T110000
DTEND;TZID=America/New_York:20210517T120000
DTSTAMP:20260424T154850
CREATED:20210421T201152Z
LAST-MODIFIED:20210517T051139Z
UID:10001408-1621249200-1621252800@worldchildrensmuseum.org
SUMMARY:Slime Lab
DESCRIPTION:Become a Slime Scientist! This program is appropriate for all ages\, and each child will take home their own slime creation. \nCost: $6 per child\, $3 per adult. Members get $2 off!  \nPlease call to reserve your spot: 518-793-2773 ext. 305. Slime Lab is limited to 8 children. \n 
URL:https://worldchildrensmuseum.org/events/slime-lab/
LOCATION:NY
END:VEVENT
BEGIN:VEVENT
DTSTART;TZID=America/New_York:20210512T110000
DTEND;TZID=America/New_York:20210512T120000
DTSTAMP:20260424T154850
CREATED:20210421T201142Z
LAST-MODIFIED:20210512T044330Z
UID:10001431-1620817200-1620820800@worldchildrensmuseum.org
SUMMARY:Little Ones Yoga
DESCRIPTION:Guest instructor Neha Golwala leads an age-inclusive yoga class! This program is appropriate for all ages.  \nCost: $6 per child\, $3 per adult. Members get $2 off!  \nPlease call to reserve your spot: 518-793-2773 ext. 305. Yoga is limited to 8 children. \n 
URL:https://worldchildrensmuseum.org/events/little-ones-yoga/
LOCATION:NY
END:VEVENT
BEGIN:VEVENT
DTSTART;TZID=America/New_York:20210509T130000
DTEND;TZID=America/New_York:20210509T143000
DTSTAMP:20260424T154850
CREATED:20210421T201142Z
LAST-MODIFIED:20210509T042510Z
UID:10001433-1620565200-1620570600@worldchildrensmuseum.org
SUMMARY:Mother's Day Paint & Sip
DESCRIPTION:Join us for our popular family-friendly Paint & Sip series. Artists will paint a personalized letter masterpiece with acrylic on canvas for the wonderful woman they'd like to celebrate.  \nCost: $20 per child/adult duo. ($5 for each additional child\, $10 for each additional adult.) \nMembers get a 10% Discount! \nPlease call to reserve your spot: 518-793-2773 ext. 305. This class is limited to 10 people \n 
URL:https://worldchildrensmuseum.org/events/mothers-day-paint-sip/
LOCATION:NY
END:VEVENT
BEGIN:VEVENT
DTSTART;TZID=America/New_York:20210508T130000
DTEND;TZID=America/New_York:20210508T140000
DTSTAMP:20260424T154850
CREATED:20210421T201141Z
LAST-MODIFIED:20210508T042553Z
UID:10001435-1620478800-1620482400@worldchildrensmuseum.org
SUMMARY:Mother's Day Cloth Napkin Painting
DESCRIPTION:Make a long-lasting masterpiece for mom\, grandma\, auntie\, or another wonderful woman in your life! Each participating child will get two cloth napkins to paint.  \nCost: $8 per child\, $5 per adult. Members get $2 off! \nPlease call to reserve your spot: 518-793-2773 ext. 305. This class is limited to 10 children. \n 
URL:https://worldchildrensmuseum.org/events/mothers-day-cloth-napkin-painting/
LOCATION:NY
END:VEVENT
BEGIN:VEVENT
DTSTART;TZID=America/New_York:20210507T110000
DTEND;TZID=America/New_York:20210507T120000
DTSTAMP:20260424T154850
CREATED:20210421T201141Z
LAST-MODIFIED:20210507T042629Z
UID:10001449-1620385200-1620388800@worldchildrensmuseum.org
SUMMARY:Storytime Friday: Bear Sees Colors
DESCRIPTION:Reading: Bear Sees Colors by Karma Wilson  \nEveryone is welcome at our recurring program\, Storytime Fridays! This program is appropriate for all ages and includes a story and craft.  \nCost: $6 per child\, $3 per adult. Members get $2 off! \nPlease call to reserve your spot: 518-793-2773 ext. 305. Each storytime is limited to 10 children. \n 
URL:https://worldchildrensmuseum.org/events/storytime-friday-bear-sees-colors/
LOCATION:NY
END:VEVENT
BEGIN:VEVENT
DTSTART;TZID=America/New_York:20210505T103000
DTEND;TZID=America/New_York:20210505T113000
DTSTAMP:20260424T154850
CREATED:20210421T201141Z
LAST-MODIFIED:20210505T041000Z
UID:10001447-1620210600-1620214200@worldchildrensmuseum.org
SUMMARY:Cinco De Mayo Craft
DESCRIPTION:Join us and learn about Cinco de Mayo and Mexican culture! We’ll be making a craft to help us better understand the holiday. \nCost: $6 per child\, $3 per adult. Members get $2 off! \nPlease call to reserve your spot: 518-793-2773 ext. 305. This workshop is limited to 8 children. \n 
URL:https://worldchildrensmuseum.org/events/cinco-de-mayo-craft/
LOCATION:NY
END:VEVENT
BEGIN:VEVENT
DTSTART;TZID=America/New_York:20210503T110000
DTEND;TZID=America/New_York:20210503T120000
DTSTAMP:20260424T154850
CREATED:20210421T201141Z
LAST-MODIFIED:20210503T034229Z
UID:10001445-1620039600-1620043200@worldchildrensmuseum.org
SUMMARY:Sensory Playtime
DESCRIPTION:Everyone is welcome at our sensory playtime! Each child will get their own sensory activity to play with and take home.  \nCost: $6 per child\, $3 per adult. Members get $2 off! \nPlease call to reserve your spot: 518-793-2773 ext. 305. This playtime is limited to 8 children.
URL:https://worldchildrensmuseum.org/events/sensory-playtime/
LOCATION:NY
END:VEVENT
BEGIN:VEVENT
DTSTART;TZID=America/New_York:20210428T103000
DTEND;TZID=America/New_York:20210428T113000
DTSTAMP:20260424T154850
CREATED:20210420T200912Z
LAST-MODIFIED:20210427T215532Z
UID:10001443-1619605800-1619609400@worldchildrensmuseum.org
SUMMARY:Finger Painting with Friends
DESCRIPTION:Get your hands dirty at our finger painting workshop! We’ll learn and make our own finger-painted scenes! \nCost: $6 per child\, $3 per adult. Members get $2 off! \nPlease call to reserve your spot: 518-793-2773 ext. 305. This class is limited to 8 children.
URL:https://worldchildrensmuseum.org/events/finger-painting-with-friends/
LOCATION:NY
END:VEVENT
BEGIN:VEVENT
DTSTART;TZID=America/New_York:20210425T130000
DTEND;TZID=America/New_York:20210425T140000
DTSTAMP:20260424T154850
CREATED:20210420T200912Z
LAST-MODIFIED:20210424T213915Z
UID:10001441-1619355600-1619359200@worldchildrensmuseum.org
SUMMARY:Springtime Slime Lab
DESCRIPTION:Become a Slime Scientist! This program is appropriate for all ages\, and each child will take home their own slime creation. \nCost: $6 per child\, $3 per adult. Members get $2 off!  \nPlease call to reserve your spot: 518-793-2773 ext. 305. Slime Lab is limited to 8 children.
URL:https://worldchildrensmuseum.org/events/springtime-slime-lab/
LOCATION:NY
END:VEVENT
BEGIN:VEVENT
DTSTART;TZID=America/New_York:20210423T110000
DTEND;TZID=America/New_York:20210423T120000
DTSTAMP:20260424T154850
CREATED:20210420T200912Z
LAST-MODIFIED:20210422T205441Z
UID:10001440-1619175600-1619179200@worldchildrensmuseum.org
SUMMARY:Storytime Friday
DESCRIPTION:Reading: Mouse’s First Spring by Lauren Thompson \nEveryone is welcome at our recurring program\, Storytime Fridays! This program is appropriate for all ages and includes a story and craft.  \nCost: $6 per child\, $3 per adult. Members get $2 off! \nPlease call to reserve your spot: 518-793-2773 ext. 305. Each storytime is limited to 10 children.
URL:https://worldchildrensmuseum.org/events/storytime-friday/
LOCATION:NY
END:VEVENT
BEGIN:VEVENT
DTSTART;TZID=America/New_York:20210422T110000
DTEND;TZID=America/New_York:20210422T120000
DTSTAMP:20260424T154850
CREATED:20210420T200912Z
LAST-MODIFIED:20210428T152448Z
UID:10001439-1619089200-1619092800@worldchildrensmuseum.org
SUMMARY:Earth Day Greenhouse Craft
DESCRIPTION:Learn about the environment this Earth Day and how you can help keep our earth clean. Each child will plant a bean plant in their own paper greenhouse to take home and watch it grow! \nCost: $8 per child\, $3 per adult. Members get $2 off! \nPlease call to reserve your spot: 518-793-2773 ext. 305. This class is limited to 10 children.
URL:https://worldchildrensmuseum.org/events/earth-day-greenhouse-craft/
LOCATION:NY
ATTACH;FMTTYPE=image/jpeg:https://worldchildrensmuseum.org/wp-content/uploads/2021/04/Dawson-Petit_8th-Grade_Closed-earth-scaled.jpg
END:VEVENT
END:VCALENDAR