BEGIN:VCALENDAR
VERSION:2.0
PRODID:-//World Awareness Children&#039;s Museum - ECPv6.15.20//NONSGML v1.0//EN
CALSCALE:GREGORIAN
METHOD:PUBLISH
X-ORIGINAL-URL:https://worldchildrensmuseum.org
X-WR-CALDESC:Events for World Awareness Children&#039;s Museum
REFRESH-INTERVAL;VALUE=DURATION:PT1H
X-Robots-Tag:noindex
X-PUBLISHED-TTL:PT1H
BEGIN:VTIMEZONE
TZID:America/New_York
BEGIN:DAYLIGHT
TZOFFSETFROM:-0500
TZOFFSETTO:-0400
TZNAME:EDT
DTSTART:20240310T070000
END:DAYLIGHT
BEGIN:STANDARD
TZOFFSETFROM:-0400
TZOFFSETTO:-0500
TZNAME:EST
DTSTART:20241103T060000
END:STANDARD
BEGIN:DAYLIGHT
TZOFFSETFROM:-0500
TZOFFSETTO:-0400
TZNAME:EDT
DTSTART:20250309T070000
END:DAYLIGHT
BEGIN:STANDARD
TZOFFSETFROM:-0400
TZOFFSETTO:-0500
TZNAME:EST
DTSTART:20251102T060000
END:STANDARD
BEGIN:DAYLIGHT
TZOFFSETFROM:-0500
TZOFFSETTO:-0400
TZNAME:EDT
DTSTART:20260308T070000
END:DAYLIGHT
BEGIN:STANDARD
TZOFFSETFROM:-0400
TZOFFSETTO:-0500
TZNAME:EST
DTSTART:20261101T060000
END:STANDARD
END:VTIMEZONE
BEGIN:VEVENT
DTSTART;TZID=America/New_York:20250627T100000
DTEND;TZID=America/New_York:20250627T150000
DTSTAMP:20260425T111418
CREATED:20240831T030910Z
LAST-MODIFIED:20250619T190901Z
UID:10004067-1751018400-1751036400@worldchildrensmuseum.org
SUMMARY:Open for General Admission
DESCRIPTION:Tickets can be purchased online at https://wacm.ticketleap.com/museum-admission-2024/Admission Costs:Members: FreeNot-Yet-Members: $7 per person\, children under 12mo. are free.Please visit our website for more information on admission: https://worldchildrensmuseum.org/for-visitors/
URL:https://worldchildrensmuseum.org/events/open-for-general-admission-2016/
LOCATION:World Awareness Children’s Museum\, 89 Warren St\, Glens Falls\, NY\, United States
GEO:43.310029;-73.639958
X-APPLE-STRUCTURED-LOCATION;VALUE=URI;X-ADDRESS=World Awareness Children’s Museum 89 Warren St Glens Falls NY United States;X-APPLE-RADIUS=500;X-TITLE=89 Warren St:geo:-73.639958,43.310029
END:VEVENT
BEGIN:VEVENT
DTSTART;TZID=America/New_York:20250627T103000
DTEND;TZID=America/New_York:20250627T113000
DTSTAMP:20260425T111418
CREATED:20250520T082352Z
LAST-MODIFIED:20250627T152342Z
UID:10004496-1751020200-1751023800@worldchildrensmuseum.org
SUMMARY:Storytime Friday
DESCRIPTION:Everyone is welcome at Storytime Fridays\, a recurring program designed to spark joy and curiosity in little ones!  \nEach week\, we explore early literacy skills through movement\, imaginative play\, and a creative craft that brings the story to life. Perfect for toddlers\, preschoolers\, and their caregivers. \nCost: Free with Admission
URL:https://worldchildrensmuseum.org/events/storytime-friday-140/
LOCATION:89 Warren St\, Glens Falls\, NY\, United States
GEO:43.30952;-73.64401
END:VEVENT
BEGIN:VEVENT
DTSTART;TZID=America/New_York:20250627T133000
DTEND;TZID=America/New_York:20250627T143000
DTSTAMP:20260425T111419
CREATED:20250520T082352Z
LAST-MODIFIED:20250627T180837Z
UID:10004497-1751031000-1751034600@worldchildrensmuseum.org
SUMMARY:Storytime Friday
DESCRIPTION:Everyone is welcome at Storytime Fridays\, a recurring program designed to spark joy and curiosity in little ones!  \nEach week\, we explore early literacy skills through movement\, imaginative play\, and a creative craft that brings the story to life. Perfect for toddlers\, preschoolers\, and their caregivers. \nCost: Free with Admission
URL:https://worldchildrensmuseum.org/events/storytime-friday-141/
LOCATION:89 Warren St\, Glens Falls\, NY\, United States
GEO:43.30952;-73.64401
END:VEVENT
BEGIN:VEVENT
DTSTART;TZID=America/New_York:20250628T100000
DTEND;TZID=America/New_York:20250628T150000
DTSTAMP:20260425T111419
CREATED:20240831T030910Z
LAST-MODIFIED:20250619T190903Z
UID:10004068-1751104800-1751122800@worldchildrensmuseum.org
SUMMARY:Open for General Admission
DESCRIPTION:Tickets can be purchased online at https://wacm.ticketleap.com/museum-admission-2024/Admission Costs:Members: FreeNot-Yet-Members: $7 per person\, children under 12mo. are free.Please visit our website for more information on admission: https://worldchildrensmuseum.org/for-visitors/
URL:https://worldchildrensmuseum.org/events/open-for-general-admission-2017/
LOCATION:World Awareness Children’s Museum\, 89 Warren St\, Glens Falls\, NY\, United States
GEO:43.310029;-73.639958
X-APPLE-STRUCTURED-LOCATION;VALUE=URI;X-ADDRESS=World Awareness Children’s Museum 89 Warren St Glens Falls NY United States;X-APPLE-RADIUS=500;X-TITLE=89 Warren St:geo:-73.639958,43.310029
END:VEVENT
BEGIN:VEVENT
DTSTART;TZID=America/New_York:20250628T103000
DTEND;TZID=America/New_York:20250628T113000
DTSTAMP:20260425T111419
CREATED:20250520T082352Z
LAST-MODIFIED:20250628T152338Z
UID:10004498-1751106600-1751110200@worldchildrensmuseum.org
SUMMARY:Storytime Saturday
DESCRIPTION:Introducing Storytime Saturday! \nWe’re excited to launch Storytime Saturday\, a new monthly program designed especially for families who may not be able to attend our regular Friday sessions. This special weekend storytime offers parents and caregivers the chance to enjoy stories\, songs\, and activities with their little ones in a welcoming and playful setting. \nEach session will include a hands-on craft to help bring the story to life\, encouraging creativity and deeper connections with the themes we explore together. \nStorytime promotes early literacy skills\, supports language and social development\, builds imaginative thinking\, and creates special bonding moments between children and their grown-ups. \nWe hope you’ll join us and make Storytime Saturday a new tradition for your family! \nCost: Free with admission.
URL:https://worldchildrensmuseum.org/events/storytime-saturday-3/
LOCATION:NY
END:VEVENT
BEGIN:VEVENT
DTSTART;TZID=America/New_York:20250628T120000
DTEND;TZID=America/New_York:20250628T123000
DTSTAMP:20260425T111419
CREATED:20250520T082353Z
LAST-MODIFIED:20250628T160857Z
UID:10004499-1751112000-1751113800@worldchildrensmuseum.org
SUMMARY:Rainbow Slime Lab
DESCRIPTION:Join us for a colorful slime-making adventure! Each child will mix their own surprise slime in a rainbow color. Then\, we’ll combine them all to make one big rainbow—celebrating creativity\, individuality\, and the beauty of diversity! \nPlease call to reserve your spot at 518-793-2773 or visit wacm.ticketleap.com to reserve online.  \nCost: Free with admission \n*Workshops are limited to 10 participants per group. Space is limited—register early!
URL:https://worldchildrensmuseum.org/events/rainbow-slime-lab/
LOCATION:NY
END:VEVENT
BEGIN:VEVENT
DTSTART;TZID=America/New_York:20250628T123000
DTEND;TZID=America/New_York:20250628T130000
DTSTAMP:20260425T111419
CREATED:20250520T082353Z
LAST-MODIFIED:20250628T163835Z
UID:10004500-1751113800-1751115600@worldchildrensmuseum.org
SUMMARY:Rainbow Slime Lab
DESCRIPTION:Join us for a colorful slime-making adventure! Each child will mix their own surprise slime in a rainbow color. Then\, we’ll combine them all to make one big rainbow—celebrating creativity\, individuality\, and the beauty of diversity! \nPlease call to reserve your spot at 518-793-2773 or visit wacm.ticketleap.com to reserve online.  \nCost: Free with admission \n*Workshops are limited to 10 participants per group. Space is limited—register early!
URL:https://worldchildrensmuseum.org/events/rainbow-slime-lab-2/
LOCATION:NY
END:VEVENT
BEGIN:VEVENT
DTSTART;TZID=America/New_York:20250628T133000
DTEND;TZID=America/New_York:20250628T143000
DTSTAMP:20260425T111419
CREATED:20250520T082353Z
LAST-MODIFIED:20250628T182350Z
UID:10004501-1751117400-1751121000@worldchildrensmuseum.org
SUMMARY:Storytime Saturday
DESCRIPTION:Introducing Storytime Saturday! \nWe’re excited to launch Storytime Saturday\, a new monthly program designed especially for families who may not be able to attend our regular Friday sessions. This special weekend storytime offers parents and caregivers the chance to enjoy stories\, songs\, and activities with their little ones in a welcoming and playful setting. \nEach session will include a hands-on craft to help bring the story to life\, encouraging creativity and deeper connections with the themes we explore together. \nStorytime promotes early literacy skills\, supports language and social development\, builds imaginative thinking\, and creates special bonding moments between children and their grown-ups. \nWe hope you’ll join us and make Storytime Saturday a new tradition for your family! \nCost: Free with admission.
URL:https://worldchildrensmuseum.org/events/storytime-saturday-4/
LOCATION:NY
END:VEVENT
BEGIN:VEVENT
DTSTART;TZID=America/New_York:20250629T130000
DTEND;TZID=America/New_York:20250629T140000
DTSTAMP:20260425T111419
CREATED:20250520T082353Z
LAST-MODIFIED:20250629T173831Z
UID:10004502-1751202000-1751205600@worldchildrensmuseum.org
SUMMARY:Toy Explorers: Toys from Around the World
DESCRIPTION:Travel the globe through play!  \nIn this hands-on program\, kids will observe and explore real toys from different countries\, ask questions\, and guess where each toy might be from. After investigating\, children will have the chance to play with the toys\, discovering firsthand how kids around the world have fun—and what we all have in common! Cost: Free with Admission
URL:https://worldchildrensmuseum.org/events/toy-explorers-toys-from-around-the-world/
LOCATION:NY
END:VEVENT
BEGIN:VEVENT
DTSTART;TZID=America/New_York:20250701T100000
DTEND;TZID=America/New_York:20250701T150000
DTSTAMP:20260425T111419
CREATED:20250619T192419Z
LAST-MODIFIED:20250701T183859Z
UID:10004537-1751364000-1751382000@worldchildrensmuseum.org
SUMMARY:Open for General Admission
DESCRIPTION:Tickets can be purchased online at https://wacm.ticketleap.com/admission-2025/Admission Costs:Members: FreeNot-Yet-Members: $7 per person\, children under 12mo. are free.Please visit our website for more information on admission: https://worldchildrensmuseum.org/for-visitors/
URL:https://worldchildrensmuseum.org/events/open-for-general-admission-2302/
LOCATION:World Awareness Children’s Museum\, 89 Warren St\, Glens Falls\, NY\, United States
GEO:43.310029;-73.639958
X-APPLE-STRUCTURED-LOCATION;VALUE=URI;X-ADDRESS=World Awareness Children’s Museum 89 Warren St Glens Falls NY United States;X-APPLE-RADIUS=500;X-TITLE=89 Warren St:geo:-73.639958,43.310029
END:VEVENT
BEGIN:VEVENT
DTSTART;TZID=America/New_York:20250701T110000
DTEND;TZID=America/New_York:20250701T113000
DTSTAMP:20260425T111419
CREATED:20250623T185335Z
LAST-MODIFIED:20250701T150836Z
UID:10004806-1751367600-1751369400@worldchildrensmuseum.org
SUMMARY:Star Spangled Slime Lab
DESCRIPTION:Celebrate the Fourth of July with science and sparkles! We’re going to mix up our very own patriotic slime using red\, white\, and blue colors\, glitter\, and maybe even stars! As we squish and stretch it\, we’ll learn how slime is made and create something super cool to take home. \nCost: Free with admission. Reserve your spot: Call 518-793-2773 or visit wacm.ticketleap.com
URL:https://worldchildrensmuseum.org/events/star-spangled-slime-lab/
LOCATION:NY
END:VEVENT
BEGIN:VEVENT
DTSTART;TZID=America/New_York:20250702T100000
DTEND;TZID=America/New_York:20250702T150000
DTSTAMP:20260425T111419
CREATED:20250520T082354Z
LAST-MODIFIED:20250619T190916Z
UID:10004503-1751450400-1751468400@worldchildrensmuseum.org
SUMMARY:Open for General Admission
DESCRIPTION:Tickets can be purchased online at https://wacm.ticketleap.com/museum-admission-2024/Admission Costs:Members: FreeNot-Yet-Members: $7 per person\, children under 12mo. are free.Please visit our website for more information on admission: https://worldchildrensmuseum.org/for-visitors/
URL:https://worldchildrensmuseum.org/events/open-for-general-admission-2273/
LOCATION:89 Warren St\, Glens Falls\, NY\, United States
GEO:43.30952;-73.64401
END:VEVENT
BEGIN:VEVENT
DTSTART;TZID=America/New_York:20250702T133000
DTEND;TZID=America/New_York:20250702T143000
DTSTAMP:20260425T111419
CREATED:20250623T185336Z
LAST-MODIFIED:20250702T182333Z
UID:10004807-1751463000-1751466600@worldchildrensmuseum.org
SUMMARY:Can You Build a Rocket Craft?
DESCRIPTION:Young space lovers will build their own rockets using toilet paper rolls\, tin foil windows\, and tissue paper flames—then blast off on a playful journey around the World Awareness Children’s Museum!  \nCost: Free with admission. Reserve your spot: Call 518-793-2773 or visit wacm.ticketleap.com \nReady for takeoff? Join us for Rocket Ready Camp: Astronaut in Training from August 18–22!
URL:https://worldchildrensmuseum.org/events/can-you-build-a-rocket-craft/
LOCATION:NY
END:VEVENT
BEGIN:VEVENT
DTSTART;TZID=America/New_York:20250703T100000
DTEND;TZID=America/New_York:20250703T150000
DTSTAMP:20260425T111419
CREATED:20240831T030912Z
LAST-MODIFIED:20250619T190916Z
UID:10004071-1751536800-1751554800@worldchildrensmuseum.org
SUMMARY:Open for General Admission
DESCRIPTION:Tickets can be purchased online at https://wacm.ticketleap.com/museum-admission-2024/Admission Costs:Members: FreeNot-Yet-Members: $7 per person\, children under 12mo. are free.Please visit our website for more information on admission: https://worldchildrensmuseum.org/for-visitors/
URL:https://worldchildrensmuseum.org/events/open-for-general-admission-2020/
LOCATION:World Awareness Children’s Museum\, 89 Warren St\, Glens Falls\, NY\, United States
GEO:43.310029;-73.639958
X-APPLE-STRUCTURED-LOCATION;VALUE=URI;X-ADDRESS=World Awareness Children’s Museum 89 Warren St Glens Falls NY United States;X-APPLE-RADIUS=500;X-TITLE=89 Warren St:geo:-73.639958,43.310029
END:VEVENT
BEGIN:VEVENT
DTSTART;TZID=America/New_York:20250703T103000
DTEND;TZID=America/New_York:20250703T113000
DTSTAMP:20260425T111419
CREATED:20250623T185336Z
LAST-MODIFIED:20250703T150832Z
UID:10004808-1751538600-1751542200@worldchildrensmuseum.org
SUMMARY:Kinder Rhythm Drumming
DESCRIPTION:Kinder Rhythm Inspires creativity\, joyful play\, and social interaction through the power of group rhythm-making. This includes singing\, dancing\, playing instruments\, and moving to the beat. Come and join Susie Barber\, national and international music\, theatre\, and movement educator and drum facilitator for a morning of fun and adventure with a hands-on rhythmic exploration for your child and the child in you!  As the Zimbabwe proverb says\, “If you can speak you can sing and if you can walk you can dance!” \nCost: Free with admission
URL:https://worldchildrensmuseum.org/events/kinder-rhythm-drumming-26/
LOCATION:89 Warren St\, Glens Falls\, NY\, United States
GEO:43.30952;-73.64401
END:VEVENT
BEGIN:VEVENT
DTSTART;VALUE=DATE:20250704
DTEND;VALUE=DATE:20250705
DTSTAMP:20260425T111419
CREATED:20250622T195402Z
LAST-MODIFIED:20250704T235406Z
UID:10004804-1751587200-1751673599@worldchildrensmuseum.org
SUMMARY:Museum Closed For Independence Day
DESCRIPTION:
URL:https://worldchildrensmuseum.org/events/museum-closed-for-independence-day-2/
LOCATION:NY
END:VEVENT
BEGIN:VEVENT
DTSTART;TZID=America/New_York:20250705T100000
DTEND;TZID=America/New_York:20250705T150000
DTSTAMP:20260425T111419
CREATED:20240831T030915Z
LAST-MODIFIED:20250619T190917Z
UID:10004073-1751709600-1751727600@worldchildrensmuseum.org
SUMMARY:Open for General Admission
DESCRIPTION:Tickets can be purchased online at https://wacm.ticketleap.com/museum-admission-2024/Admission Costs:Members: FreeNot-Yet-Members: $7 per person\, children under 12mo. are free.Please visit our website for more information on admission: https://worldchildrensmuseum.org/for-visitors/
URL:https://worldchildrensmuseum.org/events/open-for-general-admission-2022/
LOCATION:World Awareness Children’s Museum\, 89 Warren St\, Glens Falls\, NY\, United States
GEO:43.310029;-73.639958
X-APPLE-STRUCTURED-LOCATION;VALUE=URI;X-ADDRESS=World Awareness Children’s Museum 89 Warren St Glens Falls NY United States;X-APPLE-RADIUS=500;X-TITLE=89 Warren St:geo:-73.639958,43.310029
END:VEVENT
BEGIN:VEVENT
DTSTART;TZID=America/New_York:20250705T100000
DTEND;TZID=America/New_York:20250705T150000
DTSTAMP:20260425T111419
CREATED:20250623T190846Z
LAST-MODIFIED:20250705T183905Z
UID:10004819-1751709600-1751727600@worldchildrensmuseum.org
SUMMARY:Bring Your Favorite...Superhero Action Figure Today!
DESCRIPTION:Bring your favorite Superhero Action Figure into the museum\, where they can 'fly around the world'!   \nFly over Thailand's bridge\, perch on the Dragon Boat’s nose\, leap into Japan\, and glide over Ship to Shore. Can your figurine help someone cross the bridge safely? Will they race against the Dragon Boat? Can they soar foods to Japan's table? Have them land on Ship to Shore and see if they can transport goods from one end to the other. Where else can your figurine lend a helping hand?   \nDon't forget to color a picture in the Art Room of your favorite memory today and pick up a sticker at the front desk for your action figure as a keepsake. Did you or your superhero action figure have a favorite exhibit\, or was it just too hard to choose? \nCost: Free with Admission
URL:https://worldchildrensmuseum.org/events/bring-your-favorite-superhero-action-figure-today-2/
LOCATION:NY
END:VEVENT
BEGIN:VEVENT
DTSTART;TZID=America/New_York:20250706T100000
DTEND;TZID=America/New_York:20250706T150000
DTSTAMP:20260425T111419
CREATED:20240831T030916Z
LAST-MODIFIED:20250619T190917Z
UID:10004074-1751796000-1751814000@worldchildrensmuseum.org
SUMMARY:Open for General Admission
DESCRIPTION:Tickets can be purchased online at https://wacm.ticketleap.com/museum-admission-2024/Admission Costs:Members: FreeNot-Yet-Members: $7 per person\, children under 12mo. are free.Please visit our website for more information on admission: https://worldchildrensmuseum.org/for-visitors/
URL:https://worldchildrensmuseum.org/events/open-for-general-admission-2023/
LOCATION:World Awareness Children’s Museum\, 89 Warren St\, Glens Falls\, NY\, United States
GEO:43.310029;-73.639958
X-APPLE-STRUCTURED-LOCATION;VALUE=URI;X-ADDRESS=World Awareness Children’s Museum 89 Warren St Glens Falls NY United States;X-APPLE-RADIUS=500;X-TITLE=89 Warren St:geo:-73.639958,43.310029
END:VEVENT
BEGIN:VEVENT
DTSTART;TZID=America/New_York:20250707T100000
DTEND;TZID=America/New_York:20250707T150000
DTSTAMP:20260425T111419
CREATED:20240831T030917Z
LAST-MODIFIED:20250619T190917Z
UID:10004075-1751882400-1751900400@worldchildrensmuseum.org
SUMMARY:Open for General Admission
DESCRIPTION:Tickets can be purchased online at https://wacm.ticketleap.com/museum-admission-2024/Admission Costs:Members: FreeNot-Yet-Members: $7 per person\, children under 12mo. are free.Please visit our website for more information on admission: https://worldchildrensmuseum.org/for-visitors/
URL:https://worldchildrensmuseum.org/events/open-for-general-admission-2024/
LOCATION:World Awareness Children’s Museum\, 89 Warren St\, Glens Falls\, NY\, United States
GEO:43.310029;-73.639958
X-APPLE-STRUCTURED-LOCATION;VALUE=URI;X-ADDRESS=World Awareness Children’s Museum 89 Warren St Glens Falls NY United States;X-APPLE-RADIUS=500;X-TITLE=89 Warren St:geo:-73.639958,43.310029
END:VEVENT
BEGIN:VEVENT
DTSTART;TZID=America/New_York:20250707T103000
DTEND;TZID=America/New_York:20250707T113000
DTSTAMP:20260425T111419
CREATED:20250623T192408Z
LAST-MODIFIED:20250707T150839Z
UID:10004823-1751884200-1751887800@worldchildrensmuseum.org
SUMMARY:Dive into Sensory Fun for Preschoolers!
DESCRIPTION:Dig\, scoop\, and explore ocean\, beach\, and magical underwater-themed sensory bins! Perfect for preschoolers\, this hands-on play boosts fine motor skills\, creativity\, and calming focus—while making a “splash” with summer fun! \nCost: Free with admission.
URL:https://worldchildrensmuseum.org/events/dive-into-sensory-fun-for-preschoolers/
LOCATION:NY
END:VEVENT
BEGIN:VEVENT
DTSTART;TZID=America/New_York:20250708T100000
DTEND;TZID=America/New_York:20250708T150000
DTSTAMP:20260425T111419
CREATED:20250619T192424Z
LAST-MODIFIED:20250708T183850Z
UID:10004544-1751968800-1751986800@worldchildrensmuseum.org
SUMMARY:Open for General Admission
DESCRIPTION:Tickets can be purchased online at https://wacm.ticketleap.com/admission-2025/Admission Costs:Members: FreeNot-Yet-Members: $7 per person\, children under 12mo. are free.Please visit our website for more information on admission: https://worldchildrensmuseum.org/for-visitors/
URL:https://worldchildrensmuseum.org/events/open-for-general-admission-2309/
LOCATION:World Awareness Children’s Museum\, 89 Warren St\, Glens Falls\, NY\, United States
GEO:43.310029;-73.639958
X-APPLE-STRUCTURED-LOCATION;VALUE=URI;X-ADDRESS=World Awareness Children’s Museum 89 Warren St Glens Falls NY United States;X-APPLE-RADIUS=500;X-TITLE=89 Warren St:geo:-73.639958,43.310029
END:VEVENT
BEGIN:VEVENT
DTSTART;TZID=America/New_York:20250708T133000
DTEND;TZID=America/New_York:20250708T143000
DTSTAMP:20260425T111419
CREATED:20250623T192408Z
LAST-MODIFIED:20250708T180831Z
UID:10004824-1751981400-1751985000@worldchildrensmuseum.org
SUMMARY:Roar & Fold: Make Your Own Tiger Puppet Craft
DESCRIPTION:Get ready to roar! Get ready to roar! Children ages 3 and up will create their very own tiger puppet using paper bags and colorful decorations. Before crafting\, participants will observe related artifacts or art from the museum’s collection to spark inspiration and connect with the theme. This hands-on activity is perfect for playful storytelling and jungle-themed fun. \nCost: Free with admission. Space is limited to 8 lil’ tiger tamers.Reserve your spot: Call 518-793-2773 or visit wacm.ticketleap.com
URL:https://worldchildrensmuseum.org/events/roar-fold-make-your-own-tiger-puppet-craft/
LOCATION:NY
END:VEVENT
BEGIN:VEVENT
DTSTART;TZID=America/New_York:20250709T100000
DTEND;TZID=America/New_York:20250709T150000
DTSTAMP:20260425T111419
CREATED:20250520T082355Z
LAST-MODIFIED:20250619T190917Z
UID:10004504-1752055200-1752073200@worldchildrensmuseum.org
SUMMARY:Open for General Admission
DESCRIPTION:Tickets can be purchased online at https://wacm.ticketleap.com/museum-admission-2024/Admission Costs:Members: FreeNot-Yet-Members: $7 per person\, children under 12mo. are free.Please visit our website for more information on admission: https://worldchildrensmuseum.org/for-visitors/
URL:https://worldchildrensmuseum.org/events/open-for-general-admission-2274/
LOCATION:89 Warren St\, Glens Falls\, NY\, United States
GEO:43.30952;-73.64401
END:VEVENT
BEGIN:VEVENT
DTSTART;TZID=America/New_York:20250709T103000
DTEND;TZID=America/New_York:20250709T113000
DTSTAMP:20260425T111419
CREATED:20250623T193905Z
LAST-MODIFIED:20250709T150834Z
UID:10004826-1752057000-1752060600@worldchildrensmuseum.org
SUMMARY:Bead & Beyond Craft Club
DESCRIPTION:Beads & Beyond Craft Club\nHands-on fun. Global flair. Endless creativity. \nGet ready to bead\, create\, and explore! For four weeks in July\, elementary-aged children will dive into jewelry traditions from around the world\, using the museum’s global collection as inspiration. From pasta beads to paper creations\, kids will explore color\, shape\, and pattern while crafting their own wearable art to take home. \nWeekly Themes: \n\n\n7/9: Pasta Bead Jewelry \n\n\n7/16: Yarn & Bead Weaving \n\n\n7/22: Pipe Cleaner Blossom Rings \n\n\n7/30: Rolled Paper Beads \n\n\nCost: Free with admissionReserve your spot: Call 518-793-2773 or visit wacm.ticketleap.comPre-registration required. Let’s make something beautiful together!
URL:https://worldchildrensmuseum.org/events/bead-beyond-craft-club/
LOCATION:NY
END:VEVENT
BEGIN:VEVENT
DTSTART;TZID=America/New_York:20250709T120000
DTEND;TZID=America/New_York:20250709T130000
DTSTAMP:20260425T111419
CREATED:20250623T193905Z
LAST-MODIFIED:20250709T163836Z
UID:10004825-1752062400-1752066000@worldchildrensmuseum.org
SUMMARY:World Music Craft Club
DESCRIPTION:Make it. Decorate it. Play it! \nJoin us for a musical journey around the world—through crafts! Throughout July\, children will explore music and cultures from across the globe by creating their own instruments inspired by traditions from different countries. From fiesta tambourines to Chinese drums\, kids will use everyday materials to build\, decorate\, and even play their creations. It’s hands-on fun with a global beat! \nWeekly Schedule: \n\n\n7/9: Fiesta Tambourine (Mexico) \n\n\n7/16: Straw Harmonica (Germany) \n\n\n7/22: Chinese Drum \n\n\n7/30: African Banjo \n\n\nCost: Free with admissionPre-registration is required for each date individually.Reserve your spot: Call 518-793-2773 or visit wacm.ticketleap.com \n \nLet’s make some music!
URL:https://worldchildrensmuseum.org/events/world-music-craft-club/
LOCATION:NY
END:VEVENT
BEGIN:VEVENT
DTSTART;TZID=America/New_York:20250710T100000
DTEND;TZID=America/New_York:20250710T150000
DTSTAMP:20260425T111419
CREATED:20240831T030917Z
LAST-MODIFIED:20250619T190930Z
UID:10004076-1752141600-1752159600@worldchildrensmuseum.org
SUMMARY:Open for General Admission
DESCRIPTION:Tickets can be purchased online at https://wacm.ticketleap.com/museum-admission-2024/Admission Costs:Members: FreeNot-Yet-Members: $7 per person\, children under 12mo. are free.Please visit our website for more information on admission: https://worldchildrensmuseum.org/for-visitors/
URL:https://worldchildrensmuseum.org/events/open-for-general-admission-2025/
LOCATION:World Awareness Children’s Museum\, 89 Warren St\, Glens Falls\, NY\, United States
GEO:43.310029;-73.639958
X-APPLE-STRUCTURED-LOCATION;VALUE=URI;X-ADDRESS=World Awareness Children’s Museum 89 Warren St Glens Falls NY United States;X-APPLE-RADIUS=500;X-TITLE=89 Warren St:geo:-73.639958,43.310029
END:VEVENT
BEGIN:VEVENT
DTSTART;TZID=America/New_York:20250710T103000
DTEND;TZID=America/New_York:20250710T113000
DTSTAMP:20260425T111419
CREATED:20250623T185337Z
LAST-MODIFIED:20250710T145329Z
UID:10004809-1752143400-1752147000@worldchildrensmuseum.org
SUMMARY:Kinder Rhythm Drumming
DESCRIPTION:Kinder Rhythm Inspires creativity\, joyful play\, and social interaction through the power of group rhythm-making. This includes singing\, dancing\, playing instruments\, and moving to the beat. Come and join Susie Barber\, national and international music\, theatre\, and movement educator and drum facilitator for a morning of fun and adventure with a hands-on rhythmic exploration for your child and the child in you!  As the Zimbabwe proverb says\, “If you can speak you can sing and if you can walk you can dance!” \nCost: Free with admission
URL:https://worldchildrensmuseum.org/events/kinder-rhythm-drumming-27/
LOCATION:89 Warren St\, Glens Falls\, NY\, United States
GEO:43.30952;-73.64401
END:VEVENT
BEGIN:VEVENT
DTSTART;TZID=America/New_York:20250711T100000
DTEND;TZID=America/New_York:20250711T150000
DTSTAMP:20260425T111419
CREATED:20240831T030918Z
LAST-MODIFIED:20250619T190930Z
UID:10004077-1752228000-1752246000@worldchildrensmuseum.org
SUMMARY:Open for General Admission
DESCRIPTION:Tickets can be purchased online at https://wacm.ticketleap.com/museum-admission-2024/Admission Costs:Members: FreeNot-Yet-Members: $7 per person\, children under 12mo. are free.Please visit our website for more information on admission: https://worldchildrensmuseum.org/for-visitors/
URL:https://worldchildrensmuseum.org/events/open-for-general-admission-2026/
LOCATION:World Awareness Children’s Museum\, 89 Warren St\, Glens Falls\, NY\, United States
GEO:43.310029;-73.639958
X-APPLE-STRUCTURED-LOCATION;VALUE=URI;X-ADDRESS=World Awareness Children’s Museum 89 Warren St Glens Falls NY United States;X-APPLE-RADIUS=500;X-TITLE=89 Warren St:geo:-73.639958,43.310029
END:VEVENT
BEGIN:VEVENT
DTSTART;TZID=America/New_York:20250711T103000
DTEND;TZID=America/New_York:20250711T113000
DTSTAMP:20260425T111419
CREATED:20250623T185338Z
LAST-MODIFIED:20250711T145408Z
UID:10004810-1752229800-1752233400@worldchildrensmuseum.org
SUMMARY:Storytime Friday
DESCRIPTION:Everyone is welcome at Storytime Fridays\, a recurring program designed to spark joy and curiosity in little ones!  \nEach week\, we explore early literacy skills through movement\, imaginative play\, and a creative craft that brings the story to life. Perfect for toddlers\, preschoolers\, and their caregivers. \nCost: Free with Admission
URL:https://worldchildrensmuseum.org/events/storytime-friday-142/
LOCATION:NY
END:VEVENT
END:VCALENDAR