BEGIN:VCALENDAR
VERSION:2.0
PRODID:-//World Awareness Children&#039;s Museum - ECPv6.15.20//NONSGML v1.0//EN
CALSCALE:GREGORIAN
METHOD:PUBLISH
X-WR-CALNAME:World Awareness Children&#039;s Museum
X-ORIGINAL-URL:https://worldchildrensmuseum.org
X-WR-CALDESC:Events for World Awareness Children&#039;s Museum
REFRESH-INTERVAL;VALUE=DURATION:PT1H
X-Robots-Tag:noindex
X-PUBLISHED-TTL:PT1H
BEGIN:VTIMEZONE
TZID:America/New_York
BEGIN:DAYLIGHT
TZOFFSETFROM:-0500
TZOFFSETTO:-0400
TZNAME:EDT
DTSTART:20200308T070000
END:DAYLIGHT
BEGIN:STANDARD
TZOFFSETFROM:-0400
TZOFFSETTO:-0500
TZNAME:EST
DTSTART:20201101T060000
END:STANDARD
BEGIN:DAYLIGHT
TZOFFSETFROM:-0500
TZOFFSETTO:-0400
TZNAME:EDT
DTSTART:20210314T070000
END:DAYLIGHT
BEGIN:STANDARD
TZOFFSETFROM:-0400
TZOFFSETTO:-0500
TZNAME:EST
DTSTART:20211107T060000
END:STANDARD
BEGIN:DAYLIGHT
TZOFFSETFROM:-0500
TZOFFSETTO:-0400
TZNAME:EDT
DTSTART:20220313T070000
END:DAYLIGHT
BEGIN:STANDARD
TZOFFSETFROM:-0400
TZOFFSETTO:-0500
TZNAME:EST
DTSTART:20221106T060000
END:STANDARD
END:VTIMEZONE
BEGIN:VEVENT
DTSTART;TZID=America/New_York:20211229T100000
DTEND;TZID=America/New_York:20211229T150000
DTSTAMP:20260425T083926
CREATED:20211123T152528Z
LAST-MODIFIED:20211229T172758Z
UID:10001560-1640772000-1640790000@worldchildrensmuseum.org
SUMMARY:OPEN 10am-3pm
DESCRIPTION:Did you know – You can purchase your museum admission tickets online! Visit wacm.ticketleap.com
URL:https://worldchildrensmuseum.org/events/open-10am-3pm-3/
LOCATION:NY
END:VEVENT
BEGIN:VEVENT
DTSTART;TZID=America/New_York:20211228T130000
DTEND;TZID=America/New_York:20211228T140000
DTSTAMP:20260425T083926
CREATED:20211123T152528Z
LAST-MODIFIED:20211228T171004Z
UID:10001518-1640696400-1640700000@worldchildrensmuseum.org
SUMMARY:Mini Masterpieces Painting Class
DESCRIPTION:Join us for our newest series\, Mini Masterpieces! During this class\, artists will paint their own miniature masterpiece on a tiny canvas. This class is taught by local artist Patrice Jarvis-Weber.\nCost: $8 per person. Members get a 15% discount!\nPlease call to reserve your spot: 518-793-2773\nor visit wacm.ticketleap.com to reserve online.\nThis class is limited to 9 people and is recommended for children ages 8 and older.
URL:https://worldchildrensmuseum.org/events/mini-masterpieces-painting-class/
LOCATION:NY
END:VEVENT
BEGIN:VEVENT
DTSTART;TZID=America/New_York:20211228T100000
DTEND;TZID=America/New_York:20211228T150000
DTSTAMP:20260425T083926
CREATED:20211123T152528Z
LAST-MODIFIED:20211228T171004Z
UID:10001460-1640685600-1640703600@worldchildrensmuseum.org
SUMMARY:OPEN 10am-3pm
DESCRIPTION:Did you know – You can purchase your museum admission tickets online! Visit wacm.ticketleap.com
URL:https://worldchildrensmuseum.org/events/open-10am-3pm-2/
LOCATION:NY
END:VEVENT
BEGIN:VEVENT
DTSTART;TZID=America/New_York:20211227T100000
DTEND;TZID=America/New_York:20211227T150000
DTSTAMP:20260425T083926
CREATED:20211123T152527Z
LAST-MODIFIED:20211227T170957Z
UID:10001458-1640599200-1640617200@worldchildrensmuseum.org
SUMMARY:OPEN 10am-3pm
DESCRIPTION:Did you know – You can purchase your museum admission tickets online! Visit wacm.ticketleap.com
URL:https://worldchildrensmuseum.org/events/open-10am-3pm/
LOCATION:NY
END:VEVENT
BEGIN:VEVENT
DTSTART;VALUE=DATE:20211225
DTEND;VALUE=DATE:20211226
DTSTAMP:20260425T083926
CREATED:20211123T152527Z
LAST-MODIFIED:20211225T171010Z
UID:10001456-1640390400-1640476799@worldchildrensmuseum.org
SUMMARY:MUSEUM CLOSED
DESCRIPTION:
URL:https://worldchildrensmuseum.org/events/museum-closed-2/
LOCATION:NY
END:VEVENT
BEGIN:VEVENT
DTSTART;TZID=America/New_York:20211224T103000
DTEND;TZID=America/New_York:20211224T113000
DTSTAMP:20260425T083926
CREATED:20211123T152526Z
LAST-MODIFIED:20211223T165735Z
UID:10001452-1640341800-1640345400@worldchildrensmuseum.org
SUMMARY:Gingerbread Man Craft
DESCRIPTION:Join us today to make a fun and crafty paper gingerbread man for the holidays! This craft is appropriate for all ages. \nCost: Free with admission \n Did you know – You can purchase your museum admission tickets online! Visit wacm.ticketleap.com
URL:https://worldchildrensmuseum.org/events/gingerbread-man-craft/
LOCATION:NY
END:VEVENT
BEGIN:VEVENT
DTSTART;TZID=America/New_York:20211224T100000
DTEND;TZID=America/New_York:20211224T130000
DTSTAMP:20260425T083926
CREATED:20211123T152527Z
LAST-MODIFIED:20211224T171014Z
UID:10001454-1640340000-1640350800@worldchildrensmuseum.org
SUMMARY:MUSEUM OPEN 10am - 1pm
DESCRIPTION:Did you know – You can purchase your museum admission tickets online! Visit wacm.ticketleap.com
URL:https://worldchildrensmuseum.org/events/museum-open-10am-1pm/
LOCATION:NY
END:VEVENT
BEGIN:VEVENT
DTSTART;TZID=America/New_York:20211218T130000
DTEND;TZID=America/New_York:20211218T143000
DTSTAMP:20260425T083926
CREATED:20211123T152526Z
LAST-MODIFIED:20211218T164029Z
UID:10001450-1639832400-1639837800@worldchildrensmuseum.org
SUMMARY:Paint & Sip: Winter Scenes
DESCRIPTION:Join us for our popular family-friendly Paint & Sip series. Artists will paint their own winter masterpiece with instruction from local artist Patrice Jarvis-Weber.  \nCost: $20 per child/adult duo. ($5 for each additional child\, $10 for each additional adult.) \nMembers get a 10% discount! \nPlease call to reserve your spot: 518-793-2773 \nor visit wacm.ticketleap.com to reserve online. \nThis class is limited to 16 people.
URL:https://worldchildrensmuseum.org/events/paint-sip-winter-scenes/
LOCATION:NY
END:VEVENT
BEGIN:VEVENT
DTSTART;TZID=America/New_York:20211217T103000
DTEND;TZID=America/New_York:20211217T113000
DTSTAMP:20260425T083926
CREATED:20211123T152526Z
LAST-MODIFIED:20211216T164332Z
UID:10001448-1639737000-1639740600@worldchildrensmuseum.org
SUMMARY:Storytime Friday
DESCRIPTION:Everyone is welcome at our recurring program\, Storytime Fridays! This program is appropriate for all ages and includes a story and a craft.  \nCost: Free with admissionDid you know – You can buy your museum admission tickets online! Visit wacm.ticketleap.com
URL:https://worldchildrensmuseum.org/events/storytime-friday-9/
LOCATION:NY
END:VEVENT
BEGIN:VEVENT
DTSTART;TZID=America/New_York:20211213T103000
DTEND;TZID=America/New_York:20211213T113000
DTSTAMP:20260425T083926
CREATED:20211123T152526Z
LAST-MODIFIED:20211213T162541Z
UID:10001446-1639391400-1639395000@worldchildrensmuseum.org
SUMMARY:Hot Chocolate Slime Lab
DESCRIPTION:Become a Slime Scientist and make hot chocolate slime. This slime is not edible\, but it’ll look good enough to eat! Slime can be a great way to relieve stress or boredom during the holidays\, so stop by and make some with us. \nCost: Free with admission \n Did you know – You can purchase your museum admission tickets online! Visit wacm.ticketleap.com
URL:https://worldchildrensmuseum.org/events/hot-chocolate-slime-lab/
LOCATION:NY
END:VEVENT
BEGIN:VEVENT
DTSTART;TZID=America/New_York:20211212T150000
DTEND;TZID=America/New_York:20211212T183000
DTSTAMP:20260425T083926
CREATED:20211123T152526Z
LAST-MODIFIED:20211211T162532Z
UID:10001444-1639321200-1639333800@worldchildrensmuseum.org
SUMMARY:WACM partners with ADK Thunder Hockey!
DESCRIPTION:We are selling discounted tickets to this “Kids Day” hockey game! There will be fun activities specifically for kids during this afternoon game\, and your ticket purchase helps WACM! Buy your tickets today at our front desk or at http://tinyurl.com/wacmadk. We’ll see you there! \nCost: $15 per person at the museum front desk\, $16 per person online.
URL:https://worldchildrensmuseum.org/events/wacm-partners-with-adk-thunder-hockey/
LOCATION:NY
END:VEVENT
BEGIN:VEVENT
DTSTART;TZID=America/New_York:20211210T103000
DTEND;TZID=America/New_York:20211210T113000
DTSTAMP:20260425T083926
CREATED:20211123T152526Z
LAST-MODIFIED:20211210T162550Z
UID:10001442-1639132200-1639135800@worldchildrensmuseum.org
SUMMARY:Cinnamon Ornaments Craft
DESCRIPTION:Join us today and make your own winter ornament! These delightful cinnamon ornaments are fun for children of all ages to create\, and will last (and smell wonderful!) for years. \nCost: Free with admission \n Did you know – You can purchase your museum admission tickets online! Visit wacm.ticketleap.com.
URL:https://worldchildrensmuseum.org/events/cinnamon-ornaments-craft/
LOCATION:NY
END:VEVENT
BEGIN:VEVENT
DTSTART;TZID=America/New_York:20211203T103000
DTEND;TZID=America/New_York:20211203T113000
DTSTAMP:20260425T083926
CREATED:20211123T152526Z
LAST-MODIFIED:20211203T161104Z
UID:10001517-1638527400-1638531000@worldchildrensmuseum.org
SUMMARY:Storytime Friday
DESCRIPTION:Everyone is welcome at our recurring program\, Storytime Fridays! This program is appropriate for all ages and includes a story and a craft.  \nCost: Free with admissionDid you know – You can buy your museum admission tickets online! Visit wacm.ticketleap.com
URL:https://worldchildrensmuseum.org/events/storytime-friday-8/
LOCATION:NY
END:VEVENT
BEGIN:VEVENT
DTSTART;TZID=America/New_York:20211122T103000
DTEND;TZID=America/New_York:20211122T113000
DTSTAMP:20260425T083926
CREATED:20211104T121644Z
LAST-MODIFIED:20211122T151444Z
UID:10001561-1637577000-1637580600@worldchildrensmuseum.org
SUMMARY:Thanksgiving Craft
DESCRIPTION:Gobble gobble\, it’s almost time for Thanksgiving! Join us today as we read a Thanksgiving story and make our own turkey crafts.  \nCost: Free with admission
URL:https://worldchildrensmuseum.org/events/thanksgiving-craft/
LOCATION:NY
END:VEVENT
BEGIN:VEVENT
DTSTART;TZID=America/New_York:20211120T130000
DTEND;TZID=America/New_York:20211120T143000
DTSTAMP:20260425T083926
CREATED:20211104T121644Z
LAST-MODIFIED:20211120T151000Z
UID:10001562-1637413200-1637418600@worldchildrensmuseum.org
SUMMARY:Paint & Sip
DESCRIPTION:Join us for our popular family-friendly Paint & Sip series. Artists will paint their own masterpiece with instruction from local artist Patrice Jarvis-Weber. \nCost: $20 per child/adult duo. ($5 for each additional child\, $10 for each additional adult.) \nMembers get a 10% Discount! \nPlease call to reserve your spot: 518-793-2773 ext. 305or visit wacm.ticketleap.com to reserve online. \nThis class is limited to 16 people
URL:https://worldchildrensmuseum.org/events/paint-sip-2/
LOCATION:NY
END:VEVENT
BEGIN:VEVENT
DTSTART;TZID=America/New_York:20211119T103000
DTEND;TZID=America/New_York:20211119T113000
DTSTAMP:20260425T083926
CREATED:20211104T121644Z
LAST-MODIFIED:20211119T151043Z
UID:10001572-1637317800-1637321400@worldchildrensmuseum.org
SUMMARY:Storytime Friday
DESCRIPTION:Reading: Peek! A Thai Hide-and-Seek\, by Minfong Ho \nEveryone is welcome at our recurring program\, Storytime Fridays! This program is appropriate for all ages and includes a story and craft.  \nCost: Free with admission
URL:https://worldchildrensmuseum.org/events/storytime-friday-7/
LOCATION:NY
END:VEVENT
BEGIN:VEVENT
DTSTART;TZID=America/New_York:20211115T103000
DTEND;TZID=America/New_York:20211115T113000
DTSTAMP:20260425T083926
CREATED:20211104T121644Z
LAST-MODIFIED:20211115T145456Z
UID:10001571-1636972200-1636975800@worldchildrensmuseum.org
SUMMARY:Finger Painting with Friends
DESCRIPTION:Get your hands dirty at our finger painting workshop! We’ll be Art Detectives together and make our own finger-painted masterpieces! \nCost: Free with admission
URL:https://worldchildrensmuseum.org/events/finger-painting-with-friends-8/
LOCATION:NY
END:VEVENT
BEGIN:VEVENT
DTSTART;TZID=America/New_York:20211105T103000
DTEND;TZID=America/New_York:20211105T113000
DTSTAMP:20260425T083926
CREATED:20211104T121644Z
LAST-MODIFIED:20211105T144139Z
UID:10001570-1636108200-1636111800@worldchildrensmuseum.org
SUMMARY:Storytime Friday
DESCRIPTION:Reading: Iggy Peck\, Architect by Andrea Beaty \nEveryone is welcome at our recurring program\, Storytime Fridays! This program is appropriate for all ages and includes a story and craft.  \nCost: Free with admission
URL:https://worldchildrensmuseum.org/events/storytime-friday-6/
LOCATION:NY
END:VEVENT
BEGIN:VEVENT
DTSTART;TZID=America/New_York:20211031T100000
DTEND;TZID=America/New_York:20211031T150000
DTSTAMP:20260425T083926
CREATED:20211001T175507Z
LAST-MODIFIED:20211005T181140Z
UID:10001569-1635674400-1635692400@worldchildrensmuseum.org
SUMMARY:Happy Halloween!
DESCRIPTION:Visit the museum in your Halloween costume for $2 off admission!
URL:https://worldchildrensmuseum.org/events/happy-halloween/
LOCATION:NY
END:VEVENT
BEGIN:VEVENT
DTSTART;TZID=America/New_York:20211030T130000
DTEND;TZID=America/New_York:20211030T143000
DTSTAMP:20260425T083926
CREATED:20210930T175524Z
LAST-MODIFIED:20211005T181140Z
UID:10001568-1635598800-1635604200@worldchildrensmuseum.org
SUMMARY:Halloween Paint & Sip
DESCRIPTION:Join us for our popular family-friendly Paint & Sip series. Artists will paint a not-so-spooky Halloween scene with instruction from local artist Patrice Jarvis-Weber. \nCost: $20 per child/adult duo. ($5 for each additional child\, $10 for each additional adult.) \nMembers get a 10% Discount! \nPlease call to reserve your spot: 518-793-2773 ext. 305or visit wacm.ticketleap.com to reserve online. \nThis class is limited to 16 people
URL:https://worldchildrensmuseum.org/events/halloween-paint-sip/
LOCATION:NY
END:VEVENT
BEGIN:VEVENT
DTSTART;TZID=America/New_York:20211029T103000
DTEND;TZID=America/New_York:20211029T113000
DTSTAMP:20260425T083926
CREATED:20210929T174028Z
LAST-MODIFIED:20211005T181140Z
UID:10001567-1635503400-1635507000@worldchildrensmuseum.org
SUMMARY:Storytime Friday: Creepy Carrots by Aaron Reynolds
DESCRIPTION:Everyone is welcome at our recurring program\, Storytime Fridays! This program is appropriate for all ages and includes a story and craft.  \nCost: Free with admission
URL:https://worldchildrensmuseum.org/events/storytime-friday-creepy-carrots-by-aaron-reynolds/
LOCATION:NY
END:VEVENT
BEGIN:VEVENT
DTSTART;TZID=America/New_York:20211025T103000
DTEND;TZID=America/New_York:20211025T113000
DTSTAMP:20260425T083926
CREATED:20210927T174044Z
LAST-MODIFIED:20211005T181140Z
UID:10001566-1635157800-1635161400@worldchildrensmuseum.org
SUMMARY:Finger Painting with Friends
DESCRIPTION:Get your hands dirty at our finger painting workshop! We’ll be Art Detectives together and make our own finger-painted masterpieces! \nCost: Free with admission
URL:https://worldchildrensmuseum.org/events/finger-painting-with-friends-7/
LOCATION:NY
END:VEVENT
BEGIN:VEVENT
DTSTART;TZID=America/New_York:20211024T183000
DTEND;TZID=America/New_York:20211024T213000
DTSTAMP:20260425T083926
CREATED:20210924T173013Z
LAST-MODIFIED:20211005T181140Z
UID:10001502-1635100200-1635111000@worldchildrensmuseum.org
SUMMARY:Night at the Speakeasy: A Cocktail Fundraiser for the World Awareness Children's Museum
DESCRIPTION:Please join us for Night at the Speakeasy\, a cocktail fundraiser for the World Awareness Children’s Museum. \nGuests will enjoy live music from the Hot Club of Saratoga\, a silent auction\, museum art on display\, and a full cash bar. Passed hors d’oeuvres will be provided by Doc’s\, desserts will be provided by local restaurants. \nDress to impress! A prize will be given to the person with the best 1920s-themed outfit. \nAll guests must be fully vaccinated against COVID-19 in order to attend. Please be sure to bring your vaccine card or NYS Excelsior Pass for admittance. Masks are required for all attendees. Thank you for understanding! \nIn the event that you can not attend\, your ticket will be considered a donation to the museum. No refunds will be given. \nTo purchase tickets\, visit https://wacm.ticketleap.com/night-at-the-speakeasy/
URL:https://worldchildrensmuseum.org/events/night-at-the-speakeasy-a-cocktail-fundraiser-for-the-world-awareness-childrens-museum/
LOCATION:The Park Theater\, 14 Park St\, Glens Falls\, NY 12801\, USA
END:VEVENT
BEGIN:VEVENT
DTSTART;TZID=America/New_York:20211022T103000
DTEND;TZID=America/New_York:20211022T113000
DTSTAMP:20260425T083926
CREATED:20210927T174032Z
LAST-MODIFIED:20211005T181140Z
UID:10001565-1634898600-1634902200@worldchildrensmuseum.org
SUMMARY:Storytime Friday: I Am Enough by Grace Byers
DESCRIPTION:Everyone is welcome at our recurring program\, Storytime Fridays! This program is appropriate for all ages and includes a story and craft.  \nCost: Free with admission
URL:https://worldchildrensmuseum.org/events/storytime-friday-i-am-enough-by-grace-byers/
LOCATION:NY
END:VEVENT
BEGIN:VEVENT
DTSTART;TZID=America/New_York:20211011T103000
DTEND;TZID=America/New_York:20211011T113000
DTSTAMP:20260425T083926
CREATED:20210927T174032Z
LAST-MODIFIED:20211005T181140Z
UID:10001564-1633948200-1633951800@worldchildrensmuseum.org
SUMMARY:Indigenous People's Day Craft
DESCRIPTION:We will be making wampum belts to celebrate Indigenous culture! Did you know: The Mohican name for the Hudson River is “Muheconneok\,” which means “from the waters that are never still.” \nCost: Free with admission
URL:https://worldchildrensmuseum.org/events/indigenous-peoples-day-craft/
LOCATION:NY
END:VEVENT
BEGIN:VEVENT
DTSTART;TZID=America/New_York:20211010T110000
DTEND;TZID=America/New_York:20211010T120000
DTSTAMP:20260425T083926
CREATED:20210927T174032Z
LAST-MODIFIED:20211005T181140Z
UID:10001563-1633863600-1633867200@worldchildrensmuseum.org
SUMMARY:Navaratri Celebration
DESCRIPTION:Celebrate with us as we learn about this popular Hindu festival! Guest instruction Neha Golwala will teach us about this festival’s Indian traditions. Did you know? The word “Nava” means “nine” and “Ratri” means “night\,” so Navaratri literally means “nine nights\,” which is how long this celebration lasts in India! \nCost: Free with admission
URL:https://worldchildrensmuseum.org/events/navaratri-celebration/
LOCATION:NY
END:VEVENT
BEGIN:VEVENT
DTSTART;TZID=America/New_York:20211009T120000
DTEND;TZID=America/New_York:20211009T140000
DTSTAMP:20260425T083926
CREATED:20210926T174018Z
LAST-MODIFIED:20211005T181140Z
UID:10001515-1633780800-1633788000@worldchildrensmuseum.org
SUMMARY:Oktoberfest for Kids!
DESCRIPTION:Join us today for a fun and family-friendly Oktoberfest celebration! We’ll play games\, do a craft\, learn a traditional German folk dance\, have German Fairytale Storytime\, and more! \nCost: Free with admission
URL:https://worldchildrensmuseum.org/events/oktoberfest-for-kids/
LOCATION:NY
END:VEVENT
BEGIN:VEVENT
DTSTART;TZID=America/New_York:20211008T103000
DTEND;TZID=America/New_York:20211008T113000
DTSTAMP:20260425T083926
CREATED:20210927T174032Z
LAST-MODIFIED:20211005T181140Z
UID:10001547-1633689000-1633692600@worldchildrensmuseum.org
SUMMARY:Storytime Friday
DESCRIPTION:Everyone is welcome at our recurring program\, Storytime Fridays! This program is appropriate for all ages and includes a story and craft.  \nCost: Free with admission
URL:https://worldchildrensmuseum.org/events/storytime-friday-5/
LOCATION:NY
END:VEVENT
BEGIN:VEVENT
DTSTART;TZID=America/New_York:20211002T100000
DTEND;TZID=America/New_York:20211002T150000
DTSTAMP:20260425T083926
CREATED:20210902T165941Z
LAST-MODIFIED:20211002T175517Z
UID:10001501-1633168800-1633186800@worldchildrensmuseum.org
SUMMARY:Open for General Admission
DESCRIPTION:Pre-registration is encouraged: wacm.ticketleap.com/admission \nAdmission Costs:Members: FreeNot-Yet-Members: $5 per person\, children under 3 are free.Please visit our website for more information on admission: https://worldchildrensmuseum.org/for-visitors/ \nMasks are required for all visitors ages 3 and up\, regardless of vaccination status. 
URL:https://worldchildrensmuseum.org/events/open-for-general-admission-85/
LOCATION:World Awareness Children’s Museum\, 89 Warren St\, Glens Falls\, NY 12801\, USA
END:VEVENT
BEGIN:VEVENT
DTSTART;TZID=America/New_York:20211001T100000
DTEND;TZID=America/New_York:20211001T150000
DTSTAMP:20260425T083926
CREATED:20210927T174032Z
LAST-MODIFIED:20211001T175508Z
UID:10001516-1633082400-1633100400@worldchildrensmuseum.org
SUMMARY:Homeschool Discount Day!
DESCRIPTION:Once per quarter\, we are happy to extend a discount to our homeschool families! Homeschoolers who visit today will receive $1 off of their admission costs. We can’t wait to see you! \nUpcoming Homeschool Discount Days:January 7\, 2022April 1\, 2022July 1\, 2022October 7\, 2022
URL:https://worldchildrensmuseum.org/events/homeschool-discount-day/
LOCATION:NY
END:VEVENT
END:VCALENDAR