BEGIN:VCALENDAR
VERSION:2.0
PRODID:-//World Awareness Children&#039;s Museum - ECPv6.15.20//NONSGML v1.0//EN
CALSCALE:GREGORIAN
METHOD:PUBLISH
X-ORIGINAL-URL:https://worldchildrensmuseum.org
X-WR-CALDESC:Events for World Awareness Children&#039;s Museum
REFRESH-INTERVAL;VALUE=DURATION:PT1H
X-Robots-Tag:noindex
X-PUBLISHED-TTL:PT1H
BEGIN:VTIMEZONE
TZID:America/New_York
BEGIN:DAYLIGHT
TZOFFSETFROM:-0500
TZOFFSETTO:-0400
TZNAME:EDT
DTSTART:20240310T070000
END:DAYLIGHT
BEGIN:STANDARD
TZOFFSETFROM:-0400
TZOFFSETTO:-0500
TZNAME:EST
DTSTART:20241103T060000
END:STANDARD
BEGIN:DAYLIGHT
TZOFFSETFROM:-0500
TZOFFSETTO:-0400
TZNAME:EDT
DTSTART:20250309T070000
END:DAYLIGHT
BEGIN:STANDARD
TZOFFSETFROM:-0400
TZOFFSETTO:-0500
TZNAME:EST
DTSTART:20251102T060000
END:STANDARD
BEGIN:DAYLIGHT
TZOFFSETFROM:-0500
TZOFFSETTO:-0400
TZNAME:EDT
DTSTART:20260308T070000
END:DAYLIGHT
BEGIN:STANDARD
TZOFFSETFROM:-0400
TZOFFSETTO:-0500
TZNAME:EST
DTSTART:20261101T060000
END:STANDARD
END:VTIMEZONE
BEGIN:VEVENT
DTSTART;TZID=America/New_York:20251011T100000
DTEND;TZID=America/New_York:20251011T150000
DTSTAMP:20260425T102345
CREATED:20240913T070931Z
LAST-MODIFIED:20250619T190908Z
UID:10004143-1760176800-1760194800@worldchildrensmuseum.org
SUMMARY:Open for General Admission
DESCRIPTION:Tickets can be purchased online at https://wacm.ticketleap.com/museum-admission-2024/Admission Costs:Members: FreeNot-Yet-Members: $7 per person\, children under 12mo. are free.Please visit our website for more information on admission: https://worldchildrensmuseum.org/for-visitors/
URL:https://worldchildrensmuseum.org/events/open-for-general-admission-2092/
LOCATION:World Awareness Children’s Museum\, 89 Warren St\, Glens Falls\, NY\, United States
GEO:43.310029;-73.639958
X-APPLE-STRUCTURED-LOCATION;VALUE=URI;X-ADDRESS=World Awareness Children’s Museum 89 Warren St Glens Falls NY United States;X-APPLE-RADIUS=500;X-TITLE=89 Warren St:geo:-73.639958,43.310029
END:VEVENT
BEGIN:VEVENT
DTSTART;TZID=America/New_York:20251011T103000
DTEND;TZID=America/New_York:20251011T113000
DTSTAMP:20260425T102345
CREATED:20250925T172038Z
LAST-MODIFIED:20251010T183901Z
UID:10005033-1760178600-1760182200@worldchildrensmuseum.org
SUMMARY:Crafted Critters
DESCRIPTION:Travel the globe through art! Children will create a unique animal from around the world to take home! \nHow will your critter come to life?  \nBest for ages 4 and up. Up to 10 lil’ crafters per session.  \nCost: Free with admission. Reserve your spot: Call 518-793-2773 or visit wacm.ticketleap.com
URL:https://worldchildrensmuseum.org/events/crafted-critters/
LOCATION:World Awareness Children’s Museum\, 89 Warren St\, Glens Falls\, NY\, United States
GEO:43.310029;-73.639958
X-APPLE-STRUCTURED-LOCATION;VALUE=URI;X-ADDRESS=World Awareness Children’s Museum 89 Warren St Glens Falls NY United States;X-APPLE-RADIUS=500;X-TITLE=89 Warren St:geo:-73.639958,43.310029
END:VEVENT
BEGIN:VEVENT
DTSTART;TZID=America/New_York:20251011T120000
DTEND;TZID=America/New_York:20251011T130000
DTSTAMP:20260425T102345
CREATED:20250925T172039Z
LAST-MODIFIED:20251010T183901Z
UID:10005034-1760184000-1760187600@worldchildrensmuseum.org
SUMMARY:Clay Creations
DESCRIPTION:Sculpt\, shape\, and decorate with clay\, yarn\, glitter\, googly eyes\, and more! \nBest for ages 7 and up. Up to 10 artists per session. \nCost: Free with admission. Reserve your spot: Call 518-793-2773 or visit wacm.ticketleap.com
URL:https://worldchildrensmuseum.org/events/clay-creations-3/
LOCATION:World Awareness Children’s Museum\, 89 Warren St\, Glens Falls\, NY\, United States
GEO:43.310029;-73.639958
X-APPLE-STRUCTURED-LOCATION;VALUE=URI;X-ADDRESS=World Awareness Children’s Museum 89 Warren St Glens Falls NY United States;X-APPLE-RADIUS=500;X-TITLE=89 Warren St:geo:-73.639958,43.310029
END:VEVENT
BEGIN:VEVENT
DTSTART;TZID=America/New_York:20251012T100000
DTEND;TZID=America/New_York:20251012T150000
DTSTAMP:20260425T102345
CREATED:20240914T070942Z
LAST-MODIFIED:20251010T183902Z
UID:10004145-1760263200-1760281200@worldchildrensmuseum.org
SUMMARY:Free Day!
DESCRIPTION:Visit the museum for free today\, thanks to Stewart’s Holiday Match and all who contributed! We are pleased to offer these free days from 10am-3pm once per month. Donations are appreciated but not required. \nFree Days are generously sponsored by Stewart’s Holiday Match.  \nYou can learn more by visiting www.stewartsshops.com/community-giving
URL:https://worldchildrensmuseum.org/events/free-day-54/
LOCATION:NY
END:VEVENT
BEGIN:VEVENT
DTSTART;TZID=America/New_York:20251013T100000
DTEND;TZID=America/New_York:20251013T150000
DTSTAMP:20260425T102345
CREATED:20251003T182347Z
LAST-MODIFIED:20251010T183902Z
UID:10005631-1760349600-1760367600@worldchildrensmuseum.org
SUMMARY:Open for General Admission
DESCRIPTION:Tickets can be purchased online at https://wacm.ticketleap.com/admission-2025/Admission Costs:Members: FreeNot-Yet-Members: $7 per person\, children under 12mo. are free.Please visit our website for more information on admission: https://worldchildrensmuseum.org/for-visitors/
URL:https://worldchildrensmuseum.org/events/open-for-general-admission-44/
LOCATION:World Awareness Children’s Museum\, 89 Warren St\, Glens Falls\, NY\, United States
GEO:43.310029;-73.639958
X-APPLE-STRUCTURED-LOCATION;VALUE=URI;X-ADDRESS=World Awareness Children’s Museum 89 Warren St Glens Falls NY United States;X-APPLE-RADIUS=500;X-TITLE=89 Warren St:geo:-73.639958,43.310029
END:VEVENT
BEGIN:VEVENT
DTSTART;TZID=America/New_York:20251013T130000
DTEND;TZID=America/New_York:20251013T133000
DTSTAMP:20260425T102345
CREATED:20250925T172040Z
LAST-MODIFIED:20251010T183902Z
UID:10005036-1760360400-1760362200@worldchildrensmuseum.org
SUMMARY:Spooky Slime Lab
DESCRIPTION:Get ready to mix\, squish\, and stir up some frightfully fun slime in this hands-on\, Halloween-inspired science lab! Spots fill up quickly\, so be sure to reserve yours in advance. \nCost: Free with admission. Reserve your spot: Call 518-793-2773 or visit wacm.ticketleap.com.  \n*IMPORTANT: When registering online\, be sure to select the specific Slime Lab event\, not just general admission tickets!
URL:https://worldchildrensmuseum.org/events/spooky-slime-lab/
LOCATION:World Awareness Children’s Museum\, 89 Warren St\, Glens Falls\, NY\, United States
GEO:43.310029;-73.639958
X-APPLE-STRUCTURED-LOCATION;VALUE=URI;X-ADDRESS=World Awareness Children’s Museum 89 Warren St Glens Falls NY United States;X-APPLE-RADIUS=500;X-TITLE=89 Warren St:geo:-73.639958,43.310029
END:VEVENT
BEGIN:VEVENT
DTSTART;TZID=America/New_York:20251013T133000
DTEND;TZID=America/New_York:20251013T140000
DTSTAMP:20260425T102345
CREATED:20250925T172039Z
LAST-MODIFIED:20251010T183902Z
UID:10005035-1760362200-1760364000@worldchildrensmuseum.org
SUMMARY:Spooky Slime Lab: Group 2
DESCRIPTION:Get ready to mix\, squish\, and stir up some frightfully fun slime in this hands-on\, Halloween-inspired science lab! Spots fill up quickly\, so be sure to reserve yours in advance. \nCost: Free with admission. Reserve your spot: Call 518-793-2773 or visit wacm.ticketleap.com.  \n*IMPORTANT: When registering online\, be sure to select the specific Slime Lab event\, not just general admission tickets!
URL:https://worldchildrensmuseum.org/events/spooky-slime-lab-group-2/
LOCATION:World Awareness Children’s Museum\, 89 Warren St\, Glens Falls\, NY\, United States
GEO:43.310029;-73.639958
X-APPLE-STRUCTURED-LOCATION;VALUE=URI;X-ADDRESS=World Awareness Children’s Museum 89 Warren St Glens Falls NY United States;X-APPLE-RADIUS=500;X-TITLE=89 Warren St:geo:-73.639958,43.310029
END:VEVENT
BEGIN:VEVENT
DTSTART;TZID=America/New_York:20251016T100000
DTEND;TZID=America/New_York:20251016T150000
DTSTAMP:20260425T102345
CREATED:20251003T182348Z
LAST-MODIFIED:20251010T183913Z
UID:10005632-1760608800-1760626800@worldchildrensmuseum.org
SUMMARY:Open for General Admission
DESCRIPTION:Tickets can be purchased online at https://wacm.ticketleap.com/admission-2025/Admission Costs:Members: FreeNot-Yet-Members: $7 per person\, children under 12mo. are free.Please visit our website for more information on admission: https://worldchildrensmuseum.org/for-visitors/
URL:https://worldchildrensmuseum.org/events/open-for-general-admission-45/
LOCATION:World Awareness Children’s Museum\, 89 Warren St\, Glens Falls\, NY\, United States
GEO:43.310029;-73.639958
X-APPLE-STRUCTURED-LOCATION;VALUE=URI;X-ADDRESS=World Awareness Children’s Museum 89 Warren St Glens Falls NY United States;X-APPLE-RADIUS=500;X-TITLE=89 Warren St:geo:-73.639958,43.310029
END:VEVENT
BEGIN:VEVENT
DTSTART;TZID=America/New_York:20251016T103000
DTEND;TZID=America/New_York:20251016T113000
DTSTAMP:20260425T102345
CREATED:20250925T172041Z
LAST-MODIFIED:20251010T183902Z
UID:10005037-1760610600-1760614200@worldchildrensmuseum.org
SUMMARY:Kinder Rhythm Drumming
DESCRIPTION:Join us for a lively\, interactive music session that inspires creativity\, joyful play\, and social connection through the power of group rhythm-making. We’ll sing\, dance\, play instruments\, and move to the beat together! \nCost: Free with Admission
URL:https://worldchildrensmuseum.org/events/kinder-rhythm-drumming-33/
LOCATION:World Awareness Children’s Museum\, 89 Warren St\, Glens Falls\, NY\, United States
GEO:43.310029;-73.639958
X-APPLE-STRUCTURED-LOCATION;VALUE=URI;X-ADDRESS=World Awareness Children’s Museum 89 Warren St Glens Falls NY United States;X-APPLE-RADIUS=500;X-TITLE=89 Warren St:geo:-73.639958,43.310029
END:VEVENT
BEGIN:VEVENT
DTSTART;TZID=America/New_York:20251017T100000
DTEND;TZID=America/New_York:20251017T150000
DTSTAMP:20260425T102345
CREATED:20240917T072435Z
LAST-MODIFIED:20250619T190909Z
UID:10004148-1760695200-1760713200@worldchildrensmuseum.org
SUMMARY:Open for General Admission
DESCRIPTION:Tickets can be purchased online at https://wacm.ticketleap.com/museum-admission-2024/Admission Costs:Members: FreeNot-Yet-Members: $7 per person\, children under 12mo. are free.Please visit our website for more information on admission: https://worldchildrensmuseum.org/for-visitors/
URL:https://worldchildrensmuseum.org/events/open-for-general-admission-2096/
LOCATION:World Awareness Children’s Museum\, 89 Warren St\, Glens Falls\, NY\, United States
GEO:43.310029;-73.639958
X-APPLE-STRUCTURED-LOCATION;VALUE=URI;X-ADDRESS=World Awareness Children’s Museum 89 Warren St Glens Falls NY United States;X-APPLE-RADIUS=500;X-TITLE=89 Warren St:geo:-73.639958,43.310029
END:VEVENT
BEGIN:VEVENT
DTSTART;TZID=America/New_York:20251017T103000
DTEND;TZID=America/New_York:20251017T113000
DTSTAMP:20260425T102345
CREATED:20250925T172041Z
LAST-MODIFIED:20251010T183913Z
UID:10005038-1760697000-1760700600@worldchildrensmuseum.org
SUMMARY:Storytime Friday
DESCRIPTION:Everyone is welcome at Storytime Fridays\, a recurring program designed to spark joy and curiosity in little ones!  \nEach week\, we explore early literacy skills through movement\, imaginative play\, and a creative craft that brings the story to life. Perfect for toddlers\, preschoolers\, and their caregivers. \nCost: Free with Admission
URL:https://worldchildrensmuseum.org/events/storytime-friday-160/
LOCATION:World Awareness Children’s Museum\, 89 Warren St\, Glens Falls\, NY\, United States
GEO:43.310029;-73.639958
X-APPLE-STRUCTURED-LOCATION;VALUE=URI;X-ADDRESS=World Awareness Children’s Museum 89 Warren St Glens Falls NY United States;X-APPLE-RADIUS=500;X-TITLE=89 Warren St:geo:-73.639958,43.310029
END:VEVENT
BEGIN:VEVENT
DTSTART;TZID=America/New_York:20251017T133000
DTEND;TZID=America/New_York:20251017T143000
DTSTAMP:20260425T102345
CREATED:20250925T172042Z
LAST-MODIFIED:20251010T183913Z
UID:10005039-1760707800-1760711400@worldchildrensmuseum.org
SUMMARY:Storytime Friday
DESCRIPTION:Everyone is welcome at Storytime Fridays\, a recurring program designed to spark joy and curiosity in little ones!  \nEach week\, we explore early literacy skills through movement\, imaginative play\, and a creative craft that brings the story to life. Perfect for toddlers\, preschoolers\, and their caregivers. \nCost: Free with Admission
URL:https://worldchildrensmuseum.org/events/storytime-friday-161/
LOCATION:NY
END:VEVENT
BEGIN:VEVENT
DTSTART;TZID=America/New_York:20251018T100000
DTEND;TZID=America/New_York:20251018T150000
DTSTAMP:20260425T102345
CREATED:20240920T073941Z
LAST-MODIFIED:20250619T190910Z
UID:10004149-1760781600-1760799600@worldchildrensmuseum.org
SUMMARY:Open for General Admission
DESCRIPTION:Tickets can be purchased online at https://wacm.ticketleap.com/museum-admission-2024/Admission Costs:Members: FreeNot-Yet-Members: $7 per person\, children under 12mo. are free.Please visit our website for more information on admission: https://worldchildrensmuseum.org/for-visitors/
URL:https://worldchildrensmuseum.org/events/open-for-general-admission-2097/
LOCATION:World Awareness Children’s Museum\, 89 Warren St\, Glens Falls\, NY\, United States
GEO:43.310029;-73.639958
X-APPLE-STRUCTURED-LOCATION;VALUE=URI;X-ADDRESS=World Awareness Children’s Museum 89 Warren St Glens Falls NY United States;X-APPLE-RADIUS=500;X-TITLE=89 Warren St:geo:-73.639958,43.310029
END:VEVENT
BEGIN:VEVENT
DTSTART;TZID=America/New_York:20251018T103000
DTEND;TZID=America/New_York:20251018T113000
DTSTAMP:20260425T102345
CREATED:20250925T172042Z
LAST-MODIFIED:20251017T183915Z
UID:10005040-1760783400-1760787000@worldchildrensmuseum.org
SUMMARY:Pop-Up Tiger Craft
DESCRIPTION:Join us for a special day of art and culture!   \nCreate a pop-up tiger inspired by India’s majestic national animal and explore related artifacts from the museum’s collection.Limited to 8 explorers. Best suited for ages 7 and up. \nCost: Free with admission. Reserve your spot: Call 518-793-2773 or visit wacm.ticketleap.com
URL:https://worldchildrensmuseum.org/events/pop-up-tiger-craft/
LOCATION:NY
END:VEVENT
BEGIN:VEVENT
DTSTART;TZID=America/New_York:20251018T120000
DTEND;TZID=America/New_York:20251018T130000
DTSTAMP:20260425T102345
CREATED:20250925T172042Z
LAST-MODIFIED:20251017T183915Z
UID:10005041-1760788800-1760792400@worldchildrensmuseum.org
SUMMARY:Diwali Diya Clay Craft
DESCRIPTION:Join us for a special day of art and culture!   \nCelebrate Diwali\, the Festival of Lights\, by designing and decorating your own colorful clay diya (lamp).Limited to 8 explorers. Best suited for ages 7 and up. \nCost: Free with admission. Reserve your spot: Call 518-793-2773 or visit wacm.ticketleap.com
URL:https://worldchildrensmuseum.org/events/diwali-diya-clay-craft/
LOCATION:NY
END:VEVENT
BEGIN:VEVENT
DTSTART;TZID=America/New_York:20251019T100000
DTEND;TZID=America/New_York:20251019T150000
DTSTAMP:20260425T102345
CREATED:20240921T073929Z
LAST-MODIFIED:20250619T190910Z
UID:10004150-1760868000-1760886000@worldchildrensmuseum.org
SUMMARY:Open for General Admission
DESCRIPTION:Tickets can be purchased online at https://wacm.ticketleap.com/museum-admission-2024/Admission Costs:Members: FreeNot-Yet-Members: $7 per person\, children under 12mo. are free.Please visit our website for more information on admission: https://worldchildrensmuseum.org/for-visitors/
URL:https://worldchildrensmuseum.org/events/open-for-general-admission-2098/
LOCATION:World Awareness Children’s Museum\, 89 Warren St\, Glens Falls\, NY\, United States
GEO:43.310029;-73.639958
X-APPLE-STRUCTURED-LOCATION;VALUE=URI;X-ADDRESS=World Awareness Children’s Museum 89 Warren St Glens Falls NY United States;X-APPLE-RADIUS=500;X-TITLE=89 Warren St:geo:-73.639958,43.310029
END:VEVENT
BEGIN:VEVENT
DTSTART;TZID=America/New_York:20251019T100000
DTEND;TZID=America/New_York:20251019T150000
DTSTAMP:20260425T102345
CREATED:20250925T172043Z
LAST-MODIFIED:20251017T183916Z
UID:10005042-1760868000-1760886000@worldchildrensmuseum.org
SUMMARY:Make & Take: Color-a-Diya
DESCRIPTION:What’s Diwali?Diwali is a joyful holiday from India called the Festival of Lights. Families celebrate with food\, fireworks\, and decorations. A diya is a small lamp that represents light shining over darkness and good winning over bad.   \nCelebrate Diwali\, the Festival of Lights\, by decorating your own diya (lamp) coloring sheet with vibrant Cray-Pas to take home and brighten your day! \nCost: Free with admission & while supplies last
URL:https://worldchildrensmuseum.org/events/make-take-color-a-diya/
LOCATION:World Awareness Children’s Museum\, 89 Warren St\, Glens Falls\, NY\, United States
GEO:43.310029;-73.639958
X-APPLE-STRUCTURED-LOCATION;VALUE=URI;X-ADDRESS=World Awareness Children’s Museum 89 Warren St Glens Falls NY United States;X-APPLE-RADIUS=500;X-TITLE=89 Warren St:geo:-73.639958,43.310029
END:VEVENT
BEGIN:VEVENT
DTSTART;TZID=America/New_York:20251020T100000
DTEND;TZID=America/New_York:20251020T150000
DTSTAMP:20260425T102345
CREATED:20240921T073929Z
LAST-MODIFIED:20250619T190910Z
UID:10004151-1760954400-1760972400@worldchildrensmuseum.org
SUMMARY:Open for General Admission
DESCRIPTION:Tickets can be purchased online at https://wacm.ticketleap.com/museum-admission-2024/Admission Costs:Members: FreeNot-Yet-Members: $7 per person\, children under 12mo. are free.Please visit our website for more information on admission: https://worldchildrensmuseum.org/for-visitors/
URL:https://worldchildrensmuseum.org/events/open-for-general-admission-2099/
LOCATION:World Awareness Children’s Museum\, 89 Warren St\, Glens Falls\, NY\, United States
GEO:43.310029;-73.639958
X-APPLE-STRUCTURED-LOCATION;VALUE=URI;X-ADDRESS=World Awareness Children’s Museum 89 Warren St Glens Falls NY United States;X-APPLE-RADIUS=500;X-TITLE=89 Warren St:geo:-73.639958,43.310029
END:VEVENT
BEGIN:VEVENT
DTSTART;TZID=America/New_York:20251020T103000
DTEND;TZID=America/New_York:20251020T113000
DTSTAMP:20260425T102345
CREATED:20250925T172043Z
LAST-MODIFIED:20251017T183916Z
UID:10005043-1760956200-1760959800@worldchildrensmuseum.org
SUMMARY:Scribble Squad: Sticky Wall Shapes!
DESCRIPTION:Scribble Squad: A Playgroup for Toddlers\nMondays | 10:30–11:30 AM  \nScribble Squad is a monthly art-making experience designed just for toddlers ages 1–3 years. Each session features a fun\, sensory-rich theme that encourages creativity\, exploration\, and joyful mess-making! \n\nUpcoming Themes & Dates:\nOctober 20 | 10:30–11:30 AM – Sticky Wall ShapesBuild pictures and patterns using contact paper\, felt\, and foam in this hands-on wall art experience. \nNovember 17 | 10:30–11:30 AM – Rolling Into ArtPaint with toy cars\, rolling pins\, and balls to create motion-filled masterpieces. \n\nDetails:\nAges: 1–3 yearsCost: Free with admissionSpace is limited to 8 scribblers per session.Separate registration is required for each session.Reserve your spot: Call 518-793-2773 or visit wacm.ticketleap.com
URL:https://worldchildrensmuseum.org/events/scribble-squad-sticky-wall-shapes/
LOCATION:World Awareness Children’s Museum\, 89 Warren St\, Glens Falls\, NY\, United States
GEO:43.310029;-73.639958
X-APPLE-STRUCTURED-LOCATION;VALUE=URI;X-ADDRESS=World Awareness Children’s Museum 89 Warren St Glens Falls NY United States;X-APPLE-RADIUS=500;X-TITLE=89 Warren St:geo:-73.639958,43.310029
END:VEVENT
BEGIN:VEVENT
DTSTART;TZID=America/New_York:20251023T100000
DTEND;TZID=America/New_York:20251023T150000
DTSTAMP:20260425T102345
CREATED:20251003T182350Z
LAST-MODIFIED:20251017T183916Z
UID:10005637-1761213600-1761231600@worldchildrensmuseum.org
SUMMARY:Open for General Admission
DESCRIPTION:Tickets can be purchased online at https://wacm.ticketleap.com/admission-2025/Admission Costs:Members: FreeNot-Yet-Members: $7 per person\, children under 12mo. are free.Please visit our website for more information on admission: https://worldchildrensmuseum.org/for-visitors/
URL:https://worldchildrensmuseum.org/events/open-for-general-admission-50/
LOCATION:World Awareness Children’s Museum\, 89 Warren St\, Glens Falls\, NY\, United States
GEO:43.310029;-73.639958
X-APPLE-STRUCTURED-LOCATION;VALUE=URI;X-ADDRESS=World Awareness Children’s Museum 89 Warren St Glens Falls NY United States;X-APPLE-RADIUS=500;X-TITLE=89 Warren St:geo:-73.639958,43.310029
END:VEVENT
BEGIN:VEVENT
DTSTART;TZID=America/New_York:20251023T103000
DTEND;TZID=America/New_York:20251023T113000
DTSTAMP:20260425T102345
CREATED:20250925T172044Z
LAST-MODIFIED:20251017T183916Z
UID:10005044-1761215400-1761219000@worldchildrensmuseum.org
SUMMARY:Kinder Rhythm Drumming
DESCRIPTION:Join us for a lively\, interactive music session that inspires creativity\, joyful play\, and social connection through the power of group rhythm-making. We’ll sing\, dance\, play instruments\, and move to the beat together! \nCost: Free with Admission
URL:https://worldchildrensmuseum.org/events/kinder-rhythm-drumming-34/
LOCATION:World Awareness Children’s Museum\, 89 Warren St\, Glens Falls\, NY\, United States
GEO:43.310029;-73.639958
X-APPLE-STRUCTURED-LOCATION;VALUE=URI;X-ADDRESS=World Awareness Children’s Museum 89 Warren St Glens Falls NY United States;X-APPLE-RADIUS=500;X-TITLE=89 Warren St:geo:-73.639958,43.310029
END:VEVENT
BEGIN:VEVENT
DTSTART;TZID=America/New_York:20251024T100000
DTEND;TZID=America/New_York:20251024T150000
DTSTAMP:20260425T102345
CREATED:20251003T182350Z
LAST-MODIFIED:20251024T183839Z
UID:10005638-1761300000-1761318000@worldchildrensmuseum.org
SUMMARY:Open for General Admission
DESCRIPTION:Tickets can be purchased online at https://wacm.ticketleap.com/admission-2025/Admission Costs:Members: FreeNot-Yet-Members: $7 per person\, children under 12mo. are free.Please visit our website for more information on admission: https://worldchildrensmuseum.org/for-visitors/
URL:https://worldchildrensmuseum.org/events/open-for-general-admission-51/
LOCATION:World Awareness Children’s Museum\, 89 Warren St\, Glens Falls\, NY\, United States
GEO:43.310029;-73.639958
X-APPLE-STRUCTURED-LOCATION;VALUE=URI;X-ADDRESS=World Awareness Children’s Museum 89 Warren St Glens Falls NY United States;X-APPLE-RADIUS=500;X-TITLE=89 Warren St:geo:-73.639958,43.310029
END:VEVENT
BEGIN:VEVENT
DTSTART;TZID=America/New_York:20251024T103000
DTEND;TZID=America/New_York:20251024T113000
DTSTAMP:20260425T102345
CREATED:20250925T172045Z
LAST-MODIFIED:20251017T183929Z
UID:10005045-1761301800-1761305400@worldchildrensmuseum.org
SUMMARY:Storytime Friday
DESCRIPTION:Everyone is welcome at Storytime Fridays\, a recurring program designed to spark joy and curiosity in little ones!  \nEach week\, we explore early literacy skills through movement\, imaginative play\, and a creative craft that brings the story to life. Perfect for toddlers\, preschoolers\, and their caregivers. \nCost: Free with Admission
URL:https://worldchildrensmuseum.org/events/storytime-friday-162/
LOCATION:World Awareness Children’s Museum\, 89 Warren St\, Glens Falls\, NY\, United States
GEO:43.310029;-73.639958
X-APPLE-STRUCTURED-LOCATION;VALUE=URI;X-ADDRESS=World Awareness Children’s Museum 89 Warren St Glens Falls NY United States;X-APPLE-RADIUS=500;X-TITLE=89 Warren St:geo:-73.639958,43.310029
END:VEVENT
BEGIN:VEVENT
DTSTART;TZID=America/New_York:20251024T120000
DTEND;TZID=America/New_York:20251024T130000
DTSTAMP:20260425T102345
CREATED:20250925T172045Z
LAST-MODIFIED:20251017T183929Z
UID:10005046-1761307200-1761310800@worldchildrensmuseum.org
SUMMARY:Handprint Friends: Lil' BOO Hands
DESCRIPTION:Create your own unique “friend” using your very own handprint! Perfect for children ages 2 and up\, this fun and creative series lets little artists design and bring home a new handmade friend each session. \nCost: Free with admission
URL:https://worldchildrensmuseum.org/events/handprint-friends-lil-boo-hands/
LOCATION:World Awareness Children’s Museum\, 89 Warren St\, Glens Falls\, NY\, United States
GEO:43.310029;-73.639958
X-APPLE-STRUCTURED-LOCATION;VALUE=URI;X-ADDRESS=World Awareness Children’s Museum 89 Warren St Glens Falls NY United States;X-APPLE-RADIUS=500;X-TITLE=89 Warren St:geo:-73.639958,43.310029
END:VEVENT
BEGIN:VEVENT
DTSTART;TZID=America/New_York:20251025T100000
DTEND;TZID=America/New_York:20251025T150000
DTSTAMP:20260425T102345
CREATED:20251003T182351Z
LAST-MODIFIED:20251024T183839Z
UID:10005639-1761386400-1761404400@worldchildrensmuseum.org
SUMMARY:Open for General Admission
DESCRIPTION:Tickets can be purchased online at https://wacm.ticketleap.com/admission-2025/Admission Costs:Members: FreeNot-Yet-Members: $7 per person\, children under 12mo. are free.Please visit our website for more information on admission: https://worldchildrensmuseum.org/for-visitors/
URL:https://worldchildrensmuseum.org/events/open-for-general-admission-52/
LOCATION:World Awareness Children’s Museum\, 89 Warren St\, Glens Falls\, NY\, United States
GEO:43.310029;-73.639958
X-APPLE-STRUCTURED-LOCATION;VALUE=URI;X-ADDRESS=World Awareness Children’s Museum 89 Warren St Glens Falls NY United States;X-APPLE-RADIUS=500;X-TITLE=89 Warren St:geo:-73.639958,43.310029
END:VEVENT
BEGIN:VEVENT
DTSTART;TZID=America/New_York:20251025T103000
DTEND;TZID=America/New_York:20251025T113000
DTSTAMP:20260425T102345
CREATED:20250623T195420Z
LAST-MODIFIED:20251024T183839Z
UID:10004841-1761388200-1761391800@worldchildrensmuseum.org
SUMMARY:Storytime Saturday
DESCRIPTION:Join us for a playful weekend storytime designed for families who can’t make it to our Friday sessions! Each month\, enjoy stories\, songs\, and hands-on crafts that bring the themes to life—all in a fun\, welcoming space for little ones and their grown-ups. \nStorytime supports early literacy\, creativity\, and connection. \nCost: Free with admission
URL:https://worldchildrensmuseum.org/events/storytime-saturday-9/
LOCATION:NY
END:VEVENT
BEGIN:VEVENT
DTSTART;TZID=America/New_York:20251025T130000
DTEND;TZID=America/New_York:20251025T143000
DTSTAMP:20260425T102345
CREATED:20250527T143915Z
LAST-MODIFIED:20251024T183839Z
UID:10004516-1761397200-1761402600@worldchildrensmuseum.org
SUMMARY:Black Cat Paint & Sip
DESCRIPTION:Join us for our popular family-friendly Paint & Sip series taught by local artist Patrice Jarvis-Weber. Artists will paint their own black cat on canvas.  \nCost: $12 per person. Members get a 10% discount! Please call to reserve your spot: 518-793-2773 or visit wacm.ticketleap.com to reserve online. \nThis class is limited to 9 people.
URL:https://worldchildrensmuseum.org/events/black-cat-paint-sip/
LOCATION:NY
END:VEVENT
BEGIN:VEVENT
DTSTART;TZID=America/New_York:20251025T133000
DTEND;TZID=America/New_York:20251025T143000
DTSTAMP:20260425T102345
CREATED:20250623T195420Z
LAST-MODIFIED:20250806T142352Z
UID:10004842-1761399000-1761402600@worldchildrensmuseum.org
SUMMARY:Storytime Saturday
DESCRIPTION:Join us for a playful weekend storytime designed for families who can’t make it to our Friday sessions! Each month\, enjoy stories\, songs\, and hands-on crafts that bring the themes to life—all in a fun\, welcoming space for little ones and their grown-ups. \nStorytime supports early literacy\, creativity\, and connection. \nCost: Free with admission
URL:https://worldchildrensmuseum.org/events/storytime-saturday-10/
LOCATION:NY
END:VEVENT
BEGIN:VEVENT
DTSTART;TZID=America/New_York:20251026T100000
DTEND;TZID=America/New_York:20251026T150000
DTSTAMP:20260425T102345
CREATED:20251003T182351Z
LAST-MODIFIED:20251024T183839Z
UID:10005640-1761472800-1761490800@worldchildrensmuseum.org
SUMMARY:Open for General Admission
DESCRIPTION:Tickets can be purchased online at https://wacm.ticketleap.com/admission-2025/Admission Costs:Members: FreeNot-Yet-Members: $7 per person\, children under 12mo. are free.Please visit our website for more information on admission: https://worldchildrensmuseum.org/for-visitors/
URL:https://worldchildrensmuseum.org/events/open-for-general-admission-53/
LOCATION:World Awareness Children’s Museum\, 89 Warren St\, Glens Falls\, NY\, United States
GEO:43.310029;-73.639958
X-APPLE-STRUCTURED-LOCATION;VALUE=URI;X-ADDRESS=World Awareness Children’s Museum 89 Warren St Glens Falls NY United States;X-APPLE-RADIUS=500;X-TITLE=89 Warren St:geo:-73.639958,43.310029
END:VEVENT
BEGIN:VEVENT
DTSTART;TZID=America/New_York:20251027T100000
DTEND;TZID=America/New_York:20251027T150000
DTSTAMP:20260425T102345
CREATED:20251003T182351Z
LAST-MODIFIED:20251024T183840Z
UID:10005641-1761559200-1761577200@worldchildrensmuseum.org
SUMMARY:Open for General Admission
DESCRIPTION:Tickets can be purchased online at https://wacm.ticketleap.com/admission-2025/Admission Costs:Members: FreeNot-Yet-Members: $7 per person\, children under 12mo. are free.Please visit our website for more information on admission: https://worldchildrensmuseum.org/for-visitors/
URL:https://worldchildrensmuseum.org/events/open-for-general-admission-54/
LOCATION:World Awareness Children’s Museum\, 89 Warren St\, Glens Falls\, NY\, United States
GEO:43.310029;-73.639958
X-APPLE-STRUCTURED-LOCATION;VALUE=URI;X-ADDRESS=World Awareness Children’s Museum 89 Warren St Glens Falls NY United States;X-APPLE-RADIUS=500;X-TITLE=89 Warren St:geo:-73.639958,43.310029
END:VEVENT
END:VCALENDAR