BEGIN:VCALENDAR
VERSION:2.0
PRODID:-//World Awareness Children&#039;s Museum - ECPv6.15.20//NONSGML v1.0//EN
CALSCALE:GREGORIAN
METHOD:PUBLISH
X-WR-CALNAME:World Awareness Children&#039;s Museum
X-ORIGINAL-URL:https://worldchildrensmuseum.org
X-WR-CALDESC:Events for World Awareness Children&#039;s Museum
REFRESH-INTERVAL;VALUE=DURATION:PT1H
X-Robots-Tag:noindex
X-PUBLISHED-TTL:PT1H
BEGIN:VTIMEZONE
TZID:America/New_York
BEGIN:DAYLIGHT
TZOFFSETFROM:-0500
TZOFFSETTO:-0400
TZNAME:EDT
DTSTART:20210314T070000
END:DAYLIGHT
BEGIN:STANDARD
TZOFFSETFROM:-0400
TZOFFSETTO:-0500
TZNAME:EST
DTSTART:20211107T060000
END:STANDARD
BEGIN:DAYLIGHT
TZOFFSETFROM:-0500
TZOFFSETTO:-0400
TZNAME:EDT
DTSTART:20220313T070000
END:DAYLIGHT
BEGIN:STANDARD
TZOFFSETFROM:-0400
TZOFFSETTO:-0500
TZNAME:EST
DTSTART:20221106T060000
END:STANDARD
BEGIN:DAYLIGHT
TZOFFSETFROM:-0500
TZOFFSETTO:-0400
TZNAME:EDT
DTSTART:20230312T070000
END:DAYLIGHT
BEGIN:STANDARD
TZOFFSETFROM:-0400
TZOFFSETTO:-0500
TZNAME:EST
DTSTART:20231105T060000
END:STANDARD
END:VTIMEZONE
BEGIN:VEVENT
DTSTART;TZID=America/New_York:20220728T130000
DTEND;TZID=America/New_York:20220728T143000
DTSTAMP:20260425T115907
CREATED:20220628T232612Z
LAST-MODIFIED:20220728T011145Z
UID:10001847-1659013200-1659018600@worldchildrensmuseum.org
SUMMARY:July Paint & Sip
DESCRIPTION:Join us for our popular family-friendly Paint & Sip series. Artists will take inspiration from Georgia O’Keeffe and paint their own masterpiece on canvas with  \ninstruction from local artist Patrice Jarvis-Weber.  \nCost: $10 per person. Members get a 10% discount! \nPlease call to reserve your spot: 518-793-2773 or visit https://wacm.ticketleap.com/07282022/ to reserve online. \nThis class is limited to 9 people.
URL:https://worldchildrensmuseum.org/events/july-paint-sip/
LOCATION:NY
END:VEVENT
BEGIN:VEVENT
DTSTART;TZID=America/New_York:20220728T100000
DTEND;TZID=America/New_York:20220728T150000
DTSTAMP:20260425T115907
CREATED:20220531T215627Z
LAST-MODIFIED:20220728T011145Z
UID:10001790-1659002400-1659020400@worldchildrensmuseum.org
SUMMARY:Open for General Admission
DESCRIPTION:Pre-registration is encouraged: wacm.ticketleap.com/admission-2022 \nAdmission Costs:Members: FreeNot-Yet-Members: $7 per person\, children under 3 are free.Please visit our website for more information on admission: https://worldchildrensmuseum.org/for-visitors/ \nMasks are required for all visitors ages 3 and up\, regardless of vaccination status. 
URL:https://worldchildrensmuseum.org/events/open-for-general-admission-226/
LOCATION:World Awareness Children’s Museum\, 89 Warren St\, Glens Falls\, NY 12801\, USA
END:VEVENT
BEGIN:VEVENT
DTSTART;TZID=America/New_York:20220727T110000
DTEND;TZID=America/New_York:20220727T120000
DTSTAMP:20260425T115907
CREATED:20220628T232612Z
LAST-MODIFIED:20220727T011113Z
UID:10001829-1658919600-1658923200@worldchildrensmuseum.org
SUMMARY:Little Ones Yoga
DESCRIPTION:Guest instructor Neha Golwala leads an age-inclusive yoga class! This program is open to children of all ages. \nCost: Free with admission
URL:https://worldchildrensmuseum.org/events/little-ones-yoga-10/
LOCATION:NY
END:VEVENT
BEGIN:VEVENT
DTSTART;TZID=America/New_York:20220727T100000
DTEND;TZID=America/New_York:20220727T150000
DTSTAMP:20260425T115907
CREATED:20220531T215627Z
LAST-MODIFIED:20220727T011113Z
UID:10001787-1658916000-1658934000@worldchildrensmuseum.org
SUMMARY:Open for General Admission
DESCRIPTION:Pre-registration is encouraged: wacm.ticketleap.com/admission-2022 \nAdmission Costs:Members: FreeNot-Yet-Members: $7 per person\, children under 3 are free.Please visit our website for more information on admission: https://worldchildrensmuseum.org/for-visitors/ \nMasks are required for all visitors ages 3 and up\, regardless of vaccination status. 
URL:https://worldchildrensmuseum.org/events/open-for-general-admission-225/
LOCATION:World Awareness Children’s Museum\, 89 Warren St\, Glens Falls\, NY 12801\, USA
END:VEVENT
BEGIN:VEVENT
DTSTART;TZID=America/New_York:20220726T110000
DTEND;TZID=America/New_York:20220726T120000
DTSTAMP:20260425T115907
CREATED:20220628T232611Z
LAST-MODIFIED:20220726T005651Z
UID:10001827-1658833200-1658836800@worldchildrensmuseum.org
SUMMARY:Cancelled: Sea Shell Collage
DESCRIPTION:This class has been cancelled\, but we look forward to bringing it back in the future!\nJoin us today to make your own sea shell collage!\nThis program is appropriate for all ages.\nCost: Free with admission.
URL:https://worldchildrensmuseum.org/events/sea-shell-collage/
LOCATION:NY
END:VEVENT
BEGIN:VEVENT
DTSTART;TZID=America/New_York:20220726T100000
DTEND;TZID=America/New_York:20220726T150000
DTSTAMP:20260425T115907
CREATED:20220531T215626Z
LAST-MODIFIED:20220726T005651Z
UID:10001785-1658829600-1658847600@worldchildrensmuseum.org
SUMMARY:Open for General Admission
DESCRIPTION:Pre-registration is encouraged: wacm.ticketleap.com/admission-2022 \nAdmission Costs:Members: FreeNot-Yet-Members: $7 per person\, children under 3 are free.Please visit our website for more information on admission: https://worldchildrensmuseum.org/for-visitors/ \nMasks are required for all visitors ages 3 and up\, regardless of vaccination status. 
URL:https://worldchildrensmuseum.org/events/open-for-general-admission-224/
LOCATION:World Awareness Children’s Museum\, 89 Warren St\, Glens Falls\, NY 12801\, USA
END:VEVENT
BEGIN:VEVENT
DTSTART;TZID=America/New_York:20220725T100000
DTEND;TZID=America/New_York:20220725T150000
DTSTAMP:20260425T115907
CREATED:20220531T215626Z
LAST-MODIFIED:20220725T005520Z
UID:10001783-1658743200-1658761200@worldchildrensmuseum.org
SUMMARY:Open for General Admission
DESCRIPTION:Pre-registration is encouraged: wacm.ticketleap.com/admission-2022 \nAdmission Costs:Members: FreeNot-Yet-Members: $7 per person\, children under 3 are free.Please visit our website for more information on admission: https://worldchildrensmuseum.org/for-visitors/ \nMasks are required for all visitors ages 3 and up\, regardless of vaccination status. 
URL:https://worldchildrensmuseum.org/events/open-for-general-admission-223/
LOCATION:World Awareness Children’s Museum\, 89 Warren St\, Glens Falls\, NY 12801\, USA
END:VEVENT
BEGIN:VEVENT
DTSTART;TZID=America/New_York:20220724T100000
DTEND;TZID=America/New_York:20220724T150000
DTSTAMP:20260425T115907
CREATED:20220531T215626Z
LAST-MODIFIED:20220724T005532Z
UID:10001781-1658656800-1658674800@worldchildrensmuseum.org
SUMMARY:Open for General Admission
DESCRIPTION:Pre-registration is encouraged: wacm.ticketleap.com/admission-2022 \nAdmission Costs:Members: FreeNot-Yet-Members: $7 per person\, children under 3 are free.Please visit our website for more information on admission: https://worldchildrensmuseum.org/for-visitors/ \nMasks are required for all visitors ages 3 and up\, regardless of vaccination status. 
URL:https://worldchildrensmuseum.org/events/open-for-general-admission-222/
LOCATION:World Awareness Children’s Museum\, 89 Warren St\, Glens Falls\, NY 12801\, USA
END:VEVENT
BEGIN:VEVENT
DTSTART;TZID=America/New_York:20220723T100000
DTEND;TZID=America/New_York:20220723T150000
DTSTAMP:20260425T115907
CREATED:20220531T215626Z
LAST-MODIFIED:20220723T005527Z
UID:10001779-1658570400-1658588400@worldchildrensmuseum.org
SUMMARY:Open for General Admission
DESCRIPTION:Pre-registration is encouraged: wacm.ticketleap.com/admission-2022 \nAdmission Costs:Members: FreeNot-Yet-Members: $7 per person\, children under 3 are free.Please visit our website for more information on admission: https://worldchildrensmuseum.org/for-visitors/ \nMasks are required for all visitors ages 3 and up\, regardless of vaccination status. 
URL:https://worldchildrensmuseum.org/events/open-for-general-admission-221/
LOCATION:World Awareness Children’s Museum\, 89 Warren St\, Glens Falls\, NY 12801\, USA
END:VEVENT
BEGIN:VEVENT
DTSTART;TZID=America/New_York:20220722T103000
DTEND;TZID=America/New_York:20220722T113000
DTSTAMP:20260425T115907
CREATED:20220628T232610Z
LAST-MODIFIED:20220722T005545Z
UID:10001808-1658485800-1658489400@worldchildrensmuseum.org
SUMMARY:Storytime Friday
DESCRIPTION:Reading: “The Proudest Blue” by Ibtihaj Muhammad \nEveryone is welcome at our recurring program\, Storytime Fridays! This program is appropriate for all ages and includes a story and a craft.  \nCost: Free with admission
URL:https://worldchildrensmuseum.org/events/storytime-friday-18/
LOCATION:NY
END:VEVENT
BEGIN:VEVENT
DTSTART;TZID=America/New_York:20220722T100000
DTEND;TZID=America/New_York:20220722T150000
DTSTAMP:20260425T115907
CREATED:20220531T215625Z
LAST-MODIFIED:20220722T005545Z
UID:10001778-1658484000-1658502000@worldchildrensmuseum.org
SUMMARY:Open for General Admission
DESCRIPTION:Pre-registration is encouraged: wacm.ticketleap.com/admission-2022 \nAdmission Costs:Members: FreeNot-Yet-Members: $7 per person\, children under 3 are free.Please visit our website for more information on admission: https://worldchildrensmuseum.org/for-visitors/ \nMasks are required for all visitors ages 3 and up\, regardless of vaccination status. 
URL:https://worldchildrensmuseum.org/events/open-for-general-admission-220/
LOCATION:World Awareness Children’s Museum\, 89 Warren St\, Glens Falls\, NY 12801\, USA
END:VEVENT
BEGIN:VEVENT
DTSTART;TZID=America/New_York:20220721T100000
DTEND;TZID=America/New_York:20220721T150000
DTSTAMP:20260425T115907
CREATED:20220531T215625Z
LAST-MODIFIED:20220721T005559Z
UID:10001777-1658397600-1658415600@worldchildrensmuseum.org
SUMMARY:Open for General Admission
DESCRIPTION:Pre-registration is encouraged: wacm.ticketleap.com/admission-2022 \nAdmission Costs:Members: FreeNot-Yet-Members: $7 per person\, children under 3 are free.Please visit our website for more information on admission: https://worldchildrensmuseum.org/for-visitors/ \nMasks are required for all visitors ages 3 and up\, regardless of vaccination status. 
URL:https://worldchildrensmuseum.org/events/open-for-general-admission-219/
LOCATION:World Awareness Children’s Museum\, 89 Warren St\, Glens Falls\, NY 12801\, USA
END:VEVENT
BEGIN:VEVENT
DTSTART;TZID=America/New_York:20220720T170000
DTEND;TZID=America/New_York:20220720T183000
DTSTAMP:20260425T115907
CREATED:20220628T232610Z
LAST-MODIFIED:20220720T005530Z
UID:10001807-1658336400-1658341800@worldchildrensmuseum.org
SUMMARY:Free Family Concert feat. Timbalooloo
DESCRIPTION:All ages are welcome during this free family concert! WACM and Summerland Music Society present an interactive performance by New York City-based group\, Timbalooloo. Timbalooloo seeks to uplift communities by exposing children and families to the richness of global culture in New York and beyond.  \nCost: Free (Suggested Donation: $5) \nThis program is generously sponsored by Stewart’s Holiday Match. You can learn more by visiting www.stewartsshops.com/community-giving
URL:https://worldchildrensmuseum.org/events/free-family-concert-feat-timbalooloo/
LOCATION:NY
END:VEVENT
BEGIN:VEVENT
DTSTART;TZID=America/New_York:20220720T100000
DTEND;TZID=America/New_York:20220720T150000
DTSTAMP:20260425T115907
CREATED:20220531T215625Z
LAST-MODIFIED:20220720T005530Z
UID:10001763-1658311200-1658329200@worldchildrensmuseum.org
SUMMARY:Open for General Admission
DESCRIPTION:Pre-registration is encouraged: wacm.ticketleap.com/admission-2022 \nAdmission Costs:Members: FreeNot-Yet-Members: $7 per person\, children under 3 are free.Please visit our website for more information on admission: https://worldchildrensmuseum.org/for-visitors/ \nMasks are required for all visitors ages 3 and up\, regardless of vaccination status. 
URL:https://worldchildrensmuseum.org/events/open-for-general-admission-218/
LOCATION:World Awareness Children’s Museum\, 89 Warren St\, Glens Falls\, NY 12801\, USA
END:VEVENT
BEGIN:VEVENT
DTSTART;TZID=America/New_York:20220719T100000
DTEND;TZID=America/New_York:20220719T150000
DTSTAMP:20260425T115907
CREATED:20220531T215625Z
LAST-MODIFIED:20220719T005516Z
UID:10001752-1658224800-1658242800@worldchildrensmuseum.org
SUMMARY:Open for General Admission
DESCRIPTION:Pre-registration is encouraged: wacm.ticketleap.com/admission-2022 \nAdmission Costs:Members: FreeNot-Yet-Members: $7 per person\, children under 3 are free.Please visit our website for more information on admission: https://worldchildrensmuseum.org/for-visitors/ \nMasks are required for all visitors ages 3 and up\, regardless of vaccination status. 
URL:https://worldchildrensmuseum.org/events/open-for-general-admission-217/
LOCATION:World Awareness Children’s Museum\, 89 Warren St\, Glens Falls\, NY 12801\, USA
END:VEVENT
BEGIN:VEVENT
DTSTART;TZID=America/New_York:20220718T110000
DTEND;TZID=America/New_York:20220718T120000
DTSTAMP:20260425T115907
CREATED:20220628T232610Z
LAST-MODIFIED:20220718T005517Z
UID:10001806-1658142000-1658145600@worldchildrensmuseum.org
SUMMARY:Summer Slime Lab
DESCRIPTION:Become a Slime Scientist! This program is appropriate for all ages\, and each child will take home their own slime creation. \nCost: Free with admission
URL:https://worldchildrensmuseum.org/events/summer-slime-lab/
LOCATION:NY
END:VEVENT
BEGIN:VEVENT
DTSTART;TZID=America/New_York:20220718T100000
DTEND;TZID=America/New_York:20220718T150000
DTSTAMP:20260425T115907
CREATED:20220531T215625Z
LAST-MODIFIED:20220718T005517Z
UID:10001738-1658138400-1658156400@worldchildrensmuseum.org
SUMMARY:Open for General Admission
DESCRIPTION:Pre-registration is encouraged: wacm.ticketleap.com/admission-2022 \nAdmission Costs:Members: FreeNot-Yet-Members: $7 per person\, children under 3 are free.Please visit our website for more information on admission: https://worldchildrensmuseum.org/for-visitors/ \nMasks are required for all visitors ages 3 and up\, regardless of vaccination status. 
URL:https://worldchildrensmuseum.org/events/open-for-general-admission-216/
LOCATION:World Awareness Children’s Museum\, 89 Warren St\, Glens Falls\, NY 12801\, USA
END:VEVENT
BEGIN:VEVENT
DTSTART;TZID=America/New_York:20220717T100000
DTEND;TZID=America/New_York:20220717T150000
DTSTAMP:20260425T115907
CREATED:20220531T215624Z
LAST-MODIFIED:20220717T005521Z
UID:10001737-1658052000-1658070000@worldchildrensmuseum.org
SUMMARY:Open for General Admission
DESCRIPTION:Pre-registration is encouraged: wacm.ticketleap.com/admission-2022 \nAdmission Costs:Members: FreeNot-Yet-Members: $7 per person\, children under 3 are free.Please visit our website for more information on admission: https://worldchildrensmuseum.org/for-visitors/ \nMasks are required for all visitors ages 3 and up\, regardless of vaccination status. 
URL:https://worldchildrensmuseum.org/events/open-for-general-admission-215/
LOCATION:World Awareness Children’s Museum\, 89 Warren St\, Glens Falls\, NY 12801\, USA
END:VEVENT
BEGIN:VEVENT
DTSTART;TZID=America/New_York:20220716T100000
DTEND;TZID=America/New_York:20220716T150000
DTSTAMP:20260425T115907
CREATED:20220531T215624Z
LAST-MODIFIED:20220716T005505Z
UID:10001736-1657965600-1657983600@worldchildrensmuseum.org
SUMMARY:Open for General Admission
DESCRIPTION:Pre-registration is encouraged: wacm.ticketleap.com/admission-2022 \nAdmission Costs:Members: FreeNot-Yet-Members: $7 per person\, children under 3 are free.Please visit our website for more information on admission: https://worldchildrensmuseum.org/for-visitors/ \nMasks are required for all visitors ages 3 and up\, regardless of vaccination status. 
URL:https://worldchildrensmuseum.org/events/open-for-general-admission-214/
LOCATION:World Awareness Children’s Museum\, 89 Warren St\, Glens Falls\, NY 12801\, USA
END:VEVENT
BEGIN:VEVENT
DTSTART;TZID=America/New_York:20220715T103000
DTEND;TZID=America/New_York:20220715T113000
DTSTAMP:20260425T115907
CREATED:20220628T232609Z
LAST-MODIFIED:20220715T005511Z
UID:10001805-1657881000-1657884600@worldchildrensmuseum.org
SUMMARY:World Culture Workshop: International Clothing
DESCRIPTION:Join us at the World Awareness Children’s Museum for our new World Culture Workshop – International Clothing. We will explore traditional clothing from around the world\, read a story\, look at art from the museum's collection\, and do several activities to learn about different styles of clothing. \nThis program is suitable for children ages 8 and older. \nCost: $2 on top of admission. Museum Members attend for free! \nTo register\, visit https://wacm.ticketleap.com/07152022/
URL:https://worldchildrensmuseum.org/events/world-culture-workshop-international-clothing/
LOCATION:NY
END:VEVENT
BEGIN:VEVENT
DTSTART;TZID=America/New_York:20220715T100000
DTEND;TZID=America/New_York:20220715T150000
DTSTAMP:20260425T115907
CREATED:20220531T215624Z
LAST-MODIFIED:20220715T005511Z
UID:10001735-1657879200-1657897200@worldchildrensmuseum.org
SUMMARY:Open for General Admission
DESCRIPTION:Pre-registration is encouraged: wacm.ticketleap.com/admission-2022 \nAdmission Costs:Members: FreeNot-Yet-Members: $7 per person\, children under 3 are free.Please visit our website for more information on admission: https://worldchildrensmuseum.org/for-visitors/ \nMasks are required for all visitors ages 3 and up\, regardless of vaccination status. 
URL:https://worldchildrensmuseum.org/events/open-for-general-admission-213/
LOCATION:World Awareness Children’s Museum\, 89 Warren St\, Glens Falls\, NY 12801\, USA
END:VEVENT
BEGIN:VEVENT
DTSTART;TZID=America/New_York:20220714T100000
DTEND;TZID=America/New_York:20220714T150000
DTSTAMP:20260425T115907
CREATED:20220531T215624Z
LAST-MODIFIED:20220714T005512Z
UID:10001734-1657792800-1657810800@worldchildrensmuseum.org
SUMMARY:Open for General Admission
DESCRIPTION:Pre-registration is encouraged: wacm.ticketleap.com/admission-2022 \nAdmission Costs:Members: FreeNot-Yet-Members: $7 per person\, children under 3 are free.Please visit our website for more information on admission: https://worldchildrensmuseum.org/for-visitors/ \nMasks are required for all visitors ages 3 and up\, regardless of vaccination status. 
URL:https://worldchildrensmuseum.org/events/open-for-general-admission-212/
LOCATION:World Awareness Children’s Museum\, 89 Warren St\, Glens Falls\, NY 12801\, USA
END:VEVENT
BEGIN:VEVENT
DTSTART;TZID=America/New_York:20220713T100000
DTEND;TZID=America/New_York:20220713T150000
DTSTAMP:20260425T115907
CREATED:20220531T215623Z
LAST-MODIFIED:20220713T005507Z
UID:10001732-1657706400-1657724400@worldchildrensmuseum.org
SUMMARY:Open for General Admission
DESCRIPTION:Pre-registration is encouraged: wacm.ticketleap.com/admission-2022 \nAdmission Costs:Members: FreeNot-Yet-Members: $7 per person\, children under 3 are free.Please visit our website for more information on admission: https://worldchildrensmuseum.org/for-visitors/ \nMasks are required for all visitors ages 3 and up\, regardless of vaccination status. 
URL:https://worldchildrensmuseum.org/events/open-for-general-admission-211/
LOCATION:World Awareness Children’s Museum\, 89 Warren St\, Glens Falls\, NY 12801\, USA
END:VEVENT
BEGIN:VEVENT
DTSTART;TZID=America/New_York:20220712T110000
DTEND;TZID=America/New_York:20220712T120000
DTSTAMP:20260425T115907
CREATED:20220628T232609Z
LAST-MODIFIED:20220712T004025Z
UID:10001804-1657623600-1657627200@worldchildrensmuseum.org
SUMMARY:Summer Watercolor Art
DESCRIPTION:Join us today to make a watercolor masterpiece. Children will use different materials to make a basic resist painting. Resist art is an art technique that uses several layers to expose or define a design in negative space. \nCost: Free with admission.Suitable for all ages.
URL:https://worldchildrensmuseum.org/events/summer-watercolor-art/
LOCATION:NY
END:VEVENT
BEGIN:VEVENT
DTSTART;TZID=America/New_York:20220712T100000
DTEND;TZID=America/New_York:20220712T150000
DTSTAMP:20260425T115907
CREATED:20220531T215623Z
LAST-MODIFIED:20220712T004025Z
UID:10001730-1657620000-1657638000@worldchildrensmuseum.org
SUMMARY:Open for General Admission
DESCRIPTION:Pre-registration is encouraged: wacm.ticketleap.com/admission-2022 \nAdmission Costs:Members: FreeNot-Yet-Members: $7 per person\, children under 3 are free.Please visit our website for more information on admission: https://worldchildrensmuseum.org/for-visitors/ \nMasks are required for all visitors ages 3 and up\, regardless of vaccination status. 
URL:https://worldchildrensmuseum.org/events/open-for-general-admission-210/
LOCATION:World Awareness Children’s Museum\, 89 Warren St\, Glens Falls\, NY 12801\, USA
END:VEVENT
BEGIN:VEVENT
DTSTART;TZID=America/New_York:20220711T100000
DTEND;TZID=America/New_York:20220711T150000
DTSTAMP:20260425T115907
CREATED:20220531T215623Z
LAST-MODIFIED:20220711T002600Z
UID:10001728-1657533600-1657551600@worldchildrensmuseum.org
SUMMARY:Open for General Admission
DESCRIPTION:Pre-registration is encouraged: wacm.ticketleap.com/admission-2022 \nAdmission Costs:Members: FreeNot-Yet-Members: $7 per person\, children under 3 are free.Please visit our website for more information on admission: https://worldchildrensmuseum.org/for-visitors/ \nMasks are required for all visitors ages 3 and up\, regardless of vaccination status. 
URL:https://worldchildrensmuseum.org/events/open-for-general-admission-209/
LOCATION:World Awareness Children’s Museum\, 89 Warren St\, Glens Falls\, NY 12801\, USA
END:VEVENT
BEGIN:VEVENT
DTSTART;TZID=America/New_York:20220710T100000
DTEND;TZID=America/New_York:20220710T150000
DTSTAMP:20260425T115907
CREATED:20220531T215623Z
LAST-MODIFIED:20220710T002627Z
UID:10001726-1657447200-1657465200@worldchildrensmuseum.org
SUMMARY:Open for General Admission
DESCRIPTION:Pre-registration is encouraged: wacm.ticketleap.com/admission-2022 \nAdmission Costs:Members: FreeNot-Yet-Members: $7 per person\, children under 3 are free.Please visit our website for more information on admission: https://worldchildrensmuseum.org/for-visitors/ \nMasks are required for all visitors ages 3 and up\, regardless of vaccination status. 
URL:https://worldchildrensmuseum.org/events/open-for-general-admission-208/
LOCATION:World Awareness Children’s Museum\, 89 Warren St\, Glens Falls\, NY 12801\, USA
END:VEVENT
BEGIN:VEVENT
DTSTART;TZID=America/New_York:20220710T100000
DTEND;TZID=America/New_York:20220710T150000
DTSTAMP:20260425T115907
CREATED:20220325T231022Z
LAST-MODIFIED:20220710T002627Z
UID:10001699-1657447200-1657465200@worldchildrensmuseum.org
SUMMARY:Free Day!
DESCRIPTION:Visit the museum for free today thanks to Stewart’s Holiday Match and all who contributed! We are pleased to offer these free days from 10am-3pm on the Second Sunday of the month. Donations are appreciated\, but not required. \nFree Days are generously sponsored by Stewart’s Holiday Match.  \nYou can learn more by visiting www.stewartsshops.com/community-giving
URL:https://worldchildrensmuseum.org/events/free-day-4/
LOCATION:NY
END:VEVENT
BEGIN:VEVENT
DTSTART;TZID=America/New_York:20220709T100000
DTEND;TZID=America/New_York:20220709T150000
DTSTAMP:20260425T115907
CREATED:20220531T215623Z
LAST-MODIFIED:20220709T001227Z
UID:10001591-1657360800-1657378800@worldchildrensmuseum.org
SUMMARY:Open for General Admission
DESCRIPTION:Pre-registration is encouraged: wacm.ticketleap.com/admission-2022 \nAdmission Costs:Members: FreeNot-Yet-Members: $7 per person\, children under 3 are free.Please visit our website for more information on admission: https://worldchildrensmuseum.org/for-visitors/ \nMasks are required for all visitors ages 3 and up\, regardless of vaccination status. 
URL:https://worldchildrensmuseum.org/events/open-for-general-admission-207/
LOCATION:World Awareness Children’s Museum\, 89 Warren St\, Glens Falls\, NY 12801\, USA
END:VEVENT
BEGIN:VEVENT
DTSTART;TZID=America/New_York:20220708T103000
DTEND;TZID=America/New_York:20220708T113000
DTSTAMP:20260425T115907
CREATED:20220628T232607Z
LAST-MODIFIED:20220707T235520Z
UID:10001803-1657276200-1657279800@worldchildrensmuseum.org
SUMMARY:Storytime Friday
DESCRIPTION:Reading: “A Friend Like You” by Frank Murphy and Charnaie Gordon \nEveryone is welcome at our recurring program\, Storytime Fridays! This program is appropriate for all ages and includes a story and a craft.  \nCost: Free with admission
URL:https://worldchildrensmuseum.org/events/storytime-friday-17/
LOCATION:NY
END:VEVENT
END:VCALENDAR