BEGIN:VCALENDAR
VERSION:2.0
PRODID:-//World Awareness Children&#039;s Museum - ECPv6.15.20//NONSGML v1.0//EN
CALSCALE:GREGORIAN
METHOD:PUBLISH
X-ORIGINAL-URL:https://worldchildrensmuseum.org
X-WR-CALDESC:Events for World Awareness Children&#039;s Museum
REFRESH-INTERVAL;VALUE=DURATION:PT1H
X-Robots-Tag:noindex
X-PUBLISHED-TTL:PT1H
BEGIN:VTIMEZONE
TZID:America/New_York
BEGIN:DAYLIGHT
TZOFFSETFROM:-0500
TZOFFSETTO:-0400
TZNAME:EDT
DTSTART:20240310T070000
END:DAYLIGHT
BEGIN:STANDARD
TZOFFSETFROM:-0400
TZOFFSETTO:-0500
TZNAME:EST
DTSTART:20241103T060000
END:STANDARD
BEGIN:DAYLIGHT
TZOFFSETFROM:-0500
TZOFFSETTO:-0400
TZNAME:EDT
DTSTART:20250309T070000
END:DAYLIGHT
BEGIN:STANDARD
TZOFFSETFROM:-0400
TZOFFSETTO:-0500
TZNAME:EST
DTSTART:20251102T060000
END:STANDARD
BEGIN:DAYLIGHT
TZOFFSETFROM:-0500
TZOFFSETTO:-0400
TZNAME:EDT
DTSTART:20260308T070000
END:DAYLIGHT
BEGIN:STANDARD
TZOFFSETFROM:-0400
TZOFFSETTO:-0500
TZNAME:EST
DTSTART:20261101T060000
END:STANDARD
END:VTIMEZONE
BEGIN:VEVENT
DTSTART;TZID=America/New_York:20250922T100000
DTEND;TZID=America/New_York:20250922T150000
DTSTAMP:20260424T191610
CREATED:20240831T030949Z
LAST-MODIFIED:20250619T190906Z
UID:10004130-1758535200-1758553200@worldchildrensmuseum.org
SUMMARY:Open for General Admission
DESCRIPTION:Tickets can be purchased online at https://wacm.ticketleap.com/museum-admission-2024/Admission Costs:Members: FreeNot-Yet-Members: $7 per person\, children under 12mo. are free.Please visit our website for more information on admission: https://worldchildrensmuseum.org/for-visitors/
URL:https://worldchildrensmuseum.org/events/open-for-general-admission-2079/
LOCATION:World Awareness Children’s Museum\, 89 Warren St\, Glens Falls\, NY\, United States
GEO:43.310029;-73.639958
X-APPLE-STRUCTURED-LOCATION;VALUE=URI;X-ADDRESS=World Awareness Children’s Museum 89 Warren St Glens Falls NY United States;X-APPLE-RADIUS=500;X-TITLE=89 Warren St:geo:-73.639958,43.310029
END:VEVENT
BEGIN:VEVENT
DTSTART;TZID=America/New_York:20250925T100000
DTEND;TZID=America/New_York:20250925T150000
DTSTAMP:20260424T191610
CREATED:20240831T030949Z
LAST-MODIFIED:20250619T190906Z
UID:10004131-1758794400-1758812400@worldchildrensmuseum.org
SUMMARY:Open for General Admission
DESCRIPTION:Tickets can be purchased online at https://wacm.ticketleap.com/museum-admission-2024/Admission Costs:Members: FreeNot-Yet-Members: $7 per person\, children under 12mo. are free.Please visit our website for more information on admission: https://worldchildrensmuseum.org/for-visitors/
URL:https://worldchildrensmuseum.org/events/open-for-general-admission-2080/
LOCATION:World Awareness Children’s Museum\, 89 Warren St\, Glens Falls\, NY\, United States
GEO:43.310029;-73.639958
X-APPLE-STRUCTURED-LOCATION;VALUE=URI;X-ADDRESS=World Awareness Children’s Museum 89 Warren St Glens Falls NY United States;X-APPLE-RADIUS=500;X-TITLE=89 Warren St:geo:-73.639958,43.310029
END:VEVENT
BEGIN:VEVENT
DTSTART;TZID=America/New_York:20250926T100000
DTEND;TZID=America/New_York:20250926T150000
DTSTAMP:20260424T191610
CREATED:20240901T052517Z
LAST-MODIFIED:20250619T190906Z
UID:10004132-1758880800-1758898800@worldchildrensmuseum.org
SUMMARY:Open for General Admission
DESCRIPTION:Tickets can be purchased online at https://wacm.ticketleap.com/museum-admission-2024/Admission Costs:Members: FreeNot-Yet-Members: $7 per person\, children under 12mo. are free.Please visit our website for more information on admission: https://worldchildrensmuseum.org/for-visitors/
URL:https://worldchildrensmuseum.org/events/open-for-general-admission-2081/
LOCATION:World Awareness Children’s Museum\, 89 Warren St\, Glens Falls\, NY\, United States
GEO:43.310029;-73.639958
X-APPLE-STRUCTURED-LOCATION;VALUE=URI;X-ADDRESS=World Awareness Children’s Museum 89 Warren St Glens Falls NY United States;X-APPLE-RADIUS=500;X-TITLE=89 Warren St:geo:-73.639958,43.310029
END:VEVENT
BEGIN:VEVENT
DTSTART;TZID=America/New_York:20250926T103000
DTEND;TZID=America/New_York:20250926T113000
DTSTAMP:20260424T191610
CREATED:20250925T172031Z
LAST-MODIFIED:20250926T152356Z
UID:10005014-1758882600-1758886200@worldchildrensmuseum.org
SUMMARY:Storytime Friday
DESCRIPTION:Everyone is welcome at Storytime Fridays\, a recurring program designed to spark joy and curiosity in little ones!  \nEach week\, we explore early literacy skills through movement\, imaginative play\, and a creative craft that brings the story to life. Perfect for toddlers\, preschoolers\, and their caregivers. \nCost: Free with Admission
URL:https://worldchildrensmuseum.org/events/storytime-friday-152/
LOCATION:89 Warren St\, Glens Falls\, NY\, United States
GEO:43.30952;-73.64401
END:VEVENT
BEGIN:VEVENT
DTSTART;TZID=America/New_York:20250926T120000
DTEND;TZID=America/New_York:20250926T130000
DTSTAMP:20260424T191610
CREATED:20250925T172031Z
LAST-MODIFIED:20250926T164350Z
UID:10005015-1758888000-1758891600@worldchildrensmuseum.org
SUMMARY:Handprint Friends: Jellyfish in Bubbles
DESCRIPTION:Handprint Friends: Fridays\, September 5\, 12\, 19\, & 26\, 12-1 pm. \nCreate your own unique “friend” each week using your very own handprint! Perfect for children ages 2 and up\, this fun and creative series lets little artists bring home a new handmade friend every Friday in September. \nCost: Free with admission
URL:https://worldchildrensmuseum.org/events/handprint-friends-jellyfish-in-bubbles/
LOCATION:89 Warren St\, Glens Falls\, NY\, United States
GEO:43.30952;-73.64401
END:VEVENT
BEGIN:VEVENT
DTSTART;TZID=America/New_York:20250926T133000
DTEND;TZID=America/New_York:20250926T143000
DTSTAMP:20260424T191610
CREATED:20250925T172032Z
LAST-MODIFIED:20250926T180847Z
UID:10005016-1758893400-1758897000@worldchildrensmuseum.org
SUMMARY:Storytime Friday
DESCRIPTION:Everyone is welcome at Storytime Fridays\, a recurring program designed to spark joy and curiosity in little ones!  \nEach week\, we explore early literacy skills through movement\, imaginative play\, and a creative craft that brings the story to life. Perfect for toddlers\, preschoolers\, and their caregivers. \nCost: Free with Admission
URL:https://worldchildrensmuseum.org/events/storytime-friday-154/
LOCATION:89 Warren St\, Glens Falls\, NY\, United States
GEO:43.30952;-73.64401
END:VEVENT
BEGIN:VEVENT
DTSTART;TZID=America/New_York:20250927T100000
DTEND;TZID=America/New_York:20250927T150000
DTSTAMP:20260424T191610
CREATED:20240902T053931Z
LAST-MODIFIED:20250619T190906Z
UID:10004133-1758967200-1758985200@worldchildrensmuseum.org
SUMMARY:Open for General Admission
DESCRIPTION:Tickets can be purchased online at https://wacm.ticketleap.com/museum-admission-2024/Admission Costs:Members: FreeNot-Yet-Members: $7 per person\, children under 12mo. are free.Please visit our website for more information on admission: https://worldchildrensmuseum.org/for-visitors/
URL:https://worldchildrensmuseum.org/events/open-for-general-admission-2082/
LOCATION:World Awareness Children’s Museum\, 89 Warren St\, Glens Falls\, NY\, United States
GEO:43.310029;-73.639958
X-APPLE-STRUCTURED-LOCATION;VALUE=URI;X-ADDRESS=World Awareness Children’s Museum 89 Warren St Glens Falls NY United States;X-APPLE-RADIUS=500;X-TITLE=89 Warren St:geo:-73.639958,43.310029
END:VEVENT
BEGIN:VEVENT
DTSTART;TZID=America/New_York:20250927T103000
DTEND;TZID=America/New_York:20250927T113000
DTSTAMP:20260424T191610
CREATED:20250623T195414Z
LAST-MODIFIED:20250926T180848Z
UID:10004839-1758969000-1758972600@worldchildrensmuseum.org
SUMMARY:Storytime Saturday
DESCRIPTION:Join us for a playful weekend storytime designed for families who can’t make it to our Friday sessions! Each month\, enjoy stories\, songs\, and hands-on crafts that bring the themes to life—all in a fun\, welcoming space for little ones and their grown-ups. \nStorytime supports early literacy\, creativity\, and connection. \nCost: Free with admission
URL:https://worldchildrensmuseum.org/events/storytime-saturday-7/
LOCATION:NY
END:VEVENT
BEGIN:VEVENT
DTSTART;TZID=America/New_York:20250927T120000
DTEND;TZID=America/New_York:20250927T130000
DTSTAMP:20260424T191610
CREATED:20250925T172033Z
LAST-MODIFIED:20250926T180848Z
UID:10005017-1758974400-1758978000@worldchildrensmuseum.org
SUMMARY:Clay Creations
DESCRIPTION:Sculpt\, shape\, and decorate with clay\, yarn\, glitter\, googly eyes\, and more! \n\n09/06: Unicorn \n09/27: Leaf bowls\n\n Best for ages 7 and up. Up to 10 artists per session.  \nPre-registration required for each date. \nCost: Free with admission. Reserve your spot: Call 518-793-2773 or visit wacm.ticketleap.com
URL:https://worldchildrensmuseum.org/events/clay-creations/
LOCATION:89 Warren St\, Glens Falls\, NY\, United States
GEO:43.30952;-73.64401
END:VEVENT
BEGIN:VEVENT
DTSTART;TZID=America/New_York:20250927T133000
DTEND;TZID=America/New_York:20250927T143000
DTSTAMP:20260424T191610
CREATED:20250623T195415Z
LAST-MODIFIED:20250926T180848Z
UID:10004840-1758979800-1758983400@worldchildrensmuseum.org
SUMMARY:Storytime Saturday
DESCRIPTION:Join us for a playful weekend storytime designed for families who can’t make it to our Friday sessions! Each month\, enjoy stories\, songs\, and hands-on crafts that bring the themes to life—all in a fun\, welcoming space for little ones and their grown-ups. \nStorytime supports early literacy\, creativity\, and connection. \nCost: Free with admission
URL:https://worldchildrensmuseum.org/events/storytime-saturday-8/
LOCATION:NY
END:VEVENT
BEGIN:VEVENT
DTSTART;TZID=America/New_York:20250928T100000
DTEND;TZID=America/New_York:20250928T150000
DTSTAMP:20260424T191610
CREATED:20240903T053932Z
LAST-MODIFIED:20250619T190906Z
UID:10004134-1759053600-1759071600@worldchildrensmuseum.org
SUMMARY:Open for General Admission
DESCRIPTION:Tickets can be purchased online at https://wacm.ticketleap.com/museum-admission-2024/Admission Costs:Members: FreeNot-Yet-Members: $7 per person\, children under 12mo. are free.Please visit our website for more information on admission: https://worldchildrensmuseum.org/for-visitors/
URL:https://worldchildrensmuseum.org/events/open-for-general-admission-2083/
LOCATION:World Awareness Children’s Museum\, 89 Warren St\, Glens Falls\, NY\, United States
GEO:43.310029;-73.639958
X-APPLE-STRUCTURED-LOCATION;VALUE=URI;X-ADDRESS=World Awareness Children’s Museum 89 Warren St Glens Falls NY United States;X-APPLE-RADIUS=500;X-TITLE=89 Warren St:geo:-73.639958,43.310029
END:VEVENT
BEGIN:VEVENT
DTSTART;TZID=America/New_York:20250929T100000
DTEND;TZID=America/New_York:20250929T150000
DTSTAMP:20260424T191610
CREATED:20240906T061032Z
LAST-MODIFIED:20250619T190907Z
UID:10004135-1759140000-1759158000@worldchildrensmuseum.org
SUMMARY:Open for General Admission
DESCRIPTION:Tickets can be purchased online at https://wacm.ticketleap.com/museum-admission-2024/Admission Costs:Members: FreeNot-Yet-Members: $7 per person\, children under 12mo. are free.Please visit our website for more information on admission: https://worldchildrensmuseum.org/for-visitors/
URL:https://worldchildrensmuseum.org/events/open-for-general-admission-2084/
LOCATION:World Awareness Children’s Museum\, 89 Warren St\, Glens Falls\, NY\, United States
GEO:43.310029;-73.639958
X-APPLE-STRUCTURED-LOCATION;VALUE=URI;X-ADDRESS=World Awareness Children’s Museum 89 Warren St Glens Falls NY United States;X-APPLE-RADIUS=500;X-TITLE=89 Warren St:geo:-73.639958,43.310029
END:VEVENT
BEGIN:VEVENT
DTSTART;TZID=America/New_York:20250929T103000
DTEND;TZID=America/New_York:20250929T120000
DTSTAMP:20260424T191610
CREATED:20250925T172033Z
LAST-MODIFIED:20250926T180848Z
UID:10005022-1759141800-1759147200@worldchildrensmuseum.org
SUMMARY:Homeschool Hangout: Explore the World Together
DESCRIPTION:NEW! Calling all homeschoolers! \nCollect your passport and discover a new country each month! \nJoin us for a fun and relaxed meet-up where kids can connect with peers and explore the world through hands-on activities. Each session highlights a different country or culture\, inviting children to explore books\, learn simple phrases from the featured language\, discover art\, and practice writing. \nUse the colorful exhibit guides posted throughout the museum to guide your journey with fun facts\, questions\, and prompts that children and caregivers can enjoy together—at their own pace. It’s a great way to learn\, create\, and build community! \nCost: Free with admission
URL:https://worldchildrensmuseum.org/events/homeschool-hangout-explore-the-world-together/
LOCATION:NY
END:VEVENT
BEGIN:VEVENT
DTSTART;TZID=America/New_York:20251002T100000
DTEND;TZID=America/New_York:20251002T150000
DTSTAMP:20260424T191610
CREATED:20240907T062436Z
LAST-MODIFIED:20250619T190907Z
UID:10004136-1759399200-1759417200@worldchildrensmuseum.org
SUMMARY:Open for General Admission
DESCRIPTION:Tickets can be purchased online at https://wacm.ticketleap.com/museum-admission-2024/Admission Costs:Members: FreeNot-Yet-Members: $7 per person\, children under 12mo. are free.Please visit our website for more information on admission: https://worldchildrensmuseum.org/for-visitors/
URL:https://worldchildrensmuseum.org/events/open-for-general-admission-2085/
LOCATION:World Awareness Children’s Museum\, 89 Warren St\, Glens Falls\, NY\, United States
GEO:43.310029;-73.639958
X-APPLE-STRUCTURED-LOCATION;VALUE=URI;X-ADDRESS=World Awareness Children’s Museum 89 Warren St Glens Falls NY United States;X-APPLE-RADIUS=500;X-TITLE=89 Warren St:geo:-73.639958,43.310029
END:VEVENT
BEGIN:VEVENT
DTSTART;TZID=America/New_York:20251002T103000
DTEND;TZID=America/New_York:20251002T113000
DTSTAMP:20260424T191610
CREATED:20250925T172034Z
LAST-MODIFIED:20250926T180849Z
UID:10005023-1759401000-1759404600@worldchildrensmuseum.org
SUMMARY:Kinder Rhythm Drumming
DESCRIPTION:Join us for a lively\, interactive music session that inspires creativity\, joyful play\, and social connection through the power of group rhythm-making. We’ll sing\, dance\, play instruments\, and move to the beat together! \nCost: Free with Admission
URL:https://worldchildrensmuseum.org/events/kinder-rhythm-drumming-31/
LOCATION:World Awareness Children’s Museum\, 89 Warren St\, Glens Falls\, NY\, United States
GEO:43.310029;-73.639958
X-APPLE-STRUCTURED-LOCATION;VALUE=URI;X-ADDRESS=World Awareness Children’s Museum 89 Warren St Glens Falls NY United States;X-APPLE-RADIUS=500;X-TITLE=89 Warren St:geo:-73.639958,43.310029
END:VEVENT
BEGIN:VEVENT
DTSTART;TZID=America/New_York:20251003T100000
DTEND;TZID=America/New_York:20251003T150000
DTSTAMP:20260424T191610
CREATED:20240907T062437Z
LAST-MODIFIED:20250619T190907Z
UID:10004137-1759485600-1759503600@worldchildrensmuseum.org
SUMMARY:Open for General Admission
DESCRIPTION:Tickets can be purchased online at https://wacm.ticketleap.com/museum-admission-2024/Admission Costs:Members: FreeNot-Yet-Members: $7 per person\, children under 12mo. are free.Please visit our website for more information on admission: https://worldchildrensmuseum.org/for-visitors/
URL:https://worldchildrensmuseum.org/events/open-for-general-admission-2086/
LOCATION:World Awareness Children’s Museum\, 89 Warren St\, Glens Falls\, NY\, United States
GEO:43.310029;-73.639958
X-APPLE-STRUCTURED-LOCATION;VALUE=URI;X-ADDRESS=World Awareness Children’s Museum 89 Warren St Glens Falls NY United States;X-APPLE-RADIUS=500;X-TITLE=89 Warren St:geo:-73.639958,43.310029
END:VEVENT
BEGIN:VEVENT
DTSTART;TZID=America/New_York:20251003T100000
DTEND;TZID=America/New_York:20251003T150000
DTSTAMP:20260424T191610
CREATED:20251003T182342Z
LAST-MODIFIED:20251003T182344Z
UID:10005623-1759485600-1759503600@worldchildrensmuseum.org
SUMMARY:Open for General Admission
DESCRIPTION:Tickets can be purchased online at https://wacm.ticketleap.com/admission-2025/Admission Costs:Members: FreeNot-Yet-Members: $7 per person\, children under 12mo. are free.Please visit our website for more information on admission: https://worldchildrensmuseum.org/for-visitors/
URL:https://worldchildrensmuseum.org/events/open-for-general-admission-3/
LOCATION:World Awareness Children’s Museum\, 89 Warren St\, Glens Falls\, NY\, United States
GEO:43.310029;-73.639958
X-APPLE-STRUCTURED-LOCATION;VALUE=URI;X-ADDRESS=World Awareness Children’s Museum 89 Warren St Glens Falls NY United States;X-APPLE-RADIUS=500;X-TITLE=89 Warren St:geo:-73.639958,43.310029
END:VEVENT
BEGIN:VEVENT
DTSTART;TZID=America/New_York:20251003T103000
DTEND;TZID=America/New_York:20251003T113000
DTSTAMP:20260424T191610
CREATED:20250925T172035Z
LAST-MODIFIED:20250926T180902Z
UID:10005024-1759487400-1759491000@worldchildrensmuseum.org
SUMMARY:Storytime Friday
DESCRIPTION:Everyone is welcome at Storytime Fridays\, a recurring program designed to spark joy and curiosity in little ones!  \nEach week\, we explore early literacy skills through movement\, imaginative play\, and a creative craft that brings the story to life. Perfect for toddlers\, preschoolers\, and their caregivers. \nCost: Free with Admission
URL:https://worldchildrensmuseum.org/events/storytime-friday-156/
LOCATION:World Awareness Children’s Museum\, 89 Warren St\, Glens Falls\, NY\, United States
GEO:43.310029;-73.639958
X-APPLE-STRUCTURED-LOCATION;VALUE=URI;X-ADDRESS=World Awareness Children’s Museum 89 Warren St Glens Falls NY United States;X-APPLE-RADIUS=500;X-TITLE=89 Warren St:geo:-73.639958,43.310029
END:VEVENT
BEGIN:VEVENT
DTSTART;TZID=America/New_York:20251003T133000
DTEND;TZID=America/New_York:20251003T143000
DTSTAMP:20260424T191610
CREATED:20250925T172035Z
LAST-MODIFIED:20251003T182343Z
UID:10005025-1759498200-1759501800@worldchildrensmuseum.org
SUMMARY:Storytime Friday
DESCRIPTION:Everyone is welcome at Storytime Fridays\, a recurring program designed to spark joy and curiosity in little ones!  \nEach week\, we explore early literacy skills through movement\, imaginative play\, and a creative craft that brings the story to life. Perfect for toddlers\, preschoolers\, and their caregivers. \nCost: Free with Admission
URL:https://worldchildrensmuseum.org/events/storytime-friday-157/
LOCATION:NY
END:VEVENT
BEGIN:VEVENT
DTSTART;TZID=America/New_York:20251004T100000
DTEND;TZID=America/New_York:20251004T150000
DTSTAMP:20260424T191610
CREATED:20240908T062528Z
LAST-MODIFIED:20250619T190907Z
UID:10004138-1759572000-1759590000@worldchildrensmuseum.org
SUMMARY:Open for General Admission
DESCRIPTION:Tickets can be purchased online at https://wacm.ticketleap.com/museum-admission-2024/Admission Costs:Members: FreeNot-Yet-Members: $7 per person\, children under 12mo. are free.Please visit our website for more information on admission: https://worldchildrensmuseum.org/for-visitors/
URL:https://worldchildrensmuseum.org/events/open-for-general-admission-2087/
LOCATION:World Awareness Children’s Museum\, 89 Warren St\, Glens Falls\, NY\, United States
GEO:43.310029;-73.639958
X-APPLE-STRUCTURED-LOCATION;VALUE=URI;X-ADDRESS=World Awareness Children’s Museum 89 Warren St Glens Falls NY United States;X-APPLE-RADIUS=500;X-TITLE=89 Warren St:geo:-73.639958,43.310029
END:VEVENT
BEGIN:VEVENT
DTSTART;TZID=America/New_York:20251004T100000
DTEND;TZID=America/New_York:20251004T150000
DTSTAMP:20260424T191610
CREATED:20250925T172036Z
LAST-MODIFIED:20251003T182344Z
UID:10005026-1759572000-1759590000@worldchildrensmuseum.org
SUMMARY:Bring Your Favorite...Stuffed Lovie Day!
DESCRIPTION:Bring your favorite stuffed animal into the museum for a 'trip around the world'!   \nCome in and follow Thailand's elephant footprints on the floor. Are your stuffed animal's feet bigger or smaller than the elephants? You and your lovie can then stroll to Japan\, explore Mexico's Kitchen\, and climb the Mountain Tots wall or roast a marshmallow together!  \nDon't forget to color a picture in the Art Room of your favorite memory today and pick up a sticker at the front desk for your stuffed animal as a keepsake. Did you or your lovie have a favorite exhibit\, or was it just too hard to choose? \nCost: Free with Admission
URL:https://worldchildrensmuseum.org/events/bring-your-favorite-stuffed-lovie-day/
LOCATION:World Awareness Children’s Museum\, 89 Warren St\, Glens Falls\, NY\, United States
GEO:43.310029;-73.639958
X-APPLE-STRUCTURED-LOCATION;VALUE=URI;X-ADDRESS=World Awareness Children’s Museum 89 Warren St Glens Falls NY United States;X-APPLE-RADIUS=500;X-TITLE=89 Warren St:geo:-73.639958,43.310029
END:VEVENT
BEGIN:VEVENT
DTSTART;TZID=America/New_York:20251004T100000
DTEND;TZID=America/New_York:20251004T150000
DTSTAMP:20260424T191610
CREATED:20251003T182343Z
LAST-MODIFIED:20251003T182344Z
UID:10005624-1759572000-1759590000@worldchildrensmuseum.org
SUMMARY:Open for General Admission
DESCRIPTION:Tickets can be purchased online at https://wacm.ticketleap.com/admission-2025/Admission Costs:Members: FreeNot-Yet-Members: $7 per person\, children under 12mo. are free.Please visit our website for more information on admission: https://worldchildrensmuseum.org/for-visitors/
URL:https://worldchildrensmuseum.org/events/open-for-general-admission-5/
LOCATION:World Awareness Children’s Museum\, 89 Warren St\, Glens Falls\, NY\, United States
GEO:43.310029;-73.639958
X-APPLE-STRUCTURED-LOCATION;VALUE=URI;X-ADDRESS=World Awareness Children’s Museum 89 Warren St Glens Falls NY United States;X-APPLE-RADIUS=500;X-TITLE=89 Warren St:geo:-73.639958,43.310029
END:VEVENT
BEGIN:VEVENT
DTSTART;TZID=America/New_York:20251005T100000
DTEND;TZID=America/New_York:20251005T150000
DTSTAMP:20260424T191610
CREATED:20240909T063949Z
LAST-MODIFIED:20250619T190907Z
UID:10004139-1759658400-1759676400@worldchildrensmuseum.org
SUMMARY:Open for General Admission
DESCRIPTION:Tickets can be purchased online at https://wacm.ticketleap.com/museum-admission-2024/Admission Costs:Members: FreeNot-Yet-Members: $7 per person\, children under 12mo. are free.Please visit our website for more information on admission: https://worldchildrensmuseum.org/for-visitors/
URL:https://worldchildrensmuseum.org/events/open-for-general-admission-2088/
LOCATION:World Awareness Children’s Museum\, 89 Warren St\, Glens Falls\, NY\, United States
GEO:43.310029;-73.639958
X-APPLE-STRUCTURED-LOCATION;VALUE=URI;X-ADDRESS=World Awareness Children’s Museum 89 Warren St Glens Falls NY United States;X-APPLE-RADIUS=500;X-TITLE=89 Warren St:geo:-73.639958,43.310029
END:VEVENT
BEGIN:VEVENT
DTSTART;TZID=America/New_York:20251005T100000
DTEND;TZID=America/New_York:20251005T150000
DTSTAMP:20260424T191610
CREATED:20251003T182343Z
LAST-MODIFIED:20251003T182344Z
UID:10005625-1759658400-1759676400@worldchildrensmuseum.org
SUMMARY:Open for General Admission
DESCRIPTION:Tickets can be purchased online at https://wacm.ticketleap.com/admission-2025/Admission Costs:Members: FreeNot-Yet-Members: $7 per person\, children under 12mo. are free.Please visit our website for more information on admission: https://worldchildrensmuseum.org/for-visitors/
URL:https://worldchildrensmuseum.org/events/open-for-general-admission-7/
LOCATION:World Awareness Children’s Museum\, 89 Warren St\, Glens Falls\, NY\, United States
GEO:43.310029;-73.639958
X-APPLE-STRUCTURED-LOCATION;VALUE=URI;X-ADDRESS=World Awareness Children’s Museum 89 Warren St Glens Falls NY United States;X-APPLE-RADIUS=500;X-TITLE=89 Warren St:geo:-73.639958,43.310029
END:VEVENT
BEGIN:VEVENT
DTSTART;TZID=America/New_York:20251006T100000
DTEND;TZID=America/New_York:20251006T150000
DTSTAMP:20260424T191610
CREATED:20240909T063950Z
LAST-MODIFIED:20250619T190907Z
UID:10004140-1759744800-1759762800@worldchildrensmuseum.org
SUMMARY:Open for General Admission
DESCRIPTION:Tickets can be purchased online at https://wacm.ticketleap.com/museum-admission-2024/Admission Costs:Members: FreeNot-Yet-Members: $7 per person\, children under 12mo. are free.Please visit our website for more information on admission: https://worldchildrensmuseum.org/for-visitors/
URL:https://worldchildrensmuseum.org/events/open-for-general-admission-2089/
LOCATION:World Awareness Children’s Museum\, 89 Warren St\, Glens Falls\, NY\, United States
GEO:43.310029;-73.639958
X-APPLE-STRUCTURED-LOCATION;VALUE=URI;X-ADDRESS=World Awareness Children’s Museum 89 Warren St Glens Falls NY United States;X-APPLE-RADIUS=500;X-TITLE=89 Warren St:geo:-73.639958,43.310029
END:VEVENT
BEGIN:VEVENT
DTSTART;TZID=America/New_York:20251006T103000
DTEND;TZID=America/New_York:20251006T113000
DTSTAMP:20260424T191610
CREATED:20250925T172036Z
LAST-MODIFIED:20251003T182344Z
UID:10005027-1759746600-1759750200@worldchildrensmuseum.org
SUMMARY:Peaceful Play Yom Kippur: Sensory Fun For Preschoolers!
DESCRIPTION:Scoop\, pour\, and play! Explore soft stones\, water beads\, and doves of peace as we learn about Yom Kippur together. A calming way to have fun with the holiday!   \nCost: Free with admission.
URL:https://worldchildrensmuseum.org/events/peaceful-play-yom-kippur-sensory-fun-for-preschoolers/
LOCATION:World Awareness Children’s Museum\, 89 Warren St\, Glens Falls\, NY\, United States
GEO:43.310029;-73.639958
X-APPLE-STRUCTURED-LOCATION;VALUE=URI;X-ADDRESS=World Awareness Children’s Museum 89 Warren St Glens Falls NY United States;X-APPLE-RADIUS=500;X-TITLE=89 Warren St:geo:-73.639958,43.310029
END:VEVENT
BEGIN:VEVENT
DTSTART;TZID=America/New_York:20251006T130000
DTEND;TZID=America/New_York:20251006T140000
DTSTAMP:20260424T191610
CREATED:20250925T172036Z
LAST-MODIFIED:20251003T182345Z
UID:10005028-1759755600-1759759200@worldchildrensmuseum.org
SUMMARY:Heartbeat of the Earth: Music & Movement
DESCRIPTION:Celebrate rhythm and connection through music and movement inspired by the natural world. In honor of Indigenous Peoples\, toddlers\, preschoolers\, and their caregivers will join together to explore simple beats\, sounds\, and motions in a joyful\, community-centered experience. \nCost: Free with admission.
URL:https://worldchildrensmuseum.org/events/heartbeat-of-the-earth-music-movement/
LOCATION:World Awareness Children’s Museum\, 89 Warren St\, Glens Falls\, NY\, United States
GEO:43.310029;-73.639958
X-APPLE-STRUCTURED-LOCATION;VALUE=URI;X-ADDRESS=World Awareness Children’s Museum 89 Warren St Glens Falls NY United States;X-APPLE-RADIUS=500;X-TITLE=89 Warren St:geo:-73.639958,43.310029
END:VEVENT
BEGIN:VEVENT
DTSTART;TZID=America/New_York:20251009T100000
DTEND;TZID=America/New_York:20251009T150000
DTSTAMP:20260424T191610
CREATED:20240910T065424Z
LAST-MODIFIED:20250619T190907Z
UID:10004141-1760004000-1760022000@worldchildrensmuseum.org
SUMMARY:Open for General Admission
DESCRIPTION:Tickets can be purchased online at https://wacm.ticketleap.com/museum-admission-2024/Admission Costs:Members: FreeNot-Yet-Members: $7 per person\, children under 12mo. are free.Please visit our website for more information on admission: https://worldchildrensmuseum.org/for-visitors/
URL:https://worldchildrensmuseum.org/events/open-for-general-admission-2090/
LOCATION:World Awareness Children’s Museum\, 89 Warren St\, Glens Falls\, NY\, United States
GEO:43.310029;-73.639958
X-APPLE-STRUCTURED-LOCATION;VALUE=URI;X-ADDRESS=World Awareness Children’s Museum 89 Warren St Glens Falls NY United States;X-APPLE-RADIUS=500;X-TITLE=89 Warren St:geo:-73.639958,43.310029
END:VEVENT
BEGIN:VEVENT
DTSTART;TZID=America/New_York:20251009T103000
DTEND;TZID=America/New_York:20251009T113000
DTSTAMP:20260424T191610
CREATED:20250925T172037Z
LAST-MODIFIED:20251003T182345Z
UID:10005029-1760005800-1760009400@worldchildrensmuseum.org
SUMMARY:Kinder Rhythm Drumming
DESCRIPTION:Join us for a lively\, interactive music session that inspires creativity\, joyful play\, and social connection through the power of group rhythm-making. We’ll sing\, dance\, play instruments\, and move to the beat together! \nCost: Free with Admission
URL:https://worldchildrensmuseum.org/events/kinder-rhythm-drumming-32/
LOCATION:World Awareness Children’s Museum\, 89 Warren St\, Glens Falls\, NY\, United States
GEO:43.310029;-73.639958
X-APPLE-STRUCTURED-LOCATION;VALUE=URI;X-ADDRESS=World Awareness Children’s Museum 89 Warren St Glens Falls NY United States;X-APPLE-RADIUS=500;X-TITLE=89 Warren St:geo:-73.639958,43.310029
END:VEVENT
BEGIN:VEVENT
DTSTART;TZID=America/New_York:20251010T100000
DTEND;TZID=America/New_York:20251010T150000
DTSTAMP:20260424T191610
CREATED:20240910T065424Z
LAST-MODIFIED:20250619T190908Z
UID:10004142-1760090400-1760108400@worldchildrensmuseum.org
SUMMARY:Open for General Admission
DESCRIPTION:Tickets can be purchased online at https://wacm.ticketleap.com/museum-admission-2024/Admission Costs:Members: FreeNot-Yet-Members: $7 per person\, children under 12mo. are free.Please visit our website for more information on admission: https://worldchildrensmuseum.org/for-visitors/
URL:https://worldchildrensmuseum.org/events/open-for-general-admission-2091/
LOCATION:World Awareness Children’s Museum\, 89 Warren St\, Glens Falls\, NY\, United States
GEO:43.310029;-73.639958
X-APPLE-STRUCTURED-LOCATION;VALUE=URI;X-ADDRESS=World Awareness Children’s Museum 89 Warren St Glens Falls NY United States;X-APPLE-RADIUS=500;X-TITLE=89 Warren St:geo:-73.639958,43.310029
END:VEVENT
END:VCALENDAR