BEGIN:VCALENDAR
VERSION:2.0
PRODID:-//World Awareness Children&#039;s Museum - ECPv6.15.20//NONSGML v1.0//EN
CALSCALE:GREGORIAN
METHOD:PUBLISH
X-WR-CALNAME:World Awareness Children&#039;s Museum
X-ORIGINAL-URL:https://worldchildrensmuseum.org
X-WR-CALDESC:Events for World Awareness Children&#039;s Museum
REFRESH-INTERVAL;VALUE=DURATION:PT1H
X-Robots-Tag:noindex
X-PUBLISHED-TTL:PT1H
BEGIN:VTIMEZONE
TZID:America/New_York
BEGIN:DAYLIGHT
TZOFFSETFROM:-0500
TZOFFSETTO:-0400
TZNAME:EDT
DTSTART:20230312T070000
END:DAYLIGHT
BEGIN:STANDARD
TZOFFSETFROM:-0400
TZOFFSETTO:-0500
TZNAME:EST
DTSTART:20231105T060000
END:STANDARD
BEGIN:DAYLIGHT
TZOFFSETFROM:-0500
TZOFFSETTO:-0400
TZNAME:EDT
DTSTART:20240310T070000
END:DAYLIGHT
BEGIN:STANDARD
TZOFFSETFROM:-0400
TZOFFSETTO:-0500
TZNAME:EST
DTSTART:20241103T060000
END:STANDARD
BEGIN:DAYLIGHT
TZOFFSETFROM:-0500
TZOFFSETTO:-0400
TZNAME:EDT
DTSTART:20250309T070000
END:DAYLIGHT
BEGIN:STANDARD
TZOFFSETFROM:-0400
TZOFFSETTO:-0500
TZNAME:EST
DTSTART:20251102T060000
END:STANDARD
END:VTIMEZONE
BEGIN:VEVENT
DTSTART;TZID=America/New_York:20240627T103000
DTEND;TZID=America/New_York:20240627T113000
DTSTAMP:20260419T203251
CREATED:20240530T150845Z
LAST-MODIFIED:20240626T160845Z
UID:10004016-1719484200-1719487800@worldchildrensmuseum.org
SUMMARY:Sunflower Hand Painting
DESCRIPTION:Summer is here\, so let’s get messy and do some finger painting! Join us today to create a stunning sunflower painting using your fingers and hands.  \nCost: Free with admission
URL:https://worldchildrensmuseum.org/events/sunflower-hand-painting/
LOCATION:NY
END:VEVENT
BEGIN:VEVENT
DTSTART;TZID=America/New_York:20240628T103000
DTEND;TZID=America/New_York:20240628T113000
DTSTAMP:20260419T203251
CREATED:20240530T150845Z
LAST-MODIFIED:20240626T160845Z
UID:10004017-1719570600-1719574200@worldchildrensmuseum.org
SUMMARY:Storytime Friday
DESCRIPTION:Reading: “This Day in June” by Gayle PitmanTheme: Pride month \n \n \n \nEveryone is welcome at our recurring program\, Storytime Fridays! This program is appropriate for all ages and includes a story and a craft.  \nCost: Free with admission
URL:https://worldchildrensmuseum.org/events/storytime-friday-70/
LOCATION:NY
END:VEVENT
BEGIN:VEVENT
DTSTART;TZID=America/New_York:20240701T103000
DTEND;TZID=America/New_York:20240701T113000
DTSTAMP:20260419T203251
CREATED:20240626T160843Z
LAST-MODIFIED:20240626T160845Z
UID:10004040-1719829800-1719833400@worldchildrensmuseum.org
SUMMARY:Learn about Mongolia
DESCRIPTION:Mongolia may be sparsely populated but it is rich in culture! Let's learn about the people and cultures of Mongolia and view some art from Mongolian children!  \nCost: Free with admission
URL:https://worldchildrensmuseum.org/events/learn-about-mongolia/
LOCATION:NY
END:VEVENT
BEGIN:VEVENT
DTSTART;TZID=America/New_York:20240702T100000
DTEND;TZID=America/New_York:20240702T150000
DTSTAMP:20260419T203251
CREATED:20240530T150846Z
LAST-MODIFIED:20240626T160845Z
UID:10004018-1719914400-1719932400@worldchildrensmuseum.org
SUMMARY:Open for General Admission
DESCRIPTION:Tickets can be purchased online at https://wacm.ticketleap.com/museum-admission-2024/\nAdmission Costs:\nMembers: Free\nNot-Yet-Members: $7 per person\, children under 12mo. are free.\nPlease visit our website for more information on admission:  \nFor Visitors
URL:https://worldchildrensmuseum.org/events/open-for-general-admission-1994/
LOCATION:World Awareness Children’s Museum\, 89 Warren St\, Glens Falls\, NY\, United States
GEO:43.310029;-73.639958
X-APPLE-STRUCTURED-LOCATION;VALUE=URI;X-ADDRESS=World Awareness Children’s Museum 89 Warren St Glens Falls NY United States;X-APPLE-RADIUS=500;X-TITLE=89 Warren St:geo:-73.639958,43.310029
END:VEVENT
BEGIN:VEVENT
DTSTART;TZID=America/New_York:20240703T100000
DTEND;TZID=America/New_York:20240703T150000
DTSTAMP:20260419T203251
CREATED:20240530T150847Z
LAST-MODIFIED:20240626T160857Z
UID:10004019-1720000800-1720018800@worldchildrensmuseum.org
SUMMARY:Open for General Admission
DESCRIPTION:Tickets can be purchased online at https://wacm.ticketleap.com/museum-admission-2024/\nAdmission Costs:\nMembers: Free\nNot-Yet-Members: $7 per person\, children under 12mo. are free.\nPlease visit our website for more information on admission:  \nFor Visitors
URL:https://worldchildrensmuseum.org/events/open-for-general-admission-1995/
LOCATION:World Awareness Children’s Museum\, 89 Warren St\, Glens Falls\, NY\, United States
GEO:43.310029;-73.639958
X-APPLE-STRUCTURED-LOCATION;VALUE=URI;X-ADDRESS=World Awareness Children’s Museum 89 Warren St Glens Falls NY United States;X-APPLE-RADIUS=500;X-TITLE=89 Warren St:geo:-73.639958,43.310029
END:VEVENT
BEGIN:VEVENT
DTSTART;TZID=America/New_York:20240703T123000
DTEND;TZID=America/New_York:20240703T133000
DTSTAMP:20260419T203251
CREATED:20240626T160846Z
LAST-MODIFIED:20240626T160857Z
UID:10004041-1720009800-1720013400@worldchildrensmuseum.org
SUMMARY:Toys of 1776
DESCRIPTION:The Fourth of July celebrates American independence. Let’s take a look back to that time and see what kids back then did for fun!  \nCost: Free with admission
URL:https://worldchildrensmuseum.org/events/toys-of-1776/
LOCATION:NY
END:VEVENT
BEGIN:VEVENT
DTSTART;VALUE=DATE:20240704
DTEND;VALUE=DATE:20240705
DTSTAMP:20260419T203251
CREATED:20240626T160846Z
LAST-MODIFIED:20240626T160857Z
UID:10004042-1720051200-1720137599@worldchildrensmuseum.org
SUMMARY:MUSEUM CLOSED
DESCRIPTION:
URL:https://worldchildrensmuseum.org/events/museum-closed-176/
LOCATION:NY
END:VEVENT
BEGIN:VEVENT
DTSTART;TZID=America/New_York:20240705T103000
DTEND;TZID=America/New_York:20240705T113000
DTSTAMP:20260419T203251
CREATED:20240626T160846Z
LAST-MODIFIED:20240626T160857Z
UID:10004043-1720175400-1720179000@worldchildrensmuseum.org
SUMMARY:Storytime Friday
DESCRIPTION:Reading: “The Name Jar” by Yangsook Choi \nTheme: Cultural identity \n \n \n \nEveryone is welcome at our recurring program\, Storytime Fridays! This program is appropriate for all ages and includes a story and a craft.  \nCost: Free with admission
URL:https://worldchildrensmuseum.org/events/storytime-friday-71/
LOCATION:NY
END:VEVENT
BEGIN:VEVENT
DTSTART;TZID=America/New_York:20240709T100000
DTEND;TZID=America/New_York:20240709T150000
DTSTAMP:20260419T203251
CREATED:20240530T150848Z
LAST-MODIFIED:20240626T160858Z
UID:10004020-1720519200-1720537200@worldchildrensmuseum.org
SUMMARY:Open for General Admission
DESCRIPTION:Tickets can be purchased online at https://wacm.ticketleap.com/museum-admission-2024/\nAdmission Costs:\nMembers: Free\nNot-Yet-Members: $7 per person\, children under 12mo. are free.\nPlease visit our website for more information on admission:  \nFor Visitors
URL:https://worldchildrensmuseum.org/events/open-for-general-admission-1996/
LOCATION:World Awareness Children’s Museum\, 89 Warren St\, Glens Falls\, NY\, United States
GEO:43.310029;-73.639958
X-APPLE-STRUCTURED-LOCATION;VALUE=URI;X-ADDRESS=World Awareness Children’s Museum 89 Warren St Glens Falls NY United States;X-APPLE-RADIUS=500;X-TITLE=89 Warren St:geo:-73.639958,43.310029
END:VEVENT
BEGIN:VEVENT
DTSTART;TZID=America/New_York:20240710T100000
DTEND;TZID=America/New_York:20240710T150000
DTSTAMP:20260419T203251
CREATED:20240530T150848Z
LAST-MODIFIED:20240626T160909Z
UID:10004021-1720605600-1720623600@worldchildrensmuseum.org
SUMMARY:Open for General Admission
DESCRIPTION:Tickets can be purchased online at https://wacm.ticketleap.com/museum-admission-2024/\nAdmission Costs:\nMembers: Free\nNot-Yet-Members: $7 per person\, children under 12mo. are free.\nPlease visit our website for more information on admission:  \nFor Visitors
URL:https://worldchildrensmuseum.org/events/open-for-general-admission-1997/
LOCATION:World Awareness Children’s Museum\, 89 Warren St\, Glens Falls\, NY\, United States
GEO:43.310029;-73.639958
X-APPLE-STRUCTURED-LOCATION;VALUE=URI;X-ADDRESS=World Awareness Children’s Museum 89 Warren St Glens Falls NY United States;X-APPLE-RADIUS=500;X-TITLE=89 Warren St:geo:-73.639958,43.310029
END:VEVENT
BEGIN:VEVENT
DTSTART;TZID=America/New_York:20240710T103000
DTEND;TZID=America/New_York:20240710T113000
DTSTAMP:20260419T203251
CREATED:20240626T160847Z
LAST-MODIFIED:20240626T160858Z
UID:10004044-1720607400-1720611000@worldchildrensmuseum.org
SUMMARY:Little Ones Yoga
DESCRIPTION:Guest instructor Neha Golwala leads an age-inclusive yoga class! This program is open to children of all ages.  \nCost: Free with admission
URL:https://worldchildrensmuseum.org/events/little-ones-yoga-14/
LOCATION:NY
END:VEVENT
BEGIN:VEVENT
DTSTART;TZID=America/New_York:20240712T103000
DTEND;TZID=America/New_York:20240712T113000
DTSTAMP:20260419T203251
CREATED:20240626T160847Z
LAST-MODIFIED:20240626T160910Z
UID:10004045-1720780200-1720783800@worldchildrensmuseum.org
SUMMARY:Storytime Friday
DESCRIPTION:Reading: “The Proudest Blue” by Ibtihj Muhammad \nTheme: Cultural strength \n \n \n \nEveryone is welcome at our recurring program\, Storytime Fridays! This program is appropriate for all ages and includes a story and a craft.  \nCost: Free with admission
URL:https://worldchildrensmuseum.org/events/storytime-friday-72/
LOCATION:NY
END:VEVENT
BEGIN:VEVENT
DTSTART;TZID=America/New_York:20240714T100000
DTEND;TZID=America/New_York:20240714T150000
DTSTAMP:20260419T203251
CREATED:20230714T191737Z
LAST-MODIFIED:20240626T160910Z
UID:10002818-1720951200-1720969200@worldchildrensmuseum.org
SUMMARY:Free Day!
DESCRIPTION:Visit the museum for free today\, thanks to Stewart’s Holiday Match and all who contributed! We are pleased to offer these free days from 10am-3pm once per month. Donations are appreciated but not required. \nFree Days are generously sponsored by Stewart’s Holiday Match.  \nYou can learn more by visiting www.stewartsshops.com/community-giving
URL:https://worldchildrensmuseum.org/events/free-day-26/
LOCATION:NY
END:VEVENT
BEGIN:VEVENT
DTSTART;TZID=America/New_York:20240715T123000
DTEND;TZID=America/New_York:20240715T133000
DTSTAMP:20260419T203251
CREATED:20240626T160848Z
LAST-MODIFIED:20240626T160911Z
UID:10004046-1721046600-1721050200@worldchildrensmuseum.org
SUMMARY:Learn about France
DESCRIPTION:Yesterday was Bastille Day! Let's learn about that holiday and the country that celebrates it\, France! We will view art from French kids and learn some French phrases as well! \nCost: Free with admission
URL:https://worldchildrensmuseum.org/events/learn-about-france/
LOCATION:NY
END:VEVENT
BEGIN:VEVENT
DTSTART;TZID=America/New_York:20240716T100000
DTEND;TZID=America/New_York:20240716T150000
DTSTAMP:20260419T203251
CREATED:20240530T150849Z
LAST-MODIFIED:20240626T160923Z
UID:10004022-1721124000-1721142000@worldchildrensmuseum.org
SUMMARY:Open for General Admission
DESCRIPTION:Tickets can be purchased online at https://wacm.ticketleap.com/museum-admission-2024/\nAdmission Costs:\nMembers: Free\nNot-Yet-Members: $7 per person\, children under 12mo. are free.\nPlease visit our website for more information on admission:  \nFor Visitors
URL:https://worldchildrensmuseum.org/events/open-for-general-admission-1998/
LOCATION:World Awareness Children’s Museum\, 89 Warren St\, Glens Falls\, NY\, United States
GEO:43.310029;-73.639958
X-APPLE-STRUCTURED-LOCATION;VALUE=URI;X-ADDRESS=World Awareness Children’s Museum 89 Warren St Glens Falls NY United States;X-APPLE-RADIUS=500;X-TITLE=89 Warren St:geo:-73.639958,43.310029
END:VEVENT
BEGIN:VEVENT
DTSTART;TZID=America/New_York:20240716T103000
DTEND;TZID=America/New_York:20240716T113000
DTSTAMP:20260419T203251
CREATED:20240626T160848Z
LAST-MODIFIED:20240626T160911Z
UID:10004047-1721125800-1721129400@worldchildrensmuseum.org
SUMMARY:Paper Plate Snail Craft
DESCRIPTION:Cost: Free with admission
URL:https://worldchildrensmuseum.org/events/paper-plate-snail-craft/
LOCATION:NY
END:VEVENT
BEGIN:VEVENT
DTSTART;TZID=America/New_York:20240716T130000
DTEND;TZID=America/New_York:20240716T140000
DTSTAMP:20260419T203251
CREATED:20240626T160848Z
LAST-MODIFIED:20240626T160923Z
UID:10004048-1721134800-1721138400@worldchildrensmuseum.org
SUMMARY:Paper Plate Snail Craft
DESCRIPTION:Cost: Free with admission
URL:https://worldchildrensmuseum.org/events/paper-plate-snail-craft-2/
LOCATION:NY
END:VEVENT
BEGIN:VEVENT
DTSTART;TZID=America/New_York:20240717T100000
DTEND;TZID=America/New_York:20240717T150000
DTSTAMP:20260419T203251
CREATED:20240530T150850Z
LAST-MODIFIED:20240626T160923Z
UID:10004023-1721210400-1721228400@worldchildrensmuseum.org
SUMMARY:Open for General Admission
DESCRIPTION:Tickets can be purchased online at https://wacm.ticketleap.com/museum-admission-2024/\nAdmission Costs:\nMembers: Free\nNot-Yet-Members: $7 per person\, children under 12mo. are free.\nPlease visit our website for more information on admission:  \nFor Visitors
URL:https://worldchildrensmuseum.org/events/open-for-general-admission-1999/
LOCATION:World Awareness Children’s Museum\, 89 Warren St\, Glens Falls\, NY\, United States
GEO:43.310029;-73.639958
X-APPLE-STRUCTURED-LOCATION;VALUE=URI;X-ADDRESS=World Awareness Children’s Museum 89 Warren St Glens Falls NY United States;X-APPLE-RADIUS=500;X-TITLE=89 Warren St:geo:-73.639958,43.310029
END:VEVENT
BEGIN:VEVENT
DTSTART;TZID=America/New_York:20240717T103000
DTEND;TZID=America/New_York:20240717T113000
DTSTAMP:20260419T203251
CREATED:20240626T160848Z
LAST-MODIFIED:20240626T160923Z
UID:10004049-1721212200-1721215800@worldchildrensmuseum.org
SUMMARY:Little Ones Yoga
DESCRIPTION:Guest instructor Neha Golwala leads an age-inclusive yoga class! This program is open to children of all ages.  \nCost: Free with admission
URL:https://worldchildrensmuseum.org/events/little-ones-yoga-15/
LOCATION:NY
END:VEVENT
BEGIN:VEVENT
DTSTART;TZID=America/New_York:20240717T130000
DTEND;TZID=America/New_York:20240717T140000
DTSTAMP:20260419T203251
CREATED:20240626T160848Z
LAST-MODIFIED:20240626T160923Z
UID:10004050-1721221200-1721224800@worldchildrensmuseum.org
SUMMARY:Seashell Animal Craft
DESCRIPTION:Cost: Free with admission
URL:https://worldchildrensmuseum.org/events/seashell-animal-craft/
LOCATION:NY
END:VEVENT
BEGIN:VEVENT
DTSTART;TZID=America/New_York:20240718T103000
DTEND;TZID=America/New_York:20240718T113000
DTSTAMP:20260419T203251
CREATED:20240626T160849Z
LAST-MODIFIED:20240626T160923Z
UID:10004051-1721298600-1721302200@worldchildrensmuseum.org
SUMMARY:Watercolor Mosaics Craft
DESCRIPTION:Cost: Free with admission
URL:https://worldchildrensmuseum.org/events/watercolor-mosaics-craft/
LOCATION:NY
END:VEVENT
BEGIN:VEVENT
DTSTART;TZID=America/New_York:20240718T130000
DTEND;TZID=America/New_York:20240718T140000
DTSTAMP:20260419T203251
CREATED:20240626T160849Z
LAST-MODIFIED:20240626T160923Z
UID:10004052-1721307600-1721311200@worldchildrensmuseum.org
SUMMARY:Watercolor Mosaics Craft
DESCRIPTION:Cost: Free with admission
URL:https://worldchildrensmuseum.org/events/watercolor-mosaics-craft-2/
LOCATION:NY
END:VEVENT
BEGIN:VEVENT
DTSTART;TZID=America/New_York:20240719T103000
DTEND;TZID=America/New_York:20240719T113000
DTSTAMP:20260419T203251
CREATED:20240626T160849Z
LAST-MODIFIED:20240626T160924Z
UID:10004053-1721385000-1721388600@worldchildrensmuseum.org
SUMMARY:Storytime Friday
DESCRIPTION:Reading: “Mara Hears in Style” by Terri Clemmons \nTheme: Acceptance \n \n \n \nEveryone is welcome at our recurring program\, Storytime Fridays! This program is appropriate for all ages and includes a story and a craft.  \nCost: Free with admission
URL:https://worldchildrensmuseum.org/events/storytime-friday-73/
LOCATION:NY
END:VEVENT
BEGIN:VEVENT
DTSTART;VALUE=DATE:20240722
DTEND;VALUE=DATE:20240727
DTSTAMP:20260419T203251
CREATED:20240301T092357Z
LAST-MODIFIED:20240626T160850Z
UID:10003879-1721606400-1722038399@worldchildrensmuseum.org
SUMMARY:Urban Explorer Summer Camp
DESCRIPTION:This camp session is appropriate for children entering 3rd grade through 6th grade. \n To register\, visit: https://wacm.ticketleap.com/urban-explorer/ \nGet ready to explore our great city during this exciting summer camp! Kids will travel with their team to different places in downtown Glens Falls (all within walking distance of the museum) to get to know all of the wonderful arts organizations Glens Falls has to offer\, while learning about the world\, participating in team challenges\, and making art together.  \nCamp days are Monday\, July 22 – Friday\, July 26\, from 9am – 3pm each day. \nSample camp schedule:9-10am: Arrival\, snack\, and playtime in the museum.10-11:30am: Follow clues to the first downtown location; complete the team challenge.11:30am-12pm: Outdoor lunch at City Park12-1:30pm: Follow clues to the second downtown location; complete the team challenge.1:30-1:45pm: Travel back to WACM.1:45-2:15pm: Snacktime and quiet activity.2:15-2:55pm: Artmaking3pm: Pickup \nChildren must bring their own snacks\, lunch\, and beverages to camp each day. \nPricing:Museum Members: $210 per child per weekNot-yet-members: $225 per child per week \nCamp sessions are limited to 10 children. \nIf you have questions\, please call 518-793-2773 or email info@worldchildrensmuseum.org.
URL:https://worldchildrensmuseum.org/events/urban-explorer-summer-camp/
LOCATION:NY
END:VEVENT
BEGIN:VEVENT
DTSTART;TZID=America/New_York:20240723T100000
DTEND;TZID=America/New_York:20240723T150000
DTSTAMP:20260419T203251
CREATED:20240530T150851Z
LAST-MODIFIED:20240626T160850Z
UID:10004024-1721728800-1721746800@worldchildrensmuseum.org
SUMMARY:Open for General Admission
DESCRIPTION:Tickets can be purchased online at https://wacm.ticketleap.com/museum-admission-2024/\nAdmission Costs:\nMembers: Free\nNot-Yet-Members: $7 per person\, children under 12mo. are free.\nPlease visit our website for more information on admission:  \nFor Visitors
URL:https://worldchildrensmuseum.org/events/open-for-general-admission-2000/
LOCATION:World Awareness Children’s Museum\, 89 Warren St\, Glens Falls\, NY\, United States
GEO:43.310029;-73.639958
X-APPLE-STRUCTURED-LOCATION;VALUE=URI;X-ADDRESS=World Awareness Children’s Museum 89 Warren St Glens Falls NY United States;X-APPLE-RADIUS=500;X-TITLE=89 Warren St:geo:-73.639958,43.310029
END:VEVENT
BEGIN:VEVENT
DTSTART;TZID=America/New_York:20240724T100000
DTEND;TZID=America/New_York:20240724T150000
DTSTAMP:20260419T203251
CREATED:20240530T150852Z
LAST-MODIFIED:20240626T160850Z
UID:10004025-1721815200-1721833200@worldchildrensmuseum.org
SUMMARY:Open for General Admission
DESCRIPTION:Tickets can be purchased online at https://wacm.ticketleap.com/museum-admission-2024/\nAdmission Costs:\nMembers: Free\nNot-Yet-Members: $7 per person\, children under 12mo. are free.\nPlease visit our website for more information on admission:  \nFor Visitors
URL:https://worldchildrensmuseum.org/events/open-for-general-admission-2001/
LOCATION:World Awareness Children’s Museum\, 89 Warren St\, Glens Falls\, NY\, United States
GEO:43.310029;-73.639958
X-APPLE-STRUCTURED-LOCATION;VALUE=URI;X-ADDRESS=World Awareness Children’s Museum 89 Warren St Glens Falls NY United States;X-APPLE-RADIUS=500;X-TITLE=89 Warren St:geo:-73.639958,43.310029
END:VEVENT
BEGIN:VEVENT
DTSTART;TZID=America/New_York:20240727T130000
DTEND;TZID=America/New_York:20240727T143000
DTSTAMP:20260419T203251
CREATED:20240626T160850Z
LAST-MODIFIED:20240626T160850Z
UID:10004054-1722085200-1722090600@worldchildrensmuseum.org
SUMMARY:Turtle Paint & Sip
DESCRIPTION:Join us for our popular family-friendly Paint & Sip series taught by local artist Patrice Jarvis-Weber. Artists will paint their own turtle on canvas. \nCost: $12 per person. Members get a 10% discount! Please call to reserve your spot: 518-793-2773 or visit wacm.ticketleap.com to reserve online. \nThis class is limited to 9 people.
URL:https://worldchildrensmuseum.org/events/turtle-paint-sip/
LOCATION:NY
END:VEVENT
BEGIN:VEVENT
DTSTART;VALUE=DATE:20240729
DTEND;VALUE=DATE:20240803
DTSTAMP:20260419T203251
CREATED:20240301T092358Z
LAST-MODIFIED:20240626T160852Z
UID:10003880-1722211200-1722643199@worldchildrensmuseum.org
SUMMARY:Gold Medal Summer Camp
DESCRIPTION:This camp session is appropriate for children entering 3rd grade through 6th grade. \nTo register\, visit: https://wacm.ticketleap.com/gold-medal/ \nIt's time to celebrate the 2024 Summer Olympics! During this summer camp\, kids will participate in kid-friendly Olympic events like the lighting of the ceremonial torch\, relay races\, long jumps\, a paper airplane challenge\, interpretive dance\, and so much more! We'll learn about different countries\, watch clips from this year's Olympics in Paris\, collect gold medals\, and end the week with a closing ceremony. \nCamp days are Monday\, July 29 – Friday\, August 2\, from 9am – 3pm each day. \nSample camp schedule: 9-10am: Arrival\, snack\, and morning activity10-11am: Olympic event11am-12pm: Lunch & quiet activity12-1:45pm: Playtime at SMSA playground & Olympic event1:45-2:15pm: Artmaking2:15-2:55pm: Snack & playtime in the museum3pm: Pickup \nChildren must bring their own snacks\, lunch\, and beverages to camp each day. \nPricing:Museum Members: $210 per child per weekNot-yet-members: $225 per child per week \nCamp sessions are limited to 10 children. \nIf you have questions\, please call 518-793-2773 or email info@worldchildrensmuseum.org.
URL:https://worldchildrensmuseum.org/events/gold-medal-summer-camp/
LOCATION:NY
END:VEVENT
BEGIN:VEVENT
DTSTART;TZID=America/New_York:20240730T100000
DTEND;TZID=America/New_York:20240730T150000
DTSTAMP:20260419T203251
CREATED:20240530T150853Z
LAST-MODIFIED:20240626T160851Z
UID:10004026-1722333600-1722351600@worldchildrensmuseum.org
SUMMARY:Open for General Admission
DESCRIPTION:Tickets can be purchased online at https://wacm.ticketleap.com/museum-admission-2024/\nAdmission Costs:\nMembers: Free\nNot-Yet-Members: $7 per person\, children under 12mo. are free.\nPlease visit our website for more information on admission:  \nFor Visitors
URL:https://worldchildrensmuseum.org/events/open-for-general-admission-2002/
LOCATION:World Awareness Children’s Museum\, 89 Warren St\, Glens Falls\, NY\, United States
GEO:43.310029;-73.639958
X-APPLE-STRUCTURED-LOCATION;VALUE=URI;X-ADDRESS=World Awareness Children’s Museum 89 Warren St Glens Falls NY United States;X-APPLE-RADIUS=500;X-TITLE=89 Warren St:geo:-73.639958,43.310029
END:VEVENT
BEGIN:VEVENT
DTSTART;TZID=America/New_York:20240731T100000
DTEND;TZID=America/New_York:20240731T150000
DTSTAMP:20260419T203251
CREATED:20240530T150853Z
LAST-MODIFIED:20240626T160851Z
UID:10004027-1722420000-1722438000@worldchildrensmuseum.org
SUMMARY:Open for General Admission
DESCRIPTION:Tickets can be purchased online at https://wacm.ticketleap.com/museum-admission-2024/\nAdmission Costs:\nMembers: Free\nNot-Yet-Members: $7 per person\, children under 12mo. are free.\nPlease visit our website for more information on admission:  \nFor Visitors
URL:https://worldchildrensmuseum.org/events/open-for-general-admission-2003/
LOCATION:World Awareness Children’s Museum\, 89 Warren St\, Glens Falls\, NY\, United States
GEO:43.310029;-73.639958
X-APPLE-STRUCTURED-LOCATION;VALUE=URI;X-ADDRESS=World Awareness Children’s Museum 89 Warren St Glens Falls NY United States;X-APPLE-RADIUS=500;X-TITLE=89 Warren St:geo:-73.639958,43.310029
END:VEVENT
END:VCALENDAR