BEGIN:VCALENDAR
VERSION:2.0
PRODID:-//World Awareness Children&#039;s Museum - ECPv6.15.20//NONSGML v1.0//EN
CALSCALE:GREGORIAN
METHOD:PUBLISH
X-ORIGINAL-URL:https://worldchildrensmuseum.org
X-WR-CALDESC:Events for World Awareness Children&#039;s Museum
REFRESH-INTERVAL;VALUE=DURATION:PT1H
X-Robots-Tag:noindex
X-PUBLISHED-TTL:PT1H
BEGIN:VTIMEZONE
TZID:America/New_York
BEGIN:DAYLIGHT
TZOFFSETFROM:-0500
TZOFFSETTO:-0400
TZNAME:EDT
DTSTART:20240310T070000
END:DAYLIGHT
BEGIN:STANDARD
TZOFFSETFROM:-0400
TZOFFSETTO:-0500
TZNAME:EST
DTSTART:20241103T060000
END:STANDARD
BEGIN:DAYLIGHT
TZOFFSETFROM:-0500
TZOFFSETTO:-0400
TZNAME:EDT
DTSTART:20250309T070000
END:DAYLIGHT
BEGIN:STANDARD
TZOFFSETFROM:-0400
TZOFFSETTO:-0500
TZNAME:EST
DTSTART:20251102T060000
END:STANDARD
BEGIN:DAYLIGHT
TZOFFSETFROM:-0500
TZOFFSETTO:-0400
TZNAME:EDT
DTSTART:20260308T070000
END:DAYLIGHT
BEGIN:STANDARD
TZOFFSETFROM:-0400
TZOFFSETTO:-0500
TZNAME:EST
DTSTART:20261101T060000
END:STANDARD
BEGIN:DAYLIGHT
TZOFFSETFROM:-0500
TZOFFSETTO:-0400
TZNAME:EDT
DTSTART:20270314T070000
END:DAYLIGHT
BEGIN:STANDARD
TZOFFSETFROM:-0400
TZOFFSETTO:-0500
TZNAME:EST
DTSTART:20271107T060000
END:STANDARD
END:VTIMEZONE
BEGIN:VEVENT
DTSTART;TZID=America/New_York:20251222T100000
DTEND;TZID=America/New_York:20251222T150000
DTSTAMP:20260419T221439
CREATED:20251024T183900Z
LAST-MODIFIED:20251219T203911Z
UID:10005863-1766397600-1766415600@worldchildrensmuseum.org
SUMMARY:Open for General Admission
DESCRIPTION:Tickets can be purchased online at https://wacm.ticketleap.com/admission-2025/Admission Costs:Members: FreeNot-Yet-Members: $7 per person\, children under 12mo. are free.Please visit our website for more information on admission: https://worldchildrensmuseum.org/for-visitors/
URL:https://worldchildrensmuseum.org/events/open-for-general-admission-644/
LOCATION:World Awareness Children’s Museum\, 89 Warren St\, Glens Falls\, NY\, United States
GEO:43.310029;-73.639958
X-APPLE-STRUCTURED-LOCATION;VALUE=URI;X-ADDRESS=World Awareness Children’s Museum 89 Warren St Glens Falls NY United States;X-APPLE-RADIUS=500;X-TITLE=89 Warren St:geo:-73.639958,43.310029
END:VEVENT
BEGIN:VEVENT
DTSTART;TZID=America/New_York:20251222T103000
DTEND;TZID=America/New_York:20251222T113000
DTSTAMP:20260419T221439
CREATED:20251121T193913Z
LAST-MODIFIED:20251219T203911Z
UID:10006338-1766399400-1766403000@worldchildrensmuseum.org
SUMMARY:Passport to the Holidays: France Craft
DESCRIPTION:Passport to the Holidays\nTravel the world to discover how different countries celebrate the season! Each workshop includes a short cultural introduction\, a hands-on map activity\, and a themed craft to take home. \nFeaturing:12/21 – La Befana (Italy)12/22 – Yule Log (France)12/23 – Lanterns of Light (China)12/28 – The Nutcracker (Russia)12/29 – Gingerbread Man (Canada)12/30 – Paper Chains (England) \n \nUp to 10 lil' travelers per session. Perfect for ages 5 and up.Cost: Free with admission.
URL:https://worldchildrensmuseum.org/events/passport-to-the-holidays-france-craft/
LOCATION:World Awareness Children’s Museum\, 89 Warren St\, Glens Falls\, NY\, United States
GEO:43.310029;-73.639958
X-APPLE-STRUCTURED-LOCATION;VALUE=URI;X-ADDRESS=World Awareness Children’s Museum 89 Warren St Glens Falls NY United States;X-APPLE-RADIUS=500;X-TITLE=89 Warren St:geo:-73.639958,43.310029
END:VEVENT
BEGIN:VEVENT
DTSTART;TZID=America/New_York:20251222T130000
DTEND;TZID=America/New_York:20251222T140000
DTSTAMP:20260419T221439
CREATED:20251121T193913Z
LAST-MODIFIED:20251219T203912Z
UID:10006339-1766408400-1766412000@worldchildrensmuseum.org
SUMMARY:Snow Globe Studio
DESCRIPTION:Make your own mini winter wonderland in a jar! Design\, decorate\, and shake up a snowy scene to bring the magic of winter home with you. \nCost: Free with admission. Up to 10 lil’ crafters. Ages 5 and up. Pre-registration required: 518-793-2773 or ticketleap.events/events/wacm-1.  
URL:https://worldchildrensmuseum.org/events/snow-globe-studio/
LOCATION:World Awareness Children’s Museum\, 89 Warren St\, Glens Falls\, NY\, United States
GEO:43.310029;-73.639958
X-APPLE-STRUCTURED-LOCATION;VALUE=URI;X-ADDRESS=World Awareness Children’s Museum 89 Warren St Glens Falls NY United States;X-APPLE-RADIUS=500;X-TITLE=89 Warren St:geo:-73.639958,43.310029
END:VEVENT
BEGIN:VEVENT
DTSTART;TZID=America/New_York:20251223T103000
DTEND;TZID=America/New_York:20251223T113000
DTSTAMP:20260419T221439
CREATED:20251121T193914Z
LAST-MODIFIED:20251219T203912Z
UID:10006340-1766485800-1766489400@worldchildrensmuseum.org
SUMMARY:Passport to the Holidays: China Craft
DESCRIPTION:Passport to the Holidays\nTravel the world to discover how different countries celebrate the season! Each workshop includes a short cultural introduction\, a hands-on map activity\, and a themed craft to take home. \nFeaturing:12/21 – La Befana (Italy)12/22 – Yule Log (France)12/23 – Lanterns of Light (China)12/28 – The Nutcracker (Russia)12/29 – Gingerbread Man (Canada)12/30 – Paper Chains (England) \n \nUp to 10 lil' travelers per session. Perfect for ages 5 and up.Cost: Free with admission.
URL:https://worldchildrensmuseum.org/events/passport-to-the-holidays-china-craft/
LOCATION:World Awareness Children’s Museum\, 89 Warren St\, Glens Falls\, NY\, United States
GEO:43.310029;-73.639958
X-APPLE-STRUCTURED-LOCATION;VALUE=URI;X-ADDRESS=World Awareness Children’s Museum 89 Warren St Glens Falls NY United States;X-APPLE-RADIUS=500;X-TITLE=89 Warren St:geo:-73.639958,43.310029
END:VEVENT
BEGIN:VEVENT
DTSTART;TZID=America/New_York:20251223T130000
DTEND;TZID=America/New_York:20251223T140000
DTSTAMP:20260419T221439
CREATED:20251121T193915Z
LAST-MODIFIED:20251219T203913Z
UID:10006341-1766494800-1766498400@worldchildrensmuseum.org
SUMMARY:Gingerbread House Craft
DESCRIPTION:Build and decorate your own sweet paper gingerbread home! Use colorful materials to design a cozy holiday creation that’s full of imagination and winter cheer. \nCost: Free with admission. Up to 10 lil’ crafters. Ages 5 and up. Pre-registration required: 518-793-2773 or ticketleap.events/events/wacm-1.  
URL:https://worldchildrensmuseum.org/events/gingerbread-house-craft/
LOCATION:World Awareness Children’s Museum\, 89 Warren St\, Glens Falls\, NY\, United States
GEO:43.310029;-73.639958
X-APPLE-STRUCTURED-LOCATION;VALUE=URI;X-ADDRESS=World Awareness Children’s Museum 89 Warren St Glens Falls NY United States;X-APPLE-RADIUS=500;X-TITLE=89 Warren St:geo:-73.639958,43.310029
END:VEVENT
BEGIN:VEVENT
DTSTART;VALUE=DATE:20251224
DTEND;VALUE=DATE:20251225
DTSTAMP:20260419T221439
CREATED:20251024T183901Z
LAST-MODIFIED:20251219T203913Z
UID:10005865-1766534400-1766620799@worldchildrensmuseum.org
SUMMARY:Museum Closed
DESCRIPTION:
URL:https://worldchildrensmuseum.org/events/museum-closed-91/
LOCATION:NY
END:VEVENT
BEGIN:VEVENT
DTSTART;VALUE=DATE:20251225
DTEND;VALUE=DATE:20251226
DTSTAMP:20260419T221439
CREATED:20251024T183902Z
LAST-MODIFIED:20251219T203913Z
UID:10005866-1766620800-1766707199@worldchildrensmuseum.org
SUMMARY:Museum Closed
DESCRIPTION:
URL:https://worldchildrensmuseum.org/events/museum-closed-180/
LOCATION:NY
END:VEVENT
BEGIN:VEVENT
DTSTART;TZID=America/New_York:20251226T100000
DTEND;TZID=America/New_York:20251226T150000
DTSTAMP:20260419T221439
CREATED:20251024T183902Z
LAST-MODIFIED:20251219T203915Z
UID:10005867-1766743200-1766761200@worldchildrensmuseum.org
SUMMARY:Open for General Admission
DESCRIPTION:Tickets can be purchased online at https://wacm.ticketleap.com/admission-2025/Admission Costs:Members: FreeNot-Yet-Members: $7 per person\, children under 12mo. are free.Please visit our website for more information on admission: https://worldchildrensmuseum.org/for-visitors/
URL:https://worldchildrensmuseum.org/events/open-for-general-admission-646/
LOCATION:World Awareness Children’s Museum\, 89 Warren St\, Glens Falls\, NY\, United States
GEO:43.310029;-73.639958
X-APPLE-STRUCTURED-LOCATION;VALUE=URI;X-ADDRESS=World Awareness Children’s Museum 89 Warren St Glens Falls NY United States;X-APPLE-RADIUS=500;X-TITLE=89 Warren St:geo:-73.639958,43.310029
END:VEVENT
BEGIN:VEVENT
DTSTART;TZID=America/New_York:20251226T103000
DTEND;TZID=America/New_York:20251226T113000
DTSTAMP:20260419T221439
CREATED:20251121T193916Z
LAST-MODIFIED:20251219T203914Z
UID:10006342-1766745000-1766748600@worldchildrensmuseum.org
SUMMARY:Storytime Friday
DESCRIPTION:Everyone is welcome at Storytime Fridays\, a recurring program designed to spark joy and curiosity in little ones!  \nEach week\, we explore early literacy skills through movement\, imaginative play\, and a creative craft that brings the story to life. Perfect for toddlers\, preschoolers\, and their caregivers. \nCost: Free with Admission
URL:https://worldchildrensmuseum.org/events/storytime-friday-168/
LOCATION:World Awareness Children’s Museum\, 89 Warren St\, Glens Falls\, NY\, United States
GEO:43.310029;-73.639958
X-APPLE-STRUCTURED-LOCATION;VALUE=URI;X-ADDRESS=World Awareness Children’s Museum 89 Warren St Glens Falls NY United States;X-APPLE-RADIUS=500;X-TITLE=89 Warren St:geo:-73.639958,43.310029
END:VEVENT
BEGIN:VEVENT
DTSTART;TZID=America/New_York:20251226T120000
DTEND;TZID=America/New_York:20251226T130000
DTSTAMP:20260419T221439
CREATED:20251121T193917Z
LAST-MODIFIED:20251219T203914Z
UID:10006343-1766750400-1766754000@worldchildrensmuseum.org
SUMMARY:Kwanzaa Groove with Ms. Susie
DESCRIPTION:December Groove Sessions with Ms. Susie \nDance\, move\, and celebrate the season with Ms. Susie! Each Groove Session explores music\, rhythm\, and traditions from around the world through joyful movement and song. Join the fun during Hanukkah Groove\, Solstice Groove\, Holiday Groove\, and Kwanzaa Groove—perfect for all ages to enjoy together! \n \nCost: Free with admission.
URL:https://worldchildrensmuseum.org/events/kwanzaa-groove-with-ms-susie/
LOCATION:World Awareness Children’s Museum\, 89 Warren St\, Glens Falls\, NY\, United States
GEO:43.310029;-73.639958
X-APPLE-STRUCTURED-LOCATION;VALUE=URI;X-ADDRESS=World Awareness Children’s Museum 89 Warren St Glens Falls NY United States;X-APPLE-RADIUS=500;X-TITLE=89 Warren St:geo:-73.639958,43.310029
END:VEVENT
BEGIN:VEVENT
DTSTART;TZID=America/New_York:20251226T133000
DTEND;TZID=America/New_York:20251226T143000
DTSTAMP:20260419T221439
CREATED:20251121T193917Z
LAST-MODIFIED:20251219T203915Z
UID:10006344-1766755800-1766759400@worldchildrensmuseum.org
SUMMARY:Storytime Friday
DESCRIPTION:Everyone is welcome at Storytime Fridays\, a recurring program designed to spark joy and curiosity in little ones!  \nEach week\, we explore early literacy skills through movement\, imaginative play\, and a creative craft that brings the story to life. Perfect for toddlers\, preschoolers\, and their caregivers. \nCost: Free with Admission
URL:https://worldchildrensmuseum.org/events/storytime-friday-169/
LOCATION:World Awareness Children’s Museum\, 89 Warren St\, Glens Falls\, NY\, United States
GEO:43.310029;-73.639958
X-APPLE-STRUCTURED-LOCATION;VALUE=URI;X-ADDRESS=World Awareness Children’s Museum 89 Warren St Glens Falls NY United States;X-APPLE-RADIUS=500;X-TITLE=89 Warren St:geo:-73.639958,43.310029
END:VEVENT
BEGIN:VEVENT
DTSTART;TZID=America/New_York:20251227T100000
DTEND;TZID=America/New_York:20251227T150000
DTSTAMP:20260419T221439
CREATED:20251024T183902Z
LAST-MODIFIED:20251226T205337Z
UID:10005868-1766829600-1766847600@worldchildrensmuseum.org
SUMMARY:Open for General Admission
DESCRIPTION:Tickets can be purchased online at https://wacm.ticketleap.com/admission-2025/Admission Costs:Members: FreeNot-Yet-Members: $7 per person\, children under 12mo. are free.Please visit our website for more information on admission: https://worldchildrensmuseum.org/for-visitors/
URL:https://worldchildrensmuseum.org/events/open-for-general-admission-647/
LOCATION:World Awareness Children’s Museum\, 89 Warren St\, Glens Falls\, NY\, United States
GEO:43.310029;-73.639958
X-APPLE-STRUCTURED-LOCATION;VALUE=URI;X-ADDRESS=World Awareness Children’s Museum 89 Warren St Glens Falls NY United States;X-APPLE-RADIUS=500;X-TITLE=89 Warren St:geo:-73.639958,43.310029
END:VEVENT
BEGIN:VEVENT
DTSTART;TZID=America/New_York:20251227T103000
DTEND;TZID=America/New_York:20251227T113000
DTSTAMP:20260419T221439
CREATED:20250623T195429Z
LAST-MODIFIED:20251226T205336Z
UID:10004845-1766831400-1766835000@worldchildrensmuseum.org
SUMMARY:Storytime Saturday
DESCRIPTION:Join us for a playful weekend storytime designed for families who can’t make it to our Friday sessions! Each month\, enjoy stories\, songs\, and hands-on crafts that bring the themes to life—all in a fun\, welcoming space for little ones and their grown-ups. \nStorytime supports early literacy\, creativity\, and connection. \nCost: Free with admission
URL:https://worldchildrensmuseum.org/events/storytime-saturday-13/
LOCATION:NY
END:VEVENT
BEGIN:VEVENT
DTSTART;TZID=America/New_York:20251227T120000
DTEND;TZID=America/New_York:20251227T130000
DTSTAMP:20260419T221439
CREATED:20251121T193918Z
LAST-MODIFIED:20251226T205338Z
UID:10006345-1766836800-1766840400@worldchildrensmuseum.org
SUMMARY:Clay Creations
DESCRIPTION:Sculpt\, Shape\, and Decorate! \nJoin us on Saturday\, December 13 and Saturday\, December 27 to sculpt\, shape\, and decorate with clay\, yarn\, glitter\, googly eyes\, and more!Best for ages 7 and up. Up to 10 artists per session. Pre-registration required for each date. \nCost: Free with admission. Reserve your spot: Call 518-793-2773 or visit ticketleap.events/events/wacm-1.  
URL:https://worldchildrensmuseum.org/events/clay-creations-6/
LOCATION:World Awareness Children’s Museum\, 89 Warren St\, Glens Falls\, NY\, United States
GEO:43.310029;-73.639958
X-APPLE-STRUCTURED-LOCATION;VALUE=URI;X-ADDRESS=World Awareness Children’s Museum 89 Warren St Glens Falls NY United States;X-APPLE-RADIUS=500;X-TITLE=89 Warren St:geo:-73.639958,43.310029
END:VEVENT
BEGIN:VEVENT
DTSTART;TZID=America/New_York:20251227T133000
DTEND;TZID=America/New_York:20251227T143000
DTSTAMP:20260419T221439
CREATED:20250623T195429Z
LAST-MODIFIED:20251226T205337Z
UID:10004846-1766842200-1766845800@worldchildrensmuseum.org
SUMMARY:Storytime Saturday
DESCRIPTION:Join us for a playful weekend storytime designed for families who can’t make it to our Friday sessions! Each month\, enjoy stories\, songs\, and hands-on crafts that bring the themes to life—all in a fun\, welcoming space for little ones and their grown-ups. \nStorytime supports early literacy\, creativity\, and connection. \nCost: Free with admission
URL:https://worldchildrensmuseum.org/events/storytime-saturday-14/
LOCATION:NY
END:VEVENT
BEGIN:VEVENT
DTSTART;TZID=America/New_York:20251228T100000
DTEND;TZID=America/New_York:20251228T150000
DTSTAMP:20260419T221439
CREATED:20251024T183903Z
LAST-MODIFIED:20251226T205338Z
UID:10005869-1766916000-1766934000@worldchildrensmuseum.org
SUMMARY:Open for General Admission
DESCRIPTION:Tickets can be purchased online at https://wacm.ticketleap.com/admission-2025/Admission Costs:Members: FreeNot-Yet-Members: $7 per person\, children under 12mo. are free.Please visit our website for more information on admission: https://worldchildrensmuseum.org/for-visitors/
URL:https://worldchildrensmuseum.org/events/open-for-general-admission-648/
LOCATION:World Awareness Children’s Museum\, 89 Warren St\, Glens Falls\, NY\, United States
GEO:43.310029;-73.639958
X-APPLE-STRUCTURED-LOCATION;VALUE=URI;X-ADDRESS=World Awareness Children’s Museum 89 Warren St Glens Falls NY United States;X-APPLE-RADIUS=500;X-TITLE=89 Warren St:geo:-73.639958,43.310029
END:VEVENT
BEGIN:VEVENT
DTSTART;TZID=America/New_York:20251228T103000
DTEND;TZID=America/New_York:20251228T113000
DTSTAMP:20260419T221439
CREATED:20251121T193919Z
LAST-MODIFIED:20251226T205338Z
UID:10006346-1766917800-1766921400@worldchildrensmuseum.org
SUMMARY:Passport to the Holidays: Russia Craft
DESCRIPTION:Passport to the Holidays\nTravel the world to discover how different countries celebrate the season! Each workshop includes a short cultural introduction\, a hands-on map activity\, and a themed craft to take home. \nFeaturing:12/21 – La Befana (Italy)12/22 – Yule Log (France)12/23 – Lanterns of Light (China)12/28 – The Nutcracker (Russia)12/29 – Gingerbread Man (Canada)12/30 – Paper Chains (England) \n \nUp to 10 lil' travelers per session. Perfect for ages 5 and up.Cost: Free with admission.
URL:https://worldchildrensmuseum.org/events/passport-to-the-holidays-russia-craft/
LOCATION:World Awareness Children’s Museum\, 89 Warren St\, Glens Falls\, NY\, United States
GEO:43.310029;-73.639958
X-APPLE-STRUCTURED-LOCATION;VALUE=URI;X-ADDRESS=World Awareness Children’s Museum 89 Warren St Glens Falls NY United States;X-APPLE-RADIUS=500;X-TITLE=89 Warren St:geo:-73.639958,43.310029
END:VEVENT
BEGIN:VEVENT
DTSTART;TZID=America/New_York:20251228T130000
DTEND;TZID=America/New_York:20251228T140000
DTSTAMP:20260419T221439
CREATED:20251121T193920Z
LAST-MODIFIED:20251226T205339Z
UID:10006347-1766926800-1766930400@worldchildrensmuseum.org
SUMMARY:Toy Explorers: Toys from Around the World
DESCRIPTION:Discover and play with toys from across the globe! Explore how children everywhere learn\, create\, and have fun through play\, and see what makes each toy special in its own culture. \nAges: 5 and upCost: Free with admission.
URL:https://worldchildrensmuseum.org/events/toy-explorers-toys-from-around-the-world-2/
LOCATION:World Awareness Children’s Museum\, 89 Warren St\, Glens Falls\, NY\, United States
GEO:43.310029;-73.639958
X-APPLE-STRUCTURED-LOCATION;VALUE=URI;X-ADDRESS=World Awareness Children’s Museum 89 Warren St Glens Falls NY United States;X-APPLE-RADIUS=500;X-TITLE=89 Warren St:geo:-73.639958,43.310029
END:VEVENT
BEGIN:VEVENT
DTSTART;TZID=America/New_York:20251229T100000
DTEND;TZID=America/New_York:20251229T150000
DTSTAMP:20260419T221439
CREATED:20251024T183903Z
LAST-MODIFIED:20251226T205340Z
UID:10005870-1767002400-1767020400@worldchildrensmuseum.org
SUMMARY:Open for General Admission
DESCRIPTION:Tickets can be purchased online at https://wacm.ticketleap.com/admission-2025/Admission Costs:Members: FreeNot-Yet-Members: $7 per person\, children under 12mo. are free.Please visit our website for more information on admission: https://worldchildrensmuseum.org/for-visitors/
URL:https://worldchildrensmuseum.org/events/open-for-general-admission-649/
LOCATION:World Awareness Children’s Museum\, 89 Warren St\, Glens Falls\, NY\, United States
GEO:43.310029;-73.639958
X-APPLE-STRUCTURED-LOCATION;VALUE=URI;X-ADDRESS=World Awareness Children’s Museum 89 Warren St Glens Falls NY United States;X-APPLE-RADIUS=500;X-TITLE=89 Warren St:geo:-73.639958,43.310029
END:VEVENT
BEGIN:VEVENT
DTSTART;TZID=America/New_York:20251229T103000
DTEND;TZID=America/New_York:20251229T113000
DTSTAMP:20260419T221439
CREATED:20251121T193921Z
LAST-MODIFIED:20251226T205339Z
UID:10006349-1767004200-1767007800@worldchildrensmuseum.org
SUMMARY:Passport to the Holidays: Canada Craft
DESCRIPTION:Passport to the Holidays\nTravel the world to discover how different countries celebrate the season! Each workshop includes a short cultural introduction\, a hands-on map activity\, and a themed craft to take home. \nFeaturing:12/21 – La Befana (Italy)12/22 – Yule Log (France)12/23 – Lanterns of Light (China)12/28 – The Nutcracker (Russia)12/29 – Homeschool Hangout: Holiday Edition – Festive crafts and fun for all families—learn\, play\, and celebrate together!Featured Activity: Passport to Canada – Celebrate Canadian holiday traditions with a gingerbread man craft! Optional craft open to all visitors\, not just homeschoolers.  12/30 – Paper Chains (England) \n \nUp to 10 lil' travelers per session. Perfect for ages 5 and up.Cost: Free with admission.
URL:https://worldchildrensmuseum.org/events/passport-to-the-holidays-canada-craft/
LOCATION:World Awareness Children’s Museum\, 89 Warren St\, Glens Falls\, NY\, United States
GEO:43.310029;-73.639958
X-APPLE-STRUCTURED-LOCATION;VALUE=URI;X-ADDRESS=World Awareness Children’s Museum 89 Warren St Glens Falls NY United States;X-APPLE-RADIUS=500;X-TITLE=89 Warren St:geo:-73.639958,43.310029
END:VEVENT
BEGIN:VEVENT
DTSTART;TZID=America/New_York:20251229T103000
DTEND;TZID=America/New_York:20251229T120000
DTSTAMP:20260419T221439
CREATED:20251121T193921Z
LAST-MODIFIED:20251226T205340Z
UID:10006348-1767004200-1767009600@worldchildrensmuseum.org
SUMMARY:Homeschool Hangout: Holiday Edition
DESCRIPTION:Homeschool Hangout: Holiday Edition\nExplore the World Together!Collect your passport and discover a new country during this special holiday session! Through stories\, art\, and hands-on activities\, families will explore winter traditions and creative crafts from around the world at their own pace. Held during traditional school break\, this is a wonderful opportunity for homeschoolers and school kiddos alike to learn\, play\, and celebrate together. \nFeatured Activity: Passport to Canada from 10:30-11:30amCelebrate Canadian holiday traditions with a gingerbread man craft! Optional craft open to all visitors—not just homeschoolers. \n \nCost: Free with admission.
URL:https://worldchildrensmuseum.org/events/homeschool-hangout-holiday-edition/
LOCATION:World Awareness Children’s Museum\, 89 Warren St\, Glens Falls\, NY\, United States
GEO:43.310029;-73.639958
X-APPLE-STRUCTURED-LOCATION;VALUE=URI;X-ADDRESS=World Awareness Children’s Museum 89 Warren St Glens Falls NY United States;X-APPLE-RADIUS=500;X-TITLE=89 Warren St:geo:-73.639958,43.310029
END:VEVENT
BEGIN:VEVENT
DTSTART;TZID=America/New_York:20251230T100000
DTEND;TZID=America/New_York:20251230T150000
DTSTAMP:20260419T221439
CREATED:20251024T183904Z
LAST-MODIFIED:20251226T205341Z
UID:10005871-1767088800-1767106800@worldchildrensmuseum.org
SUMMARY:Open for General Admission
DESCRIPTION:Tickets can be purchased online at https://wacm.ticketleap.com/admission-2025/Admission Costs:Members: FreeNot-Yet-Members: $7 per person\, children under 12mo. are free.Please visit our website for more information on admission: https://worldchildrensmuseum.org/for-visitors/
URL:https://worldchildrensmuseum.org/events/open-for-general-admission-650/
LOCATION:World Awareness Children’s Museum\, 89 Warren St\, Glens Falls\, NY\, United States
GEO:43.310029;-73.639958
X-APPLE-STRUCTURED-LOCATION;VALUE=URI;X-ADDRESS=World Awareness Children’s Museum 89 Warren St Glens Falls NY United States;X-APPLE-RADIUS=500;X-TITLE=89 Warren St:geo:-73.639958,43.310029
END:VEVENT
BEGIN:VEVENT
DTSTART;TZID=America/New_York:20251230T103000
DTEND;TZID=America/New_York:20251230T113000
DTSTAMP:20260419T221439
CREATED:20251121T193922Z
LAST-MODIFIED:20251226T205341Z
UID:10006350-1767090600-1767094200@worldchildrensmuseum.org
SUMMARY:Passport to the Holidays: England Craft
DESCRIPTION:Passport to the Holidays\nTravel the world to discover how different countries celebrate the season! Each workshop includes a short cultural introduction\, a hands-on map activity\, and a themed craft to take home. \nFeaturing:12/21 – La Befana (Italy)12/22 – Yule Log (France)12/23 – Lanterns of Light (China)12/28 – The Nutcracker (Russia)12/29 – Gingerbread Man (Canada)12/30 – Paper Chains (England) \n \nUp to 10 lil' travelers per session. Perfect for ages 5 and up.Cost: Free with admission.
URL:https://worldchildrensmuseum.org/events/passport-to-the-holidays-england-craft/
LOCATION:World Awareness Children’s Museum\, 89 Warren St\, Glens Falls\, NY\, United States
GEO:43.310029;-73.639958
X-APPLE-STRUCTURED-LOCATION;VALUE=URI;X-ADDRESS=World Awareness Children’s Museum 89 Warren St Glens Falls NY United States;X-APPLE-RADIUS=500;X-TITLE=89 Warren St:geo:-73.639958,43.310029
END:VEVENT
BEGIN:VEVENT
DTSTART;TZID=America/New_York:20251230T130000
DTEND;TZID=America/New_York:20251230T140000
DTSTAMP:20260419T221439
CREATED:20251121T193922Z
LAST-MODIFIED:20251226T205341Z
UID:10006351-1767099600-1767103200@worldchildrensmuseum.org
SUMMARY:Kwanzaa Unity Mats
DESCRIPTION:Celebrate the spirit of Kwanzaa through art! Create your own colorful unity mat inspired by the seven principles of Kwanzaa\, honoring community\, creativity\, and culture. \nAges: 5 and upCost: Free with admission.
URL:https://worldchildrensmuseum.org/events/kwanzaa-unity-mats/
LOCATION:World Awareness Children’s Museum\, 89 Warren St\, Glens Falls\, NY\, United States
GEO:43.310029;-73.639958
X-APPLE-STRUCTURED-LOCATION;VALUE=URI;X-ADDRESS=World Awareness Children’s Museum 89 Warren St Glens Falls NY United States;X-APPLE-RADIUS=500;X-TITLE=89 Warren St:geo:-73.639958,43.310029
END:VEVENT
BEGIN:VEVENT
DTSTART;TZID=America/New_York:20251231T100000
DTEND;TZID=America/New_York:20251231T130000
DTSTAMP:20260419T221439
CREATED:20251024T183904Z
LAST-MODIFIED:20251226T205341Z
UID:10005872-1767175200-1767186000@worldchildrensmuseum.org
SUMMARY:Open for General Admission
DESCRIPTION:Tickets can be purchased online at https://wacm.ticketleap.com/admission-2025/Admission Costs:Members: FreeNot-Yet-Members: $7 per person\, children under 12mo. are free.Please visit our website for more information on admission: https://worldchildrensmuseum.org/for-visitors/
URL:https://worldchildrensmuseum.org/events/open-for-general-admission-651/
LOCATION:World Awareness Children’s Museum\, 89 Warren St\, Glens Falls\, NY\, United States
GEO:43.310029;-73.639958
X-APPLE-STRUCTURED-LOCATION;VALUE=URI;X-ADDRESS=World Awareness Children’s Museum 89 Warren St Glens Falls NY United States;X-APPLE-RADIUS=500;X-TITLE=89 Warren St:geo:-73.639958,43.310029
END:VEVENT
BEGIN:VEVENT
DTSTART;TZID=America/New_York:20251231T103000
DTEND;TZID=America/New_York:20251231T120000
DTSTAMP:20260419T221439
CREATED:20251121T193922Z
LAST-MODIFIED:20251226T205342Z
UID:10006352-1767177000-1767182400@worldchildrensmuseum.org
SUMMARY:"Noon" Year's Eve: Global Noon Party!
DESCRIPTION:"Noon" Year’s Eve Celebration!\nRing in 2026 early at the museum! Enjoy festive crafts\, games\, and global New Year traditions in this kid-friendly countdown to noon—fun for the whole family! \nCost: Free with admission.
URL:https://worldchildrensmuseum.org/events/noon-years-eve-global-noon-party/
LOCATION:World Awareness Children’s Museum\, 89 Warren St\, Glens Falls\, NY\, United States
GEO:43.310029;-73.639958
X-APPLE-STRUCTURED-LOCATION;VALUE=URI;X-ADDRESS=World Awareness Children’s Museum 89 Warren St Glens Falls NY United States;X-APPLE-RADIUS=500;X-TITLE=89 Warren St:geo:-73.639958,43.310029
END:VEVENT
BEGIN:VEVENT
DTSTART;VALUE=DATE:20260101
DTEND;VALUE=DATE:20260102
DTSTAMP:20260419T221439
CREATED:20251024T183905Z
LAST-MODIFIED:20251226T205342Z
UID:10005873-1767225600-1767311999@worldchildrensmuseum.org
SUMMARY:Museum Closed
DESCRIPTION:
URL:https://worldchildrensmuseum.org/events/museum-closed-181/
LOCATION:NY
END:VEVENT
BEGIN:VEVENT
DTSTART;TZID=America/New_York:20260102T100000
DTEND;TZID=America/New_York:20260102T150000
DTSTAMP:20260419T221439
CREATED:20251024T183905Z
LAST-MODIFIED:20251226T205342Z
UID:10005874-1767348000-1767366000@worldchildrensmuseum.org
SUMMARY:Open for General Admission
DESCRIPTION:Tickets can be purchased online at https://wacm.ticketleap.com/admission-2025/Admission Costs:Members: FreeNot-Yet-Members: $7 per person\, children under 12mo. are free.Please visit our website for more information on admission: https://worldchildrensmuseum.org/for-visitors/
URL:https://worldchildrensmuseum.org/events/open-for-general-admission-652/
LOCATION:World Awareness Children’s Museum\, 89 Warren St\, Glens Falls\, NY\, United States
GEO:43.310029;-73.639958
X-APPLE-STRUCTURED-LOCATION;VALUE=URI;X-ADDRESS=World Awareness Children’s Museum 89 Warren St Glens Falls NY United States;X-APPLE-RADIUS=500;X-TITLE=89 Warren St:geo:-73.639958,43.310029
END:VEVENT
BEGIN:VEVENT
DTSTART;TZID=America/New_York:20260102T103000
DTEND;TZID=America/New_York:20260102T113000
DTSTAMP:20260419T221439
CREATED:20251212T202416Z
LAST-MODIFIED:20251226T205343Z
UID:10006353-1767349800-1767353400@worldchildrensmuseum.org
SUMMARY:Storytime Friday
DESCRIPTION:Everyone is welcome at Storytime Fridays\, a recurring program designed to spark joy and curiosity in little ones!  \nEach week\, we explore early literacy skills through movement\, imaginative play\, and a creative craft that brings the story to life. Perfect for toddlers\, preschoolers\, and their caregivers. \nCost: Free with Admission
URL:https://worldchildrensmuseum.org/events/storytime-friday-170/
LOCATION:NY
END:VEVENT
BEGIN:VEVENT
DTSTART;TZID=America/New_York:20260102T120000
DTEND;TZID=America/New_York:20260102T130000
DTSTAMP:20260419T221439
CREATED:20251212T202417Z
LAST-MODIFIED:20251226T205343Z
UID:10006354-1767355200-1767358800@worldchildrensmuseum.org
SUMMARY:Handprint Friends
DESCRIPTION:Handprint FriendsFridays in January | 12–1pm \nCreate your own unique “friend” each week using your very own handprint! Perfect for children ages 2 and up\, this fun and creative series lets little artists bring home a new handmade friend every Friday. \nCost: Free with admission
URL:https://worldchildrensmuseum.org/events/handprint-friends-2/
LOCATION:NY
END:VEVENT
END:VCALENDAR