BEGIN:VCALENDAR
VERSION:2.0
PRODID:-//World Awareness Children&#039;s Museum - ECPv6.15.20//NONSGML v1.0//EN
CALSCALE:GREGORIAN
METHOD:PUBLISH
X-WR-CALNAME:World Awareness Children&#039;s Museum
X-ORIGINAL-URL:https://worldchildrensmuseum.org
X-WR-CALDESC:Events for World Awareness Children&#039;s Museum
REFRESH-INTERVAL;VALUE=DURATION:PT1H
X-Robots-Tag:noindex
X-PUBLISHED-TTL:PT1H
BEGIN:VTIMEZONE
TZID:America/New_York
BEGIN:DAYLIGHT
TZOFFSETFROM:-0500
TZOFFSETTO:-0400
TZNAME:EDT
DTSTART:20210314T070000
END:DAYLIGHT
BEGIN:STANDARD
TZOFFSETFROM:-0400
TZOFFSETTO:-0500
TZNAME:EST
DTSTART:20211107T060000
END:STANDARD
BEGIN:DAYLIGHT
TZOFFSETFROM:-0500
TZOFFSETTO:-0400
TZNAME:EDT
DTSTART:20220313T070000
END:DAYLIGHT
BEGIN:STANDARD
TZOFFSETFROM:-0400
TZOFFSETTO:-0500
TZNAME:EST
DTSTART:20221106T060000
END:STANDARD
BEGIN:DAYLIGHT
TZOFFSETFROM:-0500
TZOFFSETTO:-0400
TZNAME:EDT
DTSTART:20230312T070000
END:DAYLIGHT
BEGIN:STANDARD
TZOFFSETFROM:-0400
TZOFFSETTO:-0500
TZNAME:EST
DTSTART:20231105T060000
END:STANDARD
END:VTIMEZONE
BEGIN:VEVENT
DTSTART;TZID=America/New_York:20220227T130000
DTEND;TZID=America/New_York:20220227T140000
DTSTAMP:20260419T202513
CREATED:20220224T205505Z
LAST-MODIFIED:20220226T211024Z
UID:10001541-1645966800-1645970400@worldchildrensmuseum.org
SUMMARY:Mini Masterpieces Painting Class
DESCRIPTION:Join us for our newest series\, Mini Masterpieces! During this class\, artists will paint their own miniature masterpieces on a tiny canvas. This class is taught by local artist Patrice Jarvis-Weber.  \nPlease note: This class is recommended for children ages 10 and older. \nCost: $8 per person. Members get a 15% discount! \nPlease call to reserve your spot: 518-793-2773or visit wacm.ticketleap.com to reserve online. \nThis class is limited to 9 people.
URL:https://worldchildrensmuseum.org/events/mini-masterpieces-painting-class-4/
LOCATION:NY
END:VEVENT
BEGIN:VEVENT
DTSTART;TZID=America/New_York:20220227T100000
DTEND;TZID=America/New_York:20220227T150000
DTSTAMP:20260419T202513
CREATED:20220105T182503Z
LAST-MODIFIED:20220226T211024Z
UID:10001494-1645956000-1645974000@worldchildrensmuseum.org
SUMMARY:Open for General Admission
DESCRIPTION:Pre-registration is encouraged: wacm.ticketleap.com/admission-2022 \nAdmission Costs:Members: FreeNot-Yet-Members: $7 per person\, children under 3 are free.Please visit our website for more information on admission: https://worldchildrensmuseum.org/for-visitors/ \nMasks are required for all visitors ages 3 and up\, regardless of vaccination status. 
URL:https://worldchildrensmuseum.org/events/open-for-general-admission-120/
LOCATION:World Awareness Children’s Museum\, 89 Warren St\, Glens Falls\, NY 12801\, USA
END:VEVENT
BEGIN:VEVENT
DTSTART;TZID=America/New_York:20220226T100000
DTEND;TZID=America/New_York:20220226T150000
DTSTAMP:20260419T202513
CREATED:20220105T182503Z
LAST-MODIFIED:20220225T205524Z
UID:10001492-1645869600-1645887600@worldchildrensmuseum.org
SUMMARY:Open for General Admission
DESCRIPTION:Pre-registration is encouraged: wacm.ticketleap.com/admission-2022 \nAdmission Costs:Members: FreeNot-Yet-Members: $7 per person\, children under 3 are free.Please visit our website for more information on admission: https://worldchildrensmuseum.org/for-visitors/ \nMasks are required for all visitors ages 3 and up\, regardless of vaccination status. 
URL:https://worldchildrensmuseum.org/events/open-for-general-admission-119/
LOCATION:World Awareness Children’s Museum\, 89 Warren St\, Glens Falls\, NY 12801\, USA
END:VEVENT
BEGIN:VEVENT
DTSTART;TZID=America/New_York:20220225T130000
DTEND;TZID=America/New_York:20220225T140000
DTSTAMP:20260419T202513
CREATED:20220125T191248Z
LAST-MODIFIED:20220224T205506Z
UID:10001540-1645794000-1645797600@worldchildrensmuseum.org
SUMMARY:POSTPONED UNTIL SUNDAY: Mini Masterpieces Painting Class
DESCRIPTION:Join us for our newest series\, Mini Masterpieces! During this class\, artists will paint their own miniature masterpieces on a tiny canvas. This class is taught by local artist Patrice Jarvis-Weber.  \nPlease note: This class is recommended for children ages 10 and older. \nCost: $8 per person. Members get a 15% discount! \nPlease call to reserve your spot: 518-793-2773or visit wacm.ticketleap.com to reserve online. \nThis class is limited to 9 people.
URL:https://worldchildrensmuseum.org/events/mini-masterpieces-painting-class-3/
LOCATION:NY
END:VEVENT
BEGIN:VEVENT
DTSTART;TZID=America/New_York:20220225T100000
DTEND;TZID=America/New_York:20220225T150000
DTSTAMP:20260419T202513
CREATED:20220105T182503Z
LAST-MODIFIED:20220224T205506Z
UID:10001490-1645783200-1645801200@worldchildrensmuseum.org
SUMMARY:Open for General Admission
DESCRIPTION:Pre-registration is encouraged: wacm.ticketleap.com/admission-2022 \nAdmission Costs:Members: FreeNot-Yet-Members: $7 per person\, children under 3 are free.Please visit our website for more information on admission: https://worldchildrensmuseum.org/for-visitors/ \nMasks are required for all visitors ages 3 and up\, regardless of vaccination status. 
URL:https://worldchildrensmuseum.org/events/open-for-general-admission-118/
LOCATION:World Awareness Children’s Museum\, 89 Warren St\, Glens Falls\, NY 12801\, USA
END:VEVENT
BEGIN:VEVENT
DTSTART;TZID=America/New_York:20220224T103000
DTEND;TZID=America/New_York:20220224T113000
DTSTAMP:20260419T202513
CREATED:20220125T191247Z
LAST-MODIFIED:20220223T205510Z
UID:10001539-1645698600-1645702200@worldchildrensmuseum.org
SUMMARY:Workshop: Inspired by Jean-Michel Basquiat
DESCRIPTION:Today we’ll learn about Black artist Jean-Michel Basquiat and his abstract drawings of heroic figures. Children will work on their own “hero” drawings to take home after the class. Did you know: Jean-Michel Basquait rose to fame in the late 1970s partly due to his graffiti art. \nCost: Free with admission
URL:https://worldchildrensmuseum.org/events/workshop-inspired-by-jean-michel-basquait/
LOCATION:NY
END:VEVENT
BEGIN:VEVENT
DTSTART;TZID=America/New_York:20220224T100000
DTEND;TZID=America/New_York:20220224T150000
DTSTAMP:20260419T202513
CREATED:20220125T191247Z
LAST-MODIFIED:20220223T205510Z
UID:10001711-1645696800-1645714800@worldchildrensmuseum.org
SUMMARY:Open for General Admission
DESCRIPTION:Pre-registration is encouraged: wacm.ticketleap.com/admission-2022 \nAdmission Costs:Members: FreeNot-Yet-Members: $7 per person\, children under 3 are free.Please visit our website for more information on admission: https://worldchildrensmuseum.org/for-visitors/ \nMasks are required for all visitors ages 3 and up\, regardless of vaccination status. 
URL:https://worldchildrensmuseum.org/events/open-for-general-admission-192/
LOCATION:NY
END:VEVENT
BEGIN:VEVENT
DTSTART;TZID=America/New_York:20220223T103000
DTEND;TZID=America/New_York:20220223T113000
DTSTAMP:20260419T202513
CREATED:20220125T191247Z
LAST-MODIFIED:20220222T204030Z
UID:10001710-1645612200-1645615800@worldchildrensmuseum.org
SUMMARY:Workshop: Inspired by Lorna Simpson
DESCRIPTION:Join us today to learn about Black artist Lorna Simpson and the beautiful\, imaginative art she creates using watercolors and collage. Children will work on their own collage works during today’s class. Did you know: Lorna Simpson is still alive\, and she lives in Brooklyn\, NY. \nCost: Free with admission
URL:https://worldchildrensmuseum.org/events/workshop-inspired-by-lorna-simpson/
LOCATION:NY
END:VEVENT
BEGIN:VEVENT
DTSTART;TZID=America/New_York:20220223T100000
DTEND;TZID=America/New_York:20220223T150000
DTSTAMP:20260419T202513
CREATED:20220125T191247Z
LAST-MODIFIED:20220222T204031Z
UID:10001709-1645610400-1645628400@worldchildrensmuseum.org
SUMMARY:Open for General Admission
DESCRIPTION:Pre-registration is encouraged: wacm.ticketleap.com/admission-2022 \nAdmission Costs:Members: FreeNot-Yet-Members: $7 per person\, children under 3 are free.Please visit our website for more information on admission: https://worldchildrensmuseum.org/for-visitors/ \nMasks are required for all visitors ages 3 and up\, regardless of vaccination status. 
URL:https://worldchildrensmuseum.org/events/open-for-general-admission-191/
LOCATION:NY
END:VEVENT
BEGIN:VEVENT
DTSTART;TZID=America/New_York:20220222T103000
DTEND;TZID=America/New_York:20220222T113000
DTSTAMP:20260419T202513
CREATED:20220125T191247Z
LAST-MODIFIED:20220221T204140Z
UID:10001708-1645525800-1645529400@worldchildrensmuseum.org
SUMMARY:Workshop: Inspired by Augusta Savage
DESCRIPTION:Join us today as we learn about Black sculptor Augusta Savage\, and make our own sculptures to take home! Did you know: In 1945\, Augusta Savage moved to Saugerties\, NY\, to teach art to children and to write children’s stories.  \nCost: Free with admission
URL:https://worldchildrensmuseum.org/events/workshop-inspired-by-augusta-savage/
LOCATION:NY
END:VEVENT
BEGIN:VEVENT
DTSTART;TZID=America/New_York:20220222T100000
DTEND;TZID=America/New_York:20220222T150000
DTSTAMP:20260419T202513
CREATED:20220125T191247Z
LAST-MODIFIED:20220221T204140Z
UID:10001707-1645524000-1645542000@worldchildrensmuseum.org
SUMMARY:Open for General Admission
DESCRIPTION:Pre-registration is encouraged: wacm.ticketleap.com/admission-2022 \nAdmission Costs:Members: FreeNot-Yet-Members: $7 per person\, children under 3 are free.Please visit our website for more information on admission: https://worldchildrensmuseum.org/for-visitors/ \nMasks are required for all visitors ages 3 and up\, regardless of vaccination status. 
URL:https://worldchildrensmuseum.org/events/open-for-general-admission-190/
LOCATION:NY
END:VEVENT
BEGIN:VEVENT
DTSTART;TZID=America/New_York:20220221T130000
DTEND;TZID=America/New_York:20220221T140000
DTSTAMP:20260419T202513
CREATED:20220125T191247Z
LAST-MODIFIED:20220220T204016Z
UID:10001691-1645448400-1645452000@worldchildrensmuseum.org
SUMMARY:Paint & Sip
DESCRIPTION:Join us for our popular family-friendly Paint & Sip series. Artists will take inspiration from “Les Fetiches\,” by famous artist Lois Mailou Jones\, and paint their own masterpiece on canvas with instruction from local artist Patrice Jarvis-Weber.  \nCost: $20 per child/adult duo. ($5 for each additional child\, $10 for each additional adult.) \nMembers get a 10% discount! \nPlease call to reserve your spot: 518-793-2773 \nor visit wacm.ticketleap.com to reserve online. \nThis class is limited to 9 people.
URL:https://worldchildrensmuseum.org/events/paint-sip-4/
LOCATION:NY
END:VEVENT
BEGIN:VEVENT
DTSTART;TZID=America/New_York:20220221T100000
DTEND;TZID=America/New_York:20220221T150000
DTSTAMP:20260419T202513
CREATED:20220105T182503Z
LAST-MODIFIED:20220220T204016Z
UID:10001488-1645437600-1645455600@worldchildrensmuseum.org
SUMMARY:Open for General Admission
DESCRIPTION:Pre-registration is encouraged: wacm.ticketleap.com/admission-2022 \nAdmission Costs:Members: FreeNot-Yet-Members: $7 per person\, children under 3 are free.Please visit our website for more information on admission: https://worldchildrensmuseum.org/for-visitors/ \nMasks are required for all visitors ages 3 and up\, regardless of vaccination status. 
URL:https://worldchildrensmuseum.org/events/open-for-general-admission-117/
LOCATION:World Awareness Children’s Museum\, 89 Warren St\, Glens Falls\, NY 12801\, USA
END:VEVENT
BEGIN:VEVENT
DTSTART;TZID=America/New_York:20220220T100000
DTEND;TZID=America/New_York:20220220T150000
DTSTAMP:20260419T202513
CREATED:20220105T182503Z
LAST-MODIFIED:20220219T203954Z
UID:10001486-1645351200-1645369200@worldchildrensmuseum.org
SUMMARY:Open for General Admission
DESCRIPTION:Pre-registration is encouraged: wacm.ticketleap.com/admission-2022 \nAdmission Costs:Members: FreeNot-Yet-Members: $7 per person\, children under 3 are free.Please visit our website for more information on admission: https://worldchildrensmuseum.org/for-visitors/ \nMasks are required for all visitors ages 3 and up\, regardless of vaccination status. 
URL:https://worldchildrensmuseum.org/events/open-for-general-admission-116/
LOCATION:World Awareness Children’s Museum\, 89 Warren St\, Glens Falls\, NY 12801\, USA
END:VEVENT
BEGIN:VEVENT
DTSTART;TZID=America/New_York:20220219T100000
DTEND;TZID=America/New_York:20220219T150000
DTSTAMP:20260419T202513
CREATED:20220105T182502Z
LAST-MODIFIED:20220218T203956Z
UID:10001484-1645264800-1645282800@worldchildrensmuseum.org
SUMMARY:Open for General Admission
DESCRIPTION:Pre-registration is encouraged: wacm.ticketleap.com/admission-2022 \nAdmission Costs:Members: FreeNot-Yet-Members: $7 per person\, children under 3 are free.Please visit our website for more information on admission: https://worldchildrensmuseum.org/for-visitors/ \nMasks are required for all visitors ages 3 and up\, regardless of vaccination status. 
URL:https://worldchildrensmuseum.org/events/open-for-general-admission-115/
LOCATION:World Awareness Children’s Museum\, 89 Warren St\, Glens Falls\, NY 12801\, USA
END:VEVENT
BEGIN:VEVENT
DTSTART;TZID=America/New_York:20220218T103000
DTEND;TZID=America/New_York:20220218T113000
DTSTAMP:20260419T202513
CREATED:20220125T191246Z
LAST-MODIFIED:20220217T204015Z
UID:10001689-1645180200-1645183800@worldchildrensmuseum.org
SUMMARY:Storytime Friday: “We March” by Shane W. Evans
DESCRIPTION:Everyone is welcome at our recurring program\, Storytime Fridays! This program is appropriate for all ages and includes a story and a craft. \nCost: Free with admission
URL:https://worldchildrensmuseum.org/events/storytime-friday-we-march-by-shane-w-evans/
LOCATION:NY
END:VEVENT
BEGIN:VEVENT
DTSTART;TZID=America/New_York:20220218T100000
DTEND;TZID=America/New_York:20220218T150000
DTSTAMP:20260419T202513
CREATED:20220105T182502Z
LAST-MODIFIED:20220217T204015Z
UID:10001482-1645178400-1645196400@worldchildrensmuseum.org
SUMMARY:Open for General Admission
DESCRIPTION:Pre-registration is encouraged: wacm.ticketleap.com/admission-2022 \nAdmission Costs:Members: FreeNot-Yet-Members: $7 per person\, children under 3 are free.Please visit our website for more information on admission: https://worldchildrensmuseum.org/for-visitors/ \nMasks are required for all visitors ages 3 and up\, regardless of vaccination status. 
URL:https://worldchildrensmuseum.org/events/open-for-general-admission-114/
LOCATION:World Awareness Children’s Museum\, 89 Warren St\, Glens Falls\, NY 12801\, USA
END:VEVENT
BEGIN:VEVENT
DTSTART;TZID=America/New_York:20220214T103000
DTEND;TZID=America/New_York:20220214T113000
DTSTAMP:20260419T202513
CREATED:20220125T191246Z
LAST-MODIFIED:20220213T202620Z
UID:10001669-1644834600-1644838200@worldchildrensmuseum.org
SUMMARY:Paper Mosaic Workshop
DESCRIPTION:Paper Mosaic Workshop Inspired by Alma Thomas \nAlma Thomas was an African-American artist who was known for her painting that looked like mosaics. We’ll learn about her life and look at some of her artworks\, and make our own paper mosaics to take home.  \nCost: Free with admission \n 
URL:https://worldchildrensmuseum.org/events/paper-mosaic-workshop/
LOCATION:NY
END:VEVENT
BEGIN:VEVENT
DTSTART;TZID=America/New_York:20220214T100000
DTEND;TZID=America/New_York:20220214T150000
DTSTAMP:20260419T202513
CREATED:20220105T182502Z
LAST-MODIFIED:20220213T202620Z
UID:10001634-1644832800-1644850800@worldchildrensmuseum.org
SUMMARY:Open for General Admission
DESCRIPTION:Pre-registration is encouraged: wacm.ticketleap.com/admission-2022 \nAdmission Costs:Members: FreeNot-Yet-Members: $7 per person\, children under 3 are free.Please visit our website for more information on admission: https://worldchildrensmuseum.org/for-visitors/ \nMasks are required for all visitors ages 3 and up\, regardless of vaccination status. 
URL:https://worldchildrensmuseum.org/events/open-for-general-admission-113/
LOCATION:World Awareness Children’s Museum\, 89 Warren St\, Glens Falls\, NY 12801\, USA
END:VEVENT
BEGIN:VEVENT
DTSTART;TZID=America/New_York:20220213T100000
DTEND;TZID=America/New_York:20220213T150000
DTSTAMP:20260419T202513
CREATED:20220105T182502Z
LAST-MODIFIED:20220212T202456Z
UID:10001633-1644746400-1644764400@worldchildrensmuseum.org
SUMMARY:Open for General Admission
DESCRIPTION:Pre-registration is encouraged: wacm.ticketleap.com/admission-2022 \nAdmission Costs:Members: FreeNot-Yet-Members: $7 per person\, children under 3 are free.Please visit our website for more information on admission: https://worldchildrensmuseum.org/for-visitors/ \nMasks are required for all visitors ages 3 and up\, regardless of vaccination status. 
URL:https://worldchildrensmuseum.org/events/open-for-general-admission-112/
LOCATION:World Awareness Children’s Museum\, 89 Warren St\, Glens Falls\, NY 12801\, USA
END:VEVENT
BEGIN:VEVENT
DTSTART;TZID=America/New_York:20220212T100000
DTEND;TZID=America/New_York:20220212T150000
DTSTAMP:20260419T202513
CREATED:20220105T182502Z
LAST-MODIFIED:20220211T202636Z
UID:10001609-1644660000-1644678000@worldchildrensmuseum.org
SUMMARY:Open for General Admission
DESCRIPTION:Pre-registration is encouraged: wacm.ticketleap.com/admission-2022 \nAdmission Costs:Members: FreeNot-Yet-Members: $7 per person\, children under 3 are free.Please visit our website for more information on admission: https://worldchildrensmuseum.org/for-visitors/ \nMasks are required for all visitors ages 3 and up\, regardless of vaccination status. 
URL:https://worldchildrensmuseum.org/events/open-for-general-admission-111/
LOCATION:World Awareness Children’s Museum\, 89 Warren St\, Glens Falls\, NY 12801\, USA
END:VEVENT
BEGIN:VEVENT
DTSTART;TZID=America/New_York:20220211T103000
DTEND;TZID=America/New_York:20220211T113000
DTSTAMP:20260419T202513
CREATED:20220125T191245Z
LAST-MODIFIED:20220210T202613Z
UID:10001668-1644575400-1644579000@worldchildrensmuseum.org
SUMMARY:Storytime Friday: “This Jazz Man” by Karen Ehrhardt
DESCRIPTION:Everyone is welcome at our recurring program\, Storytime Fridays! This program is appropriate for all ages and includes a story and a craft.  \nCost: Free with admission
URL:https://worldchildrensmuseum.org/events/storytime-friday-this-jazz-man-by-karen-ehrhardt/
LOCATION:NY
END:VEVENT
BEGIN:VEVENT
DTSTART;TZID=America/New_York:20220211T100000
DTEND;TZID=America/New_York:20220211T150000
DTSTAMP:20260419T202513
CREATED:20220105T182501Z
LAST-MODIFIED:20220210T202613Z
UID:10001608-1644573600-1644591600@worldchildrensmuseum.org
SUMMARY:Open for General Admission
DESCRIPTION:Pre-registration is encouraged: wacm.ticketleap.com/admission-2022 \nAdmission Costs:Members: FreeNot-Yet-Members: $7 per person\, children under 3 are free.Please visit our website for more information on admission: https://worldchildrensmuseum.org/for-visitors/ \nMasks are required for all visitors ages 3 and up\, regardless of vaccination status. 
URL:https://worldchildrensmuseum.org/events/open-for-general-admission-110/
LOCATION:World Awareness Children’s Museum\, 89 Warren St\, Glens Falls\, NY 12801\, USA
END:VEVENT
BEGIN:VEVENT
DTSTART;TZID=America/New_York:20220207T103000
DTEND;TZID=America/New_York:20220207T113000
DTSTAMP:20260419T202513
CREATED:20220125T191244Z
LAST-MODIFIED:20220206T202544Z
UID:10001667-1644229800-1644233400@worldchildrensmuseum.org
SUMMARY:Paper Quilt Workshop
DESCRIPTION:Paper “Quilt” Workshop Inspired by Gee’s Bend Quilts \nGee’s Bend is a rural community southwest of Selma and has become known for the abstract quilts made by the generations of African-American women there. Join us today as we learn a little more about Gee’s Bend Quilts and make our own paper quilts! \nCost: Free with admission
URL:https://worldchildrensmuseum.org/events/paper-quilt-workshop/
LOCATION:NY
END:VEVENT
BEGIN:VEVENT
DTSTART;TZID=America/New_York:20220207T100000
DTEND;TZID=America/New_York:20220207T150000
DTSTAMP:20260419T202513
CREATED:20220105T182501Z
LAST-MODIFIED:20220206T202545Z
UID:10001594-1644228000-1644246000@worldchildrensmuseum.org
SUMMARY:Open for General Admission
DESCRIPTION:Pre-registration is encouraged: wacm.ticketleap.com/admission-2022 \nAdmission Costs:Members: FreeNot-Yet-Members: $7 per person\, children under 3 are free.Please visit our website for more information on admission: https://worldchildrensmuseum.org/for-visitors/ \nMasks are required for all visitors ages 3 and up\, regardless of vaccination status. 
URL:https://worldchildrensmuseum.org/events/open-for-general-admission-109/
LOCATION:World Awareness Children’s Museum\, 89 Warren St\, Glens Falls\, NY 12801\, USA
END:VEVENT
BEGIN:VEVENT
DTSTART;TZID=America/New_York:20220206T100000
DTEND;TZID=America/New_York:20220206T150000
DTSTAMP:20260419T202513
CREATED:20220105T182501Z
LAST-MODIFIED:20220205T202652Z
UID:10001593-1644141600-1644159600@worldchildrensmuseum.org
SUMMARY:Open for General Admission
DESCRIPTION:Pre-registration is encouraged: wacm.ticketleap.com/admission-2022 \nAdmission Costs:Members: FreeNot-Yet-Members: $7 per person\, children under 3 are free.Please visit our website for more information on admission: https://worldchildrensmuseum.org/for-visitors/ \nMasks are required for all visitors ages 3 and up\, regardless of vaccination status. 
URL:https://worldchildrensmuseum.org/events/open-for-general-admission-108/
LOCATION:World Awareness Children’s Museum\, 89 Warren St\, Glens Falls\, NY 12801\, USA
END:VEVENT
BEGIN:VEVENT
DTSTART;TZID=America/New_York:20220205T100000
DTEND;TZID=America/New_York:20220205T150000
DTSTAMP:20260419T202513
CREATED:20220105T182501Z
LAST-MODIFIED:20220204T202718Z
UID:10001592-1644055200-1644073200@worldchildrensmuseum.org
SUMMARY:Open for General Admission
DESCRIPTION:Pre-registration is encouraged: wacm.ticketleap.com/admission-2022 \nAdmission Costs:Members: FreeNot-Yet-Members: $7 per person\, children under 3 are free.Please visit our website for more information on admission: https://worldchildrensmuseum.org/for-visitors/ \nMasks are required for all visitors ages 3 and up\, regardless of vaccination status. 
URL:https://worldchildrensmuseum.org/events/open-for-general-admission-107/
LOCATION:World Awareness Children’s Museum\, 89 Warren St\, Glens Falls\, NY 12801\, USA
END:VEVENT
BEGIN:VEVENT
DTSTART;TZID=America/New_York:20220204T100000
DTEND;TZID=America/New_York:20220204T150000
DTSTAMP:20260419T202513
CREATED:20220105T182501Z
LAST-MODIFIED:20220203T201206Z
UID:10001590-1643968800-1643986800@worldchildrensmuseum.org
SUMMARY:Open for General Admission
DESCRIPTION:Pre-registration is encouraged: wacm.ticketleap.com/admission-2022 \nAdmission Costs:Members: FreeNot-Yet-Members: $7 per person\, children under 3 are free.Please visit our website for more information on admission: https://worldchildrensmuseum.org/for-visitors/ \nMasks are required for all visitors ages 3 and up\, regardless of vaccination status. 
URL:https://worldchildrensmuseum.org/events/open-for-general-admission-106/
LOCATION:World Awareness Children’s Museum\, 89 Warren St\, Glens Falls\, NY 12801\, USA
END:VEVENT
BEGIN:VEVENT
DTSTART;TZID=America/New_York:20220131T100000
DTEND;TZID=America/New_York:20220131T150000
DTSTAMP:20260419T202513
CREATED:20220105T182501Z
LAST-MODIFIED:20220131T195524Z
UID:10001588-1643623200-1643641200@worldchildrensmuseum.org
SUMMARY:Open for General Admission
DESCRIPTION:Pre-registration is encouraged: wacm.ticketleap.com/admission-2022 \nAdmission Costs:Members: FreeNot-Yet-Members: $7 per person\, children under 3 are free.Please visit our website for more information on admission: https://worldchildrensmuseum.org/for-visitors/ \nMasks are required for all visitors ages 3 and up\, regardless of vaccination status. 
URL:https://worldchildrensmuseum.org/events/open-for-general-admission-105/
LOCATION:World Awareness Children’s Museum\, 89 Warren St\, Glens Falls\, NY 12801\, USA
END:VEVENT
BEGIN:VEVENT
DTSTART;TZID=America/New_York:20220130T100000
DTEND;TZID=America/New_York:20220130T150000
DTSTAMP:20260419T202513
CREATED:20220105T182500Z
LAST-MODIFIED:20220130T195537Z
UID:10001586-1643536800-1643554800@worldchildrensmuseum.org
SUMMARY:Open for General Admission
DESCRIPTION:Pre-registration is encouraged: wacm.ticketleap.com/admission-2022 \nAdmission Costs:Members: FreeNot-Yet-Members: $7 per person\, children under 3 are free.Please visit our website for more information on admission: https://worldchildrensmuseum.org/for-visitors/ \nMasks are required for all visitors ages 3 and up\, regardless of vaccination status. 
URL:https://worldchildrensmuseum.org/events/open-for-general-admission-104/
LOCATION:World Awareness Children’s Museum\, 89 Warren St\, Glens Falls\, NY 12801\, USA
END:VEVENT
END:VCALENDAR