BEGIN:VCALENDAR
VERSION:2.0
PRODID:-//World Awareness Children&#039;s Museum - ECPv6.15.20//NONSGML v1.0//EN
CALSCALE:GREGORIAN
METHOD:PUBLISH
X-ORIGINAL-URL:https://worldchildrensmuseum.org
X-WR-CALDESC:Events for World Awareness Children&#039;s Museum
REFRESH-INTERVAL;VALUE=DURATION:PT1H
X-Robots-Tag:noindex
X-PUBLISHED-TTL:PT1H
BEGIN:VTIMEZONE
TZID:America/New_York
BEGIN:DAYLIGHT
TZOFFSETFROM:-0500
TZOFFSETTO:-0400
TZNAME:EDT
DTSTART:20240310T070000
END:DAYLIGHT
BEGIN:STANDARD
TZOFFSETFROM:-0400
TZOFFSETTO:-0500
TZNAME:EST
DTSTART:20241103T060000
END:STANDARD
BEGIN:DAYLIGHT
TZOFFSETFROM:-0500
TZOFFSETTO:-0400
TZNAME:EDT
DTSTART:20250309T070000
END:DAYLIGHT
BEGIN:STANDARD
TZOFFSETFROM:-0400
TZOFFSETTO:-0500
TZNAME:EST
DTSTART:20251102T060000
END:STANDARD
BEGIN:DAYLIGHT
TZOFFSETFROM:-0500
TZOFFSETTO:-0400
TZNAME:EDT
DTSTART:20260308T070000
END:DAYLIGHT
BEGIN:STANDARD
TZOFFSETFROM:-0400
TZOFFSETTO:-0500
TZNAME:EST
DTSTART:20261101T060000
END:STANDARD
BEGIN:DAYLIGHT
TZOFFSETFROM:-0500
TZOFFSETTO:-0400
TZNAME:EDT
DTSTART:20270314T070000
END:DAYLIGHT
BEGIN:STANDARD
TZOFFSETFROM:-0400
TZOFFSETTO:-0500
TZNAME:EST
DTSTART:20271107T060000
END:STANDARD
END:VTIMEZONE
BEGIN:VEVENT
DTSTART;TZID=America/New_York:20251231T103000
DTEND;TZID=America/New_York:20251231T120000
DTSTAMP:20260419T202511
CREATED:20251121T193922Z
LAST-MODIFIED:20251226T205342Z
UID:10006352-1767177000-1767182400@worldchildrensmuseum.org
SUMMARY:"Noon" Year's Eve: Global Noon Party!
DESCRIPTION:"Noon" Year’s Eve Celebration!\nRing in 2026 early at the museum! Enjoy festive crafts\, games\, and global New Year traditions in this kid-friendly countdown to noon—fun for the whole family! \nCost: Free with admission.
URL:https://worldchildrensmuseum.org/events/noon-years-eve-global-noon-party/
LOCATION:World Awareness Children’s Museum\, 89 Warren St\, Glens Falls\, NY\, United States
GEO:43.310029;-73.639958
X-APPLE-STRUCTURED-LOCATION;VALUE=URI;X-ADDRESS=World Awareness Children’s Museum 89 Warren St Glens Falls NY United States;X-APPLE-RADIUS=500;X-TITLE=89 Warren St:geo:-73.639958,43.310029
END:VEVENT
BEGIN:VEVENT
DTSTART;VALUE=DATE:20260101
DTEND;VALUE=DATE:20260102
DTSTAMP:20260419T202511
CREATED:20251024T183905Z
LAST-MODIFIED:20251226T205342Z
UID:10005873-1767225600-1767311999@worldchildrensmuseum.org
SUMMARY:Museum Closed
DESCRIPTION:
URL:https://worldchildrensmuseum.org/events/museum-closed-181/
LOCATION:NY
END:VEVENT
BEGIN:VEVENT
DTSTART;TZID=America/New_York:20260102T100000
DTEND;TZID=America/New_York:20260102T150000
DTSTAMP:20260419T202512
CREATED:20251024T183905Z
LAST-MODIFIED:20251226T205342Z
UID:10005874-1767348000-1767366000@worldchildrensmuseum.org
SUMMARY:Open for General Admission
DESCRIPTION:Tickets can be purchased online at https://wacm.ticketleap.com/admission-2025/Admission Costs:Members: FreeNot-Yet-Members: $7 per person\, children under 12mo. are free.Please visit our website for more information on admission: https://worldchildrensmuseum.org/for-visitors/
URL:https://worldchildrensmuseum.org/events/open-for-general-admission-652/
LOCATION:World Awareness Children’s Museum\, 89 Warren St\, Glens Falls\, NY\, United States
GEO:43.310029;-73.639958
X-APPLE-STRUCTURED-LOCATION;VALUE=URI;X-ADDRESS=World Awareness Children’s Museum 89 Warren St Glens Falls NY United States;X-APPLE-RADIUS=500;X-TITLE=89 Warren St:geo:-73.639958,43.310029
END:VEVENT
BEGIN:VEVENT
DTSTART;TZID=America/New_York:20260102T103000
DTEND;TZID=America/New_York:20260102T113000
DTSTAMP:20260419T202512
CREATED:20251212T202416Z
LAST-MODIFIED:20251226T205343Z
UID:10006353-1767349800-1767353400@worldchildrensmuseum.org
SUMMARY:Storytime Friday
DESCRIPTION:Everyone is welcome at Storytime Fridays\, a recurring program designed to spark joy and curiosity in little ones!  \nEach week\, we explore early literacy skills through movement\, imaginative play\, and a creative craft that brings the story to life. Perfect for toddlers\, preschoolers\, and their caregivers. \nCost: Free with Admission
URL:https://worldchildrensmuseum.org/events/storytime-friday-170/
LOCATION:NY
END:VEVENT
BEGIN:VEVENT
DTSTART;TZID=America/New_York:20260102T120000
DTEND;TZID=America/New_York:20260102T130000
DTSTAMP:20260419T202512
CREATED:20251212T202417Z
LAST-MODIFIED:20251226T205343Z
UID:10006354-1767355200-1767358800@worldchildrensmuseum.org
SUMMARY:Handprint Friends
DESCRIPTION:Handprint FriendsFridays in January | 12–1pm \nCreate your own unique “friend” each week using your very own handprint! Perfect for children ages 2 and up\, this fun and creative series lets little artists bring home a new handmade friend every Friday. \nCost: Free with admission
URL:https://worldchildrensmuseum.org/events/handprint-friends-2/
LOCATION:NY
END:VEVENT
BEGIN:VEVENT
DTSTART;TZID=America/New_York:20260102T133000
DTEND;TZID=America/New_York:20260102T143000
DTSTAMP:20260419T202512
CREATED:20251212T202417Z
LAST-MODIFIED:20251226T205343Z
UID:10006355-1767360600-1767364200@worldchildrensmuseum.org
SUMMARY:Storytime Friday
DESCRIPTION:Everyone is welcome at Storytime Fridays\, a recurring program designed to spark joy and curiosity in little ones!  \nEach week\, we explore early literacy skills through movement\, imaginative play\, and a creative craft that brings the story to life. Perfect for toddlers\, preschoolers\, and their caregivers. \nCost: Free with Admission
URL:https://worldchildrensmuseum.org/events/storytime-friday-171/
LOCATION:NY
END:VEVENT
BEGIN:VEVENT
DTSTART;TZID=America/New_York:20260103T100000
DTEND;TZID=America/New_York:20260103T150000
DTSTAMP:20260419T202512
CREATED:20241130T202425Z
LAST-MODIFIED:20250619T190920Z
UID:10004235-1767434400-1767452400@worldchildrensmuseum.org
SUMMARY:Open for General Admission
DESCRIPTION:Tickets can be purchased online at https://wacm.ticketleap.com/museum-admission-2024/Admission Costs:Members: FreeNot-Yet-Members: $7 per person\, children under 12mo. are free.Please visit our website for more information on admission: https://worldchildrensmuseum.org/for-visitors/
URL:https://worldchildrensmuseum.org/events/open-for-general-admission-2153/
LOCATION:World Awareness Children’s Museum\, 89 Warren St\, Glens Falls\, NY\, United States
GEO:43.310029;-73.639958
X-APPLE-STRUCTURED-LOCATION;VALUE=URI;X-ADDRESS=World Awareness Children’s Museum 89 Warren St Glens Falls NY United States;X-APPLE-RADIUS=500;X-TITLE=89 Warren St:geo:-73.639958,43.310029
END:VEVENT
BEGIN:VEVENT
DTSTART;TZID=America/New_York:20260103T100000
DTEND;TZID=America/New_York:20260103T150000
DTSTAMP:20260419T202512
CREATED:20251212T202419Z
LAST-MODIFIED:20260102T210843Z
UID:10006356-1767434400-1767452400@worldchildrensmuseum.org
SUMMARY:Bring Your Favorite...Accessory Today!
DESCRIPTION:Bring Your Favorite Accessory! \nShow off something special from home—your favorite bow\, hat\, bracelet\, badge\, cape\, or anything you love to wear! Explore the museum in style\, draw a favorite moment in the Art Room\, and don’t miss our cultural dress-up mirror for a fun photo stop.  \nLook at You Around the World!Try on real clothing pieces inspired by cultures around the globe\, right over your everyday outfit. Take a photo in your favorite accessory\, dress up in something new\, or try both!  \nCost: Free with Admission
URL:https://worldchildrensmuseum.org/events/bring-your-favorite-accessory-today/
LOCATION:NY
END:VEVENT
BEGIN:VEVENT
DTSTART;TZID=America/New_York:20260103T130000
DTEND;TZID=America/New_York:20260103T143000
DTSTAMP:20260419T202512
CREATED:20251010T183922Z
LAST-MODIFIED:20260102T210843Z
UID:10005815-1767445200-1767450600@worldchildrensmuseum.org
SUMMARY:Peek-a-Boo Snowmen Paint & Sip
DESCRIPTION:Join us for our popular family-friendly Paint & Sip series taught by local artist Patrice Jarvis-Weber. Artists will paint their own peek-a-boo snowmen on canvas.  \nCost: $12 per person. Members get a 10% discount! Please call to reserve your spot: 518-793-2773 or visit wacm.ticketleap.com to reserve online. \nThis class is limited to 9 people.
URL:https://worldchildrensmuseum.org/events/peek-a-boo-snowmen-paint-sip/
LOCATION:World Awareness Children’s Museum\, 89 Warren St\, Glens Falls\, NY\, United States
GEO:43.310029;-73.639958
X-APPLE-STRUCTURED-LOCATION;VALUE=URI;X-ADDRESS=World Awareness Children’s Museum 89 Warren St Glens Falls NY United States;X-APPLE-RADIUS=500;X-TITLE=89 Warren St:geo:-73.639958,43.310029
END:VEVENT
BEGIN:VEVENT
DTSTART;TZID=America/New_York:20260104T100000
DTEND;TZID=America/New_York:20260104T150000
DTSTAMP:20260419T202512
CREATED:20241201T200927Z
LAST-MODIFIED:20250619T190920Z
UID:10004236-1767520800-1767538800@worldchildrensmuseum.org
SUMMARY:Open for General Admission
DESCRIPTION:Tickets can be purchased online at https://wacm.ticketleap.com/museum-admission-2024/Admission Costs:Members: FreeNot-Yet-Members: $7 per person\, children under 12mo. are free.Please visit our website for more information on admission: https://worldchildrensmuseum.org/for-visitors/
URL:https://worldchildrensmuseum.org/events/open-for-general-admission-2154/
LOCATION:World Awareness Children’s Museum\, 89 Warren St\, Glens Falls\, NY\, United States
GEO:43.310029;-73.639958
X-APPLE-STRUCTURED-LOCATION;VALUE=URI;X-ADDRESS=World Awareness Children’s Museum 89 Warren St Glens Falls NY United States;X-APPLE-RADIUS=500;X-TITLE=89 Warren St:geo:-73.639958,43.310029
END:VEVENT
BEGIN:VEVENT
DTSTART;TZID=America/New_York:20260104T100000
DTEND;TZID=America/New_York:20260104T150000
DTSTAMP:20260419T202512
CREATED:20251212T202421Z
LAST-MODIFIED:20260102T210844Z
UID:10006357-1767520800-1767538800@worldchildrensmuseum.org
SUMMARY:Make & Take: Peace Day Collage Craft
DESCRIPTION:World Peace Day is January 1!  \nCome in and join us for a hands-on\, self-guided project—write “peace” in languages from around the world and create a take-home collage to celebrate unity.  \nCost: Free with admission and while supplies last.
URL:https://worldchildrensmuseum.org/events/make-take-peace-day-collage-craft/
LOCATION:NY
END:VEVENT
BEGIN:VEVENT
DTSTART;TZID=America/New_York:20260105T100000
DTEND;TZID=America/New_York:20260105T150000
DTSTAMP:20260419T202512
CREATED:20241202T200939Z
LAST-MODIFIED:20250619T190920Z
UID:10004237-1767607200-1767625200@worldchildrensmuseum.org
SUMMARY:Open for General Admission
DESCRIPTION:Tickets can be purchased online at https://wacm.ticketleap.com/museum-admission-2024/Admission Costs:Members: FreeNot-Yet-Members: $7 per person\, children under 12mo. are free.Please visit our website for more information on admission: https://worldchildrensmuseum.org/for-visitors/
URL:https://worldchildrensmuseum.org/events/open-for-general-admission-2155/
LOCATION:World Awareness Children’s Museum\, 89 Warren St\, Glens Falls\, NY\, United States
GEO:43.310029;-73.639958
X-APPLE-STRUCTURED-LOCATION;VALUE=URI;X-ADDRESS=World Awareness Children’s Museum 89 Warren St Glens Falls NY United States;X-APPLE-RADIUS=500;X-TITLE=89 Warren St:geo:-73.639958,43.310029
END:VEVENT
BEGIN:VEVENT
DTSTART;TZID=America/New_York:20260105T103000
DTEND;TZID=America/New_York:20260105T113000
DTSTAMP:20260419T202512
CREATED:20251219T203925Z
LAST-MODIFIED:20260102T210845Z
UID:10006370-1767609000-1767612600@worldchildrensmuseum.org
SUMMARY:Sensory Fun for Preschoolers: Snow Scoops & Pour!
DESCRIPTION:January Activity Highlight – Sensory Fun for Preschoolers: Snowy Scoops & Pour!As part of our January Theme: Freedom to Wonder\, preschoolers are invited to explore through hands-on sensory play in Snowy Scoops & Pour! Scoop\, pour\, and transfer “snowy” materials using cups and tools in this open-ended activity designed to spark curiosity\, build fine motor skills\, and encourage early exploration.   \nCost: Free with admission
URL:https://worldchildrensmuseum.org/events/sensory-fun-for-preschoolers-mini-science-lab/
LOCATION:89 Warren St\, Glens Falls\, NY\, United States
GEO:43.30952;-73.64401
END:VEVENT
BEGIN:VEVENT
DTSTART;TZID=America/New_York:20260108T100000
DTEND;TZID=America/New_York:20260108T150000
DTSTAMP:20260419T202512
CREATED:20241220T165515Z
LAST-MODIFIED:20250619T190920Z
UID:10004254-1767866400-1767884400@worldchildrensmuseum.org
SUMMARY:Open for General Admission
DESCRIPTION:Tickets can be purchased online at https://wacm.ticketleap.com/museum-admission-2024/Admission Costs:Members: FreeNot-Yet-Members: $7 per person\, children under 12mo. are free.Please visit our website for more information on admission: https://worldchildrensmuseum.org/for-visitors/
URL:https://worldchildrensmuseum.org/events/open-for-general-admission-2158/
LOCATION:World Awareness Children’s Museum\, 89 Warren St\, Glens Falls\, NY\, United States
GEO:43.310029;-73.639958
X-APPLE-STRUCTURED-LOCATION;VALUE=URI;X-ADDRESS=World Awareness Children’s Museum 89 Warren St Glens Falls NY United States;X-APPLE-RADIUS=500;X-TITLE=89 Warren St:geo:-73.639958,43.310029
END:VEVENT
BEGIN:VEVENT
DTSTART;TZID=America/New_York:20260108T103000
DTEND;TZID=America/New_York:20260108T113000
DTSTAMP:20260419T202512
CREATED:20251212T202422Z
LAST-MODIFIED:20260102T210846Z
UID:10006358-1767868200-1767871800@worldchildrensmuseum.org
SUMMARY:Kinder Rhythm
DESCRIPTION:Introducing Kinder Rhythm!Our popular Kinder Rhythm Drumming program has grown into a joyful blend of music and movement. Beginning in 2026\, enjoy the same great hands-on fun under a new name. \nJoin us for a lively\, intergenerational\, interactive music session ideal for children ages 1–5. This program inspires creativity\, joyful play\, and social connection through the power of group rhythm-making. We’ll sing\, dance\, play instruments\, and move to the beat together! \n \nCost: Free with Admission
URL:https://worldchildrensmuseum.org/events/kinder-rhythm-12/
LOCATION:NY
END:VEVENT
BEGIN:VEVENT
DTSTART;TZID=America/New_York:20260108T120000
DTEND;TZID=America/New_York:20260108T130000
DTSTAMP:20260419T202512
CREATED:20251219T203926Z
LAST-MODIFIED:20260102T210847Z
UID:10006371-1767873600-1767877200@worldchildrensmuseum.org
SUMMARY:Kinder Krafts!
DESCRIPTION:Start the morning with one of our most popular programs\, Kinder Rhythm\, then stay for some creative krafting fun for preschoolers! Create simple art projects designed for little hands and big imaginations.  Cost: Free with admission.
URL:https://worldchildrensmuseum.org/events/kinder-krafts-3/
LOCATION:89 Warren St\, Glens Falls\, NY\, United States
GEO:43.30952;-73.64401
END:VEVENT
BEGIN:VEVENT
DTSTART;TZID=America/New_York:20260109T100000
DTEND;TZID=America/New_York:20260109T150000
DTSTAMP:20260419T202512
CREATED:20241220T200959Z
LAST-MODIFIED:20250619T190920Z
UID:10004255-1767952800-1767970800@worldchildrensmuseum.org
SUMMARY:Open for General Admission
DESCRIPTION:Tickets can be purchased online at https://wacm.ticketleap.com/museum-admission-2024/Admission Costs:Members: FreeNot-Yet-Members: $7 per person\, children under 12mo. are free.Please visit our website for more information on admission: https://worldchildrensmuseum.org/for-visitors/
URL:https://worldchildrensmuseum.org/events/open-for-general-admission-2159/
LOCATION:World Awareness Children’s Museum\, 89 Warren St\, Glens Falls\, NY\, United States
GEO:43.310029;-73.639958
X-APPLE-STRUCTURED-LOCATION;VALUE=URI;X-ADDRESS=World Awareness Children’s Museum 89 Warren St Glens Falls NY United States;X-APPLE-RADIUS=500;X-TITLE=89 Warren St:geo:-73.639958,43.310029
END:VEVENT
BEGIN:VEVENT
DTSTART;TZID=America/New_York:20260109T103000
DTEND;TZID=America/New_York:20260109T113000
DTSTAMP:20260419T202512
CREATED:20251212T202423Z
LAST-MODIFIED:20260102T210847Z
UID:10006359-1767954600-1767958200@worldchildrensmuseum.org
SUMMARY:Storytime Friday
DESCRIPTION:Everyone is welcome at Storytime Fridays\, a recurring program designed to spark joy and curiosity in little ones!  \nEach week\, we explore early literacy skills through movement\, imaginative play\, and a creative craft that brings the story to life. Perfect for toddlers\, preschoolers\, and their caregivers. \nCost: Free with Admission
URL:https://worldchildrensmuseum.org/events/storytime-friday-172/
LOCATION:NY
END:VEVENT
BEGIN:VEVENT
DTSTART;TZID=America/New_York:20260109T120000
DTEND;TZID=America/New_York:20260109T130000
DTSTAMP:20260419T202512
CREATED:20251219T203927Z
LAST-MODIFIED:20260102T210848Z
UID:10006372-1767960000-1767963600@worldchildrensmuseum.org
SUMMARY:Handprint Friends
DESCRIPTION:Handprint FriendsFridays in January | 12–1pm \nCreate your own unique “friend” each week using your very own handprint! Perfect for children ages 2 and up\, this fun and creative series lets little artists bring home a new handmade friend every Friday. \nCost: Free with admission
URL:https://worldchildrensmuseum.org/events/handprint-friends-3/
LOCATION:89 Warren St\, Glens Falls\, NY\, United States
GEO:43.30952;-73.64401
END:VEVENT
BEGIN:VEVENT
DTSTART;TZID=America/New_York:20260109T133000
DTEND;TZID=America/New_York:20260109T143000
DTSTAMP:20260419T202512
CREATED:20251212T202424Z
LAST-MODIFIED:20260102T210848Z
UID:10006360-1767965400-1767969000@worldchildrensmuseum.org
SUMMARY:Storytime Friday
DESCRIPTION:Everyone is welcome at Storytime Fridays\, a recurring program designed to spark joy and curiosity in little ones!  \nEach week\, we explore early literacy skills through movement\, imaginative play\, and a creative craft that brings the story to life. Perfect for toddlers\, preschoolers\, and their caregivers. \nCost: Free with Admission
URL:https://worldchildrensmuseum.org/events/storytime-friday-173/
LOCATION:NY
END:VEVENT
BEGIN:VEVENT
DTSTART;TZID=America/New_York:20260110T100000
DTEND;TZID=America/New_York:20260110T150000
DTSTAMP:20260419T202512
CREATED:20241221T202945Z
LAST-MODIFIED:20250619T190921Z
UID:10004256-1768039200-1768057200@worldchildrensmuseum.org
SUMMARY:Open for General Admission
DESCRIPTION:Tickets can be purchased online at https://wacm.ticketleap.com/museum-admission-2024/Admission Costs:Members: FreeNot-Yet-Members: $7 per person\, children under 12mo. are free.Please visit our website for more information on admission: https://worldchildrensmuseum.org/for-visitors/
URL:https://worldchildrensmuseum.org/events/open-for-general-admission-2160/
LOCATION:World Awareness Children’s Museum\, 89 Warren St\, Glens Falls\, NY\, United States
GEO:43.310029;-73.639958
X-APPLE-STRUCTURED-LOCATION;VALUE=URI;X-ADDRESS=World Awareness Children’s Museum 89 Warren St Glens Falls NY United States;X-APPLE-RADIUS=500;X-TITLE=89 Warren St:geo:-73.639958,43.310029
END:VEVENT
BEGIN:VEVENT
DTSTART;TZID=America/New_York:20260110T100000
DTEND;TZID=America/New_York:20260110T150000
DTSTAMP:20260419T202512
CREATED:20251219T203929Z
LAST-MODIFIED:20260109T212415Z
UID:10006374-1768039200-1768057200@worldchildrensmuseum.org
SUMMARY:Wonder Wall
DESCRIPTION:January Activity Highlight: Wonder Wall! \nAs part of our January theme\, Freedom to Wonder\, families are invited to participate in our Wonder Wall! Write or draw something you wonder about—from big ideas to small questions—and help fill the space with imagination and discovery all month long. \nCost: Free with admission\, while supplies last.
URL:https://worldchildrensmuseum.org/events/wonder-wall/
LOCATION:89 Warren St\, Glens Falls\, NY\, United States
GEO:43.30952;-73.64401
END:VEVENT
BEGIN:VEVENT
DTSTART;TZID=America/New_York:20260110T120000
DTEND;TZID=America/New_York:20260110T130000
DTSTAMP:20260419T202512
CREATED:20251219T203928Z
LAST-MODIFIED:20260109T212416Z
UID:10006373-1768046400-1768050000@worldchildrensmuseum.org
SUMMARY:Clay Creations
DESCRIPTION:Sculpt\, Shape\, and Decorate! \nSculpt\, shape\, and decorate using clay and creative materials in this hands-on art workshop. Young artists will explore form\, texture\, and imagination while creating a unique clay piece to take home. \n \nDetails:Cost: $5 per child + museum admission (members receive 10% off)Best for ages: 7 and upCapacity: Up to 10 lil’ artists per sessionRegistration: Pre-registration requiredReserve your spot: Call 518-793-2773 or visit wacm.ticketleap.com
URL:https://worldchildrensmuseum.org/events/clay-creations-7/
LOCATION:89 Warren St\, Glens Falls\, NY\, United States
GEO:43.30952;-73.64401
END:VEVENT
BEGIN:VEVENT
DTSTART;TZID=America/New_York:20260111T100000
DTEND;TZID=America/New_York:20260111T150000
DTSTAMP:20260419T202512
CREATED:20241223T163919Z
LAST-MODIFIED:20260109T212416Z
UID:10004258-1768125600-1768143600@worldchildrensmuseum.org
SUMMARY:Free Day!
DESCRIPTION:Visit the museum for free today\, thanks to Stewart’s Holiday Match and all who contributed! We are pleased to offer these free days from 10am-3pm once per month. Donations are appreciated but not required. \nFree Days are generously sponsored by Stewart’s Holiday Match.  \nYou can learn more by visiting www.stewartsshops.com/community-giving
URL:https://worldchildrensmuseum.org/events/free-day-57/
LOCATION:NY
END:VEVENT
BEGIN:VEVENT
DTSTART;TZID=America/New_York:20260111T103000
DTEND;TZID=America/New_York:20260111T120000
DTSTAMP:20260419T202512
CREATED:20251219T203929Z
LAST-MODIFIED:20260109T212417Z
UID:10006375-1768127400-1768132800@worldchildrensmuseum.org
SUMMARY:Global Curiosity Table
DESCRIPTION:January Activity Highlight: Global Curiosity Table \nAs part of our January Theme: Freedom to Wonder\, families are invited to explore our Global Curiosity Table!Discover maps\, artifacts\, textures\, and objects from around the world that spark questions and imagination. Children can observe\, compare\, and explore—encouraging curiosity about cultures\, places\, and people everywhere. \nCost: Free with admission
URL:https://worldchildrensmuseum.org/events/global-curiosity-table/
LOCATION:89 Warren St\, Glens Falls\, NY\, United States
GEO:43.30952;-73.64401
END:VEVENT
BEGIN:VEVENT
DTSTART;TZID=America/New_York:20260112T100000
DTEND;TZID=America/New_York:20260112T150000
DTSTAMP:20260419T202512
CREATED:20241223T200916Z
LAST-MODIFIED:20250619T190921Z
UID:10004259-1768212000-1768230000@worldchildrensmuseum.org
SUMMARY:Open for General Admission
DESCRIPTION:Tickets can be purchased online at https://wacm.ticketleap.com/museum-admission-2024/Admission Costs:Members: FreeNot-Yet-Members: $7 per person\, children under 12mo. are free.Please visit our website for more information on admission: https://worldchildrensmuseum.org/for-visitors/
URL:https://worldchildrensmuseum.org/events/open-for-general-admission-2162/
LOCATION:World Awareness Children’s Museum\, 89 Warren St\, Glens Falls\, NY\, United States
GEO:43.310029;-73.639958
X-APPLE-STRUCTURED-LOCATION;VALUE=URI;X-ADDRESS=World Awareness Children’s Museum 89 Warren St Glens Falls NY United States;X-APPLE-RADIUS=500;X-TITLE=89 Warren St:geo:-73.639958,43.310029
END:VEVENT
BEGIN:VEVENT
DTSTART;TZID=America/New_York:20260112T103000
DTEND;TZID=America/New_York:20260112T113000
DTSTAMP:20260419T202512
CREATED:20251219T203930Z
LAST-MODIFIED:20260109T212418Z
UID:10006376-1768213800-1768217400@worldchildrensmuseum.org
SUMMARY:Scribble Squad: Colors & Shapes
DESCRIPTION:Scribble Squad is a monthly art-making experience designed just for toddlers ages 1–3. This month’s Colors & Shapes theme invites little artists to explore crayons and markers while filling in simple shapes like circles\, lines\, and curves. Through guided scribbling and playful mark-making\, children build fine motor skills while discovering how colors and shapes work together. \nDetails:Ages: 1–3 yearsCost: Free with admissionCapacity: Limited to 8 scribblers per sessionReserve your spot: Call 518-793-2773 or visit wacm.ticketleap.com
URL:https://worldchildrensmuseum.org/events/scribble-squad-colors-shapes/
LOCATION:89 Warren St\, Glens Falls\, NY\, United States
GEO:43.30952;-73.64401
END:VEVENT
BEGIN:VEVENT
DTSTART;TZID=America/New_York:20260115T100000
DTEND;TZID=America/New_York:20260115T150000
DTSTAMP:20260419T202512
CREATED:20241224T180928Z
LAST-MODIFIED:20250619T190921Z
UID:10004260-1768471200-1768489200@worldchildrensmuseum.org
SUMMARY:Open for General Admission
DESCRIPTION:Tickets can be purchased online at https://wacm.ticketleap.com/museum-admission-2024/Admission Costs:Members: FreeNot-Yet-Members: $7 per person\, children under 12mo. are free.Please visit our website for more information on admission: https://worldchildrensmuseum.org/for-visitors/
URL:https://worldchildrensmuseum.org/events/open-for-general-admission-2163/
LOCATION:World Awareness Children’s Museum\, 89 Warren St\, Glens Falls\, NY\, United States
GEO:43.310029;-73.639958
X-APPLE-STRUCTURED-LOCATION;VALUE=URI;X-ADDRESS=World Awareness Children’s Museum 89 Warren St Glens Falls NY United States;X-APPLE-RADIUS=500;X-TITLE=89 Warren St:geo:-73.639958,43.310029
END:VEVENT
BEGIN:VEVENT
DTSTART;TZID=America/New_York:20260115T103000
DTEND;TZID=America/New_York:20260115T113000
DTSTAMP:20260419T202512
CREATED:20251212T202426Z
LAST-MODIFIED:20260109T212418Z
UID:10006361-1768473000-1768476600@worldchildrensmuseum.org
SUMMARY:Kinder Rhythm
DESCRIPTION:Introducing Kinder Rhythm!Our popular Kinder Rhythm Drumming program has grown into a joyful blend of music and movement. Beginning in 2026\, enjoy the same great hands-on fun under a new name. \nJoin us for a lively\, intergenerational\, interactive music session ideal for children ages 1–5. This program inspires creativity\, joyful play\, and social connection through the power of group rhythm-making. We’ll sing\, dance\, play instruments\, and move to the beat together! \n \nCost: Free with Admission
URL:https://worldchildrensmuseum.org/events/kinder-rhythm-13/
LOCATION:NY
END:VEVENT
BEGIN:VEVENT
DTSTART;TZID=America/New_York:20260115T120000
DTEND;TZID=America/New_York:20260115T130000
DTSTAMP:20260419T202512
CREATED:20251219T203932Z
LAST-MODIFIED:20260109T212419Z
UID:10006377-1768478400-1768482000@worldchildrensmuseum.org
SUMMARY:Kinder Krafts!
DESCRIPTION:Start the morning with one of our most popular programs\, Kinder Rhythm\, then stay for some creative krafting fun for preschoolers! Create simple art projects designed for little hands and big imaginations.  Cost: Free with admission.
URL:https://worldchildrensmuseum.org/events/kinder-krafts-4/
LOCATION:89 Warren St\, Glens Falls\, NY\, United States
GEO:43.30952;-73.64401
END:VEVENT
END:VCALENDAR