BEGIN:VCALENDAR
VERSION:2.0
PRODID:-//World Awareness Children&#039;s Museum - ECPv6.15.20//NONSGML v1.0//EN
CALSCALE:GREGORIAN
METHOD:PUBLISH
X-WR-CALNAME:World Awareness Children&#039;s Museum
X-ORIGINAL-URL:https://worldchildrensmuseum.org
X-WR-CALDESC:Events for World Awareness Children&#039;s Museum
REFRESH-INTERVAL;VALUE=DURATION:PT1H
X-Robots-Tag:noindex
X-PUBLISHED-TTL:PT1H
BEGIN:VTIMEZONE
TZID:America/New_York
BEGIN:DAYLIGHT
TZOFFSETFROM:-0500
TZOFFSETTO:-0400
TZNAME:EDT
DTSTART:20240310T070000
END:DAYLIGHT
BEGIN:STANDARD
TZOFFSETFROM:-0400
TZOFFSETTO:-0500
TZNAME:EST
DTSTART:20241103T060000
END:STANDARD
BEGIN:DAYLIGHT
TZOFFSETFROM:-0500
TZOFFSETTO:-0400
TZNAME:EDT
DTSTART:20250309T070000
END:DAYLIGHT
BEGIN:STANDARD
TZOFFSETFROM:-0400
TZOFFSETTO:-0500
TZNAME:EST
DTSTART:20251102T060000
END:STANDARD
BEGIN:DAYLIGHT
TZOFFSETFROM:-0500
TZOFFSETTO:-0400
TZNAME:EDT
DTSTART:20260308T070000
END:DAYLIGHT
BEGIN:STANDARD
TZOFFSETFROM:-0400
TZOFFSETTO:-0500
TZNAME:EST
DTSTART:20261101T060000
END:STANDARD
END:VTIMEZONE
BEGIN:VEVENT
DTSTART;TZID=America/New_York:20250725T100000
DTEND;TZID=America/New_York:20250725T150000
DTSTAMP:20260425T214811
CREATED:20240831T030923Z
LAST-MODIFIED:20250619T190855Z
UID:10004087-1753437600-1753455600@worldchildrensmuseum.org
SUMMARY:Open for General Admission
DESCRIPTION:Tickets can be purchased online at https://wacm.ticketleap.com/museum-admission-2024/Admission Costs:Members: FreeNot-Yet-Members: $7 per person\, children under 12mo. are free.Please visit our website for more information on admission: https://worldchildrensmuseum.org/for-visitors/
URL:https://worldchildrensmuseum.org/events/open-for-general-admission-2036/
LOCATION:World Awareness Children’s Museum\, 89 Warren St\, Glens Falls\, NY\, United States
GEO:43.310029;-73.639958
X-APPLE-STRUCTURED-LOCATION;VALUE=URI;X-ADDRESS=World Awareness Children’s Museum 89 Warren St Glens Falls NY United States;X-APPLE-RADIUS=500;X-TITLE=89 Warren St:geo:-73.639958,43.310029
END:VEVENT
BEGIN:VEVENT
DTSTART;TZID=America/New_York:20250725T103000
DTEND;TZID=America/New_York:20250725T113000
DTSTAMP:20260425T214811
CREATED:20250623T185341Z
LAST-MODIFIED:20250725T145315Z
UID:10004816-1753439400-1753443000@worldchildrensmuseum.org
SUMMARY:Storytime Friday
DESCRIPTION:Everyone is welcome at Storytime Fridays\, a recurring program designed to spark joy and curiosity in little ones!  \nEach week\, we explore early literacy skills through movement\, imaginative play\, and a creative craft that brings the story to life. Perfect for toddlers\, preschoolers\, and their caregivers. \nCost: Free with Admission
URL:https://worldchildrensmuseum.org/events/storytime-friday-146/
END:VEVENT
BEGIN:VEVENT
DTSTART;TZID=America/New_York:20250725T120000
DTEND;TZID=America/New_York:20250725T130000
DTSTAMP:20260425T214811
CREATED:20250623T190852Z
LAST-MODIFIED:20250725T163841Z
UID:10004822-1753444800-1753448400@worldchildrensmuseum.org
SUMMARY:Summer Clay Craft Club
DESCRIPTION:Summer Clay Craft ClubJoin us for a hands-on clay sculpting adventure where young artists will learn simple techniques and let their imaginations soar! \nDates & Themes: \n\n\n07/11/25 – Birds in Flight:Fly into the art room as we bring your favorite bird to life through clay sculpting! \n\n\n07/18/25 – 90s Nostalgia Pinch Pots:We're throwing it back to the ’90s with a classic pinch pot project—nostalgic\, fun\, and totally unique. \n\n\n07/25/25 – Ocean Creatures:Dive under the sea and sculpt your favorite marine animal! \n\n\nBonus: Curious about sea life? Don’t miss our Seashells From Around the World workshop on Saturday\, 07/26 at 12pm\, right here at the Museum! \nBest suited for children ages 7–12.Cost: Free with museum admission.Limited to 10 lil’ sculptors per session.Reserve your spot: Call 518-793-2773 or visit wacm.ticketleap.com
URL:https://worldchildrensmuseum.org/events/summer-clay-craft-club-3/
END:VEVENT
BEGIN:VEVENT
DTSTART;TZID=America/New_York:20250725T133000
DTEND;TZID=America/New_York:20250725T143000
DTSTAMP:20260425T214811
CREATED:20250623T185342Z
LAST-MODIFIED:20250725T182354Z
UID:10004817-1753450200-1753453800@worldchildrensmuseum.org
SUMMARY:Storytime Friday
DESCRIPTION:Everyone is welcome at Storytime Fridays\, a recurring program designed to spark joy and curiosity in little ones!  \nEach week\, we explore early literacy skills through movement\, imaginative play\, and a creative craft that brings the story to life. Perfect for toddlers\, preschoolers\, and their caregivers. \nCost: Free with Admission
URL:https://worldchildrensmuseum.org/events/storytime-friday-147/
END:VEVENT
BEGIN:VEVENT
DTSTART;TZID=America/New_York:20250726T100000
DTEND;TZID=America/New_York:20250726T150000
DTSTAMP:20260425T214811
CREATED:20240831T030923Z
LAST-MODIFIED:20250619T190856Z
UID:10004088-1753524000-1753542000@worldchildrensmuseum.org
SUMMARY:Open for General Admission
DESCRIPTION:Tickets can be purchased online at https://wacm.ticketleap.com/museum-admission-2024/Admission Costs:Members: FreeNot-Yet-Members: $7 per person\, children under 12mo. are free.Please visit our website for more information on admission: https://worldchildrensmuseum.org/for-visitors/
URL:https://worldchildrensmuseum.org/events/open-for-general-admission-2037/
LOCATION:World Awareness Children’s Museum\, 89 Warren St\, Glens Falls\, NY\, United States
GEO:43.310029;-73.639958
X-APPLE-STRUCTURED-LOCATION;VALUE=URI;X-ADDRESS=World Awareness Children’s Museum 89 Warren St Glens Falls NY United States;X-APPLE-RADIUS=500;X-TITLE=89 Warren St:geo:-73.639958,43.310029
END:VEVENT
BEGIN:VEVENT
DTSTART;TZID=America/New_York:20250726T103000
DTEND;TZID=America/New_York:20250726T113000
DTSTAMP:20260425T214811
CREATED:20250623T195403Z
LAST-MODIFIED:20250726T145342Z
UID:10004837-1753525800-1753529400@worldchildrensmuseum.org
SUMMARY:Storytime Saturday
DESCRIPTION:Join us for a playful weekend storytime designed for families who can’t make it to our Friday sessions! Each month\, enjoy stories\, songs\, and hands-on crafts that bring the themes to life—all in a fun\, welcoming space for little ones and their grown-ups. \nStorytime supports early literacy\, creativity\, and connection. \nCost: Free with admission
URL:https://worldchildrensmuseum.org/events/storytime-saturday-5/
END:VEVENT
BEGIN:VEVENT
DTSTART;TZID=America/New_York:20250726T120000
DTEND;TZID=America/New_York:20250726T130000
DTSTAMP:20260425T214811
CREATED:20250623T200842Z
LAST-MODIFIED:20250726T162339Z
UID:10004853-1753531200-1753534800@worldchildrensmuseum.org
SUMMARY:Seashells From Around the World Workshop
DESCRIPTION:Join us for a hands-on adventure as we explore the beauty and diversity of seashells from across the globe! Young sea explorers will examine real shells from different countries and different bodies of water\, learn fun facts about where they come from\, and create their very own shell-inspired ‘friend’ to take home. This workshop blends science\, geography\, and creativity—perfect for curious kids! \nSpace is limited to 12 sea explorers.Cost: Free with admissionReserve your spot: Call 518-793-2773 or visit wacm.ticketleap.com
URL:https://worldchildrensmuseum.org/events/seashells-from-around-the-world-workshop/
END:VEVENT
BEGIN:VEVENT
DTSTART;TZID=America/New_York:20250726T133000
DTEND;TZID=America/New_York:20250726T143000
DTSTAMP:20260425T214811
CREATED:20250623T200842Z
LAST-MODIFIED:20250726T175340Z
UID:10004854-1753536600-1753540200@worldchildrensmuseum.org
SUMMARY:Storytime Saturday
DESCRIPTION:Join us for a playful weekend storytime designed for families who can’t make it to our Friday sessions! Each month\, enjoy stories\, songs\, and hands-on crafts that bring the themes to life—all in a fun\, welcoming space for little ones and their grown-ups. \nStorytime supports early literacy\, creativity\, and connection. \nCost: Free with admission
URL:https://worldchildrensmuseum.org/events/storytime-saturday-21/
END:VEVENT
BEGIN:VEVENT
DTSTART;TZID=America/New_York:20250727T100000
DTEND;TZID=America/New_York:20250727T150000
DTSTAMP:20260425T214811
CREATED:20240831T030924Z
LAST-MODIFIED:20250619T190856Z
UID:10004089-1753610400-1753628400@worldchildrensmuseum.org
SUMMARY:Open for General Admission
DESCRIPTION:Tickets can be purchased online at https://wacm.ticketleap.com/museum-admission-2024/Admission Costs:Members: FreeNot-Yet-Members: $7 per person\, children under 12mo. are free.Please visit our website for more information on admission: https://worldchildrensmuseum.org/for-visitors/
URL:https://worldchildrensmuseum.org/events/open-for-general-admission-2038/
LOCATION:World Awareness Children’s Museum\, 89 Warren St\, Glens Falls\, NY\, United States
GEO:43.310029;-73.639958
X-APPLE-STRUCTURED-LOCATION;VALUE=URI;X-ADDRESS=World Awareness Children’s Museum 89 Warren St Glens Falls NY United States;X-APPLE-RADIUS=500;X-TITLE=89 Warren St:geo:-73.639958,43.310029
END:VEVENT
BEGIN:VEVENT
DTSTART;TZID=America/New_York:20250728T100000
DTEND;TZID=America/New_York:20250728T150000
DTSTAMP:20260425T214811
CREATED:20240831T030924Z
LAST-MODIFIED:20250619T190856Z
UID:10004090-1753696800-1753714800@worldchildrensmuseum.org
SUMMARY:Open for General Admission
DESCRIPTION:Tickets can be purchased online at https://wacm.ticketleap.com/museum-admission-2024/Admission Costs:Members: FreeNot-Yet-Members: $7 per person\, children under 12mo. are free.Please visit our website for more information on admission: https://worldchildrensmuseum.org/for-visitors/
URL:https://worldchildrensmuseum.org/events/open-for-general-admission-2039/
LOCATION:World Awareness Children’s Museum\, 89 Warren St\, Glens Falls\, NY\, United States
GEO:43.310029;-73.639958
X-APPLE-STRUCTURED-LOCATION;VALUE=URI;X-ADDRESS=World Awareness Children’s Museum 89 Warren St Glens Falls NY United States;X-APPLE-RADIUS=500;X-TITLE=89 Warren St:geo:-73.639958,43.310029
END:VEVENT
BEGIN:VEVENT
DTSTART;TZID=America/New_York:20250728T100000
DTEND;TZID=America/New_York:20250728T150000
DTSTAMP:20260425T214811
CREATED:20250623T200842Z
LAST-MODIFIED:20250728T185354Z
UID:10004855-1753696800-1753714800@worldchildrensmuseum.org
SUMMARY:Make & Take Henna Hands Inspired by India
DESCRIPTION:Discover the beauty and meaning of henna in this self-guided art activity inspired by traditions from India! Children will trace their own hands and decorate them with eye-catching patterns inspired by real henna designs. As they create\, they’ll learn about where henna comes from\, how it’s used\, and why it’s an important part of many celebrations. Every young artist will get to take home their unique creation! \nCost: Free with admission & while supplies last
URL:https://worldchildrensmuseum.org/events/make-take-henna-hands-inspired-by-india/
END:VEVENT
BEGIN:VEVENT
DTSTART;TZID=America/New_York:20250729T100000
DTEND;TZID=America/New_York:20250729T150000
DTSTAMP:20260425T214811
CREATED:20250619T192442Z
LAST-MODIFIED:20250729T183858Z
UID:10004565-1753783200-1753801200@worldchildrensmuseum.org
SUMMARY:Open for General Admission
DESCRIPTION:Tickets can be purchased online at https://wacm.ticketleap.com/admission-2025/Admission Costs:Members: FreeNot-Yet-Members: $7 per person\, children under 12mo. are free.Please visit our website for more information on admission: https://worldchildrensmuseum.org/for-visitors/
URL:https://worldchildrensmuseum.org/events/open-for-general-admission-2330/
LOCATION:World Awareness Children’s Museum\, 89 Warren St\, Glens Falls\, NY\, United States
GEO:43.310029;-73.639958
X-APPLE-STRUCTURED-LOCATION;VALUE=URI;X-ADDRESS=World Awareness Children’s Museum 89 Warren St Glens Falls NY United States;X-APPLE-RADIUS=500;X-TITLE=89 Warren St:geo:-73.639958,43.310029
END:VEVENT
BEGIN:VEVENT
DTSTART;TZID=America/New_York:20250729T133000
DTEND;TZID=America/New_York:20250729T143000
DTSTAMP:20260425T214811
CREATED:20250623T202346Z
LAST-MODIFIED:20250729T175342Z
UID:10004857-1753795800-1753799400@worldchildrensmuseum.org
SUMMARY:Hop into Dot Art: Kangaroo Painting Craft
DESCRIPTION:Bounce on over for a wildly creative adventure! Kids will get up close with themed art and artifacts from our collection\, then unleash their inner artist by decorating their own kangaroo masterpiece—by hop-hop\, I mean dot-dot\, dots galore! \nSpace is limited to 8 lil’ hoppers—so don’t wait!Cost: Free with admissionReserve your spot: Call 518-793-2773 or visit wacm.ticketleap.com
URL:https://worldchildrensmuseum.org/events/hop-into-dot-art-kangaroo-painting-craft/
END:VEVENT
BEGIN:VEVENT
DTSTART;TZID=America/New_York:20250730T100000
DTEND;TZID=America/New_York:20250730T150000
DTSTAMP:20260425T214811
CREATED:20250520T082404Z
LAST-MODIFIED:20250619T190856Z
UID:10004507-1753869600-1753887600@worldchildrensmuseum.org
SUMMARY:Open for General Admission
DESCRIPTION:Tickets can be purchased online at https://wacm.ticketleap.com/museum-admission-2024/Admission Costs:Members: FreeNot-Yet-Members: $7 per person\, children under 12mo. are free.Please visit our website for more information on admission: https://worldchildrensmuseum.org/for-visitors/
URL:https://worldchildrensmuseum.org/events/open-for-general-admission-2277/
LOCATION:89 Warren St\, Glens Falls\, NY\, United States
GEO:43.30952;-73.64401
END:VEVENT
BEGIN:VEVENT
DTSTART;TZID=America/New_York:20250730T103000
DTEND;TZID=America/New_York:20250730T113000
DTSTAMP:20260425T214811
CREATED:20250623T193911Z
LAST-MODIFIED:20250730T150831Z
UID:10004832-1753871400-1753875000@worldchildrensmuseum.org
SUMMARY:Bead & Beyond Craft Club
DESCRIPTION:Beads & Beyond Craft Club\nHands-on fun. Global flair. Endless creativity. \nGet ready to bead\, create\, and explore! For four weeks in July\, elementary-aged children will dive into jewelry traditions from around the world\, using the museum’s global collection as inspiration. From pasta beads to paper creations\, kids will explore color\, shape\, and pattern while crafting their own wearable art to take home. \nWeekly Themes: \n\n\n7/9: Pasta Bead Jewelry \n\n\n7/16: Yarn & Bead Weaving \n\n\n7/22: Pipe Cleaner Blossom Rings \n\n\n7/30: Rolled Paper Beads \n\n\nCost: Free with admissionReserve your spot: Call 518-793-2773 or visit wacm.ticketleap.comPre-registration required. Let’s make something beautiful together!
URL:https://worldchildrensmuseum.org/events/bead-beyond-craft-club-4/
END:VEVENT
BEGIN:VEVENT
DTSTART;TZID=America/New_York:20250730T120000
DTEND;TZID=America/New_York:20250730T130000
DTSTAMP:20260425T214811
CREATED:20250623T193911Z
LAST-MODIFIED:20250730T162230Z
UID:10004833-1753876800-1753880400@worldchildrensmuseum.org
SUMMARY:World Music Craft Club
DESCRIPTION:Make it. Decorate it. Play it! \nJoin us for a musical journey around the world—through crafts! Throughout July\, children will explore music and cultures from across the globe by creating their own instruments inspired by traditions from different countries. From fiesta tambourines to Chinese drums\, kids will use everyday materials to build\, decorate\, and even play their creations. It’s hands-on fun with a global beat! \nWeekly Schedule: \n\n\n7/9: Fiesta Tambourine (Mexico) \n\n\n7/16: Straw Harmonica (Germany) \n\n\n7/22: Chinese Drum \n\n\n7/30: African Banjo \n\n\nCost: Free with admissionPre-registration is required for each date individually.Reserve your spot: Call 518-793-2773 or visit wacm.ticketleap.com \n \nLet’s make some music!
URL:https://worldchildrensmuseum.org/events/world-music-craft-club-4/
END:VEVENT
BEGIN:VEVENT
DTSTART;TZID=America/New_York:20250731T100000
DTEND;TZID=America/New_York:20250731T150000
DTSTAMP:20260425T214811
CREATED:20240831T030925Z
LAST-MODIFIED:20250619T190856Z
UID:10004091-1753956000-1753974000@worldchildrensmuseum.org
SUMMARY:Open for General Admission
DESCRIPTION:Tickets can be purchased online at https://wacm.ticketleap.com/museum-admission-2024/Admission Costs:Members: FreeNot-Yet-Members: $7 per person\, children under 12mo. are free.Please visit our website for more information on admission: https://worldchildrensmuseum.org/for-visitors/
URL:https://worldchildrensmuseum.org/events/open-for-general-admission-2040/
LOCATION:World Awareness Children’s Museum\, 89 Warren St\, Glens Falls\, NY\, United States
GEO:43.310029;-73.639958
X-APPLE-STRUCTURED-LOCATION;VALUE=URI;X-ADDRESS=World Awareness Children’s Museum 89 Warren St Glens Falls NY United States;X-APPLE-RADIUS=500;X-TITLE=89 Warren St:geo:-73.639958,43.310029
END:VEVENT
BEGIN:VEVENT
DTSTART;TZID=America/New_York:20250731T103000
DTEND;TZID=America/New_York:20250731T113000
DTSTAMP:20260425T214811
CREATED:20250623T185343Z
LAST-MODIFIED:20250731T151937Z
UID:10004818-1753957800-1753961400@worldchildrensmuseum.org
SUMMARY:Kinder Rhythm Drumming
DESCRIPTION:Kinder Rhythm Inspires creativity\, joyful play\, and social interaction through the power of group rhythm-making. This includes singing\, dancing\, playing instruments\, and moving to the beat. Come and join Susie Barber\, national and international music\, theatre\, and movement educator and drum facilitator for a morning of fun and adventure with a hands-on rhythmic exploration for your child and the child in you!  As the Zimbabwe proverb says\, “If you can speak you can sing and if you can walk you can dance!” \nCost: Free with admission
URL:https://worldchildrensmuseum.org/events/kinder-rhythm-drumming-30/
LOCATION:89 Warren St\, Glens Falls\, NY\, United States
GEO:43.30952;-73.64401
END:VEVENT
BEGIN:VEVENT
DTSTART;TZID=America/New_York:20250731T110000
DTEND;TZID=America/New_York:20250731T120000
DTSTAMP:20260425T214811
CREATED:20250623T202348Z
LAST-MODIFIED:20250731T151937Z
UID:10004858-1753959600-1753963200@worldchildrensmuseum.org
SUMMARY:Latin American Music Workshop at the Charles R. Wood Theater!
DESCRIPTION: A Joyful Journey Through Latin Music for the Whole Family!   \nDate: July 31\, 11am-12pm \nVenue: Charles R. Wood Theater\, Cabaret space \nArtist: The Sembrich’s 2025 Flonzaley Resident Artists \nProgram: Latin American Music Workshop \nDescription: The World Awareness Children’s Museum is partnering with The Sembrich to present a youth workshop celebrating Latin American music and dance. This educational event will showcase The Sembrich’s 2025 Flonzaley Resident Artists in a fun and interactive program for children ages 6-12. The event will take place at the Charles R. Wood Theater in Glens Falls. Admission is complimentary\, but reservations are required as seating is limited. \nTickets: Free \nReserve your tickets here: https://ci.ovationtix.com/35085/production/1243886
URL:https://worldchildrensmuseum.org/events/latin-american-music-workshop-at-the-charles-r-wood-theater/
LOCATION:207 Glen St\, Glens Falls\, NY\, United States
GEO:43.30952;-73.64401
END:VEVENT
BEGIN:VEVENT
DTSTART;TZID=America/New_York:20250801T100000
DTEND;TZID=America/New_York:20250801T150000
DTSTAMP:20260425T214811
CREATED:20240831T030926Z
LAST-MODIFIED:20250619T190857Z
UID:10004092-1754042400-1754060400@worldchildrensmuseum.org
SUMMARY:Open for General Admission
DESCRIPTION:Tickets can be purchased online at https://wacm.ticketleap.com/museum-admission-2024/Admission Costs:Members: FreeNot-Yet-Members: $7 per person\, children under 12mo. are free.Please visit our website for more information on admission: https://worldchildrensmuseum.org/for-visitors/
URL:https://worldchildrensmuseum.org/events/open-for-general-admission-2041/
LOCATION:World Awareness Children’s Museum\, 89 Warren St\, Glens Falls\, NY\, United States
GEO:43.310029;-73.639958
X-APPLE-STRUCTURED-LOCATION;VALUE=URI;X-ADDRESS=World Awareness Children’s Museum 89 Warren St Glens Falls NY United States;X-APPLE-RADIUS=500;X-TITLE=89 Warren St:geo:-73.639958,43.310029
END:VEVENT
BEGIN:VEVENT
DTSTART;TZID=America/New_York:20250801T133000
DTEND;TZID=America/New_York:20250801T143000
DTSTAMP:20260425T214811
CREATED:20250718T173912Z
LAST-MODIFIED:20250801T180850Z
UID:10004863-1754055000-1754058600@worldchildrensmuseum.org
SUMMARY:Storytime Friday
DESCRIPTION:Everyone is welcome at Storytime Fridays\, a recurring program designed to spark joy and curiosity in little ones!  \nEach week\, we explore early literacy skills through movement\, imaginative play\, and a creative craft that brings the story to life. Perfect for toddlers\, preschoolers\, and their caregivers. \nCost: Free with Admission
URL:https://worldchildrensmuseum.org/events/storytime-friday-148/
END:VEVENT
BEGIN:VEVENT
DTSTART;TZID=America/New_York:20250802T100000
DTEND;TZID=America/New_York:20250802T150000
DTSTAMP:20260425T214811
CREATED:20240831T030926Z
LAST-MODIFIED:20250619T190857Z
UID:10004093-1754128800-1754146800@worldchildrensmuseum.org
SUMMARY:Open for General Admission
DESCRIPTION:Tickets can be purchased online at https://wacm.ticketleap.com/museum-admission-2024/Admission Costs:Members: FreeNot-Yet-Members: $7 per person\, children under 12mo. are free.Please visit our website for more information on admission: https://worldchildrensmuseum.org/for-visitors/
URL:https://worldchildrensmuseum.org/events/open-for-general-admission-2042/
LOCATION:World Awareness Children’s Museum\, 89 Warren St\, Glens Falls\, NY\, United States
GEO:43.310029;-73.639958
X-APPLE-STRUCTURED-LOCATION;VALUE=URI;X-ADDRESS=World Awareness Children’s Museum 89 Warren St Glens Falls NY United States;X-APPLE-RADIUS=500;X-TITLE=89 Warren St:geo:-73.639958,43.310029
END:VEVENT
BEGIN:VEVENT
DTSTART;TZID=America/New_York:20250802T100000
DTEND;TZID=America/New_York:20250802T150000
DTSTAMP:20260425T214811
CREATED:20250718T173913Z
LAST-MODIFIED:20250802T185345Z
UID:10004864-1754128800-1754146800@worldchildrensmuseum.org
SUMMARY:Bring Your Favorite...Animal Toy Day!
DESCRIPTION:Pack up your favorite toy animal and bring them along to the museum for a day of adventure! Whether they swim\, fly\, gallop\, or climb\, your cuddly companion will explore cultures and countries as they journey around the world with you.   \nDon't forget to color a picture in the Art Room of your favorite memory today and pick up a sticker at the front desk as a keepsake. Did you or your toy animal have a favorite exhibit\, or was it just too hard to choose? \nCost: Free with Admission
URL:https://worldchildrensmuseum.org/events/bring-your-favorite-animal-toy-day/
END:VEVENT
BEGIN:VEVENT
DTSTART;TZID=America/New_York:20250803T100000
DTEND;TZID=America/New_York:20250803T150000
DTSTAMP:20260425T214811
CREATED:20240831T030927Z
LAST-MODIFIED:20250619T190857Z
UID:10004094-1754215200-1754233200@worldchildrensmuseum.org
SUMMARY:Open for General Admission
DESCRIPTION:Tickets can be purchased online at https://wacm.ticketleap.com/museum-admission-2024/Admission Costs:Members: FreeNot-Yet-Members: $7 per person\, children under 12mo. are free.Please visit our website for more information on admission: https://worldchildrensmuseum.org/for-visitors/
URL:https://worldchildrensmuseum.org/events/open-for-general-admission-2043/
LOCATION:World Awareness Children’s Museum\, 89 Warren St\, Glens Falls\, NY\, United States
GEO:43.310029;-73.639958
X-APPLE-STRUCTURED-LOCATION;VALUE=URI;X-ADDRESS=World Awareness Children’s Museum 89 Warren St Glens Falls NY United States;X-APPLE-RADIUS=500;X-TITLE=89 Warren St:geo:-73.639958,43.310029
END:VEVENT
BEGIN:VEVENT
DTSTART;TZID=America/New_York:20250803T100000
DTEND;TZID=America/New_York:20250803T150000
DTSTAMP:20260425T214811
CREATED:20250718T173913Z
LAST-MODIFIED:20250803T183831Z
UID:10004865-1754215200-1754233200@worldchildrensmuseum.org
SUMMARY:Make & Take: Global Garden Blooms
DESCRIPTION:Create\, decorate\, and take home your own paper flowers! \nChildren are invited to design vibrant blossoms using tissue paper\, foam\, construction paper\, scissors\, and glue in this self-guided\, hands-on art activity. As they build their own flower garden\, young artists will celebrate the beauty of nature and the creativity shared across cultures. \nCost: Free with admission and while supplies last.
URL:https://worldchildrensmuseum.org/events/make-take-global-garden-blooms/
END:VEVENT
BEGIN:VEVENT
DTSTART;TZID=America/New_York:20250804T100000
DTEND;TZID=America/New_York:20250804T150000
DTSTAMP:20260425T214811
CREATED:20240831T030927Z
LAST-MODIFIED:20250619T190857Z
UID:10004095-1754301600-1754319600@worldchildrensmuseum.org
SUMMARY:Open for General Admission
DESCRIPTION:Tickets can be purchased online at https://wacm.ticketleap.com/museum-admission-2024/Admission Costs:Members: FreeNot-Yet-Members: $7 per person\, children under 12mo. are free.Please visit our website for more information on admission: https://worldchildrensmuseum.org/for-visitors/
URL:https://worldchildrensmuseum.org/events/open-for-general-admission-2044/
LOCATION:World Awareness Children’s Museum\, 89 Warren St\, Glens Falls\, NY\, United States
GEO:43.310029;-73.639958
X-APPLE-STRUCTURED-LOCATION;VALUE=URI;X-ADDRESS=World Awareness Children’s Museum 89 Warren St Glens Falls NY United States;X-APPLE-RADIUS=500;X-TITLE=89 Warren St:geo:-73.639958,43.310029
END:VEVENT
BEGIN:VEVENT
DTSTART;TZID=America/New_York:20250805T100000
DTEND;TZID=America/New_York:20250805T150000
DTSTAMP:20260425T214811
CREATED:20250619T192446Z
LAST-MODIFIED:20250805T185338Z
UID:10004572-1754388000-1754406000@worldchildrensmuseum.org
SUMMARY:Open for General Admission
DESCRIPTION:Tickets can be purchased online at https://wacm.ticketleap.com/admission-2025/Admission Costs:Members: FreeNot-Yet-Members: $7 per person\, children under 12mo. are free.Please visit our website for more information on admission: https://worldchildrensmuseum.org/for-visitors/
URL:https://worldchildrensmuseum.org/events/open-for-general-admission-2337/
LOCATION:World Awareness Children’s Museum\, 89 Warren St\, Glens Falls\, NY\, United States
GEO:43.310029;-73.639958
X-APPLE-STRUCTURED-LOCATION;VALUE=URI;X-ADDRESS=World Awareness Children’s Museum 89 Warren St Glens Falls NY United States;X-APPLE-RADIUS=500;X-TITLE=89 Warren St:geo:-73.639958,43.310029
END:VEVENT
BEGIN:VEVENT
DTSTART;TZID=America/New_York:20250806T100000
DTEND;TZID=America/New_York:20250806T150000
DTSTAMP:20260425T214811
CREATED:20250520T082406Z
LAST-MODIFIED:20250619T190857Z
UID:10004508-1754474400-1754492400@worldchildrensmuseum.org
SUMMARY:Open for General Admission
DESCRIPTION:Tickets can be purchased online at https://wacm.ticketleap.com/museum-admission-2024/Admission Costs:Members: FreeNot-Yet-Members: $7 per person\, children under 12mo. are free.Please visit our website for more information on admission: https://worldchildrensmuseum.org/for-visitors/
URL:https://worldchildrensmuseum.org/events/open-for-general-admission-2278/
LOCATION:89 Warren St\, Glens Falls\, NY\, United States
GEO:43.30952;-73.64401
END:VEVENT
BEGIN:VEVENT
DTSTART;TZID=America/New_York:20250807T100000
DTEND;TZID=America/New_York:20250807T150000
DTSTAMP:20260425T214811
CREATED:20240831T030928Z
LAST-MODIFIED:20250619T190858Z
UID:10004096-1754560800-1754578800@worldchildrensmuseum.org
SUMMARY:Open for General Admission
DESCRIPTION:Tickets can be purchased online at https://wacm.ticketleap.com/museum-admission-2024/Admission Costs:Members: FreeNot-Yet-Members: $7 per person\, children under 12mo. are free.Please visit our website for more information on admission: https://worldchildrensmuseum.org/for-visitors/
URL:https://worldchildrensmuseum.org/events/open-for-general-admission-2045/
LOCATION:World Awareness Children’s Museum\, 89 Warren St\, Glens Falls\, NY\, United States
GEO:43.310029;-73.639958
X-APPLE-STRUCTURED-LOCATION;VALUE=URI;X-ADDRESS=World Awareness Children’s Museum 89 Warren St Glens Falls NY United States;X-APPLE-RADIUS=500;X-TITLE=89 Warren St:geo:-73.639958,43.310029
END:VEVENT
BEGIN:VEVENT
DTSTART;TZID=America/New_York:20250808T100000
DTEND;TZID=America/New_York:20250808T150000
DTSTAMP:20260425T214811
CREATED:20240831T030929Z
LAST-MODIFIED:20250619T190858Z
UID:10004097-1754647200-1754665200@worldchildrensmuseum.org
SUMMARY:Open for General Admission
DESCRIPTION:Tickets can be purchased online at https://wacm.ticketleap.com/museum-admission-2024/Admission Costs:Members: FreeNot-Yet-Members: $7 per person\, children under 12mo. are free.Please visit our website for more information on admission: https://worldchildrensmuseum.org/for-visitors/
URL:https://worldchildrensmuseum.org/events/open-for-general-admission-2046/
LOCATION:World Awareness Children’s Museum\, 89 Warren St\, Glens Falls\, NY\, United States
GEO:43.310029;-73.639958
X-APPLE-STRUCTURED-LOCATION;VALUE=URI;X-ADDRESS=World Awareness Children’s Museum 89 Warren St Glens Falls NY United States;X-APPLE-RADIUS=500;X-TITLE=89 Warren St:geo:-73.639958,43.310029
END:VEVENT
END:VCALENDAR