BEGIN:VCALENDAR
VERSION:2.0
PRODID:-//World Awareness Children&#039;s Museum - ECPv6.15.20//NONSGML v1.0//EN
CALSCALE:GREGORIAN
METHOD:PUBLISH
X-WR-CALNAME:World Awareness Children&#039;s Museum
X-ORIGINAL-URL:https://worldchildrensmuseum.org
X-WR-CALDESC:Events for World Awareness Children&#039;s Museum
REFRESH-INTERVAL;VALUE=DURATION:PT1H
X-Robots-Tag:noindex
X-PUBLISHED-TTL:PT1H
BEGIN:VTIMEZONE
TZID:America/New_York
BEGIN:DAYLIGHT
TZOFFSETFROM:-0500
TZOFFSETTO:-0400
TZNAME:EDT
DTSTART:20250309T070000
END:DAYLIGHT
BEGIN:STANDARD
TZOFFSETFROM:-0400
TZOFFSETTO:-0500
TZNAME:EST
DTSTART:20251102T060000
END:STANDARD
BEGIN:DAYLIGHT
TZOFFSETFROM:-0500
TZOFFSETTO:-0400
TZNAME:EDT
DTSTART:20260308T070000
END:DAYLIGHT
BEGIN:STANDARD
TZOFFSETFROM:-0400
TZOFFSETTO:-0500
TZNAME:EST
DTSTART:20261101T060000
END:STANDARD
BEGIN:DAYLIGHT
TZOFFSETFROM:-0500
TZOFFSETTO:-0400
TZNAME:EDT
DTSTART:20270314T070000
END:DAYLIGHT
BEGIN:STANDARD
TZOFFSETFROM:-0400
TZOFFSETTO:-0500
TZNAME:EST
DTSTART:20271107T060000
END:STANDARD
END:VTIMEZONE
BEGIN:VEVENT
DTSTART;TZID=America/New_York:20260112T100000
DTEND;TZID=America/New_York:20260112T150000
DTSTAMP:20260419T202429
CREATED:20241223T200916Z
LAST-MODIFIED:20250619T190921Z
UID:10004259-1768212000-1768230000@worldchildrensmuseum.org
SUMMARY:Open for General Admission
DESCRIPTION:Tickets can be purchased online at https://wacm.ticketleap.com/museum-admission-2024/Admission Costs:Members: FreeNot-Yet-Members: $7 per person\, children under 12mo. are free.Please visit our website for more information on admission: https://worldchildrensmuseum.org/for-visitors/
URL:https://worldchildrensmuseum.org/events/open-for-general-admission-2162/
LOCATION:World Awareness Children’s Museum\, 89 Warren St\, Glens Falls\, NY\, United States
GEO:43.310029;-73.639958
X-APPLE-STRUCTURED-LOCATION;VALUE=URI;X-ADDRESS=World Awareness Children’s Museum 89 Warren St Glens Falls NY United States;X-APPLE-RADIUS=500;X-TITLE=89 Warren St:geo:-73.639958,43.310029
END:VEVENT
BEGIN:VEVENT
DTSTART;TZID=America/New_York:20260112T103000
DTEND;TZID=America/New_York:20260112T113000
DTSTAMP:20260419T202429
CREATED:20251219T203930Z
LAST-MODIFIED:20260109T212418Z
UID:10006376-1768213800-1768217400@worldchildrensmuseum.org
SUMMARY:Scribble Squad: Colors & Shapes
DESCRIPTION:Scribble Squad is a monthly art-making experience designed just for toddlers ages 1–3. This month’s Colors & Shapes theme invites little artists to explore crayons and markers while filling in simple shapes like circles\, lines\, and curves. Through guided scribbling and playful mark-making\, children build fine motor skills while discovering how colors and shapes work together. \nDetails:Ages: 1–3 yearsCost: Free with admissionCapacity: Limited to 8 scribblers per sessionReserve your spot: Call 518-793-2773 or visit wacm.ticketleap.com
URL:https://worldchildrensmuseum.org/events/scribble-squad-colors-shapes/
LOCATION:89 Warren St\, Glens Falls\, NY\, United States
GEO:43.30952;-73.64401
END:VEVENT
BEGIN:VEVENT
DTSTART;TZID=America/New_York:20260115T100000
DTEND;TZID=America/New_York:20260115T150000
DTSTAMP:20260419T202429
CREATED:20241224T180928Z
LAST-MODIFIED:20250619T190921Z
UID:10004260-1768471200-1768489200@worldchildrensmuseum.org
SUMMARY:Open for General Admission
DESCRIPTION:Tickets can be purchased online at https://wacm.ticketleap.com/museum-admission-2024/Admission Costs:Members: FreeNot-Yet-Members: $7 per person\, children under 12mo. are free.Please visit our website for more information on admission: https://worldchildrensmuseum.org/for-visitors/
URL:https://worldchildrensmuseum.org/events/open-for-general-admission-2163/
LOCATION:World Awareness Children’s Museum\, 89 Warren St\, Glens Falls\, NY\, United States
GEO:43.310029;-73.639958
X-APPLE-STRUCTURED-LOCATION;VALUE=URI;X-ADDRESS=World Awareness Children’s Museum 89 Warren St Glens Falls NY United States;X-APPLE-RADIUS=500;X-TITLE=89 Warren St:geo:-73.639958,43.310029
END:VEVENT
BEGIN:VEVENT
DTSTART;TZID=America/New_York:20260115T103000
DTEND;TZID=America/New_York:20260115T113000
DTSTAMP:20260419T202429
CREATED:20251212T202426Z
LAST-MODIFIED:20260109T212418Z
UID:10006361-1768473000-1768476600@worldchildrensmuseum.org
SUMMARY:Kinder Rhythm
DESCRIPTION:Introducing Kinder Rhythm!Our popular Kinder Rhythm Drumming program has grown into a joyful blend of music and movement. Beginning in 2026\, enjoy the same great hands-on fun under a new name. \nJoin us for a lively\, intergenerational\, interactive music session ideal for children ages 1–5. This program inspires creativity\, joyful play\, and social connection through the power of group rhythm-making. We’ll sing\, dance\, play instruments\, and move to the beat together! \n \nCost: Free with Admission
URL:https://worldchildrensmuseum.org/events/kinder-rhythm-13/
END:VEVENT
BEGIN:VEVENT
DTSTART;TZID=America/New_York:20260115T120000
DTEND;TZID=America/New_York:20260115T130000
DTSTAMP:20260419T202429
CREATED:20251219T203932Z
LAST-MODIFIED:20260109T212419Z
UID:10006377-1768478400-1768482000@worldchildrensmuseum.org
SUMMARY:Kinder Krafts!
DESCRIPTION:Start the morning with one of our most popular programs\, Kinder Rhythm\, then stay for some creative krafting fun for preschoolers! Create simple art projects designed for little hands and big imaginations.  Cost: Free with admission.
URL:https://worldchildrensmuseum.org/events/kinder-krafts-4/
LOCATION:89 Warren St\, Glens Falls\, NY\, United States
GEO:43.30952;-73.64401
END:VEVENT
BEGIN:VEVENT
DTSTART;TZID=America/New_York:20260116T100000
DTEND;TZID=America/New_York:20260116T150000
DTSTAMP:20260419T202429
CREATED:20241226T000916Z
LAST-MODIFIED:20250619T190921Z
UID:10004261-1768557600-1768575600@worldchildrensmuseum.org
SUMMARY:Open for General Admission
DESCRIPTION:Tickets can be purchased online at https://wacm.ticketleap.com/museum-admission-2024/Admission Costs:Members: FreeNot-Yet-Members: $7 per person\, children under 12mo. are free.Please visit our website for more information on admission: https://worldchildrensmuseum.org/for-visitors/
URL:https://worldchildrensmuseum.org/events/open-for-general-admission-2164/
LOCATION:World Awareness Children’s Museum\, 89 Warren St\, Glens Falls\, NY\, United States
GEO:43.310029;-73.639958
X-APPLE-STRUCTURED-LOCATION;VALUE=URI;X-ADDRESS=World Awareness Children’s Museum 89 Warren St Glens Falls NY United States;X-APPLE-RADIUS=500;X-TITLE=89 Warren St:geo:-73.639958,43.310029
END:VEVENT
BEGIN:VEVENT
DTSTART;TZID=America/New_York:20260116T103000
DTEND;TZID=America/New_York:20260116T113000
DTSTAMP:20260419T202429
CREATED:20251212T202428Z
LAST-MODIFIED:20260109T212419Z
UID:10006362-1768559400-1768563000@worldchildrensmuseum.org
SUMMARY:Storytime Friday
DESCRIPTION:Everyone is welcome at Storytime Fridays\, a recurring program designed to spark joy and curiosity in little ones!  \nEach week\, we explore early literacy skills through movement\, imaginative play\, and a creative craft that brings the story to life. Perfect for toddlers\, preschoolers\, and their caregivers. \nCost: Free with Admission
URL:https://worldchildrensmuseum.org/events/storytime-friday-174/
END:VEVENT
BEGIN:VEVENT
DTSTART;TZID=America/New_York:20260116T120000
DTEND;TZID=America/New_York:20260116T130000
DTSTAMP:20260419T202429
CREATED:20251219T203932Z
LAST-MODIFIED:20260109T212419Z
UID:10006378-1768564800-1768568400@worldchildrensmuseum.org
SUMMARY:Handprint Friends
DESCRIPTION:Handprint FriendsFridays in January | 12–1pm \nCreate your own unique “friend” each week using your very own handprint! Perfect for children ages 2 and up\, this fun and creative series lets little artists bring home a new handmade friend every Friday. \nCost: Free with admission
URL:https://worldchildrensmuseum.org/events/handprint-friends-4/
LOCATION:89 Warren St\, Glens Falls\, NY\, United States
GEO:43.30952;-73.64401
END:VEVENT
BEGIN:VEVENT
DTSTART;TZID=America/New_York:20260116T133000
DTEND;TZID=America/New_York:20260116T143000
DTSTAMP:20260419T202429
CREATED:20251212T202428Z
LAST-MODIFIED:20260109T212419Z
UID:10006363-1768570200-1768573800@worldchildrensmuseum.org
SUMMARY:Storytime Friday
DESCRIPTION:Everyone is welcome at Storytime Fridays\, a recurring program designed to spark joy and curiosity in little ones!  \nEach week\, we explore early literacy skills through movement\, imaginative play\, and a creative craft that brings the story to life. Perfect for toddlers\, preschoolers\, and their caregivers. \nCost: Free with Admission
URL:https://worldchildrensmuseum.org/events/storytime-friday-175/
END:VEVENT
BEGIN:VEVENT
DTSTART;TZID=America/New_York:20260117T100000
DTEND;TZID=America/New_York:20260117T150000
DTSTAMP:20260419T202429
CREATED:20241226T165709Z
LAST-MODIFIED:20250619T190922Z
UID:10004262-1768644000-1768662000@worldchildrensmuseum.org
SUMMARY:Open for General Admission
DESCRIPTION:Tickets can be purchased online at https://wacm.ticketleap.com/museum-admission-2024/Admission Costs:Members: FreeNot-Yet-Members: $7 per person\, children under 12mo. are free.Please visit our website for more information on admission: https://worldchildrensmuseum.org/for-visitors/
URL:https://worldchildrensmuseum.org/events/open-for-general-admission-2165/
LOCATION:World Awareness Children’s Museum\, 89 Warren St\, Glens Falls\, NY\, United States
GEO:43.310029;-73.639958
X-APPLE-STRUCTURED-LOCATION;VALUE=URI;X-ADDRESS=World Awareness Children’s Museum 89 Warren St Glens Falls NY United States;X-APPLE-RADIUS=500;X-TITLE=89 Warren St:geo:-73.639958,43.310029
END:VEVENT
BEGIN:VEVENT
DTSTART;TZID=America/New_York:20260117T103000
DTEND;TZID=America/New_York:20260117T113000
DTSTAMP:20260419T202429
CREATED:20251219T203933Z
LAST-MODIFIED:20260116T213845Z
UID:10006379-1768645800-1768649400@worldchildrensmuseum.org
SUMMARY:Japan's Lucky Bullfinch Craft
DESCRIPTION:Celebrate National Bird Day with a hands-on cultural craft inspired by Japan’s Usokae Festival! Children will learn about the tradition of exchanging wooden bullfinches for good fortune in the new year\, then create their own colorful bullfinch using simple materials like cardboard tubes\, feathers or tissue paper\, paint\, and glue. \n \nDetails:Cost: Free with admissionBest for ages: 5 and up (up to 10 lil’ bird makers)Registration: Pre-registration requiredReserve your spot: Call 518-793-2773 or visit wacm.ticketleap.com
URL:https://worldchildrensmuseum.org/events/japans-lucky-bullfinch-craft/
LOCATION:89 Warren St\, Glens Falls\, NY\, United States
GEO:43.30952;-73.64401
END:VEVENT
BEGIN:VEVENT
DTSTART;TZID=America/New_York:20260117T120000
DTEND;TZID=America/New_York:20260117T130000
DTSTAMP:20260419T202430
CREATED:20251219T203934Z
LAST-MODIFIED:20260116T213844Z
UID:10006380-1768651200-1768654800@worldchildrensmuseum.org
SUMMARY:Clay Creations
DESCRIPTION:Sculpt\, Shape\, and Decorate! \nSculpt\, shape\, and decorate using clay and creative materials in this hands-on art workshop. Young artists will explore form\, texture\, and imagination while creating a unique clay piece to take home. \n \nDetails:Cost: $5 per child + museum admission (members receive 10% off)Best for ages: 7 and upCapacity: Up to 10 lil’ artists per sessionRegistration: Pre-registration requiredReserve your spot: Call 518-793-2773 or visit wacm.ticketleap.com
URL:https://worldchildrensmuseum.org/events/clay-creations-8/
LOCATION:89 Warren St\, Glens Falls\, NY\, United States
GEO:43.30952;-73.64401
END:VEVENT
BEGIN:VEVENT
DTSTART;TZID=America/New_York:20260118T100000
DTEND;TZID=America/New_York:20260118T150000
DTSTAMP:20260419T202430
CREATED:20241226T200947Z
LAST-MODIFIED:20250619T190922Z
UID:10004263-1768730400-1768748400@worldchildrensmuseum.org
SUMMARY:Open for General Admission
DESCRIPTION:Tickets can be purchased online at https://wacm.ticketleap.com/museum-admission-2024/Admission Costs:Members: FreeNot-Yet-Members: $7 per person\, children under 12mo. are free.Please visit our website for more information on admission: https://worldchildrensmuseum.org/for-visitors/
URL:https://worldchildrensmuseum.org/events/open-for-general-admission-2166/
LOCATION:World Awareness Children’s Museum\, 89 Warren St\, Glens Falls\, NY\, United States
GEO:43.310029;-73.639958
X-APPLE-STRUCTURED-LOCATION;VALUE=URI;X-ADDRESS=World Awareness Children’s Museum 89 Warren St Glens Falls NY United States;X-APPLE-RADIUS=500;X-TITLE=89 Warren St:geo:-73.639958,43.310029
END:VEVENT
BEGIN:VEVENT
DTSTART;TZID=America/New_York:20260118T110000
DTEND;TZID=America/New_York:20260118T120000
DTSTAMP:20260419T202430
CREATED:20251219T203935Z
LAST-MODIFIED:20260116T213846Z
UID:10006381-1768734000-1768737600@worldchildrensmuseum.org
SUMMARY:Freedom to Wonder: Art Series - Landscapes
DESCRIPTION:Freedom to Wonder: Art Series\nExplore creativity and curiosity through hands-on art inspired by our January theme\, Freedom to Wonder. Each session invites children to experiment with materials\, techniques\, and self-expression while creating a unique take-home artwork. \n\n\n11:00am: Landscapes — explore color\, line\, and texture while creating a landscape-inspired artwork \n\n\nDetails:Cost: Free with admissionRegistration: Pre-registration requiredBest for ages: 6 and upCapacity: 10 lil’ artists per sessionReserve your spot: Call 518-793-2773 or visit wacm.ticketleap.com
URL:https://worldchildrensmuseum.org/events/freedom-to-wonder-art-series-landscapes/
LOCATION:89 Warren St\, Glens Falls\, NY\, United States
GEO:43.30952;-73.64401
END:VEVENT
BEGIN:VEVENT
DTSTART;TZID=America/New_York:20260118T123000
DTEND;TZID=America/New_York:20260118T133000
DTSTAMP:20260419T202430
CREATED:20251219T203936Z
LAST-MODIFIED:20260116T213847Z
UID:10006382-1768739400-1768743000@worldchildrensmuseum.org
SUMMARY:Freedom to Wonder: Art Series - Button Art
DESCRIPTION:Freedom to Wonder: Art Series\nExplore creativity and curiosity through hands-on art inspired by our January theme\, Freedom to Wonder. Each session invites children to experiment with materials\, techniques\, and self-expression while creating a unique take-home artwork. \n\n\n12:30pm: Button Art — design and create using buttons and mixed materials to explore patterns and shapes \n\n\nDetails:Cost: Free with admissionRegistration: Pre-registration requiredBest for ages: 5 and upCapacity: Up to 10 lil' artists per sessionReserve your spot: Call 518-793-2773 or visit wacm.ticketleap.com
URL:https://worldchildrensmuseum.org/events/freedom-to-wonder-art-series-button-art/
LOCATION:89 Warren St\, Glens Falls\, NY\, United States
GEO:43.30952;-73.64401
END:VEVENT
BEGIN:VEVENT
DTSTART;TZID=America/New_York:20260119T100000
DTEND;TZID=America/New_York:20260119T150000
DTSTAMP:20260419T202430
CREATED:20250103T202436Z
LAST-MODIFIED:20250619T190922Z
UID:10004279-1768816800-1768834800@worldchildrensmuseum.org
SUMMARY:Open for General Admission
DESCRIPTION:Tickets can be purchased online at https://wacm.ticketleap.com/museum-admission-2024/Admission Costs:Members: FreeNot-Yet-Members: $7 per person\, children under 12mo. are free.Please visit our website for more information on admission: https://worldchildrensmuseum.org/for-visitors/
URL:https://worldchildrensmuseum.org/events/open-for-general-admission-2167/
LOCATION:World Awareness Children’s Museum\, 89 Warren St\, Glens Falls\, NY\, United States
GEO:43.310029;-73.639958
X-APPLE-STRUCTURED-LOCATION;VALUE=URI;X-ADDRESS=World Awareness Children’s Museum 89 Warren St Glens Falls NY United States;X-APPLE-RADIUS=500;X-TITLE=89 Warren St:geo:-73.639958,43.310029
END:VEVENT
BEGIN:VEVENT
DTSTART;TZID=America/New_York:20260119T103000
DTEND;TZID=America/New_York:20260119T113000
DTSTAMP:20260419T202430
CREATED:20251219T203936Z
LAST-MODIFIED:20260116T213847Z
UID:10006383-1768818600-1768822200@worldchildrensmuseum.org
SUMMARY:Freedom to Improvise: Movement & Music Workshop
DESCRIPTION:Celebrate creativity through movement\, theater games\, and beginner-friendly drumming\, with Ms. Susie! \n In this playful workshop for ages 5–10\, children explore improvisation\, express themselves\, and build confidence as they move\, play\, and make music together. \nDetails:Cost: Free with admission.Best for ages: 5 and upCapacity: Up to 10 lil’ music makers per sessionRegistration: Pre-registration requiredReserve your spot: Call 518-793-2773 or visit wacm.ticketleap.com
URL:https://worldchildrensmuseum.org/events/freedom-to-improvise-movement-music-workshop/
LOCATION:89 Warren St\, Glens Falls\, NY\, United States
GEO:43.30952;-73.64401
END:VEVENT
BEGIN:VEVENT
DTSTART;TZID=America/New_York:20260119T120000
DTEND;TZID=America/New_York:20260119T123000
DTSTAMP:20260419T202430
CREATED:20251219T203936Z
LAST-MODIFIED:20260116T213849Z
UID:10006384-1768824000-1768825800@worldchildrensmuseum.org
SUMMARY:Dream Slime Lab: Group 1
DESCRIPTION:Celebrate Martin Luther King Jr. Day with our Dream Slime Lab!  \nChildren will mix calming colors and textures to create their own “dream swirl” slime while we talk about kindness\, community\, and big dreams for the future.   \nCost: Free with admission. Reserve your spot: Call 518-793-2773 or visit ticketleap.events/events/wacm-1 *IMPORTANT: When registering online\, be sure to select the specific Slime Lab event\, not just general admission tickets!
URL:https://worldchildrensmuseum.org/events/dream-slime-lab-group-1/
LOCATION:89 Warren St\, Glens Falls\, NY\, United States
GEO:43.30952;-73.64401
END:VEVENT
BEGIN:VEVENT
DTSTART;TZID=America/New_York:20260119T123000
DTEND;TZID=America/New_York:20260119T130000
DTSTAMP:20260419T202430
CREATED:20251219T203937Z
LAST-MODIFIED:20260116T213848Z
UID:10006386-1768825800-1768827600@worldchildrensmuseum.org
SUMMARY:Dream Slime Lab: Group 2
DESCRIPTION:Celebrate Martin Luther King Jr. Day with our Dream Slime Lab!  \nChildren will mix calming colors and textures to create their own “dream swirl” slime while we talk about kindness\, community\, and big dreams for the future.   \nCost: Free with admission. Reserve your spot: Call 518-793-2773 or visit ticketleap.events/events/wacm-1 *IMPORTANT: When registering online\, be sure to select the specific Slime Lab event\, not just general admission tickets!
URL:https://worldchildrensmuseum.org/events/dream-slime-lab-group-2/
LOCATION:89 Warren St\, Glens Falls\, NY\, United States
GEO:43.30952;-73.64401
END:VEVENT
BEGIN:VEVENT
DTSTART;TZID=America/New_York:20260119T130000
DTEND;TZID=America/New_York:20260119T133000
DTSTAMP:20260419T202430
CREATED:20251219T203937Z
LAST-MODIFIED:20260116T213847Z
UID:10006385-1768827600-1768829400@worldchildrensmuseum.org
SUMMARY:Dream Slime Lab: Group 3
DESCRIPTION:Celebrate Martin Luther King Jr. Day with our Dream Slime Lab!  \nChildren will mix calming colors and textures to create their own “dream swirl” slime while we talk about kindness\, community\, and big dreams for the future.   \nCost: Free with admission. Reserve your spot: Call 518-793-2773 or visit ticketleap.events/events/wacm-1 *IMPORTANT: When registering online\, be sure to select the specific Slime Lab event\, not just general admission tickets!
URL:https://worldchildrensmuseum.org/events/dream-slime-lab-group-3/
LOCATION:89 Warren St\, Glens Falls\, NY\, United States
GEO:43.30952;-73.64401
END:VEVENT
BEGIN:VEVENT
DTSTART;TZID=America/New_York:20260122T100000
DTEND;TZID=America/New_York:20260122T150000
DTSTAMP:20260419T202430
CREATED:20250104T203939Z
LAST-MODIFIED:20250619T190922Z
UID:10004280-1769076000-1769094000@worldchildrensmuseum.org
SUMMARY:Open for General Admission
DESCRIPTION:Tickets can be purchased online at https://wacm.ticketleap.com/museum-admission-2024/Admission Costs:Members: FreeNot-Yet-Members: $7 per person\, children under 12mo. are free.Please visit our website for more information on admission: https://worldchildrensmuseum.org/for-visitors/
URL:https://worldchildrensmuseum.org/events/open-for-general-admission-2168/
LOCATION:World Awareness Children’s Museum\, 89 Warren St\, Glens Falls\, NY\, United States
GEO:43.310029;-73.639958
X-APPLE-STRUCTURED-LOCATION;VALUE=URI;X-ADDRESS=World Awareness Children’s Museum 89 Warren St Glens Falls NY United States;X-APPLE-RADIUS=500;X-TITLE=89 Warren St:geo:-73.639958,43.310029
END:VEVENT
BEGIN:VEVENT
DTSTART;TZID=America/New_York:20260122T103000
DTEND;TZID=America/New_York:20260122T113000
DTSTAMP:20260419T202430
CREATED:20251212T202431Z
LAST-MODIFIED:20260116T213850Z
UID:10006364-1769077800-1769081400@worldchildrensmuseum.org
SUMMARY:Kinder Rhythm
DESCRIPTION:Introducing Kinder Rhythm!Our popular Kinder Rhythm Drumming program has grown into a joyful blend of music and movement. Beginning in 2026\, enjoy the same great hands-on fun under a new name. \nJoin us for a lively\, intergenerational\, interactive music session ideal for children ages 1–5. This program inspires creativity\, joyful play\, and social connection through the power of group rhythm-making. We’ll sing\, dance\, play instruments\, and move to the beat together! \n \nCost: Free with Admission
URL:https://worldchildrensmuseum.org/events/kinder-rhythm-14/
END:VEVENT
BEGIN:VEVENT
DTSTART;TZID=America/New_York:20260122T120000
DTEND;TZID=America/New_York:20260122T130000
DTSTAMP:20260419T202430
CREATED:20251219T203938Z
LAST-MODIFIED:20260116T213850Z
UID:10006387-1769083200-1769086800@worldchildrensmuseum.org
SUMMARY:Kinder Krafts!
DESCRIPTION:Start the morning with one of our most popular programs\, Kinder Rhythm\, then stay for some creative krafting fun for preschoolers! Create simple art projects designed for little hands and big imaginations.  Cost: Free with admission.
URL:https://worldchildrensmuseum.org/events/kinder-krafts-5/
LOCATION:89 Warren St\, Glens Falls\, NY\, United States
GEO:43.30952;-73.64401
END:VEVENT
BEGIN:VEVENT
DTSTART;TZID=America/New_York:20260123T100000
DTEND;TZID=America/New_York:20260123T150000
DTSTAMP:20260419T202430
CREATED:20250105T202439Z
LAST-MODIFIED:20250619T190922Z
UID:10004281-1769162400-1769180400@worldchildrensmuseum.org
SUMMARY:Open for General Admission
DESCRIPTION:Tickets can be purchased online at https://wacm.ticketleap.com/museum-admission-2024/Admission Costs:Members: FreeNot-Yet-Members: $7 per person\, children under 12mo. are free.Please visit our website for more information on admission: https://worldchildrensmuseum.org/for-visitors/
URL:https://worldchildrensmuseum.org/events/open-for-general-admission-2169/
LOCATION:World Awareness Children’s Museum\, 89 Warren St\, Glens Falls\, NY\, United States
GEO:43.310029;-73.639958
X-APPLE-STRUCTURED-LOCATION;VALUE=URI;X-ADDRESS=World Awareness Children’s Museum 89 Warren St Glens Falls NY United States;X-APPLE-RADIUS=500;X-TITLE=89 Warren St:geo:-73.639958,43.310029
END:VEVENT
BEGIN:VEVENT
DTSTART;TZID=America/New_York:20260123T103000
DTEND;TZID=America/New_York:20260123T113000
DTSTAMP:20260419T202430
CREATED:20251212T202433Z
LAST-MODIFIED:20260116T213851Z
UID:10006365-1769164200-1769167800@worldchildrensmuseum.org
SUMMARY:Storytime Friday
DESCRIPTION:Everyone is welcome at Storytime Fridays\, a recurring program designed to spark joy and curiosity in little ones!  \nEach week\, we explore early literacy skills through movement\, imaginative play\, and a creative craft that brings the story to life. Perfect for toddlers\, preschoolers\, and their caregivers. \nCost: Free with Admission
URL:https://worldchildrensmuseum.org/events/storytime-friday-176/
END:VEVENT
BEGIN:VEVENT
DTSTART;TZID=America/New_York:20260123T120000
DTEND;TZID=America/New_York:20260123T130000
DTSTAMP:20260419T202430
CREATED:20251219T203939Z
LAST-MODIFIED:20260116T213851Z
UID:10006388-1769169600-1769173200@worldchildrensmuseum.org
SUMMARY:Handprint Friends
DESCRIPTION:Handprint FriendsFridays in January | 12–1pm \nCreate your own unique “friend” each week using your very own handprint! Perfect for children ages 2 and up\, this fun and creative series lets little artists bring home a new handmade friend every Friday. \nCost: Free with admission
URL:https://worldchildrensmuseum.org/events/handprint-friends-5/
LOCATION:89 Warren St\, Glens Falls\, NY\, United States
GEO:43.30952;-73.64401
END:VEVENT
BEGIN:VEVENT
DTSTART;TZID=America/New_York:20260123T133000
DTEND;TZID=America/New_York:20260123T143000
DTSTAMP:20260419T202430
CREATED:20251212T202433Z
LAST-MODIFIED:20260116T213850Z
UID:10006366-1769175000-1769178600@worldchildrensmuseum.org
SUMMARY:Storytime Friday
DESCRIPTION:Everyone is welcome at Storytime Fridays\, a recurring program designed to spark joy and curiosity in little ones!  \nEach week\, we explore early literacy skills through movement\, imaginative play\, and a creative craft that brings the story to life. Perfect for toddlers\, preschoolers\, and their caregivers. \nCost: Free with Admission
URL:https://worldchildrensmuseum.org/events/storytime-friday-177/
END:VEVENT
BEGIN:VEVENT
DTSTART;TZID=America/New_York:20260124T100000
DTEND;TZID=America/New_York:20260124T150000
DTSTAMP:20260419T202430
CREATED:20250106T202428Z
LAST-MODIFIED:20250619T190922Z
UID:10004282-1769248800-1769266800@worldchildrensmuseum.org
SUMMARY:Open for General Admission
DESCRIPTION:Tickets can be purchased online at https://wacm.ticketleap.com/museum-admission-2024/Admission Costs:Members: FreeNot-Yet-Members: $7 per person\, children under 12mo. are free.Please visit our website for more information on admission: https://worldchildrensmuseum.org/for-visitors/
URL:https://worldchildrensmuseum.org/events/open-for-general-admission-2170/
LOCATION:World Awareness Children’s Museum\, 89 Warren St\, Glens Falls\, NY\, United States
GEO:43.310029;-73.639958
X-APPLE-STRUCTURED-LOCATION;VALUE=URI;X-ADDRESS=World Awareness Children’s Museum 89 Warren St Glens Falls NY United States;X-APPLE-RADIUS=500;X-TITLE=89 Warren St:geo:-73.639958,43.310029
END:VEVENT
BEGIN:VEVENT
DTSTART;TZID=America/New_York:20260124T103000
DTEND;TZID=America/New_York:20260124T113000
DTSTAMP:20260419T202430
CREATED:20251219T203940Z
LAST-MODIFIED:20260123T215409Z
UID:10006389-1769250600-1769254200@worldchildrensmuseum.org
SUMMARY:African-Inspired Plate Mask Making
DESCRIPTION:In recognition of World Day for African and Afrodescendant Culture (January 24)\, children are invited to explore African cultural expression through art. Families will learn how masks and decorative plates are used in many African traditions to celebrate storytelling\, community\, and identity\, then create their own African-inspired plate mask using paper plates\, paint\, construction paper\, and tissue paper. \nDetails:Cost: Free with admissionBest for ages: 5 and upCapacity: Up to 10 lil' artists per sessionRegistration: Pre-registration requiredReserve your spot: Call 518-793-2773 or visit wacm.ticketleap.com
URL:https://worldchildrensmuseum.org/events/african-inspired-plate-mask-making/
LOCATION:89 Warren St\, Glens Falls\, NY\, United States
GEO:43.30952;-73.64401
END:VEVENT
BEGIN:VEVENT
DTSTART;TZID=America/New_York:20260124T120000
DTEND;TZID=America/New_York:20260124T130000
DTSTAMP:20260419T202430
CREATED:20251219T203941Z
LAST-MODIFIED:20260123T215409Z
UID:10006390-1769256000-1769259600@worldchildrensmuseum.org
SUMMARY:Clay Creations
DESCRIPTION:Sculpt\, Shape\, and Decorate! \nSculpt\, shape\, and decorate using clay and creative materials in this hands-on art workshop. Young artists will explore form\, texture\, and imagination while creating a unique clay piece to take home. \n \nDetails:Cost: $5 per child + museum admission (members receive 10% off)Best for ages: 7 and upCapacity: Up to 10 lil’ artists per sessionRegistration: Pre-registration requiredReserve your spot: Call 518-793-2773 or visit wacm.ticketleap.com
URL:https://worldchildrensmuseum.org/events/clay-creations-9/
LOCATION:89 Warren St\, Glens Falls\, NY\, United States
GEO:43.30952;-73.64401
END:VEVENT
END:VCALENDAR