BEGIN:VCALENDAR
VERSION:2.0
PRODID:-//World Awareness Children&#039;s Museum - ECPv6.15.20//NONSGML v1.0//EN
CALSCALE:GREGORIAN
METHOD:PUBLISH
X-WR-CALNAME:World Awareness Children&#039;s Museum
X-ORIGINAL-URL:https://worldchildrensmuseum.org
X-WR-CALDESC:Events for World Awareness Children&#039;s Museum
REFRESH-INTERVAL;VALUE=DURATION:PT1H
X-Robots-Tag:noindex
X-PUBLISHED-TTL:PT1H
BEGIN:VTIMEZONE
TZID:America/New_York
BEGIN:DAYLIGHT
TZOFFSETFROM:-0500
TZOFFSETTO:-0400
TZNAME:EDT
DTSTART:20200308T070000
END:DAYLIGHT
BEGIN:STANDARD
TZOFFSETFROM:-0400
TZOFFSETTO:-0500
TZNAME:EST
DTSTART:20201101T060000
END:STANDARD
BEGIN:DAYLIGHT
TZOFFSETFROM:-0500
TZOFFSETTO:-0400
TZNAME:EDT
DTSTART:20210314T070000
END:DAYLIGHT
BEGIN:STANDARD
TZOFFSETFROM:-0400
TZOFFSETTO:-0500
TZNAME:EST
DTSTART:20211107T060000
END:STANDARD
BEGIN:DAYLIGHT
TZOFFSETFROM:-0500
TZOFFSETTO:-0400
TZNAME:EDT
DTSTART:20220313T070000
END:DAYLIGHT
BEGIN:STANDARD
TZOFFSETFROM:-0400
TZOFFSETTO:-0500
TZNAME:EST
DTSTART:20221106T060000
END:STANDARD
END:VTIMEZONE
BEGIN:VEVENT
DTSTART;TZID=America/New_York:20210918T100000
DTEND;TZID=America/New_York:20210918T150000
DTSTAMP:20260419T132016
CREATED:20210830T165508Z
LAST-MODIFIED:20210918T172551Z
UID:10001423-1631959200-1631977200@worldchildrensmuseum.org
SUMMARY:Open for General Admission
DESCRIPTION:Pre-registration is encouraged: wacm.ticketleap.com/admission \nAdmission Costs:Members: FreeNot-Yet-Members: $5 per person\, children under 3 are free.Please visit our website for more information on admission: https://worldchildrensmuseum.org/for-visitors/ \nMasks are required for all visitors ages 3 and up\, regardless of vaccination status. 
URL:https://worldchildrensmuseum.org/events/open-for-general-admission-70/
LOCATION:World Awareness Children’s Museum\, 89 Warren St\, Glens Falls\, NY 12801\, USA
END:VEVENT
BEGIN:VEVENT
DTSTART;TZID=America/New_York:20210917T103000
DTEND;TZID=America/New_York:20210917T113000
DTSTAMP:20260419T132016
CREATED:20210831T165516Z
LAST-MODIFIED:20210916T172529Z
UID:10001489-1631874600-1631878200@worldchildrensmuseum.org
SUMMARY:Storytime Friday
DESCRIPTION:Reading: In My Anaana’s Amautik by Nadia Sammurtok and Lenny Lishchenko \nEveryone is welcome at our recurring program\, Storytime Fridays! This program is appropriate for all ages and includes a story and craft.  \nCost: Free with admission
URL:https://worldchildrensmuseum.org/events/storytime-friday-3/
LOCATION:NY
END:VEVENT
BEGIN:VEVENT
DTSTART;TZID=America/New_York:20210917T100000
DTEND;TZID=America/New_York:20210917T150000
DTSTAMP:20260419T132016
CREATED:20210830T165508Z
LAST-MODIFIED:20210917T172541Z
UID:10001421-1631872800-1631890800@worldchildrensmuseum.org
SUMMARY:Open for General Admission
DESCRIPTION:Pre-registration is encouraged: wacm.ticketleap.com/admission \nAdmission Costs:Members: FreeNot-Yet-Members: $5 per person\, children under 3 are free.Please visit our website for more information on admission: https://worldchildrensmuseum.org/for-visitors/ \nMasks are required for all visitors ages 3 and up\, regardless of vaccination status. 
URL:https://worldchildrensmuseum.org/events/open-for-general-admission-68/
LOCATION:World Awareness Children’s Museum\, 89 Warren St\, Glens Falls\, NY 12801\, USA
END:VEVENT
BEGIN:VEVENT
DTSTART;TZID=America/New_York:20210913T103000
DTEND;TZID=America/New_York:20210913T113000
DTSTAMP:20260419T132016
CREATED:20210831T165515Z
LAST-MODIFIED:20210912T171146Z
UID:10001487-1631529000-1631532600@worldchildrensmuseum.org
SUMMARY:Slime Lab
DESCRIPTION:Become a Slime Scientist! This program is appropriate for all ages\, and each child will take home their own slime creation. \nCost: $2 per child on top of admission. Members attend for free! \nPlease call to reserve your spot: 518-793-2773 ext. 305 \nor visit wacm.ticketleap.com to reserve online. \nSlime Lab is limited to 10 children.
URL:https://worldchildrensmuseum.org/events/slime-lab-4/
LOCATION:NY
END:VEVENT
BEGIN:VEVENT
DTSTART;TZID=America/New_York:20210913T100000
DTEND;TZID=America/New_York:20210913T150000
DTSTAMP:20260419T132016
CREATED:20210830T165507Z
LAST-MODIFIED:20210830T165508Z
UID:10001418-1631527200-1631545200@worldchildrensmuseum.org
SUMMARY:Open for General Admission
DESCRIPTION:Pre-registration is encouraged: wacm.ticketleap.com/admission \nAdmission Costs:Members: FreeNot-Yet-Members: $5 per person\, children under 3 are free.Please visit our website for more information on admission: https://worldchildrensmuseum.org/for-visitors/ \nMasks are required for all visitors ages 3 and up\, regardless of vaccination status. 
URL:https://worldchildrensmuseum.org/events/open-for-general-admission-66/
LOCATION:World Awareness Children’s Museum\, 89 Warren St\, Glens Falls\, NY 12801\, USA
END:VEVENT
BEGIN:VEVENT
DTSTART;TZID=America/New_York:20210912T100000
DTEND;TZID=America/New_York:20210912T150000
DTSTAMP:20260419T132016
CREATED:20210830T165507Z
LAST-MODIFIED:20210830T165508Z
UID:10001415-1631440800-1631458800@worldchildrensmuseum.org
SUMMARY:Open for General Admission
DESCRIPTION:Pre-registration is encouraged: wacm.ticketleap.com/admission \nAdmission Costs:Members: FreeNot-Yet-Members: $5 per person\, children under 3 are free.Please visit our website for more information on admission: https://worldchildrensmuseum.org/for-visitors/ \nMasks are required for all visitors ages 3 and up\, regardless of vaccination status. 
URL:https://worldchildrensmuseum.org/events/open-for-general-admission-64/
LOCATION:World Awareness Children’s Museum\, 89 Warren St\, Glens Falls\, NY 12801\, USA
END:VEVENT
BEGIN:VEVENT
DTSTART;TZID=America/New_York:20210911T110000
DTEND;TZID=America/New_York:20210911T120000
DTSTAMP:20260419T132016
CREATED:20210831T165503Z
LAST-MODIFIED:20210910T171008Z
UID:10001485-1631358000-1631361600@worldchildrensmuseum.org
SUMMARY:Little Ones Yoga
DESCRIPTION:Guest instructor Neha Golwala leads an age-inclusive yoga class! This program is open to children of all ages. Cost: Free with admission
URL:https://worldchildrensmuseum.org/events/little-ones-yoga-6/
LOCATION:NY
END:VEVENT
BEGIN:VEVENT
DTSTART;TZID=America/New_York:20210911T100000
DTEND;TZID=America/New_York:20210911T150000
DTSTAMP:20260419T132016
CREATED:20210830T165455Z
LAST-MODIFIED:20210830T165508Z
UID:10001505-1631354400-1631372400@worldchildrensmuseum.org
SUMMARY:Open for General Admission
DESCRIPTION:Pre-registration is encouraged: wacm.ticketleap.com/admission \nAdmission Costs:Members: FreeNot-Yet-Members: $5 per person\, children under 3 are free.Please visit our website for more information on admission: https://worldchildrensmuseum.org/for-visitors/ \nMasks are required for all visitors ages 3 and up\, regardless of vaccination status. 
URL:https://worldchildrensmuseum.org/events/open-for-general-admission-62/
LOCATION:World Awareness Children’s Museum\, 89 Warren St\, Glens Falls\, NY 12801\, USA
END:VEVENT
BEGIN:VEVENT
DTSTART;TZID=America/New_York:20210910T100000
DTEND;TZID=America/New_York:20210910T150000
DTSTAMP:20260419T132016
CREATED:20210830T165455Z
LAST-MODIFIED:20210910T171007Z
UID:10001514-1631268000-1631286000@worldchildrensmuseum.org
SUMMARY:Open for General Admission
DESCRIPTION:Pre-registration is encouraged: wacm.ticketleap.com/admission \nAdmission Costs:Members: FreeNot-Yet-Members: $5 per person\, children under 3 are free.Please visit our website for more information on admission: https://worldchildrensmuseum.org/for-visitors/ \nMasks are required for all visitors ages 3 and up\, regardless of vaccination status. 
URL:https://worldchildrensmuseum.org/events/open-for-general-admission-60/
LOCATION:World Awareness Children’s Museum\, 89 Warren St\, Glens Falls\, NY 12801\, USA
END:VEVENT
BEGIN:VEVENT
DTSTART;TZID=America/New_York:20210906T100000
DTEND;TZID=America/New_York:20210906T150000
DTSTAMP:20260419T132016
CREATED:20210831T165503Z
LAST-MODIFIED:20210906T171009Z
UID:10001503-1630922400-1630940400@worldchildrensmuseum.org
SUMMARY:MUSEUM CLOSED FOR LABOR DAY
DESCRIPTION:
URL:https://worldchildrensmuseum.org/events/museum-closed-for-labor-day/
LOCATION:NY
END:VEVENT
BEGIN:VEVENT
DTSTART;VALUE=DATE:20210906
DTEND;VALUE=DATE:20210907
DTSTAMP:20260419T132016
CREATED:20210831T165503Z
LAST-MODIFIED:20210831T165516Z
UID:10001504-1630886400-1630972799@worldchildrensmuseum.org
SUMMARY:MUSEUM CLOSED
DESCRIPTION:
URL:https://worldchildrensmuseum.org/events/museum-closed/
LOCATION:NY
END:VEVENT
BEGIN:VEVENT
DTSTART;TZID=America/New_York:20210905T100000
DTEND;TZID=America/New_York:20210905T150000
DTSTAMP:20260419T132016
CREATED:20210830T165454Z
LAST-MODIFIED:20210905T171038Z
UID:10001513-1630836000-1630854000@worldchildrensmuseum.org
SUMMARY:Open for General Admission
DESCRIPTION:Pre-registration is encouraged: wacm.ticketleap.com/admission \nAdmission Costs:Members: FreeNot-Yet-Members: $5 per person\, children under 3 are free.Please visit our website for more information on admission: https://worldchildrensmuseum.org/for-visitors/ \nMasks are required for all visitors ages 3 and up\, regardless of vaccination status. 
URL:https://worldchildrensmuseum.org/events/open-for-general-admission-59/
LOCATION:World Awareness Children’s Museum\, 89 Warren St\, Glens Falls\, NY 12801\, USA
END:VEVENT
BEGIN:VEVENT
DTSTART;TZID=America/New_York:20210904T100000
DTEND;TZID=America/New_York:20210904T150000
DTSTAMP:20260419T132016
CREATED:20210830T165454Z
LAST-MODIFIED:20210904T170954Z
UID:10001512-1630749600-1630767600@worldchildrensmuseum.org
SUMMARY:Open for General Admission
DESCRIPTION:Pre-registration is encouraged: wacm.ticketleap.com/admission \nAdmission Costs:Members: FreeNot-Yet-Members: $5 per person\, children under 3 are free.Please visit our website for more information on admission: https://worldchildrensmuseum.org/for-visitors/ \nMasks are required for all visitors ages 3 and up\, regardless of vaccination status. 
URL:https://worldchildrensmuseum.org/events/open-for-general-admission-58/
LOCATION:World Awareness Children’s Museum\, 89 Warren St\, Glens Falls\, NY 12801\, USA
END:VEVENT
BEGIN:VEVENT
DTSTART;TZID=America/New_York:20210903T100000
DTEND;TZID=America/New_York:20210903T150000
DTSTAMP:20260419T132016
CREATED:20210830T165454Z
LAST-MODIFIED:20210903T171044Z
UID:10001511-1630663200-1630681200@worldchildrensmuseum.org
SUMMARY:Open for General Admission
DESCRIPTION:Pre-registration is encouraged: wacm.ticketleap.com/admission \nAdmission Costs:Members: FreeNot-Yet-Members: $5 per person\, children under 3 are free.Please visit our website for more information on admission: https://worldchildrensmuseum.org/for-visitors/ \nMasks are required for all visitors ages 3 and up\, regardless of vaccination status. 
URL:https://worldchildrensmuseum.org/events/open-for-general-admission-57/
LOCATION:World Awareness Children’s Museum\, 89 Warren St\, Glens Falls\, NY 12801\, USA
END:VEVENT
BEGIN:VEVENT
DTSTART;TZID=America/New_York:20210901T100000
DTEND;TZID=America/New_York:20210901T150000
DTSTAMP:20260419T132016
CREATED:20210830T165453Z
LAST-MODIFIED:20210901T165632Z
UID:10001510-1630490400-1630508400@worldchildrensmuseum.org
SUMMARY:Open for General Admission
DESCRIPTION:Pre-registration is encouraged: wacm.ticketleap.com/admission \nAdmission Costs:Members: FreeNot-Yet-Members: $5 per person\, children under 3 are free.Please visit our website for more information on admission: https://worldchildrensmuseum.org/for-visitors/ \nMasks are required for all visitors ages 3 and up\, regardless of vaccination status. 
URL:https://worldchildrensmuseum.org/events/open-for-general-admission-56/
LOCATION:World Awareness Children’s Museum\, 89 Warren St\, Glens Falls\, NY 12801\, USA
END:VEVENT
BEGIN:VEVENT
DTSTART;TZID=America/New_York:20210831T100000
DTEND;TZID=America/New_York:20210831T150000
DTSTAMP:20260419T132016
CREATED:20210812T161005Z
LAST-MODIFIED:20210831T165516Z
UID:10001509-1630404000-1630422000@worldchildrensmuseum.org
SUMMARY:Open for General Admission
DESCRIPTION:Pre-registration is encouraged: wacm.ticketleap.com/admission \nAdmission Costs:Members: FreeNot-Yet-Members: $5 per person\, children under 3 are free.Please visit our website for more information on admission: https://worldchildrensmuseum.org/for-visitors/ \nMasks are required for all visitors ages 3 and up\, regardless of vaccination status. 
URL:https://worldchildrensmuseum.org/events/open-for-general-admission-55/
LOCATION:World Awareness Children’s Museum\, 89 Warren St\, Glens Falls\, NY 12801\, USA
END:VEVENT
BEGIN:VEVENT
DTSTART;TZID=America/New_York:20210830T103000
DTEND;TZID=America/New_York:20210830T113000
DTSTAMP:20260419T132016
CREATED:20210731T151101Z
LAST-MODIFIED:20210829T165453Z
UID:10001508-1630319400-1630323000@worldchildrensmuseum.org
SUMMARY:Finger Painting with Friends
DESCRIPTION:Get your hands dirty at our finger painting workshop! We’ll learn about nature and make our own finger-painted scenes! \nCost: Free with admission
URL:https://worldchildrensmuseum.org/events/finger-painting-with-friends-5/
LOCATION:NY
END:VEVENT
BEGIN:VEVENT
DTSTART;TZID=America/New_York:20210830T100000
DTEND;TZID=America/New_York:20210830T150000
DTSTAMP:20260419T132016
CREATED:20210731T151101Z
LAST-MODIFIED:20210811T155542Z
UID:10001507-1630317600-1630335600@worldchildrensmuseum.org
SUMMARY:Open for General Admission
DESCRIPTION:Pre-registration is encouraged: wacm.ticketleap.com/admission \nAdmission Costs:Members: FreeNot-Yet-Members: $5 per person\, children under 3 are free.Please visit our website for more information on admission: https://worldchildrensmuseum.org/for-visitors/ \nMasks are required for all visitors ages 3 and up\, regardless of vaccination status. 
URL:https://worldchildrensmuseum.org/events/open-for-general-admission-38/
LOCATION:World Awareness Children’s Museum\, 89 Warren St\, Glens Falls\, NY 12801\, USA
END:VEVENT
BEGIN:VEVENT
DTSTART;TZID=America/New_York:20210825T103000
DTEND;TZID=America/New_York:20210825T113000
DTSTAMP:20260419T132016
CREATED:20210726T145542Z
LAST-MODIFIED:20210824T165522Z
UID:10001506-1629887400-1629891000@worldchildrensmuseum.org
SUMMARY:Little Ones Yoga
DESCRIPTION:Guest instructor Neha Golwala leads an age-inclusive yoga class! This program is open to children of all ages. \n  Cost: Free with admission
URL:https://worldchildrensmuseum.org/events/little-ones-yoga-5/
LOCATION:NY
END:VEVENT
BEGIN:VEVENT
DTSTART;TZID=America/New_York:20210825T100000
DTEND;TZID=America/New_York:20210825T150000
DTSTAMP:20260419T132016
CREATED:20210726T145542Z
LAST-MODIFIED:20210811T155542Z
UID:10001483-1629885600-1629903600@worldchildrensmuseum.org
SUMMARY:Open for General Admission
DESCRIPTION:Pre-registration is encouraged: wacm.ticketleap.com/admission \nAdmission Costs:Members: FreeNot-Yet-Members: $5 per person\, children under 3 are free.Please visit our website for more information on admission: https://worldchildrensmuseum.org/for-visitors/ \nMasks are required for all visitors ages 3 and up\, regardless of vaccination status. 
URL:https://worldchildrensmuseum.org/events/open-for-general-admission-34/
LOCATION:World Awareness Children’s Museum\, 89 Warren St\, Glens Falls\, NY 12801\, USA
END:VEVENT
BEGIN:VEVENT
DTSTART;TZID=America/New_York:20210824T103000
DTEND;TZID=America/New_York:20210824T113000
DTSTAMP:20260419T132016
CREATED:20210725T144017Z
LAST-MODIFIED:20210823T165513Z
UID:10001419-1629801000-1629804600@worldchildrensmuseum.org
SUMMARY:Jellyfish Salt Painting
DESCRIPTION:Today we’ll learn about our jellyfish friends and make a jellyfish salt painting! \nCost: Free with admission
URL:https://worldchildrensmuseum.org/events/jellyfish-salt-painting/
LOCATION:NY
END:VEVENT
BEGIN:VEVENT
DTSTART;TZID=America/New_York:20210820T103000
DTEND;TZID=America/New_York:20210820T113000
DTSTAMP:20260419T132016
CREATED:20210723T142747Z
LAST-MODIFIED:20210819T164012Z
UID:10001416-1629455400-1629459000@worldchildrensmuseum.org
SUMMARY:Storytime Friday
DESCRIPTION:Everyone is welcome at our recurring program\, Storytime Fridays! This program is appropriate for all ages and includes a story and craft.  \nCost: Free with admission
URL:https://worldchildrensmuseum.org/events/storytime-friday-2/
LOCATION:NY
END:VEVENT
BEGIN:VEVENT
DTSTART;TZID=America/New_York:20210816T103000
DTEND;TZID=America/New_York:20210816T113000
DTSTAMP:20260419T132016
CREATED:20210723T142746Z
LAST-MODIFIED:20210815T161231Z
UID:10001413-1629109800-1629113400@worldchildrensmuseum.org
SUMMARY:Slime Lab
DESCRIPTION:Become a Slime Scientist! This program is appropriate for all ages\, and each child will take home their own slime creation. \nCost: $2 per child on top of admission. Members attend for free! \nPlease call to reserve your spot: 518-793-2773 ext. 305 \nor visit wacm.ticketleap.com to reserve online. \nSlime Lab is limited to 10 children.
URL:https://worldchildrensmuseum.org/events/slime-lab-3/
LOCATION:NY
END:VEVENT
BEGIN:VEVENT
DTSTART;TZID=America/New_York:20210814T130000
DTEND;TZID=America/New_York:20210814T143000
DTSTAMP:20260419T132016
CREATED:20210723T142746Z
LAST-MODIFIED:20210814T161019Z
UID:10001411-1628946000-1628951400@worldchildrensmuseum.org
SUMMARY:Paint & Sip: Asian Elephant
DESCRIPTION:Join us for our popular family-friendly Paint & Sip series. Artists will paint an Asian elephant masterpiece with acrylic on canvas to celebrate our new Thailand exhibit! \nCost: $20 per child/adult duo. ($5 for each additional child\, $10 for each additional adult.) \nMembers get a 10% Discount! \nPlease call to reserve your spot: 518-793-2773 ext. 305or visit wacm.ticketleap.com to reserve online. \nThis class is limited to 14 people
URL:https://worldchildrensmuseum.org/events/paint-sip-asian-elephant/
LOCATION:NY
END:VEVENT
BEGIN:VEVENT
DTSTART;TZID=America/New_York:20210812T100000
DTEND;TZID=America/New_York:20210812T150000
DTSTAMP:20260419T132016
CREATED:20210713T142516Z
LAST-MODIFIED:20210720T142539Z
UID:10001465-1628762400-1628780400@worldchildrensmuseum.org
SUMMARY:Open for General Admission
DESCRIPTION:Pre-registration is encouraged: wacm.ticketleap.com/admission \nAdmission Costs:Members: FreeNot-Yet-Members: $5 per person\, children under 3 are free.Please visit our website for more information on admission: https://worldchildrensmuseum.org/for-visitors/ \nMasks are required for all visitors ages 3 and up\, regardless of vaccination status. 
URL:https://worldchildrensmuseum.org/events/open-for-general-admission-17/
LOCATION:World Awareness Children’s Museum\, 89 Warren St\, Glens Falls\, NY 12801\, USA
END:VEVENT
BEGIN:VEVENT
DTSTART;TZID=America/New_York:20210811T103000
DTEND;TZID=America/New_York:20210811T113000
DTSTAMP:20260419T132016
CREATED:20210723T142746Z
LAST-MODIFIED:20210810T154034Z
UID:10001409-1628677800-1628681400@worldchildrensmuseum.org
SUMMARY:Little Ones Yoga
DESCRIPTION:Guest instructor Neha Golwala leads an age-inclusive yoga class! This program is open to children of all ages. \n  Cost: Free with admission
URL:https://worldchildrensmuseum.org/events/little-ones-yoga-3/
LOCATION:NY
END:VEVENT
BEGIN:VEVENT
DTSTART;TZID=America/New_York:20210811T100000
DTEND;TZID=America/New_York:20210811T150000
DTSTAMP:20260419T132016
CREATED:20210721T142514Z
LAST-MODIFIED:20210811T155540Z
UID:10001402-1628676000-1628694000@worldchildrensmuseum.org
SUMMARY:Open for General Admission
DESCRIPTION:Pre-registration is encouraged: wacm.ticketleap.com/admission \nAdmission Costs:Members: FreeNot-Yet-Members: $5 per person\, children under 3 are free.Please visit our website for more information on admission: https://worldchildrensmuseum.org/for-visitors/ \nMasks are required for all visitors ages 3 and up\, regardless of vaccination status. 
URL:https://worldchildrensmuseum.org/events/open-for-general-admission-26/
LOCATION:World Awareness Children’s Museum\, 89 Warren St\, Glens Falls\, NY 12801\, USA
END:VEVENT
BEGIN:VEVENT
DTSTART;TZID=America/New_York:20210810T103000
DTEND;TZID=America/New_York:20210810T113000
DTSTAMP:20260419T132016
CREATED:20210723T142745Z
LAST-MODIFIED:20210809T154023Z
UID:10001407-1628591400-1628595000@worldchildrensmuseum.org
SUMMARY:Sponge Paint Peacock Craft
DESCRIPTION:Join us as we use sponges and bold colors to paint a peacock\, the national bird of India! \nCost: Free with admission
URL:https://worldchildrensmuseum.org/events/sponge-paint-peacock-craft/
LOCATION:NY
END:VEVENT
BEGIN:VEVENT
DTSTART;TZID=America/New_York:20210810T100000
DTEND;TZID=America/New_York:20210810T150000
DTSTAMP:20260419T132016
CREATED:20210721T142514Z
LAST-MODIFIED:20210810T154034Z
UID:10001481-1628589600-1628607600@worldchildrensmuseum.org
SUMMARY:Open for General Admission
DESCRIPTION:Pre-registration is encouraged: wacm.ticketleap.com/admission \nAdmission Costs:Members: FreeNot-Yet-Members: $5 per person\, children under 3 are free.Please visit our website for more information on admission: https://worldchildrensmuseum.org/for-visitors/ \nMasks are required for all visitors ages 3 and up\, regardless of vaccination status. 
URL:https://worldchildrensmuseum.org/events/open-for-general-admission-25/
LOCATION:World Awareness Children’s Museum\, 89 Warren St\, Glens Falls\, NY 12801\, USA
END:VEVENT
BEGIN:VEVENT
DTSTART;TZID=America/New_York:20210809T100000
DTEND;TZID=America/New_York:20210809T150000
DTSTAMP:20260419T132016
CREATED:20210710T142521Z
LAST-MODIFIED:20210809T154023Z
UID:10001464-1628503200-1628521200@worldchildrensmuseum.org
SUMMARY:Open for General Admission
DESCRIPTION:Pre-registration is encouraged: wacm.ticketleap.com/admission \nAdmission Costs:Members: FreeNot-Yet-Members: $5 per person\, children under 3 are free.Please visit our website for more information on admission: https://worldchildrensmuseum.org/for-visitors/ \nMasks are required for all visitors ages 3 and up\, regardless of vaccination status. 
URL:https://worldchildrensmuseum.org/events/open-for-general-admission-16/
LOCATION:World Awareness Children’s Museum\, 89 Warren St\, Glens Falls\, NY 12801\, USA
END:VEVENT
END:VCALENDAR