BEGIN:VCALENDAR
VERSION:2.0
PRODID:-//World Awareness Children&#039;s Museum - ECPv6.15.20//NONSGML v1.0//EN
CALSCALE:GREGORIAN
METHOD:PUBLISH
X-WR-CALNAME:World Awareness Children&#039;s Museum
X-ORIGINAL-URL:https://worldchildrensmuseum.org
X-WR-CALDESC:Events for World Awareness Children&#039;s Museum
REFRESH-INTERVAL;VALUE=DURATION:PT1H
X-Robots-Tag:noindex
X-PUBLISHED-TTL:PT1H
BEGIN:VTIMEZONE
TZID:America/New_York
BEGIN:DAYLIGHT
TZOFFSETFROM:-0500
TZOFFSETTO:-0400
TZNAME:EDT
DTSTART:20200308T070000
END:DAYLIGHT
BEGIN:STANDARD
TZOFFSETFROM:-0400
TZOFFSETTO:-0500
TZNAME:EST
DTSTART:20201101T060000
END:STANDARD
BEGIN:DAYLIGHT
TZOFFSETFROM:-0500
TZOFFSETTO:-0400
TZNAME:EDT
DTSTART:20210314T070000
END:DAYLIGHT
BEGIN:STANDARD
TZOFFSETFROM:-0400
TZOFFSETTO:-0500
TZNAME:EST
DTSTART:20211107T060000
END:STANDARD
BEGIN:DAYLIGHT
TZOFFSETFROM:-0500
TZOFFSETTO:-0400
TZNAME:EDT
DTSTART:20220313T070000
END:DAYLIGHT
BEGIN:STANDARD
TZOFFSETFROM:-0400
TZOFFSETTO:-0500
TZNAME:EST
DTSTART:20221106T060000
END:STANDARD
END:VTIMEZONE
BEGIN:VEVENT
DTSTART;TZID=America/New_York:20210811T103000
DTEND;TZID=America/New_York:20210811T113000
DTSTAMP:20260419T114234
CREATED:20210723T142746Z
LAST-MODIFIED:20210810T154034Z
UID:10001409-1628677800-1628681400@worldchildrensmuseum.org
SUMMARY:Little Ones Yoga
DESCRIPTION:Guest instructor Neha Golwala leads an age-inclusive yoga class! This program is open to children of all ages. \n  Cost: Free with admission
URL:https://worldchildrensmuseum.org/events/little-ones-yoga-3/
LOCATION:NY
END:VEVENT
BEGIN:VEVENT
DTSTART;TZID=America/New_York:20210811T100000
DTEND;TZID=America/New_York:20210811T150000
DTSTAMP:20260419T114234
CREATED:20210721T142514Z
LAST-MODIFIED:20210811T155540Z
UID:10001402-1628676000-1628694000@worldchildrensmuseum.org
SUMMARY:Open for General Admission
DESCRIPTION:Pre-registration is encouraged: wacm.ticketleap.com/admission \nAdmission Costs:Members: FreeNot-Yet-Members: $5 per person\, children under 3 are free.Please visit our website for more information on admission: https://worldchildrensmuseum.org/for-visitors/ \nMasks are required for all visitors ages 3 and up\, regardless of vaccination status. 
URL:https://worldchildrensmuseum.org/events/open-for-general-admission-26/
LOCATION:World Awareness Children’s Museum\, 89 Warren St\, Glens Falls\, NY 12801\, USA
END:VEVENT
BEGIN:VEVENT
DTSTART;TZID=America/New_York:20210810T103000
DTEND;TZID=America/New_York:20210810T113000
DTSTAMP:20260419T114234
CREATED:20210723T142745Z
LAST-MODIFIED:20210809T154023Z
UID:10001407-1628591400-1628595000@worldchildrensmuseum.org
SUMMARY:Sponge Paint Peacock Craft
DESCRIPTION:Join us as we use sponges and bold colors to paint a peacock\, the national bird of India! \nCost: Free with admission
URL:https://worldchildrensmuseum.org/events/sponge-paint-peacock-craft/
LOCATION:NY
END:VEVENT
BEGIN:VEVENT
DTSTART;TZID=America/New_York:20210810T100000
DTEND;TZID=America/New_York:20210810T150000
DTSTAMP:20260419T114234
CREATED:20210721T142514Z
LAST-MODIFIED:20210810T154034Z
UID:10001481-1628589600-1628607600@worldchildrensmuseum.org
SUMMARY:Open for General Admission
DESCRIPTION:Pre-registration is encouraged: wacm.ticketleap.com/admission \nAdmission Costs:Members: FreeNot-Yet-Members: $5 per person\, children under 3 are free.Please visit our website for more information on admission: https://worldchildrensmuseum.org/for-visitors/ \nMasks are required for all visitors ages 3 and up\, regardless of vaccination status. 
URL:https://worldchildrensmuseum.org/events/open-for-general-admission-25/
LOCATION:World Awareness Children’s Museum\, 89 Warren St\, Glens Falls\, NY 12801\, USA
END:VEVENT
BEGIN:VEVENT
DTSTART;TZID=America/New_York:20210809T100000
DTEND;TZID=America/New_York:20210809T150000
DTSTAMP:20260419T114234
CREATED:20210710T142521Z
LAST-MODIFIED:20210809T154023Z
UID:10001464-1628503200-1628521200@worldchildrensmuseum.org
SUMMARY:Open for General Admission
DESCRIPTION:Pre-registration is encouraged: wacm.ticketleap.com/admission \nAdmission Costs:Members: FreeNot-Yet-Members: $5 per person\, children under 3 are free.Please visit our website for more information on admission: https://worldchildrensmuseum.org/for-visitors/ \nMasks are required for all visitors ages 3 and up\, regardless of vaccination status. 
URL:https://worldchildrensmuseum.org/events/open-for-general-admission-16/
LOCATION:World Awareness Children’s Museum\, 89 Warren St\, Glens Falls\, NY 12801\, USA
END:VEVENT
BEGIN:VEVENT
DTSTART;TZID=America/New_York:20210808T100000
DTEND;TZID=America/New_York:20210808T150000
DTSTAMP:20260419T114234
CREATED:20210709T141346Z
LAST-MODIFIED:20210808T154033Z
UID:10001463-1628416800-1628434800@worldchildrensmuseum.org
SUMMARY:Open for General Admission
DESCRIPTION:Pre-registration is encouraged: wacm.ticketleap.com/admission \nAdmission Costs:Members: FreeNot-Yet-Members: $5 per person\, children under 3 are free.Please visit our website for more information on admission: https://worldchildrensmuseum.org/for-visitors/ \nMasks are required for all visitors ages 3 and up\, regardless of vaccination status. 
URL:https://worldchildrensmuseum.org/events/open-for-general-admission-15/
LOCATION:World Awareness Children’s Museum\, 89 Warren St\, Glens Falls\, NY 12801\, USA
END:VEVENT
BEGIN:VEVENT
DTSTART;TZID=America/New_York:20210807T100000
DTEND;TZID=America/New_York:20210807T150000
DTSTAMP:20260419T114234
CREATED:20210708T141058Z
LAST-MODIFIED:20210807T154037Z
UID:10001462-1628330400-1628348400@worldchildrensmuseum.org
SUMMARY:Open for General Admission
DESCRIPTION:Pre-registration is encouraged: wacm.ticketleap.com/admission \nAdmission Costs:Members: FreeNot-Yet-Members: $5 per person\, children under 3 are free.Please visit our website for more information on admission: https://worldchildrensmuseum.org/for-visitors/ \nMasks are required for all visitors ages 3 and up\, regardless of vaccination status. 
URL:https://worldchildrensmuseum.org/events/open-for-general-admission-14/
LOCATION:World Awareness Children’s Museum\, 89 Warren St\, Glens Falls\, NY 12801\, USA
END:VEVENT
BEGIN:VEVENT
DTSTART;TZID=America/New_York:20210806T103000
DTEND;TZID=America/New_York:20210806T113000
DTSTAMP:20260419T114234
CREATED:20210723T142745Z
LAST-MODIFIED:20210805T154015Z
UID:10001405-1628245800-1628249400@worldchildrensmuseum.org
SUMMARY:Olympics Torch Craft
DESCRIPTION:Did you know that the Olympic Torch is lit at a ceremony in Olympia\, Greece\, and then travels via relay to the host city! Today\, we’ll be making our own Olympic Torch. \nCost: Free with admission \n 
URL:https://worldchildrensmuseum.org/events/olympics-torch-craft/
LOCATION:NY
END:VEVENT
BEGIN:VEVENT
DTSTART;TZID=America/New_York:20210806T100000
DTEND;TZID=America/New_York:20210806T150000
DTSTAMP:20260419T114234
CREATED:20210707T141021Z
LAST-MODIFIED:20210806T154230Z
UID:10001461-1628244000-1628262000@worldchildrensmuseum.org
SUMMARY:Open for General Admission
DESCRIPTION:Pre-registration is encouraged: wacm.ticketleap.com/admission \nAdmission Costs:Members: FreeNot-Yet-Members: $5 per person\, children under 3 are free.Please visit our website for more information on admission: https://worldchildrensmuseum.org/for-visitors/ \nMasks are required for all visitors ages 3 and up\, regardless of vaccination status. 
URL:https://worldchildrensmuseum.org/events/open-for-general-admission-13/
LOCATION:World Awareness Children’s Museum\, 89 Warren St\, Glens Falls\, NY 12801\, USA
END:VEVENT
BEGIN:VEVENT
DTSTART;TZID=America/New_York:20210805T100000
DTEND;TZID=America/New_York:20210805T150000
DTSTAMP:20260419T114234
CREATED:20210706T135506Z
LAST-MODIFIED:20210720T142539Z
UID:10001459-1628157600-1628175600@worldchildrensmuseum.org
SUMMARY:Open for General Admission
DESCRIPTION:Pre-registration is encouraged: wacm.ticketleap.com/admission \nAdmission Costs:Members: FreeNot-Yet-Members: $5 per person\, children under 3 are free.Please visit our website for more information on admission: https://worldchildrensmuseum.org/for-visitors/ \nMasks are required for all visitors ages 3 and up\, regardless of vaccination status. 
URL:https://worldchildrensmuseum.org/events/open-for-general-admission-12/
LOCATION:World Awareness Children’s Museum\, 89 Warren St\, Glens Falls\, NY 12801\, USA
END:VEVENT
BEGIN:VEVENT
DTSTART;TZID=America/New_York:20210804T103000
DTEND;TZID=America/New_York:20210804T113000
DTSTAMP:20260419T114234
CREATED:20210723T142745Z
LAST-MODIFIED:20210803T152506Z
UID:10001404-1628073000-1628076600@worldchildrensmuseum.org
SUMMARY:Laurel Wreath Craft
DESCRIPTION:Did you know that laurel wreaths were given to ancient Greek Olympians when they won? Today\, we’ll be making paper laurel wreaths to wear in celebration of the Tokyo Olympics! \nCost: Free with admission
URL:https://worldchildrensmuseum.org/events/laurel-wreath-craft/
LOCATION:NY
END:VEVENT
BEGIN:VEVENT
DTSTART;TZID=America/New_York:20210804T100000
DTEND;TZID=America/New_York:20210804T150000
DTSTAMP:20260419T114234
CREATED:20210721T142511Z
LAST-MODIFIED:20210804T154145Z
UID:10001467-1628071200-1628089200@worldchildrensmuseum.org
SUMMARY:Open for General Admission
DESCRIPTION:Pre-registration is encouraged: wacm.ticketleap.com/admission \nAdmission Costs:Members: FreeNot-Yet-Members: $5 per person\, children under 3 are free.Please visit our website for more information on admission: https://worldchildrensmuseum.org/for-visitors/ \nMasks are required for all visitors ages 3 and up\, regardless of vaccination status. 
URL:https://worldchildrensmuseum.org/events/open-for-general-admission-24/
LOCATION:World Awareness Children’s Museum\, 89 Warren St\, Glens Falls\, NY 12801\, USA
END:VEVENT
BEGIN:VEVENT
DTSTART;TZID=America/New_York:20210803T100000
DTEND;TZID=America/New_York:20210803T150000
DTSTAMP:20260419T114234
CREATED:20210721T142511Z
LAST-MODIFIED:20210803T152506Z
UID:10001466-1627984800-1628002800@worldchildrensmuseum.org
SUMMARY:Open for General Admission
DESCRIPTION:Pre-registration is encouraged: wacm.ticketleap.com/admission \nAdmission Costs:Members: FreeNot-Yet-Members: $5 per person\, children under 3 are free.Please visit our website for more information on admission: https://worldchildrensmuseum.org/for-visitors/ \nMasks are required for all visitors ages 3 and up\, regardless of vaccination status. 
URL:https://worldchildrensmuseum.org/events/open-for-general-admission-23/
LOCATION:World Awareness Children’s Museum\, 89 Warren St\, Glens Falls\, NY 12801\, USA
END:VEVENT
BEGIN:VEVENT
DTSTART;TZID=America/New_York:20210802T103000
DTEND;TZID=America/New_York:20210802T113000
DTSTAMP:20260419T114234
CREATED:20210723T142733Z
LAST-MODIFIED:20210802T152532Z
UID:10001403-1627900200-1627903800@worldchildrensmuseum.org
SUMMARY:Olympics Rings Painting Craft
DESCRIPTION:Did you know that the colors of the Olympics rings were chosen to include colors found on every competing nation’s flag! To celebrate the Olympics\, we’ll be making abstract rings art.  \nCost: Free with admission
URL:https://worldchildrensmuseum.org/events/olympics-rings-painting-craft/
LOCATION:NY
END:VEVENT
BEGIN:VEVENT
DTSTART;TZID=America/New_York:20210802T100000
DTEND;TZID=America/New_York:20210802T150000
DTSTAMP:20260419T114234
CREATED:20210703T134040Z
LAST-MODIFIED:20210802T152533Z
UID:10001457-1627898400-1627916400@worldchildrensmuseum.org
SUMMARY:Open for General Admission
DESCRIPTION:Pre-registration is encouraged: wacm.ticketleap.com/admission \nAdmission Costs:Members: FreeNot-Yet-Members: $5 per person\, children under 3 are free.Please visit our website for more information on admission: https://worldchildrensmuseum.org/for-visitors/ \nMasks are required for all visitors ages 3 and up\, regardless of vaccination status. 
URL:https://worldchildrensmuseum.org/events/open-for-general-admission-11/
LOCATION:World Awareness Children’s Museum\, 89 Warren St\, Glens Falls\, NY 12801\, USA
END:VEVENT
BEGIN:VEVENT
DTSTART;TZID=America/New_York:20210801T100000
DTEND;TZID=America/New_York:20210801T150000
DTSTAMP:20260419T114234
CREATED:20210702T134009Z
LAST-MODIFIED:20210801T151130Z
UID:10001455-1627812000-1627830000@worldchildrensmuseum.org
SUMMARY:Open for General Admission
DESCRIPTION:Pre-registration is encouraged: wacm.ticketleap.com/admission \nAdmission Costs:Members: FreeNot-Yet-Members: $5 per person\, children under 3 are free.Please visit our website for more information on admission: https://worldchildrensmuseum.org/for-visitors/ \nMasks are required for all visitors ages 3 and up\, regardless of vaccination status. 
URL:https://worldchildrensmuseum.org/events/open-for-general-admission-10/
LOCATION:World Awareness Children’s Museum\, 89 Warren St\, Glens Falls\, NY 12801\, USA
END:VEVENT
BEGIN:VEVENT
DTSTART;TZID=America/New_York:20210731T100000
DTEND;TZID=America/New_York:20210731T150000
DTSTAMP:20260419T114234
CREATED:20210701T132902Z
LAST-MODIFIED:20210731T151059Z
UID:10001468-1627725600-1627743600@worldchildrensmuseum.org
SUMMARY:Open for General Admission
DESCRIPTION:Pre-registration is encouraged: wacm.ticketleap.com/admission \nAdmission Costs:Members: FreeNot-Yet-Members: $5 per person\, children under 3 are free.Please visit our website for more information on admission: https://worldchildrensmuseum.org/for-visitors/ \nMasks are required for all visitors ages 3 and up\, regardless of vaccination status. 
URL:https://worldchildrensmuseum.org/events/open-for-general-admission-9/
LOCATION:World Awareness Children’s Museum\, 89 Warren St\, Glens Falls\, NY 12801\, USA
END:VEVENT
BEGIN:VEVENT
DTSTART;VALUE=DATE:20210726
DTEND;VALUE=DATE:20210731
DTSTAMP:20260419T114234
CREATED:20210626T131058Z
LAST-MODIFIED:20210730T145605Z
UID:10001469-1627257600-1627689599@worldchildrensmuseum.org
SUMMARY:Super Secret Spy Camp
DESCRIPTION:Super Secret Spy Camp July 26-30\, 3rd Grade & Up: \nThis week\, children will solve the “mystery of the stolen masterpiece” and look for clues all around the world to help catch the culprit. Whodunit? That’s up to them to find out! \nRegister at wacm.ticketleap.com \nCost:Members: $175/child per weekNot-Yet-Members: $225/child per week \nBefore Care: 8am-10am\, $55/child per weekAfter Care: 3pm-5pm\, $55/child per week
URL:https://worldchildrensmuseum.org/events/super-secret-spy-camp/
LOCATION:3rd
END:VEVENT
BEGIN:VEVENT
DTSTART;TZID=America/New_York:20210725T100000
DTEND;TZID=America/New_York:20210725T150000
DTSTAMP:20260419T114234
CREATED:20210625T130955Z
LAST-MODIFIED:20210725T144015Z
UID:10001470-1627207200-1627225200@worldchildrensmuseum.org
SUMMARY:Open for General Admission
DESCRIPTION:Pre-registration is encouraged: wacm.ticketleap.com/admission \nAdmission Costs:Members: FreeNot-Yet-Members: $5 per person\, children under 3 are free.Please visit our website for more information on admission: https://worldchildrensmuseum.org/for-visitors/ \nMasks are required for all visitors ages 3 and up\, regardless of vaccination status. 
URL:https://worldchildrensmuseum.org/events/open-for-general-admission-8/
LOCATION:World Awareness Children’s Museum\, 89 Warren St\, Glens Falls\, NY 12801\, USA
END:VEVENT
BEGIN:VEVENT
DTSTART;TZID=America/New_York:20210724T100000
DTEND;TZID=America/New_York:20210724T150000
DTSTAMP:20260419T114234
CREATED:20210625T130955Z
LAST-MODIFIED:20210724T142855Z
UID:10001480-1627120800-1627138800@worldchildrensmuseum.org
SUMMARY:Open for General Admission
DESCRIPTION:Pre-registration is encouraged: wacm.ticketleap.com/admission \nAdmission Costs:Members: FreeNot-Yet-Members: $5 per person\, children under 3 are free.Please visit our website for more information on admission: https://worldchildrensmuseum.org/for-visitors/ \nMasks are required for all visitors ages 3 and up\, regardless of vaccination status. 
URL:https://worldchildrensmuseum.org/events/open-for-general-admission-6/
LOCATION:World Awareness Children’s Museum\, 89 Warren St\, Glens Falls\, NY 12801\, USA
END:VEVENT
BEGIN:VEVENT
DTSTART;VALUE=DATE:20210719
DTEND;VALUE=DATE:20210724
DTSTAMP:20260419T114234
CREATED:20210625T130954Z
LAST-MODIFIED:20210723T142744Z
UID:10001479-1626652800-1627084799@worldchildrensmuseum.org
SUMMARY:Around the World Camp
DESCRIPTION:Around the World Camp July 19-23\, 1st Grade – 3rd Grade: \nImagine if “Around the World in 80 Days” took only 5 days! Children will learn about one country each day and look for clues to find their way back to the USA. \nRegister at wacm.ticketleap.com \nCost:Members: $175/child per weekNot-Yet-Members: $225/child per week \nBefore Care: 8am-10am\, $55/child per weekAfter Care: 3pm-5pm\, $55/child per week
URL:https://worldchildrensmuseum.org/events/around-the-world-camp/
LOCATION:NY
END:VEVENT
BEGIN:VEVENT
DTSTART;TZID=America/New_York:20210718T100000
DTEND;TZID=America/New_York:20210718T150000
DTSTAMP:20260419T114234
CREATED:20210625T130954Z
LAST-MODIFIED:20210712T181858Z
UID:10001478-1626602400-1626620400@worldchildrensmuseum.org
SUMMARY:Open for General Admission
DESCRIPTION:Admission is free all day\, thanks in part to Stewart's Holiday Match! \nMasks are required for all visitors ages 3 and up\, regardless of vaccination status.  \nPre-registration is encouraged: wacm.ticketleap.com/admission  \n 
URL:https://worldchildrensmuseum.org/events/open-for-general-admission-4/
LOCATION:NY
END:VEVENT
BEGIN:VEVENT
DTSTART;TZID=America/New_York:20210717T100000
DTEND;TZID=America/New_York:20210717T150000
DTSTAMP:20260419T114234
CREATED:20210625T130954Z
LAST-MODIFIED:20210717T142555Z
UID:10001477-1626516000-1626534000@worldchildrensmuseum.org
SUMMARY:Open for General Admission
DESCRIPTION:Admission is free all day\, thanks in part to Stewart's Holiday Match! \nMasks are required for all visitors ages 3 and up\, regardless of vaccination status.  \nPre-registration is encouraged: wacm.ticketleap.com/admission  \n 
URL:https://worldchildrensmuseum.org/events/open-for-general-admission-2/
LOCATION:NY
END:VEVENT
BEGIN:VEVENT
DTSTART;VALUE=DATE:20210712
DTEND;VALUE=DATE:20210717
DTSTAMP:20260419T114234
CREATED:20210625T130954Z
LAST-MODIFIED:20210716T142544Z
UID:10001476-1626048000-1626479999@worldchildrensmuseum.org
SUMMARY:Under the Sea Camp
DESCRIPTION:Under the Sea Camp July 12-16\, Pre-K & Kindergarten: \nThis week\, children will explore animals that live in Earth’s oceans\, learn about how they can help conserve water and make a craft each day. \nRegister at wacm.ticketleap.com \nCost:Members: $175/child per weekNot-Yet-Members: $225/child per week \nBefore Care: 8am-10am\, $55/child per weekAfter Care: 3pm-5pm\, $55/child per week
URL:https://worldchildrensmuseum.org/events/under-the-sea-camp/
LOCATION:NY
END:VEVENT
BEGIN:VEVENT
DTSTART;TZID=America/New_York:20210630T110000
DTEND;TZID=America/New_York:20210630T120000
DTSTAMP:20260419T114234
CREATED:20210531T062554Z
LAST-MODIFIED:20210630T132606Z
UID:10001475-1625050800-1625054400@worldchildrensmuseum.org
SUMMARY:Little Ones Yoga
DESCRIPTION:Guest instructor Neha Golwala leads an age-inclusive yoga class! This program is open to children of all ages.\nCost: $6 per child\, $3 per adult. (Members get a $2 discount!)\nVisit https://wacm.ticketleap.com/t/GCWACM/ to register!
URL:https://worldchildrensmuseum.org/events/little-ones-yoga-2/
LOCATION:NY
END:VEVENT
BEGIN:VEVENT
DTSTART;TZID=America/New_York:20210625T103000
DTEND;TZID=America/New_York:20210625T113000
DTSTAMP:20260419T114234
CREATED:20210528T061243Z
LAST-MODIFIED:20210625T130953Z
UID:10001474-1624617000-1624620600@worldchildrensmuseum.org
SUMMARY:Storytime Friday: The Secret Life of Squirrels
DESCRIPTION:Everyone is welcome at our recurring program\, Storytime Fridays! This program is appropriate for all ages and includes a story and craft. Cost: $6 per child\, $3 per adult. Members get $2 off! Visit https://wacm.ticketleap.com/t/GCWACM/ to reserve your spot.
URL:https://worldchildrensmuseum.org/events/storytime-friday-the-secret-life-of-squirrels-2/
LOCATION:World Awareness Children’s Museum\, 89 Warren Street\, Glens Falls\, NY 12801
END:VEVENT
BEGIN:VEVENT
DTSTART;TZID=America/New_York:20210623T103000
DTEND;TZID=America/New_York:20210623T113000
DTSTAMP:20260419T114234
CREATED:20210528T061231Z
LAST-MODIFIED:20210623T125604Z
UID:10001473-1624444200-1624447800@worldchildrensmuseum.org
SUMMARY:Finger Painting with Friends
DESCRIPTION:Get your hands dirty at our finger painting workshop! We’ll learn about nature and make our own finger-painted scenes! \nCost: $6 per child\, $3 per adult. Members get $2 off! \nVisit https://wacm.ticketleap.com/t/GCWACM/ to reserve your spot. 
URL:https://worldchildrensmuseum.org/events/finger-painting-with-friends-4/
LOCATION:World Awareness Children’s Museum\, 89 Warren Street\, Glens Falls\, NY 12801
END:VEVENT
BEGIN:VEVENT
DTSTART;TZID=America/New_York:20210621T103000
DTEND;TZID=America/New_York:20210621T113000
DTSTAMP:20260419T114234
CREATED:20210528T061231Z
LAST-MODIFIED:20210621T123013Z
UID:10001472-1624271400-1624275000@worldchildrensmuseum.org
SUMMARY:Slime Lab
DESCRIPTION:Become a Slime Scientist! This program is appropriate for all ages\, and each child will take home their own slime creation. Cost: $6 per child\, $3 per adult. Members get $2 off! Visit https://wacm.ticketleap.com/t/GCWACM/ to reserve your spot.
URL:https://worldchildrensmuseum.org/events/slime-lab-2/
LOCATION:World Awareness Children’s Museum\, 89 Warren Street\, Glens Falls\, NY 12801
END:VEVENT
BEGIN:VEVENT
DTSTART;TZID=America/New_York:20210618T103000
DTEND;TZID=America/New_York:20210618T113000
DTSTAMP:20260419T114234
CREATED:20210528T061231Z
LAST-MODIFIED:20210617T121058Z
UID:10001471-1624012200-1624015800@worldchildrensmuseum.org
SUMMARY:Storytime Friday: Bear Sees Colors
DESCRIPTION:Everyone is welcome at our recurring program\, Storytime Fridays! This program is appropriate for all ages and includes a story and craft. Cost: $6 per child\, $3 per adult. Members get $2 off! Visit https://wacm.ticketleap.com/t/GCWACM/  to reserve your spot.
URL:https://worldchildrensmuseum.org/events/storytime-friday-bear-sees-colors-2/
LOCATION:World Awareness Children’s Museum\, 89 Warren Street\, Glens Falls\, NY 12801
END:VEVENT
BEGIN:VEVENT
DTSTART;TZID=America/New_York:20210616T103000
DTEND;TZID=America/New_York:20210616T113000
DTSTAMP:20260419T114234
CREATED:20210528T061231Z
LAST-MODIFIED:20210616T120951Z
UID:10001453-1623839400-1623843000@worldchildrensmuseum.org
SUMMARY:Dragon Boat Festival Craft
DESCRIPTION:Today we’ll be learning about the Taiwanese Dragon Boat Festival and making our own paper dragon boats!  Cost: $6 per child\, $3 per adult. Members get $2 off! Visit https://wacm.ticketleap.com/t/GCWACM/   to reserve your spot.
URL:https://worldchildrensmuseum.org/events/dragon-boat-festival-craft/
LOCATION:World Awareness Children’s Museum\, 89 Warren Street\, Glens Falls\, NY 12801
END:VEVENT
END:VCALENDAR