BEGIN:VCALENDAR
VERSION:2.0
PRODID:-//World Awareness Children&#039;s Museum - ECPv6.15.20//NONSGML v1.0//EN
CALSCALE:GREGORIAN
METHOD:PUBLISH
X-ORIGINAL-URL:https://worldchildrensmuseum.org
X-WR-CALDESC:Events for World Awareness Children&#039;s Museum
REFRESH-INTERVAL;VALUE=DURATION:PT1H
X-Robots-Tag:noindex
X-PUBLISHED-TTL:PT1H
BEGIN:VTIMEZONE
TZID:America/New_York
BEGIN:DAYLIGHT
TZOFFSETFROM:-0500
TZOFFSETTO:-0400
TZNAME:EDT
DTSTART:20250309T070000
END:DAYLIGHT
BEGIN:STANDARD
TZOFFSETFROM:-0400
TZOFFSETTO:-0500
TZNAME:EST
DTSTART:20251102T060000
END:STANDARD
BEGIN:DAYLIGHT
TZOFFSETFROM:-0500
TZOFFSETTO:-0400
TZNAME:EDT
DTSTART:20260308T070000
END:DAYLIGHT
BEGIN:STANDARD
TZOFFSETFROM:-0400
TZOFFSETTO:-0500
TZNAME:EST
DTSTART:20261101T060000
END:STANDARD
BEGIN:DAYLIGHT
TZOFFSETFROM:-0500
TZOFFSETTO:-0400
TZNAME:EDT
DTSTART:20270314T070000
END:DAYLIGHT
BEGIN:STANDARD
TZOFFSETFROM:-0400
TZOFFSETTO:-0500
TZNAME:EST
DTSTART:20271107T060000
END:STANDARD
END:VTIMEZONE
BEGIN:VEVENT
DTSTART;TZID=America/New_York:20260226T120000
DTEND;TZID=America/New_York:20260226T130000
DTSTAMP:20260419T114254
CREATED:20260123T215432Z
LAST-MODIFIED:20260220T223919Z
UID:10006469-1772107200-1772110800@worldchildrensmuseum.org
SUMMARY:Kinder Krafts!
DESCRIPTION:Start the morning with one of our most popular programs\, Kinder Rhythm\, then stay for some creative krafting fun for preschoolers! Create simple art projects designed for little hands and big imaginations.  Cost: Free with admission.
URL:https://worldchildrensmuseum.org/events/kinder-krafts-10/
LOCATION:NY
END:VEVENT
BEGIN:VEVENT
DTSTART;TZID=America/New_York:20260227T100000
DTEND;TZID=America/New_York:20260227T150000
DTSTAMP:20260419T114254
CREATED:20250214T193949Z
LAST-MODIFIED:20250619T190926Z
UID:10004335-1772186400-1772204400@worldchildrensmuseum.org
SUMMARY:Open for General Admission
DESCRIPTION:Tickets can be purchased online at https://wacm.ticketleap.com/museum-admission-2024/Admission Costs:Members: FreeNot-Yet-Members: $7 per person\, children under 12mo. are free.Please visit our website for more information on admission: https://worldchildrensmuseum.org/for-visitors/
URL:https://worldchildrensmuseum.org/events/open-for-general-admission-2196/
LOCATION:World Awareness Children’s Museum\, 89 Warren St\, Glens Falls\, NY\, United States
GEO:43.310029;-73.639958
X-APPLE-STRUCTURED-LOCATION;VALUE=URI;X-ADDRESS=World Awareness Children’s Museum 89 Warren St Glens Falls NY United States;X-APPLE-RADIUS=500;X-TITLE=89 Warren St:geo:-73.639958,43.310029
END:VEVENT
BEGIN:VEVENT
DTSTART;TZID=America/New_York:20260227T103000
DTEND;TZID=America/New_York:20260227T113000
DTSTAMP:20260419T114254
CREATED:20260123T215432Z
LAST-MODIFIED:20260220T223919Z
UID:10006470-1772188200-1772191800@worldchildrensmuseum.org
SUMMARY:Storytime Friday AM
DESCRIPTION:Everyone is welcome at Storytime Fridays\, a recurring program designed to spark joy and curiosity in little ones!  \nEach week\, we explore early literacy skills through movement\, imaginative play\, and a creative craft that brings the story to life. Perfect for toddlers\, preschoolers\, and their caregivers. \nCost: Free with Admission
URL:https://worldchildrensmuseum.org/events/storytime-friday-am-7/
LOCATION:World Awareness Children’s Museum\, 89 Warren St\, Glens Falls\, NY\, United States
GEO:43.310029;-73.639958
X-APPLE-STRUCTURED-LOCATION;VALUE=URI;X-ADDRESS=World Awareness Children’s Museum 89 Warren St Glens Falls NY United States;X-APPLE-RADIUS=500;X-TITLE=89 Warren St:geo:-73.639958,43.310029
END:VEVENT
BEGIN:VEVENT
DTSTART;TZID=America/New_York:20260227T120000
DTEND;TZID=America/New_York:20260227T130000
DTSTAMP:20260419T114254
CREATED:20260123T215433Z
LAST-MODIFIED:20260220T223919Z
UID:10006471-1772193600-1772197200@worldchildrensmuseum.org
SUMMARY:Handprint Friends
DESCRIPTION:Create your own unique “friend” each week using your very own handprint! Perfect for children ages 2 and up\, this fun and creative series lets little artists bring home a new handmade friend every Friday. \nCost: Free with admission
URL:https://worldchildrensmuseum.org/events/handprint-friends-10/
LOCATION:World Awareness Children’s Museum\, 89 Warren St\, Glens Falls\, NY\, United States
GEO:43.310029;-73.639958
X-APPLE-STRUCTURED-LOCATION;VALUE=URI;X-ADDRESS=World Awareness Children’s Museum 89 Warren St Glens Falls NY United States;X-APPLE-RADIUS=500;X-TITLE=89 Warren St:geo:-73.639958,43.310029
END:VEVENT
BEGIN:VEVENT
DTSTART;TZID=America/New_York:20260227T133000
DTEND;TZID=America/New_York:20260227T143000
DTSTAMP:20260419T114254
CREATED:20260123T215433Z
LAST-MODIFIED:20260220T223919Z
UID:10006472-1772199000-1772202600@worldchildrensmuseum.org
SUMMARY:Storytime Friday PM
DESCRIPTION:Everyone is welcome at Storytime Fridays\, a recurring program designed to spark joy and curiosity in little ones!  \nEach week\, we explore early literacy skills through movement\, imaginative play\, and a creative craft that brings the story to life. Perfect for toddlers\, preschoolers\, and their caregivers. \nCost: Free with Admission
URL:https://worldchildrensmuseum.org/events/storytime-friday-pm-7/
LOCATION:World Awareness Children’s Museum\, 89 Warren St\, Glens Falls\, NY\, United States
GEO:43.310029;-73.639958
X-APPLE-STRUCTURED-LOCATION;VALUE=URI;X-ADDRESS=World Awareness Children’s Museum 89 Warren St Glens Falls NY United States;X-APPLE-RADIUS=500;X-TITLE=89 Warren St:geo:-73.639958,43.310029
END:VEVENT
BEGIN:VEVENT
DTSTART;TZID=America/New_York:20260228T100000
DTEND;TZID=America/New_York:20260228T150000
DTSTAMP:20260419T114254
CREATED:20250214T202434Z
LAST-MODIFIED:20250619T190926Z
UID:10004336-1772272800-1772290800@worldchildrensmuseum.org
SUMMARY:Open for General Admission
DESCRIPTION:Tickets can be purchased online at https://wacm.ticketleap.com/museum-admission-2024/Admission Costs:Members: FreeNot-Yet-Members: $7 per person\, children under 12mo. are free.Please visit our website for more information on admission: https://worldchildrensmuseum.org/for-visitors/
URL:https://worldchildrensmuseum.org/events/open-for-general-admission-2197/
LOCATION:World Awareness Children’s Museum\, 89 Warren St\, Glens Falls\, NY\, United States
GEO:43.310029;-73.639958
X-APPLE-STRUCTURED-LOCATION;VALUE=URI;X-ADDRESS=World Awareness Children’s Museum 89 Warren St Glens Falls NY United States;X-APPLE-RADIUS=500;X-TITLE=89 Warren St:geo:-73.639958,43.310029
END:VEVENT
BEGIN:VEVENT
DTSTART;TZID=America/New_York:20260228T103000
DTEND;TZID=America/New_York:20260228T113000
DTSTAMP:20260419T114254
CREATED:20250623T195438Z
LAST-MODIFIED:20260227T223933Z
UID:10004850-1772274600-1772278200@worldchildrensmuseum.org
SUMMARY:Storytime Saturday
DESCRIPTION:Join us for a playful weekend storytime designed for families who can’t make it to our Friday sessions! Each month\, enjoy stories\, songs\, and hands-on crafts that bring the themes to life—all in a fun\, welcoming space for little ones and their grown-ups. \nStorytime supports early literacy\, creativity\, and connection. \nCost: Free with admission
URL:https://worldchildrensmuseum.org/events/storytime-saturday-18/
LOCATION:NY
END:VEVENT
BEGIN:VEVENT
DTSTART;TZID=America/New_York:20260228T133000
DTEND;TZID=America/New_York:20260228T143000
DTSTAMP:20260419T114254
CREATED:20250623T195438Z
LAST-MODIFIED:20260227T223934Z
UID:10004849-1772285400-1772289000@worldchildrensmuseum.org
SUMMARY:Storytime Saturday
DESCRIPTION:Join us for a playful weekend storytime designed for families who can’t make it to our Friday sessions! Each month\, enjoy stories\, songs\, and hands-on crafts that bring the themes to life—all in a fun\, welcoming space for little ones and their grown-ups. \nStorytime supports early literacy\, creativity\, and connection. \nCost: Free with admission
URL:https://worldchildrensmuseum.org/events/storytime-saturday-17/
LOCATION:NY
END:VEVENT
BEGIN:VEVENT
DTSTART;TZID=America/New_York:20260301T100000
DTEND;TZID=America/New_York:20260301T150000
DTSTAMP:20260419T114254
CREATED:20250215T170927Z
LAST-MODIFIED:20250619T190926Z
UID:10004337-1772359200-1772377200@worldchildrensmuseum.org
SUMMARY:Open for General Admission
DESCRIPTION:Tickets can be purchased online at https://wacm.ticketleap.com/museum-admission-2024/Admission Costs:Members: FreeNot-Yet-Members: $7 per person\, children under 12mo. are free.Please visit our website for more information on admission: https://worldchildrensmuseum.org/for-visitors/
URL:https://worldchildrensmuseum.org/events/open-for-general-admission-2198/
LOCATION:World Awareness Children’s Museum\, 89 Warren St\, Glens Falls\, NY\, United States
GEO:43.310029;-73.639958
X-APPLE-STRUCTURED-LOCATION;VALUE=URI;X-ADDRESS=World Awareness Children’s Museum 89 Warren St Glens Falls NY United States;X-APPLE-RADIUS=500;X-TITLE=89 Warren St:geo:-73.639958,43.310029
END:VEVENT
BEGIN:VEVENT
DTSTART;TZID=America/New_York:20260302T100000
DTEND;TZID=America/New_York:20260302T150000
DTSTAMP:20260419T114254
CREATED:20250215T200917Z
LAST-MODIFIED:20250619T190926Z
UID:10004338-1772445600-1772463600@worldchildrensmuseum.org
SUMMARY:Open for General Admission
DESCRIPTION:Tickets can be purchased online at https://wacm.ticketleap.com/museum-admission-2024/Admission Costs:Members: FreeNot-Yet-Members: $7 per person\, children under 12mo. are free.Please visit our website for more information on admission: https://worldchildrensmuseum.org/for-visitors/
URL:https://worldchildrensmuseum.org/events/open-for-general-admission-2199/
LOCATION:World Awareness Children’s Museum\, 89 Warren St\, Glens Falls\, NY\, United States
GEO:43.310029;-73.639958
X-APPLE-STRUCTURED-LOCATION;VALUE=URI;X-ADDRESS=World Awareness Children’s Museum 89 Warren St Glens Falls NY United States;X-APPLE-RADIUS=500;X-TITLE=89 Warren St:geo:-73.639958,43.310029
END:VEVENT
BEGIN:VEVENT
DTSTART;TZID=America/New_York:20260302T103000
DTEND;TZID=America/New_York:20260302T113000
DTSTAMP:20260419T114254
CREATED:20260220T223921Z
LAST-MODIFIED:20260227T223935Z
UID:10006512-1772447400-1772451000@worldchildrensmuseum.org
SUMMARY:Holi Colors Sensory Fun for Preschoolers!
DESCRIPTION:Celebrate the colors of Holi through hands-on sensory play!  \nPreschoolers can scoop\, pour\, sort\, and explore bright colors inspired by this joyful spring festival\, building fine motor skills and early color recognition. \nCost: Free with admission  
URL:https://worldchildrensmuseum.org/events/holi-colors-sensory-fun-for-preschoolers/
LOCATION:World Awareness Children’s Museum\, 89 Warren St\, Glens Falls\, NY\, United States
GEO:43.310029;-73.639958
X-APPLE-STRUCTURED-LOCATION;VALUE=URI;X-ADDRESS=World Awareness Children’s Museum 89 Warren St Glens Falls NY United States;X-APPLE-RADIUS=500;X-TITLE=89 Warren St:geo:-73.639958,43.310029
END:VEVENT
BEGIN:VEVENT
DTSTART;TZID=America/New_York:20260305T100000
DTEND;TZID=America/New_York:20260305T150000
DTSTAMP:20260419T114254
CREATED:20250216T173916Z
LAST-MODIFIED:20250619T190927Z
UID:10004339-1772704800-1772722800@worldchildrensmuseum.org
SUMMARY:Open for General Admission
DESCRIPTION:Tickets can be purchased online at https://wacm.ticketleap.com/museum-admission-2024/Admission Costs:Members: FreeNot-Yet-Members: $7 per person\, children under 12mo. are free.Please visit our website for more information on admission: https://worldchildrensmuseum.org/for-visitors/
URL:https://worldchildrensmuseum.org/events/open-for-general-admission-2200/
LOCATION:World Awareness Children’s Museum\, 89 Warren St\, Glens Falls\, NY\, United States
GEO:43.310029;-73.639958
X-APPLE-STRUCTURED-LOCATION;VALUE=URI;X-ADDRESS=World Awareness Children’s Museum 89 Warren St Glens Falls NY United States;X-APPLE-RADIUS=500;X-TITLE=89 Warren St:geo:-73.639958,43.310029
END:VEVENT
BEGIN:VEVENT
DTSTART;TZID=America/New_York:20260305T120000
DTEND;TZID=America/New_York:20260305T130000
DTSTAMP:20260419T114254
CREATED:20260220T223922Z
LAST-MODIFIED:20260227T223935Z
UID:10006513-1772712000-1772715600@worldchildrensmuseum.org
SUMMARY:Kinder Krafts!
DESCRIPTION:Start the morning with one of our most popular programs\, Kinder Rhythm\, then stay for some creative krafting fun for preschoolers! Create simple art projects designed for little hands and big imaginations.  Cost: Free with admission.
URL:https://worldchildrensmuseum.org/events/kinder-krafts-11/
LOCATION:World Awareness Children’s Museum\, 89 Warren St\, Glens Falls\, NY\, United States
GEO:43.310029;-73.639958
X-APPLE-STRUCTURED-LOCATION;VALUE=URI;X-ADDRESS=World Awareness Children’s Museum 89 Warren St Glens Falls NY United States;X-APPLE-RADIUS=500;X-TITLE=89 Warren St:geo:-73.639958,43.310029
END:VEVENT
BEGIN:VEVENT
DTSTART;TZID=America/New_York:20260306T100000
DTEND;TZID=America/New_York:20260306T150000
DTSTAMP:20260419T114254
CREATED:20251024T183932Z
LAST-MODIFIED:20260227T223935Z
UID:10005919-1772791200-1772809200@worldchildrensmuseum.org
SUMMARY:Open for General Admission
DESCRIPTION:Tickets can be purchased online at https://wacm.ticketleap.com/admission-2025/Admission Costs:Members: FreeNot-Yet-Members: $7 per person\, children under 12mo. are free.Please visit our website for more information on admission: https://worldchildrensmuseum.org/for-visitors/
URL:https://worldchildrensmuseum.org/events/open-for-general-admission-697/
LOCATION:World Awareness Children’s Museum\, 89 Warren St\, Glens Falls\, NY\, United States
GEO:43.310029;-73.639958
X-APPLE-STRUCTURED-LOCATION;VALUE=URI;X-ADDRESS=World Awareness Children’s Museum 89 Warren St Glens Falls NY United States;X-APPLE-RADIUS=500;X-TITLE=89 Warren St:geo:-73.639958,43.310029
END:VEVENT
BEGIN:VEVENT
DTSTART;TZID=America/New_York:20260306T103000
DTEND;TZID=America/New_York:20260306T113000
DTSTAMP:20260419T114254
CREATED:20260220T223922Z
LAST-MODIFIED:20260227T223936Z
UID:10006514-1772793000-1772796600@worldchildrensmuseum.org
SUMMARY:Storytime Friday AM
DESCRIPTION:Everyone is welcome at Storytime Fridays\, a recurring program designed to spark joy and curiosity in little ones!  \nEach week\, we explore early literacy skills through movement\, imaginative play\, and a creative craft that brings the story to life. Perfect for toddlers\, preschoolers\, and their caregivers. \nCost: Free with Admission
URL:https://worldchildrensmuseum.org/events/storytime-friday-am-8/
LOCATION:World Awareness Children’s Museum\, 89 Warren St\, Glens Falls\, NY\, United States
GEO:43.310029;-73.639958
X-APPLE-STRUCTURED-LOCATION;VALUE=URI;X-ADDRESS=World Awareness Children’s Museum 89 Warren St Glens Falls NY United States;X-APPLE-RADIUS=500;X-TITLE=89 Warren St:geo:-73.639958,43.310029
END:VEVENT
BEGIN:VEVENT
DTSTART;TZID=America/New_York:20260306T120000
DTEND;TZID=America/New_York:20260306T130000
DTSTAMP:20260419T114254
CREATED:20260220T223923Z
LAST-MODIFIED:20260227T223936Z
UID:10006515-1772798400-1772802000@worldchildrensmuseum.org
SUMMARY:Handprint Friends
DESCRIPTION:Create your own unique “friend” each week using your very own handprint! Perfect for children ages 2 and up\, this fun and creative series lets little artists bring home a new handmade friend every Friday. \nCost: Free with admission
URL:https://worldchildrensmuseum.org/events/handprint-friends-11/
LOCATION:World Awareness Children’s Museum\, 89 Warren St\, Glens Falls\, NY\, United States
GEO:43.310029;-73.639958
X-APPLE-STRUCTURED-LOCATION;VALUE=URI;X-ADDRESS=World Awareness Children’s Museum 89 Warren St Glens Falls NY United States;X-APPLE-RADIUS=500;X-TITLE=89 Warren St:geo:-73.639958,43.310029
END:VEVENT
BEGIN:VEVENT
DTSTART;TZID=America/New_York:20260306T133000
DTEND;TZID=America/New_York:20260306T143000
DTSTAMP:20260419T114254
CREATED:20260220T223923Z
LAST-MODIFIED:20260227T223936Z
UID:10006516-1772803800-1772807400@worldchildrensmuseum.org
SUMMARY:Storytime Friday PM
DESCRIPTION:Everyone is welcome at Storytime Fridays\, a recurring program designed to spark joy and curiosity in little ones!  \nEach week\, we explore early literacy skills through movement\, imaginative play\, and a creative craft that brings the story to life. Perfect for toddlers\, preschoolers\, and their caregivers. \nCost: Free with Admission
URL:https://worldchildrensmuseum.org/events/storytime-friday-pm-8/
LOCATION:World Awareness Children’s Museum\, 89 Warren St\, Glens Falls\, NY\, United States
GEO:43.310029;-73.639958
X-APPLE-STRUCTURED-LOCATION;VALUE=URI;X-ADDRESS=World Awareness Children’s Museum 89 Warren St Glens Falls NY United States;X-APPLE-RADIUS=500;X-TITLE=89 Warren St:geo:-73.639958,43.310029
END:VEVENT
BEGIN:VEVENT
DTSTART;TZID=America/New_York:20260307T100000
DTEND;TZID=America/New_York:20260307T150000
DTSTAMP:20260419T114254
CREATED:20250217T170917Z
LAST-MODIFIED:20250619T190927Z
UID:10004341-1772877600-1772895600@worldchildrensmuseum.org
SUMMARY:Open for General Admission
DESCRIPTION:Tickets can be purchased online at https://wacm.ticketleap.com/museum-admission-2024/Admission Costs:Members: FreeNot-Yet-Members: $7 per person\, children under 12mo. are free.Please visit our website for more information on admission: https://worldchildrensmuseum.org/for-visitors/
URL:https://worldchildrensmuseum.org/events/open-for-general-admission-2202/
LOCATION:World Awareness Children’s Museum\, 89 Warren St\, Glens Falls\, NY\, United States
GEO:43.310029;-73.639958
X-APPLE-STRUCTURED-LOCATION;VALUE=URI;X-ADDRESS=World Awareness Children’s Museum 89 Warren St Glens Falls NY United States;X-APPLE-RADIUS=500;X-TITLE=89 Warren St:geo:-73.639958,43.310029
END:VEVENT
BEGIN:VEVENT
DTSTART;TZID=America/New_York:20260307T100000
DTEND;TZID=America/New_York:20260307T150000
DTSTAMP:20260419T114254
CREATED:20260220T223923Z
LAST-MODIFIED:20260227T223937Z
UID:10006517-1772877600-1772895600@worldchildrensmuseum.org
SUMMARY:Bring Your Favorite Dino Today!
DESCRIPTION:Bring your favorite dinosaur to the museum and let their adventure begin! \nStomp your way over the mountains in Mountain Tots\, soar high with the eagle by the doll map\, and roar your way through the music room. Then head to the art room to explore all three landscapes together using our special Dino Map — a large\, interactive paper map filled with dino-themed activities and places to play. \nThis drop-in experience encourages imaginative play\, storytelling\, and exploration as children bring their dinosaurs along on a world-wide adventure. \nCost: Free with admission
URL:https://worldchildrensmuseum.org/events/bring-your-favorite-dino-today/
LOCATION:World Awareness Children’s Museum\, 89 Warren St\, Glens Falls\, NY\, United States
GEO:43.310029;-73.639958
X-APPLE-STRUCTURED-LOCATION;VALUE=URI;X-ADDRESS=World Awareness Children’s Museum 89 Warren St Glens Falls NY United States;X-APPLE-RADIUS=500;X-TITLE=89 Warren St:geo:-73.639958,43.310029
END:VEVENT
BEGIN:VEVENT
DTSTART;TZID=America/New_York:20260308T100000
DTEND;TZID=America/New_York:20260308T150000
DTSTAMP:20260419T114254
CREATED:20250228T200922Z
LAST-MODIFIED:20260227T223937Z
UID:10004361-1772964000-1772982000@worldchildrensmuseum.org
SUMMARY:Free Day!
DESCRIPTION:Visit the museum for free today\, thanks to Stewart’s Holiday Match and all who contributed! We are pleased to offer these free days from 10am-3pm once per month. Donations are appreciated but not required. \nFree Days are generously sponsored by Stewart’s Holiday Match.  \nYou can learn more by visiting www.stewartsshops.com/community-giving
URL:https://worldchildrensmuseum.org/events/free-day-59/
LOCATION:NY
END:VEVENT
BEGIN:VEVENT
DTSTART;TZID=America/New_York:20260308T124500
DTEND;TZID=America/New_York:20260308T134500
DTSTAMP:20260419T114254
CREATED:20260220T223924Z
LAST-MODIFIED:20260227T223937Z
UID:10006518-1772973900-1772977500@worldchildrensmuseum.org
SUMMARY:Wild Irish Acres Dancers Performance!
DESCRIPTION:Enjoy the sights and sounds of traditional Irish dance as the Wild Irish Acres Dance Group brings St. Patrick’s Day to life! Perfect for young audiences who love music and movement.  Cost: Free with admission. 
URL:https://worldchildrensmuseum.org/events/wild-irish-acres-dancers-performance/
LOCATION:World Awareness Children’s Museum\, 89 Warren St\, Glens Falls\, NY\, United States
GEO:43.310029;-73.639958
X-APPLE-STRUCTURED-LOCATION;VALUE=URI;X-ADDRESS=World Awareness Children’s Museum 89 Warren St Glens Falls NY United States;X-APPLE-RADIUS=500;X-TITLE=89 Warren St:geo:-73.639958,43.310029
END:VEVENT
BEGIN:VEVENT
DTSTART;TZID=America/New_York:20260309T100000
DTEND;TZID=America/New_York:20260309T150000
DTSTAMP:20260419T114254
CREATED:20250301T202432Z
LAST-MODIFIED:20250619T190927Z
UID:10004362-1773050400-1773068400@worldchildrensmuseum.org
SUMMARY:Open for General Admission
DESCRIPTION:Tickets can be purchased online at https://wacm.ticketleap.com/museum-admission-2024/Admission Costs:Members: FreeNot-Yet-Members: $7 per person\, children under 12mo. are free.Please visit our website for more information on admission: https://worldchildrensmuseum.org/for-visitors/
URL:https://worldchildrensmuseum.org/events/open-for-general-admission-2204/
LOCATION:World Awareness Children’s Museum\, 89 Warren St\, Glens Falls\, NY\, United States
GEO:43.310029;-73.639958
X-APPLE-STRUCTURED-LOCATION;VALUE=URI;X-ADDRESS=World Awareness Children’s Museum 89 Warren St Glens Falls NY United States;X-APPLE-RADIUS=500;X-TITLE=89 Warren St:geo:-73.639958,43.310029
END:VEVENT
BEGIN:VEVENT
DTSTART;TZID=America/New_York:20260309T103000
DTEND;TZID=America/New_York:20260309T113000
DTSTAMP:20260419T114254
CREATED:20260220T223925Z
LAST-MODIFIED:20260227T223938Z
UID:10006519-1773052200-1773055800@worldchildrensmuseum.org
SUMMARY:Scribble Squad: Dino Tracks & Trails
DESCRIPTION:Little artists are invited to explore painting through movement and play!  \nUsing small dinosaur figures\, children will stomp\, walk\, and glide through paint to create tracks\, trails\, and patterns on paper. This process-based art activity encourages sensory exploration\, creativity\, and early mark-making skills.   \nDetails:Ages: 1–3 yearsCost: Free with admissionCapacity: Limited to 8 scribblers per sessionReserve your spot: Call 518-793-2773 or visit https://www.ticketleap.events/events/wacm-1
URL:https://worldchildrensmuseum.org/events/scribble-squad-dino-tracks-trails/
LOCATION:World Awareness Children’s Museum\, 89 Warren St\, Glens Falls\, NY\, United States
GEO:43.310029;-73.639958
X-APPLE-STRUCTURED-LOCATION;VALUE=URI;X-ADDRESS=World Awareness Children’s Museum 89 Warren St Glens Falls NY United States;X-APPLE-RADIUS=500;X-TITLE=89 Warren St:geo:-73.639958,43.310029
END:VEVENT
BEGIN:VEVENT
DTSTART;TZID=America/New_York:20260312T100000
DTEND;TZID=America/New_York:20260312T150000
DTSTAMP:20260419T114254
CREATED:20250301T202432Z
LAST-MODIFIED:20250619T190927Z
UID:10004363-1773309600-1773327600@worldchildrensmuseum.org
SUMMARY:Open for General Admission
DESCRIPTION:Tickets can be purchased online at https://wacm.ticketleap.com/museum-admission-2024/Admission Costs:Members: FreeNot-Yet-Members: $7 per person\, children under 12mo. are free.Please visit our website for more information on admission: https://worldchildrensmuseum.org/for-visitors/
URL:https://worldchildrensmuseum.org/events/open-for-general-admission-2205/
LOCATION:World Awareness Children’s Museum\, 89 Warren St\, Glens Falls\, NY\, United States
GEO:43.310029;-73.639958
X-APPLE-STRUCTURED-LOCATION;VALUE=URI;X-ADDRESS=World Awareness Children’s Museum 89 Warren St Glens Falls NY United States;X-APPLE-RADIUS=500;X-TITLE=89 Warren St:geo:-73.639958,43.310029
END:VEVENT
BEGIN:VEVENT
DTSTART;TZID=America/New_York:20260312T120000
DTEND;TZID=America/New_York:20260312T130000
DTSTAMP:20260419T114254
CREATED:20260220T223925Z
LAST-MODIFIED:20260227T223938Z
UID:10006520-1773316800-1773320400@worldchildrensmuseum.org
SUMMARY:Kinder Krafts!
DESCRIPTION:Start the morning with one of our most popular programs\, Kinder Rhythm\, then stay for some creative krafting fun for preschoolers! Create simple art projects designed for little hands and big imaginations.  Cost: Free with admission.
URL:https://worldchildrensmuseum.org/events/kinder-krafts-12/
LOCATION:World Awareness Children’s Museum\, 89 Warren St\, Glens Falls\, NY\, United States
GEO:43.310029;-73.639958
X-APPLE-STRUCTURED-LOCATION;VALUE=URI;X-ADDRESS=World Awareness Children’s Museum 89 Warren St Glens Falls NY United States;X-APPLE-RADIUS=500;X-TITLE=89 Warren St:geo:-73.639958,43.310029
END:VEVENT
BEGIN:VEVENT
DTSTART;TZID=America/New_York:20260313T100000
DTEND;TZID=America/New_York:20260313T150000
DTSTAMP:20260419T114254
CREATED:20250302T204012Z
LAST-MODIFIED:20250619T190928Z
UID:10004364-1773396000-1773414000@worldchildrensmuseum.org
SUMMARY:Open for General Admission
DESCRIPTION:Tickets can be purchased online at https://wacm.ticketleap.com/museum-admission-2024/Admission Costs:Members: FreeNot-Yet-Members: $7 per person\, children under 12mo. are free.Please visit our website for more information on admission: https://worldchildrensmuseum.org/for-visitors/
URL:https://worldchildrensmuseum.org/events/open-for-general-admission-2206/
LOCATION:World Awareness Children’s Museum\, 89 Warren St\, Glens Falls\, NY\, United States
GEO:43.310029;-73.639958
X-APPLE-STRUCTURED-LOCATION;VALUE=URI;X-ADDRESS=World Awareness Children’s Museum 89 Warren St Glens Falls NY United States;X-APPLE-RADIUS=500;X-TITLE=89 Warren St:geo:-73.639958,43.310029
END:VEVENT
BEGIN:VEVENT
DTSTART;TZID=America/New_York:20260313T103000
DTEND;TZID=America/New_York:20260313T113000
DTSTAMP:20260419T114254
CREATED:20260220T223926Z
LAST-MODIFIED:20260227T223939Z
UID:10006521-1773397800-1773401400@worldchildrensmuseum.org
SUMMARY:Storytime Friday AM
DESCRIPTION:Everyone is welcome at Storytime Fridays\, a recurring program designed to spark joy and curiosity in little ones!  \nEach week\, we explore early literacy skills through movement\, imaginative play\, and a creative craft that brings the story to life. Perfect for toddlers\, preschoolers\, and their caregivers. \nCost: Free with Admission
URL:https://worldchildrensmuseum.org/events/storytime-friday-am-9/
LOCATION:World Awareness Children’s Museum\, 89 Warren St\, Glens Falls\, NY\, United States
GEO:43.310029;-73.639958
X-APPLE-STRUCTURED-LOCATION;VALUE=URI;X-ADDRESS=World Awareness Children’s Museum 89 Warren St Glens Falls NY United States;X-APPLE-RADIUS=500;X-TITLE=89 Warren St:geo:-73.639958,43.310029
END:VEVENT
BEGIN:VEVENT
DTSTART;TZID=America/New_York:20260313T120000
DTEND;TZID=America/New_York:20260313T130000
DTSTAMP:20260419T114254
CREATED:20260220T223926Z
LAST-MODIFIED:20260227T223939Z
UID:10006522-1773403200-1773406800@worldchildrensmuseum.org
SUMMARY:Handprint Friends
DESCRIPTION:Create your own unique “friend” each week using your very own handprint! Perfect for children ages 2 and up\, this fun and creative series lets little artists bring home a new handmade friend every Friday. \nCost: Free with admission
URL:https://worldchildrensmuseum.org/events/handprint-friends-12/
LOCATION:World Awareness Children’s Museum\, 89 Warren St\, Glens Falls\, NY\, United States
GEO:43.310029;-73.639958
X-APPLE-STRUCTURED-LOCATION;VALUE=URI;X-ADDRESS=World Awareness Children’s Museum 89 Warren St Glens Falls NY United States;X-APPLE-RADIUS=500;X-TITLE=89 Warren St:geo:-73.639958,43.310029
END:VEVENT
BEGIN:VEVENT
DTSTART;TZID=America/New_York:20260313T133000
DTEND;TZID=America/New_York:20260313T143000
DTSTAMP:20260419T114254
CREATED:20260220T223927Z
LAST-MODIFIED:20260227T223939Z
UID:10006523-1773408600-1773412200@worldchildrensmuseum.org
SUMMARY:Storytime Friday PM
DESCRIPTION:Everyone is welcome at Storytime Fridays\, a recurring program designed to spark joy and curiosity in little ones!  \nEach week\, we explore early literacy skills through movement\, imaginative play\, and a creative craft that brings the story to life. Perfect for toddlers\, preschoolers\, and their caregivers. \nCost: Free with Admission
URL:https://worldchildrensmuseum.org/events/storytime-friday-pm-9/
LOCATION:World Awareness Children’s Museum\, 89 Warren St\, Glens Falls\, NY\, United States
GEO:43.310029;-73.639958
X-APPLE-STRUCTURED-LOCATION;VALUE=URI;X-ADDRESS=World Awareness Children’s Museum 89 Warren St Glens Falls NY United States;X-APPLE-RADIUS=500;X-TITLE=89 Warren St:geo:-73.639958,43.310029
END:VEVENT
BEGIN:VEVENT
DTSTART;TZID=America/New_York:20260314T100000
DTEND;TZID=America/New_York:20260314T150000
DTSTAMP:20260419T114254
CREATED:20250303T165454Z
LAST-MODIFIED:20250619T190928Z
UID:10004365-1773482400-1773500400@worldchildrensmuseum.org
SUMMARY:Open for General Admission
DESCRIPTION:Tickets can be purchased online at https://wacm.ticketleap.com/museum-admission-2024/Admission Costs:Members: FreeNot-Yet-Members: $7 per person\, children under 12mo. are free.Please visit our website for more information on admission: https://worldchildrensmuseum.org/for-visitors/
URL:https://worldchildrensmuseum.org/events/open-for-general-admission-2207/
LOCATION:World Awareness Children’s Museum\, 89 Warren St\, Glens Falls\, NY\, United States
GEO:43.310029;-73.639958
X-APPLE-STRUCTURED-LOCATION;VALUE=URI;X-ADDRESS=World Awareness Children’s Museum 89 Warren St Glens Falls NY United States;X-APPLE-RADIUS=500;X-TITLE=89 Warren St:geo:-73.639958,43.310029
END:VEVENT
END:VCALENDAR