BEGIN:VCALENDAR
VERSION:2.0
PRODID:-//World Awareness Children&#039;s Museum - ECPv6.15.20//NONSGML v1.0//EN
CALSCALE:GREGORIAN
METHOD:PUBLISH
X-WR-CALNAME:World Awareness Children&#039;s Museum
X-ORIGINAL-URL:https://worldchildrensmuseum.org
X-WR-CALDESC:Events for World Awareness Children&#039;s Museum
REFRESH-INTERVAL;VALUE=DURATION:PT1H
X-Robots-Tag:noindex
X-PUBLISHED-TTL:PT1H
BEGIN:VTIMEZONE
TZID:America/New_York
BEGIN:DAYLIGHT
TZOFFSETFROM:-0500
TZOFFSETTO:-0400
TZNAME:EDT
DTSTART:20200308T070000
END:DAYLIGHT
BEGIN:STANDARD
TZOFFSETFROM:-0400
TZOFFSETTO:-0500
TZNAME:EST
DTSTART:20201101T060000
END:STANDARD
BEGIN:DAYLIGHT
TZOFFSETFROM:-0500
TZOFFSETTO:-0400
TZNAME:EDT
DTSTART:20210314T070000
END:DAYLIGHT
BEGIN:STANDARD
TZOFFSETFROM:-0400
TZOFFSETTO:-0500
TZNAME:EST
DTSTART:20211107T060000
END:STANDARD
BEGIN:DAYLIGHT
TZOFFSETFROM:-0500
TZOFFSETTO:-0400
TZNAME:EDT
DTSTART:20220313T070000
END:DAYLIGHT
BEGIN:STANDARD
TZOFFSETFROM:-0400
TZOFFSETTO:-0500
TZNAME:EST
DTSTART:20221106T060000
END:STANDARD
END:VTIMEZONE
BEGIN:VEVENT
DTSTART;TZID=America/New_York:20210422T110000
DTEND;TZID=America/New_York:20210422T120000
DTSTAMP:20260419T114139
CREATED:20210420T200912Z
LAST-MODIFIED:20210428T152448Z
UID:10001439-1619089200-1619092800@worldchildrensmuseum.org
SUMMARY:Earth Day Greenhouse Craft
DESCRIPTION:Learn about the environment this Earth Day and how you can help keep our earth clean. Each child will plant a bean plant in their own paper greenhouse to take home and watch it grow! \nCost: $8 per child\, $3 per adult. Members get $2 off! \nPlease call to reserve your spot: 518-793-2773 ext. 305. This class is limited to 10 children.
URL:https://worldchildrensmuseum.org/events/earth-day-greenhouse-craft/
LOCATION:NY
ATTACH;FMTTYPE=image/jpeg:https://worldchildrensmuseum.org/wp-content/uploads/2021/04/Dawson-Petit_8th-Grade_Closed-earth-scaled.jpg
END:VEVENT
END:VCALENDAR