BEGIN:VCALENDAR
VERSION:2.0
PRODID:-//World Awareness Children&#039;s Museum - ECPv6.15.20//NONSGML v1.0//EN
CALSCALE:GREGORIAN
METHOD:PUBLISH
X-WR-CALNAME:World Awareness Children&#039;s Museum
X-ORIGINAL-URL:https://worldchildrensmuseum.org
X-WR-CALDESC:Events for World Awareness Children&#039;s Museum
REFRESH-INTERVAL;VALUE=DURATION:PT1H
X-Robots-Tag:noindex
X-PUBLISHED-TTL:PT1H
BEGIN:VTIMEZONE
TZID:America/New_York
BEGIN:DAYLIGHT
TZOFFSETFROM:-0500
TZOFFSETTO:-0400
TZNAME:EDT
DTSTART:20230312T070000
END:DAYLIGHT
BEGIN:STANDARD
TZOFFSETFROM:-0400
TZOFFSETTO:-0500
TZNAME:EST
DTSTART:20231105T060000
END:STANDARD
BEGIN:DAYLIGHT
TZOFFSETFROM:-0500
TZOFFSETTO:-0400
TZNAME:EDT
DTSTART:20240310T070000
END:DAYLIGHT
BEGIN:STANDARD
TZOFFSETFROM:-0400
TZOFFSETTO:-0500
TZNAME:EST
DTSTART:20241103T060000
END:STANDARD
BEGIN:DAYLIGHT
TZOFFSETFROM:-0500
TZOFFSETTO:-0400
TZNAME:EDT
DTSTART:20250309T070000
END:DAYLIGHT
BEGIN:STANDARD
TZOFFSETFROM:-0400
TZOFFSETTO:-0500
TZNAME:EST
DTSTART:20251102T060000
END:STANDARD
END:VTIMEZONE
BEGIN:VEVENT
DTSTART;TZID=America/New_York:20240724T100000
DTEND;TZID=America/New_York:20240724T150000
DTSTAMP:20260419T221241
CREATED:20240530T150852Z
LAST-MODIFIED:20240626T160850Z
UID:10004025-1721815200-1721833200@worldchildrensmuseum.org
SUMMARY:Open for General Admission
DESCRIPTION:Tickets can be purchased online at https://wacm.ticketleap.com/museum-admission-2024/\nAdmission Costs:\nMembers: Free\nNot-Yet-Members: $7 per person\, children under 12mo. are free.\nPlease visit our website for more information on admission:  \nFor Visitors
URL:https://worldchildrensmuseum.org/events/open-for-general-admission-2001/
LOCATION:World Awareness Children’s Museum\, 89 Warren St\, Glens Falls\, NY\, United States
GEO:43.310029;-73.639958
X-APPLE-STRUCTURED-LOCATION;VALUE=URI;X-ADDRESS=World Awareness Children’s Museum 89 Warren St Glens Falls NY United States;X-APPLE-RADIUS=500;X-TITLE=89 Warren St:geo:-73.639958,43.310029
END:VEVENT
BEGIN:VEVENT
DTSTART;TZID=America/New_York:20240727T130000
DTEND;TZID=America/New_York:20240727T143000
DTSTAMP:20260419T221241
CREATED:20240626T160850Z
LAST-MODIFIED:20240626T160850Z
UID:10004054-1722085200-1722090600@worldchildrensmuseum.org
SUMMARY:Turtle Paint & Sip
DESCRIPTION:Join us for our popular family-friendly Paint & Sip series taught by local artist Patrice Jarvis-Weber. Artists will paint their own turtle on canvas. \nCost: $12 per person. Members get a 10% discount! Please call to reserve your spot: 518-793-2773 or visit wacm.ticketleap.com to reserve online. \nThis class is limited to 9 people.
URL:https://worldchildrensmuseum.org/events/turtle-paint-sip/
LOCATION:NY
END:VEVENT
BEGIN:VEVENT
DTSTART;VALUE=DATE:20240729
DTEND;VALUE=DATE:20240803
DTSTAMP:20260419T221241
CREATED:20240301T092358Z
LAST-MODIFIED:20240626T160852Z
UID:10003880-1722211200-1722643199@worldchildrensmuseum.org
SUMMARY:Gold Medal Summer Camp
DESCRIPTION:This camp session is appropriate for children entering 3rd grade through 6th grade. \nTo register\, visit: https://wacm.ticketleap.com/gold-medal/ \nIt's time to celebrate the 2024 Summer Olympics! During this summer camp\, kids will participate in kid-friendly Olympic events like the lighting of the ceremonial torch\, relay races\, long jumps\, a paper airplane challenge\, interpretive dance\, and so much more! We'll learn about different countries\, watch clips from this year's Olympics in Paris\, collect gold medals\, and end the week with a closing ceremony. \nCamp days are Monday\, July 29 – Friday\, August 2\, from 9am – 3pm each day. \nSample camp schedule: 9-10am: Arrival\, snack\, and morning activity10-11am: Olympic event11am-12pm: Lunch & quiet activity12-1:45pm: Playtime at SMSA playground & Olympic event1:45-2:15pm: Artmaking2:15-2:55pm: Snack & playtime in the museum3pm: Pickup \nChildren must bring their own snacks\, lunch\, and beverages to camp each day. \nPricing:Museum Members: $210 per child per weekNot-yet-members: $225 per child per week \nCamp sessions are limited to 10 children. \nIf you have questions\, please call 518-793-2773 or email info@worldchildrensmuseum.org.
URL:https://worldchildrensmuseum.org/events/gold-medal-summer-camp/
LOCATION:NY
END:VEVENT
BEGIN:VEVENT
DTSTART;TZID=America/New_York:20240730T100000
DTEND;TZID=America/New_York:20240730T150000
DTSTAMP:20260419T221241
CREATED:20240530T150853Z
LAST-MODIFIED:20240626T160851Z
UID:10004026-1722333600-1722351600@worldchildrensmuseum.org
SUMMARY:Open for General Admission
DESCRIPTION:Tickets can be purchased online at https://wacm.ticketleap.com/museum-admission-2024/\nAdmission Costs:\nMembers: Free\nNot-Yet-Members: $7 per person\, children under 12mo. are free.\nPlease visit our website for more information on admission:  \nFor Visitors
URL:https://worldchildrensmuseum.org/events/open-for-general-admission-2002/
LOCATION:World Awareness Children’s Museum\, 89 Warren St\, Glens Falls\, NY\, United States
GEO:43.310029;-73.639958
X-APPLE-STRUCTURED-LOCATION;VALUE=URI;X-ADDRESS=World Awareness Children’s Museum 89 Warren St Glens Falls NY United States;X-APPLE-RADIUS=500;X-TITLE=89 Warren St:geo:-73.639958,43.310029
END:VEVENT
BEGIN:VEVENT
DTSTART;TZID=America/New_York:20240731T100000
DTEND;TZID=America/New_York:20240731T150000
DTSTAMP:20260419T221241
CREATED:20240530T150853Z
LAST-MODIFIED:20240626T160851Z
UID:10004027-1722420000-1722438000@worldchildrensmuseum.org
SUMMARY:Open for General Admission
DESCRIPTION:Tickets can be purchased online at https://wacm.ticketleap.com/museum-admission-2024/\nAdmission Costs:\nMembers: Free\nNot-Yet-Members: $7 per person\, children under 12mo. are free.\nPlease visit our website for more information on admission:  \nFor Visitors
URL:https://worldchildrensmuseum.org/events/open-for-general-admission-2003/
LOCATION:World Awareness Children’s Museum\, 89 Warren St\, Glens Falls\, NY\, United States
GEO:43.310029;-73.639958
X-APPLE-STRUCTURED-LOCATION;VALUE=URI;X-ADDRESS=World Awareness Children’s Museum 89 Warren St Glens Falls NY United States;X-APPLE-RADIUS=500;X-TITLE=89 Warren St:geo:-73.639958,43.310029
END:VEVENT
BEGIN:VEVENT
DTSTART;TZID=America/New_York:20240806T100000
DTEND;TZID=America/New_York:20240806T150000
DTSTAMP:20260419T221241
CREATED:20240530T150855Z
LAST-MODIFIED:20240626T160852Z
UID:10004028-1722938400-1722956400@worldchildrensmuseum.org
SUMMARY:Open for General Admission
DESCRIPTION:Tickets can be purchased online at https://wacm.ticketleap.com/museum-admission-2024/\nAdmission Costs:\nMembers: Free\nNot-Yet-Members: $7 per person\, children under 12mo. are free.\nPlease visit our website for more information on admission:  \nFor Visitors
URL:https://worldchildrensmuseum.org/events/open-for-general-admission-2004/
LOCATION:World Awareness Children’s Museum\, 89 Warren St\, Glens Falls\, NY\, United States
GEO:43.310029;-73.639958
X-APPLE-STRUCTURED-LOCATION;VALUE=URI;X-ADDRESS=World Awareness Children’s Museum 89 Warren St Glens Falls NY United States;X-APPLE-RADIUS=500;X-TITLE=89 Warren St:geo:-73.639958,43.310029
END:VEVENT
BEGIN:VEVENT
DTSTART;TZID=America/New_York:20240807T100000
DTEND;TZID=America/New_York:20240807T150000
DTSTAMP:20260419T221241
CREATED:20240530T150855Z
LAST-MODIFIED:20240626T160852Z
UID:10004029-1723024800-1723042800@worldchildrensmuseum.org
SUMMARY:Open for General Admission
DESCRIPTION:Tickets can be purchased online at https://wacm.ticketleap.com/museum-admission-2024/\nAdmission Costs:\nMembers: Free\nNot-Yet-Members: $7 per person\, children under 12mo. are free.\nPlease visit our website for more information on admission:  \nFor Visitors
URL:https://worldchildrensmuseum.org/events/open-for-general-admission-2005/
LOCATION:World Awareness Children’s Museum\, 89 Warren St\, Glens Falls\, NY\, United States
GEO:43.310029;-73.639958
X-APPLE-STRUCTURED-LOCATION;VALUE=URI;X-ADDRESS=World Awareness Children’s Museum 89 Warren St Glens Falls NY United States;X-APPLE-RADIUS=500;X-TITLE=89 Warren St:geo:-73.639958,43.310029
END:VEVENT
BEGIN:VEVENT
DTSTART;TZID=America/New_York:20240811T100000
DTEND;TZID=America/New_York:20240811T150000
DTSTAMP:20260419T221241
CREATED:20230714T191738Z
LAST-MODIFIED:20240626T160853Z
UID:10002819-1723370400-1723388400@worldchildrensmuseum.org
SUMMARY:Free Day!
DESCRIPTION:Visit the museum for free today\, thanks to Stewart’s Holiday Match and all who contributed! We are pleased to offer these free days from 10am-3pm once per month. Donations are appreciated but not required. \nFree Days are generously sponsored by Stewart’s Holiday Match.  \nYou can learn more by visiting www.stewartsshops.com/community-giving
URL:https://worldchildrensmuseum.org/events/free-day-27/
LOCATION:NY
END:VEVENT
BEGIN:VEVENT
DTSTART;TZID=America/New_York:20240813T100000
DTEND;TZID=America/New_York:20240813T150000
DTSTAMP:20260419T221241
CREATED:20240530T150857Z
LAST-MODIFIED:20240626T160853Z
UID:10004030-1723543200-1723561200@worldchildrensmuseum.org
SUMMARY:Open for General Admission
DESCRIPTION:Tickets can be purchased online at https://wacm.ticketleap.com/museum-admission-2024/\nAdmission Costs:\nMembers: Free\nNot-Yet-Members: $7 per person\, children under 12mo. are free.\nPlease visit our website for more information on admission:  \nFor Visitors
URL:https://worldchildrensmuseum.org/events/open-for-general-admission-2006/
LOCATION:World Awareness Children’s Museum\, 89 Warren St\, Glens Falls\, NY\, United States
GEO:43.310029;-73.639958
X-APPLE-STRUCTURED-LOCATION;VALUE=URI;X-ADDRESS=World Awareness Children’s Museum 89 Warren St Glens Falls NY United States;X-APPLE-RADIUS=500;X-TITLE=89 Warren St:geo:-73.639958,43.310029
END:VEVENT
BEGIN:VEVENT
DTSTART;TZID=America/New_York:20240814T100000
DTEND;TZID=America/New_York:20240814T150000
DTSTAMP:20260419T221241
CREATED:20240530T150857Z
LAST-MODIFIED:20240626T160853Z
UID:10004031-1723629600-1723647600@worldchildrensmuseum.org
SUMMARY:Open for General Admission
DESCRIPTION:Tickets can be purchased online at https://wacm.ticketleap.com/museum-admission-2024/\nAdmission Costs:\nMembers: Free\nNot-Yet-Members: $7 per person\, children under 12mo. are free.\nPlease visit our website for more information on admission:  \nFor Visitors
URL:https://worldchildrensmuseum.org/events/open-for-general-admission-2007/
LOCATION:World Awareness Children’s Museum\, 89 Warren St\, Glens Falls\, NY\, United States
GEO:43.310029;-73.639958
X-APPLE-STRUCTURED-LOCATION;VALUE=URI;X-ADDRESS=World Awareness Children’s Museum 89 Warren St Glens Falls NY United States;X-APPLE-RADIUS=500;X-TITLE=89 Warren St:geo:-73.639958,43.310029
END:VEVENT
BEGIN:VEVENT
DTSTART;TZID=America/New_York:20240817T140000
DTEND;TZID=America/New_York:20240817T150000
DTSTAMP:20260419T221241
CREATED:20240813T174606Z
LAST-MODIFIED:20240813T174757Z
UID:10004055-1723903200-1723906800@worldchildrensmuseum.org
SUMMARY:The Earth on Turtle's Back
DESCRIPTION:Our “The Earth on Turtle’s Back” special summer event comes to the Charles R. Wood Theater in Glens Falls\, NY\, on Saturday\, August 17 at 2:00pm! During this family-friendly program\, Dr. Joseph Bruchac\, current Poet Laureate of Saratoga Springs\, NY\, will share Native American creation stories and music from the Northeastern woodlands\, engaging children and adults alike. Tickets are $8 per person. Go to woodtheater.org/events/ for more.\n\n\n\n\nThis series is made possible by generous support from LARAC\, The Glens Falls Foundation\, and The Cloudsplitter Foundation.
URL:https://worldchildrensmuseum.org/events/earth-on-turtles-back/
LOCATION:Charles R. Wood Theater\, 207 Glen Street\, Glens Falls\, NY\, 12801\, United States
END:VEVENT
BEGIN:VEVENT
DTSTART;VALUE=DATE:20240819
DTEND;VALUE=DATE:20240824
DTSTAMP:20260419T221241
CREATED:20240301T092400Z
LAST-MODIFIED:20240626T160854Z
UID:10003881-1724025600-1724457599@worldchildrensmuseum.org
SUMMARY:Expedition: Endangered Animals Camp (Western Hemisphere) Summer Camp
DESCRIPTION:This camp session is appropriate for children entering Pre-K through 2nd Grade. \nTo register\, visit: https://wacm.ticketleap.com/endangered-animals-west/ \n All children must be fully potty-trained. \nGet ready to learn about wild and wonderful endangered animals from the Western Hemisphere! Kids will "travel" the world to learn about different animals and their home countries\, make crafts\, play in the museum\, and more! The week will end with a special visit from an Animal Educator and her animal buddies! \nCamp days are Monday\, August 19 – Friday\, August 23\, from 9am -1pm each day. \nChildren must bring their own snacks\, lunch\, and beverages to camp each day. \nSample camp schedule:9-9:30am: Arrival\, snack\, and playtime in the museum.9:30-10am: Activity10-10:30am: Playtime in the museum10:30-11am: Craft11-11:30am: Lunch11:30am-12:30pm: Playtime at the SMSA School playground12:30-1pm: Playtime in the museum and departure \nPricing:Museum Members: $200 per child per weekNot-yet-members: $215 per child per week \nCamp sessions are limited to 10 children. \nIf you have questions\, please call 518-793-2773 or email info@worldchildrensmuseum.org. \n    v
URL:https://worldchildrensmuseum.org/events/expedition-endangered-animals-camp-western-hemisphere-summer-camp/
LOCATION:NY
END:VEVENT
BEGIN:VEVENT
DTSTART;TZID=America/New_York:20240820T100000
DTEND;TZID=America/New_York:20240820T150000
DTSTAMP:20260419T221241
CREATED:20240530T150858Z
LAST-MODIFIED:20240626T160854Z
UID:10004032-1724148000-1724166000@worldchildrensmuseum.org
SUMMARY:Open for General Admission
DESCRIPTION:Tickets can be purchased online at https://wacm.ticketleap.com/museum-admission-2024/\nAdmission Costs:\nMembers: Free\nNot-Yet-Members: $7 per person\, children under 12mo. are free.\nPlease visit our website for more information on admission:  \nFor Visitors
URL:https://worldchildrensmuseum.org/events/open-for-general-admission-2008/
LOCATION:World Awareness Children’s Museum\, 89 Warren St\, Glens Falls\, NY\, United States
GEO:43.310029;-73.639958
X-APPLE-STRUCTURED-LOCATION;VALUE=URI;X-ADDRESS=World Awareness Children’s Museum 89 Warren St Glens Falls NY United States;X-APPLE-RADIUS=500;X-TITLE=89 Warren St:geo:-73.639958,43.310029
END:VEVENT
BEGIN:VEVENT
DTSTART;TZID=America/New_York:20240821T100000
DTEND;TZID=America/New_York:20240821T150000
DTSTAMP:20260419T221241
CREATED:20240530T150859Z
LAST-MODIFIED:20240626T160854Z
UID:10004033-1724234400-1724252400@worldchildrensmuseum.org
SUMMARY:Open for General Admission
DESCRIPTION:Tickets can be purchased online at https://wacm.ticketleap.com/museum-admission-2024/\nAdmission Costs:\nMembers: Free\nNot-Yet-Members: $7 per person\, children under 12mo. are free.\nPlease visit our website for more information on admission:  \nFor Visitors
URL:https://worldchildrensmuseum.org/events/open-for-general-admission-2009/
LOCATION:World Awareness Children’s Museum\, 89 Warren St\, Glens Falls\, NY\, United States
GEO:43.310029;-73.639958
X-APPLE-STRUCTURED-LOCATION;VALUE=URI;X-ADDRESS=World Awareness Children’s Museum 89 Warren St Glens Falls NY United States;X-APPLE-RADIUS=500;X-TITLE=89 Warren St:geo:-73.639958,43.310029
END:VEVENT
BEGIN:VEVENT
DTSTART;TZID=America/New_York:20240824T140000
DTEND;TZID=America/New_York:20240824T150000
DTSTAMP:20260419T221241
CREATED:20240814T162535Z
LAST-MODIFIED:20240814T162535Z
UID:10004056-1724508000-1724511600@worldchildrensmuseum.org
SUMMARY:Chris Thomas & His Smoke Dancers
DESCRIPTION:Highlighted by lightning footwork that seems to float on air\, the Smoke Dance is a traditional social dance of the Haudenosaunee Confederacy\, a confederated alliance of the Mohawk\, Oneida\, Cayuga\, Seneca\, and Tuscarora nations. Thomas is one of this generation’s most celebrated smoke dancers\, and he and his Smoke Dancers will dazzle you with their talent. Tickets are $8 per person. Go to woodtheater.org/events/ for more.\n\n\n\n\nThis series is made possible by generous support from LARAC\, The Glens Falls Foundation\, and The Cloudsplitter Foundation.
URL:https://worldchildrensmuseum.org/events/chris-thomas-smoke-dancers/
LOCATION:Charles R. Wood Theater\, 207 Glen Street\, Glens Falls\, NY\, 12801\, United States
END:VEVENT
BEGIN:VEVENT
DTSTART;VALUE=DATE:20240826
DTEND;VALUE=DATE:20240831
DTSTAMP:20260419T221241
CREATED:20240301T092401Z
LAST-MODIFIED:20240626T160855Z
UID:10003882-1724630400-1725062399@worldchildrensmuseum.org
SUMMARY:Expedition: Endangered Animals Camp (Eastern Hemisphere) Summer Camp
DESCRIPTION:This camp session is appropriate for children entering Pre-K through 2nd Grade. \nTo register\, visit: https://wacm.ticketleap.com/endangered-animals-east/  \nAll children must be fully potty-trained. \n Get ready to learn about wild and wonderful endangered animals from the Eastern Hemisphere! Kids will "travel" the world to learn about different animals and their home countries\, make crafts\, play in the museum\, and more! The week will end with a special visit from an Animal Educator and her animal buddies! \nCamp days are Monday\, August 26 – Friday\, August 30\, from 9am -1pm each day. \nChildren must bring their own snacks\, lunch\, and beverages to camp each day. \nSample camp schedule:9-9:30am: Arrival\, snack\, and playtime in the museum.9:30-10am: Activity10-10:30am: Playtime in the museum10:30-11am: Craft11-11:30am: Lunch11:30am-12:30pm: Playtime at the SMSA School playground12:30-1pm: Playtime in the museum and departure \nPricing:Museum Members: $200 per child per weekNot-yet-members: $215 per child per week \nCamp sessions are limited to 10 children. \nIf you have questions\, please call 518-793-2773 or email info@worldchildrensmuseum.org.
URL:https://worldchildrensmuseum.org/events/expedition-endangered-animals-camp-eastern-hemisphere-summer-camp/
LOCATION:NY
END:VEVENT
BEGIN:VEVENT
DTSTART;TZID=America/New_York:20240827T100000
DTEND;TZID=America/New_York:20240827T150000
DTSTAMP:20260419T221241
CREATED:20240530T150901Z
LAST-MODIFIED:20240626T160855Z
UID:10004034-1724752800-1724770800@worldchildrensmuseum.org
SUMMARY:Open for General Admission
DESCRIPTION:Tickets can be purchased online at https://wacm.ticketleap.com/museum-admission-2024/\nAdmission Costs:\nMembers: Free\nNot-Yet-Members: $7 per person\, children under 12mo. are free.\nPlease visit our website for more information on admission:  \nFor Visitors
URL:https://worldchildrensmuseum.org/events/open-for-general-admission-2010/
LOCATION:World Awareness Children’s Museum\, 89 Warren St\, Glens Falls\, NY\, United States
GEO:43.310029;-73.639958
X-APPLE-STRUCTURED-LOCATION;VALUE=URI;X-ADDRESS=World Awareness Children’s Museum 89 Warren St Glens Falls NY United States;X-APPLE-RADIUS=500;X-TITLE=89 Warren St:geo:-73.639958,43.310029
END:VEVENT
BEGIN:VEVENT
DTSTART;TZID=America/New_York:20240828T100000
DTEND;TZID=America/New_York:20240828T150000
DTSTAMP:20260419T221241
CREATED:20240530T150901Z
LAST-MODIFIED:20240626T160855Z
UID:10004035-1724839200-1724857200@worldchildrensmuseum.org
SUMMARY:Open for General Admission
DESCRIPTION:Tickets can be purchased online at https://wacm.ticketleap.com/museum-admission-2024/\nAdmission Costs:\nMembers: Free\nNot-Yet-Members: $7 per person\, children under 12mo. are free.\nPlease visit our website for more information on admission:  \nFor Visitors
URL:https://worldchildrensmuseum.org/events/open-for-general-admission-2011/
LOCATION:World Awareness Children’s Museum\, 89 Warren St\, Glens Falls\, NY\, United States
GEO:43.310029;-73.639958
X-APPLE-STRUCTURED-LOCATION;VALUE=URI;X-ADDRESS=World Awareness Children’s Museum 89 Warren St Glens Falls NY United States;X-APPLE-RADIUS=500;X-TITLE=89 Warren St:geo:-73.639958,43.310029
END:VEVENT
BEGIN:VEVENT
DTSTART;VALUE=DATE:20240902
DTEND;VALUE=DATE:20240903
DTSTAMP:20260419T221241
CREATED:20240831T030831Z
LAST-MODIFIED:20240902T053840Z
UID:10004057-1725235200-1725321599@worldchildrensmuseum.org
SUMMARY:Museum Closed for Labor Day
DESCRIPTION:
URL:https://worldchildrensmuseum.org/events/museum-closed-for-labor-day-2/
LOCATION:NY
END:VEVENT
BEGIN:VEVENT
DTSTART;TZID=America/New_York:20240906T103000
DTEND;TZID=America/New_York:20240906T113000
DTSTAMP:20260419T221241
CREATED:20240831T030831Z
LAST-MODIFIED:20240906T060936Z
UID:10004058-1725618600-1725622200@worldchildrensmuseum.org
SUMMARY:Storytime Friday
DESCRIPTION:Reading: “This Very Tree" by Sean Rubin \nTheme: Strength and recovery \n \n \n \nEveryone is welcome at our recurring program\, Storytime Fridays! This program is appropriate for all ages and includes a story and a craft.  \nCost: Free with admission
URL:https://worldchildrensmuseum.org/events/storytime-friday-74/
LOCATION:NY
END:VEVENT
BEGIN:VEVENT
DTSTART;TZID=America/New_York:20240908T100000
DTEND;TZID=America/New_York:20240908T150000
DTSTAMP:20260419T221241
CREATED:20230714T191738Z
LAST-MODIFIED:20240908T062437Z
UID:10002820-1725789600-1725807600@worldchildrensmuseum.org
SUMMARY:Free Day!
DESCRIPTION:Visit the museum for free today\, thanks to Stewart’s Holiday Match and all who contributed! We are pleased to offer these free days from 10am-3pm once per month. Donations are appreciated but not required. \nFree Days are generously sponsored by Stewart’s Holiday Match.  \nYou can learn more by visiting www.stewartsshops.com/community-giving
URL:https://worldchildrensmuseum.org/events/free-day-28/
LOCATION:NY
END:VEVENT
BEGIN:VEVENT
DTSTART;TZID=America/New_York:20240909T103000
DTEND;TZID=America/New_York:20240909T113000
DTSTAMP:20260419T221241
CREATED:20240831T030834Z
LAST-MODIFIED:20240909T063901Z
UID:10004059-1725877800-1725881400@worldchildrensmuseum.org
SUMMARY:Learn About Vietnam!
DESCRIPTION:Let’s discover Vietnam! We will explore the cultures and peoples who live in this country\, learn some words and phrases and look at art from Vietnamese kids!  \nCost: Free with admission
URL:https://worldchildrensmuseum.org/events/learn-about-vietnam/
LOCATION:NY
END:VEVENT
BEGIN:VEVENT
DTSTART;TZID=America/New_York:20240913T103000
DTEND;TZID=America/New_York:20240913T113000
DTSTAMP:20260419T221241
CREATED:20240831T030834Z
LAST-MODIFIED:20240913T070840Z
UID:10004060-1726223400-1726227000@worldchildrensmuseum.org
SUMMARY:Storytime Friday
DESCRIPTION:Reading: “Eyes that Kiss in the Corners” by Johanna Ho  \nTheme: Self-acceptance \n \n \n \nEveryone is welcome at our recurring program\, Storytime Fridays! This program is appropriate for all ages and includes a story and a craft.  \nCost: Free with admission
URL:https://worldchildrensmuseum.org/events/storytime-friday-75/
LOCATION:NY
END:VEVENT
BEGIN:VEVENT
DTSTART;TZID=America/New_York:20240920T103000
DTEND;TZID=America/New_York:20240920T113000
DTSTAMP:20260419T221241
CREATED:20240831T030835Z
LAST-MODIFIED:20240920T073843Z
UID:10004061-1726828200-1726831800@worldchildrensmuseum.org
SUMMARY:Storytime Friday
DESCRIPTION:Reading: “The Curious Adventures of Atlas: Germany” by Chelsea Roach   \nTheme: Exploring cultures \n \n \n \nEveryone is welcome at our recurring program\, Storytime Fridays! This program is appropriate for all ages and includes a story and a craft.  \nCost: Free with admission
URL:https://worldchildrensmuseum.org/events/storytime-friday-76/
LOCATION:NY
END:VEVENT
BEGIN:VEVENT
DTSTART;TZID=America/New_York:20240921T130000
DTEND;TZID=America/New_York:20240921T143000
DTSTAMP:20260419T221241
CREATED:20240831T030835Z
LAST-MODIFIED:20240921T073835Z
UID:10004062-1726923600-1726929000@worldchildrensmuseum.org
SUMMARY:Hot Air Balloon Paint & Sip
DESCRIPTION:Join us for our popular family-friendly Paint & Sip series taught by local artist Patrice Jarvis-Weber. Artists will paint their own hot air balloon on canvas. \nCost: $12 per person. Members get a 10% discount! Please call to reserve your spot: 518-793-2773 or visit wacm.ticketleap.com to reserve online. \nThis class is limited to 9 people.
URL:https://worldchildrensmuseum.org/events/hot-air-balloon-paint-sip-2/
LOCATION:NY
END:VEVENT
BEGIN:VEVENT
DTSTART;TZID=America/New_York:20240923T103000
DTEND;TZID=America/New_York:20240923T113000
DTSTAMP:20260419T221241
CREATED:20240831T030836Z
LAST-MODIFIED:20240923T074234Z
UID:10004063-1727087400-1727091000@worldchildrensmuseum.org
SUMMARY:Learn About Germany!
DESCRIPTION:Starting in September Germany celebrates Oktoberfest! Let's learn about this celebration and the culture of Germany.  \nCost: Free with admission
URL:https://worldchildrensmuseum.org/events/learn-about-germany/
LOCATION:NY
END:VEVENT
BEGIN:VEVENT
DTSTART;TZID=America/New_York:20240926T103000
DTEND;TZID=America/New_York:20240926T113000
DTSTAMP:20260419T221241
CREATED:20240831T030836Z
LAST-MODIFIED:20240926T080853Z
UID:10004064-1727346600-1727350200@worldchildrensmuseum.org
SUMMARY:Marble Painting Craft
DESCRIPTION:Make abstract art with marbles and paint! \nCost: Free with admission
URL:https://worldchildrensmuseum.org/events/marble-painting-craft/
LOCATION:NY
END:VEVENT
BEGIN:VEVENT
DTSTART;TZID=America/New_York:20240927T103000
DTEND;TZID=America/New_York:20240927T113000
DTSTAMP:20260419T221241
CREATED:20240831T030836Z
LAST-MODIFIED:20240927T082400Z
UID:10004065-1727433000-1727436600@worldchildrensmuseum.org
SUMMARY:Storytime Friday
DESCRIPTION:Reading: “Mable and the Mountain” by Kim Hillyard \nTheme: Believing in yourself \n \n \n \nEveryone is welcome at our recurring program\, Storytime Fridays! This program is appropriate for all ages and includes a story and a craft.  \nCost: Free with admission
URL:https://worldchildrensmuseum.org/events/storytime-friday-77/
LOCATION:NY
END:VEVENT
BEGIN:VEVENT
DTSTART;TZID=America/New_York:20241003T103000
DTEND;TZID=America/New_York:20241003T113000
DTSTAMP:20260419T221241
CREATED:20241003T082350Z
LAST-MODIFIED:20241003T082353Z
UID:10004164-1727951400-1727955000@worldchildrensmuseum.org
SUMMARY:Kinder Rhythm Drumming
DESCRIPTION:Kinder Rhythm Inspires creativity\, joyful play\, and social interaction through the power of group rhythm-making. This includes singing\, dancing\, playing instruments\, and moving to the beat. Come and join Susie Barber\, national and international music\, theatre\, and movement educator and drum facilitator for a morning of fun and adventure with a hands on rhythmic exploration for your child and the child in you!  As the Zimbabwe proverb says\, “If you can speak you can sing and if you can walk you can dance!”  \nCost: Free with admission
URL:https://worldchildrensmuseum.org/events/kinder-rhythm-drumming/
LOCATION:NY
END:VEVENT
BEGIN:VEVENT
DTSTART;TZID=America/New_York:20241004T103000
DTEND;TZID=America/New_York:20241004T113000
DTSTAMP:20260419T221241
CREATED:20241003T082351Z
LAST-MODIFIED:20241004T152336Z
UID:10004165-1728037800-1728041400@worldchildrensmuseum.org
SUMMARY:Storytime Friday
DESCRIPTION:Reading: “The Magical Yet” by Angela DiTerlizzi \nEveryone is welcome at our recurring program\, Storytime Fridays! This program is appropriate for all ages and includes a story and a craft.  \nCost: Free with admission
URL:https://worldchildrensmuseum.org/events/storytime-friday-78/
LOCATION:NY
END:VEVENT
END:VCALENDAR