BEGIN:VCALENDAR
VERSION:2.0
PRODID:-//World Awareness Children&#039;s Museum - ECPv6.15.20//NONSGML v1.0//EN
CALSCALE:GREGORIAN
METHOD:PUBLISH
X-ORIGINAL-URL:https://worldchildrensmuseum.org
X-WR-CALDESC:Events for World Awareness Children&#039;s Museum
REFRESH-INTERVAL;VALUE=DURATION:PT1H
X-Robots-Tag:noindex
X-PUBLISHED-TTL:PT1H
BEGIN:VTIMEZONE
TZID:America/New_York
BEGIN:DAYLIGHT
TZOFFSETFROM:-0500
TZOFFSETTO:-0400
TZNAME:EDT
DTSTART:20250309T070000
END:DAYLIGHT
BEGIN:STANDARD
TZOFFSETFROM:-0400
TZOFFSETTO:-0500
TZNAME:EST
DTSTART:20251102T060000
END:STANDARD
BEGIN:DAYLIGHT
TZOFFSETFROM:-0500
TZOFFSETTO:-0400
TZNAME:EDT
DTSTART:20260308T070000
END:DAYLIGHT
BEGIN:STANDARD
TZOFFSETFROM:-0400
TZOFFSETTO:-0500
TZNAME:EST
DTSTART:20261101T060000
END:STANDARD
BEGIN:DAYLIGHT
TZOFFSETFROM:-0500
TZOFFSETTO:-0400
TZNAME:EDT
DTSTART:20270314T070000
END:DAYLIGHT
BEGIN:STANDARD
TZOFFSETFROM:-0400
TZOFFSETTO:-0500
TZNAME:EST
DTSTART:20271107T060000
END:STANDARD
END:VTIMEZONE
BEGIN:VEVENT
DTSTART;TZID=America/New_York:20260406T100000
DTEND;TZID=America/New_York:20260406T150000
DTSTAMP:20260419T145753
CREATED:20250315T193931Z
LAST-MODIFIED:20250619T190932Z
UID:10004382-1775469600-1775487600@worldchildrensmuseum.org
SUMMARY:Open for General Admission
DESCRIPTION:Tickets can be purchased online at https://wacm.ticketleap.com/museum-admission-2024/Admission Costs:Members: FreeNot-Yet-Members: $7 per person\, children under 12mo. are free.Please visit our website for more information on admission: https://worldchildrensmuseum.org/for-visitors/
URL:https://worldchildrensmuseum.org/events/open-for-general-admission-2224/
LOCATION:World Awareness Children’s Museum\, 89 Warren St\, Glens Falls\, NY\, United States
GEO:43.310029;-73.639958
X-APPLE-STRUCTURED-LOCATION;VALUE=URI;X-ADDRESS=World Awareness Children’s Museum 89 Warren St Glens Falls NY United States;X-APPLE-RADIUS=500;X-TITLE=89 Warren St:geo:-73.639958,43.310029
END:VEVENT
BEGIN:VEVENT
DTSTART;TZID=America/New_York:20260406T103000
DTEND;TZID=America/New_York:20260406T113000
DTSTAMP:20260419T145753
CREATED:20260318T015255Z
LAST-MODIFIED:20260401T022416Z
UID:10006568-1775471400-1775475000@worldchildrensmuseum.org
SUMMARY:Rhythm & Movement: All Ages Welcome
DESCRIPTION:Rhythm & MovementJoin us for an energetic session of music and movement for the whole family! Children and caregivers will explore rhythm through songs\, instruments\, and playful movement activities that encourage listening\, coordination\, and creative expression. \nAges: All ages welcomeCost: Free with admissionRegistration: Pre-registration required \nTo reserve your spot\, call 518-793-2773 or register online at ticketleap.events/events/wacm-1.
URL:https://worldchildrensmuseum.org/events/rhythm-movement-all-ages-welcome/
LOCATION:89 Warren St\, Glens Falls\, NY\, United States
GEO:43.30952;-73.64401
END:VEVENT
BEGIN:VEVENT
DTSTART;TZID=America/New_York:20260407T100000
DTEND;TZID=America/New_York:20260407T150000
DTSTAMP:20260419T145753
CREATED:20260401T022421Z
LAST-MODIFIED:20260401T022423Z
UID:10006620-1775556000-1775574000@worldchildrensmuseum.org
SUMMARY:Open for General Admission
DESCRIPTION:Tickets can be purchased online at https://wacm.ticketleap.com/admission-2025/Admission Costs:Members: FreeNot-Yet-Members: $7 per person\, children under 12mo. are free.Please visit our website for more information on admission: https://worldchildrensmuseum.org/for-visitors/
URL:https://worldchildrensmuseum.org/events/open-for-general-admission-1590/
LOCATION:89 Warren St\, Glens Falls\, NY\, United States
GEO:43.30952;-73.64401
END:VEVENT
BEGIN:VEVENT
DTSTART;TZID=America/New_York:20260407T103000
DTEND;TZID=America/New_York:20260407T113000
DTSTAMP:20260419T145753
CREATED:20260318T015256Z
LAST-MODIFIED:20260401T022419Z
UID:10006569-1775557800-1775561400@worldchildrensmuseum.org
SUMMARY:Global Coin Craft Discovery
DESCRIPTION:Global Coin Craft DiscoveryWhat stories can a coin tell? Young explorers will examine coins from around the world and discover the animals\, symbols\, and landmarks they feature. Then it’s their turn to design their own coin and imagine what their country’s money might look like! \nCost: Free with admissionAges: Best for elementary ages
URL:https://worldchildrensmuseum.org/events/global-coin-craft-discovery/
LOCATION:89 Warren St\, Glens Falls\, NY\, United States
GEO:43.30952;-73.64401
END:VEVENT
BEGIN:VEVENT
DTSTART;TZID=America/New_York:20260407T120000
DTEND;TZID=America/New_York:20260407T130000
DTSTAMP:20260419T145753
CREATED:20260318T015256Z
LAST-MODIFIED:20260401T022420Z
UID:10006570-1775563200-1775566800@worldchildrensmuseum.org
SUMMARY:Explorer Windsock Studio
DESCRIPTION:Windsock StudioLet your creativity take flight! Children will craft a bright and playful windsock using colorful materials and patterns inspired by global art traditions. Take it home and see how it moves in the breeze! \nCost: Free with admissionAges: Best for elementary ages
URL:https://worldchildrensmuseum.org/events/explorer-windsock-studio/
LOCATION:89 Warren St\, Glens Falls\, NY\, United States
GEO:43.30952;-73.64401
END:VEVENT
BEGIN:VEVENT
DTSTART;TZID=America/New_York:20260408T100000
DTEND;TZID=America/New_York:20260408T150000
DTSTAMP:20260419T145753
CREATED:20260401T022423Z
LAST-MODIFIED:20260408T025503Z
UID:10006621-1775642400-1775660400@worldchildrensmuseum.org
SUMMARY:Open for General Admission
DESCRIPTION:Tickets can be purchased online at https://wacm.ticketleap.com/admission-2025/Admission Costs:Members: FreeNot-Yet-Members: $7 per person\, children under 12mo. are free.Please visit our website for more information on admission: https://worldchildrensmuseum.org/for-visitors/
URL:https://worldchildrensmuseum.org/events/open-for-general-admission-1591/
LOCATION:89 Warren St\, Glens Falls\, NY\, United States
GEO:43.30952;-73.64401
END:VEVENT
BEGIN:VEVENT
DTSTART;TZID=America/New_York:20260408T130000
DTEND;TZID=America/New_York:20260408T133000
DTSTAMP:20260419T145753
CREATED:20260318T015256Z
LAST-MODIFIED:20260408T025501Z
UID:10006571-1775653200-1775655000@worldchildrensmuseum.org
SUMMARY:Go Green Slime Lab - Group 1
DESCRIPTION:Go Green Slime LabGet ready to mix\, stretch\, and experiment in our Go Green Slime Lab! Children will explore the science of slime while learning how small choices can help care for our planet. In this hands-on workshop\, young creators will mix ingredients\, test textures\, and discover how experimenting and adjusting materials can change their slime. \nBest for ages: 5+ \nSession times: 1:00 & 1:30 \nCost: Free with admission. \nReserve your spot: Call 518-793-2773 or visit ticketleap.events/events/wacm-1 \nIMPORTANT: When registering online\, be sure to select the specific Slime Lab session\, not just general admission tickets.
URL:https://worldchildrensmuseum.org/events/go-green-slime-lab-group-1-2/
LOCATION:89 Warren St\, Glens Falls\, NY\, United States
GEO:43.30952;-73.64401
END:VEVENT
BEGIN:VEVENT
DTSTART;TZID=America/New_York:20260408T133000
DTEND;TZID=America/New_York:20260408T140000
DTSTAMP:20260419T145753
CREATED:20260318T015257Z
LAST-MODIFIED:20260408T025502Z
UID:10006572-1775655000-1775656800@worldchildrensmuseum.org
SUMMARY:Go Green Slime Lab - Group 2
DESCRIPTION:Go Green Slime LabGet ready to mix\, stretch\, and experiment in our Go Green Slime Lab! Children will explore the science of slime while learning how small choices can help care for our planet. In this hands-on workshop\, young creators will mix ingredients\, test textures\, and discover how experimenting and adjusting materials can change their slime. \nBest for ages: 5+ \nSession times: 1:00 & 1:30 \nCost: Free with admission. \nReserve your spot: Call 518-793-2773 or visit ticketleap.events/events/wacm-1 \nIMPORTANT: When registering online\, be sure to select the specific Slime Lab session\, not just general admission tickets.
URL:https://worldchildrensmuseum.org/events/go-green-slime-lab-group-2-2/
LOCATION:89 Warren St\, Glens Falls\, NY\, United States
GEO:43.30952;-73.64401
END:VEVENT
BEGIN:VEVENT
DTSTART;TZID=America/New_York:20260409T100000
DTEND;TZID=America/New_York:20260409T150000
DTSTAMP:20260419T145753
CREATED:20250316T192431Z
LAST-MODIFIED:20250619T190932Z
UID:10004383-1775728800-1775746800@worldchildrensmuseum.org
SUMMARY:Open for General Admission
DESCRIPTION:Tickets can be purchased online at https://wacm.ticketleap.com/museum-admission-2024/Admission Costs:Members: FreeNot-Yet-Members: $7 per person\, children under 12mo. are free.Please visit our website for more information on admission: https://worldchildrensmuseum.org/for-visitors/
URL:https://worldchildrensmuseum.org/events/open-for-general-admission-2225/
LOCATION:World Awareness Children’s Museum\, 89 Warren St\, Glens Falls\, NY\, United States
GEO:43.310029;-73.639958
X-APPLE-STRUCTURED-LOCATION;VALUE=URI;X-ADDRESS=World Awareness Children’s Museum 89 Warren St Glens Falls NY United States;X-APPLE-RADIUS=500;X-TITLE=89 Warren St:geo:-73.639958,43.310029
END:VEVENT
BEGIN:VEVENT
DTSTART;TZID=America/New_York:20260409T103000
DTEND;TZID=America/New_York:20260409T113000
DTSTAMP:20260419T145753
CREATED:20260318T015257Z
LAST-MODIFIED:20260408T025506Z
UID:10006573-1775730600-1775734200@worldchildrensmuseum.org
SUMMARY:Kinder Rhythm
DESCRIPTION:Join us for a lively\, intergenerational\, interactive music session ideal for children ages 1–5. This program inspires creativity\, joyful play\, and social connection through the power of group rhythm-making. We’ll sing\, dance\, play instruments\, and move to the beat together! \n \nCost: Free with Admission
URL:https://worldchildrensmuseum.org/events/kinder-rhythm-21/
LOCATION:89 Warren St\, Glens Falls\, NY\, United States
GEO:43.30952;-73.64401
END:VEVENT
BEGIN:VEVENT
DTSTART;TZID=America/New_York:20260409T120000
DTEND;TZID=America/New_York:20260409T130000
DTSTAMP:20260419T145753
CREATED:20260318T015258Z
LAST-MODIFIED:20260408T025507Z
UID:10006574-1775736000-1775739600@worldchildrensmuseum.org
SUMMARY:Kinder Krafts!
DESCRIPTION:Start the morning with one of our most popular programs\, Kinder Rhythm\, then stay for some creative krafting fun for preschoolers! Create simple art projects designed for little hands and big imaginations.  Cost: Free with admission.
URL:https://worldchildrensmuseum.org/events/kinder-krafts-16/
LOCATION:89 Warren St\, Glens Falls\, NY\, United States
GEO:43.30952;-73.64401
END:VEVENT
BEGIN:VEVENT
DTSTART;TZID=America/New_York:20260410T100000
DTEND;TZID=America/New_York:20260410T150000
DTSTAMP:20260419T145753
CREATED:20250317T192420Z
LAST-MODIFIED:20250619T190932Z
UID:10004384-1775815200-1775833200@worldchildrensmuseum.org
SUMMARY:Open for General Admission
DESCRIPTION:Tickets can be purchased online at https://wacm.ticketleap.com/museum-admission-2024/Admission Costs:Members: FreeNot-Yet-Members: $7 per person\, children under 12mo. are free.Please visit our website for more information on admission: https://worldchildrensmuseum.org/for-visitors/
URL:https://worldchildrensmuseum.org/events/open-for-general-admission-2226/
LOCATION:World Awareness Children’s Museum\, 89 Warren St\, Glens Falls\, NY\, United States
GEO:43.310029;-73.639958
X-APPLE-STRUCTURED-LOCATION;VALUE=URI;X-ADDRESS=World Awareness Children’s Museum 89 Warren St Glens Falls NY United States;X-APPLE-RADIUS=500;X-TITLE=89 Warren St:geo:-73.639958,43.310029
END:VEVENT
BEGIN:VEVENT
DTSTART;TZID=America/New_York:20260410T103000
DTEND;TZID=America/New_York:20260410T113000
DTSTAMP:20260419T145753
CREATED:20260318T015259Z
LAST-MODIFIED:20260408T025510Z
UID:10006576-1775817000-1775820600@worldchildrensmuseum.org
SUMMARY:Storytime Friday AM
DESCRIPTION:Everyone is welcome at Storytime Fridays\, a recurring program designed to spark joy and curiosity in little ones!  \nEach week\, we explore early literacy skills through movement\, imaginative play\, and a creative craft that brings the story to life. Perfect for toddlers\, preschoolers\, and their caregivers. \nCost: Free with Admission
URL:https://worldchildrensmuseum.org/events/storytime-friday-am-13/
LOCATION:89 Warren St\, Glens Falls\, NY\, United States
GEO:43.30952;-73.64401
END:VEVENT
BEGIN:VEVENT
DTSTART;TZID=America/New_York:20260410T120000
DTEND;TZID=America/New_York:20260410T130000
DTSTAMP:20260419T145753
CREATED:20260318T015258Z
LAST-MODIFIED:20260408T025511Z
UID:10006575-1775822400-1775826000@worldchildrensmuseum.org
SUMMARY:Handprint Friends
DESCRIPTION:Create your own unique “friend” each week using your very own handprint! Perfect for children ages 2 and up\, this fun and creative series lets little artists bring home a new handmade friend every Friday. \nCost: Free with admission
URL:https://worldchildrensmuseum.org/events/handprint-friends-16/
LOCATION:89 Warren St\, Glens Falls\, NY\, United States
GEO:43.30952;-73.64401
END:VEVENT
BEGIN:VEVENT
DTSTART;TZID=America/New_York:20260410T133000
DTEND;TZID=America/New_York:20260410T143000
DTSTAMP:20260419T145753
CREATED:20260318T015259Z
LAST-MODIFIED:20260408T025512Z
UID:10006577-1775827800-1775831400@worldchildrensmuseum.org
SUMMARY:Storytime Friday PM
DESCRIPTION:Everyone is welcome at Storytime Fridays\, a recurring program designed to spark joy and curiosity in little ones!  \nEach week\, we explore early literacy skills through movement\, imaginative play\, and a creative craft that brings the story to life. Perfect for toddlers\, preschoolers\, and their caregivers. \nCost: Free with Admission
URL:https://worldchildrensmuseum.org/events/storytime-friday-pm-13/
LOCATION:89 Warren St\, Glens Falls\, NY\, United States
GEO:43.30952;-73.64401
END:VEVENT
BEGIN:VEVENT
DTSTART;TZID=America/New_York:20260411T100000
DTEND;TZID=America/New_York:20260411T150000
DTSTAMP:20260419T145753
CREATED:20250320T155425Z
LAST-MODIFIED:20250619T190932Z
UID:10004385-1775901600-1775919600@worldchildrensmuseum.org
SUMMARY:Open for General Admission
DESCRIPTION:Tickets can be purchased online at https://wacm.ticketleap.com/museum-admission-2024/Admission Costs:Members: FreeNot-Yet-Members: $7 per person\, children under 12mo. are free.Please visit our website for more information on admission: https://worldchildrensmuseum.org/for-visitors/
URL:https://worldchildrensmuseum.org/events/open-for-general-admission-2227/
LOCATION:World Awareness Children’s Museum\, 89 Warren St\, Glens Falls\, NY\, United States
GEO:43.310029;-73.639958
X-APPLE-STRUCTURED-LOCATION;VALUE=URI;X-ADDRESS=World Awareness Children’s Museum 89 Warren St Glens Falls NY United States;X-APPLE-RADIUS=500;X-TITLE=89 Warren St:geo:-73.639958,43.310029
END:VEVENT
BEGIN:VEVENT
DTSTART;TZID=America/New_York:20260411T110000
DTEND;TZID=America/New_York:20260411T120000
DTSTAMP:20260419T145753
CREATED:20260318T015259Z
LAST-MODIFIED:20260408T025514Z
UID:10006578-1775905200-1775908800@worldchildrensmuseum.org
SUMMARY:Magnet Painting Workshop
DESCRIPTION:Magnet Painting WorkshopCreate a small masterpiece you can take home and display! In this hands-on art workshop\, young artists will design and paint their own wooden magnet inspired by the theme Freedom to Explore. Will your magnet show nature\, travel\, imagination\, or something uniquely you? Each participant will leave with three colorful keepsakes ready for the fridge\, locker\, or anywhere you want to showcase your creativity. \nAges: 5+Cost: $5 per person (Members receive 10% off!)Registration: Pre-registration required \nTo reserve your spot\, call 518-793-2773 or register online at ticketleap.events/events/wacm-1.
URL:https://worldchildrensmuseum.org/events/magnet-painting-workshop-2/
LOCATION:89 Warren Street
END:VEVENT
BEGIN:VEVENT
DTSTART;TZID=America/New_York:20260411T130000
DTEND;TZID=America/New_York:20260411T140000
DTSTAMP:20260419T145753
CREATED:20260318T015259Z
LAST-MODIFIED:20260408T025515Z
UID:10006579-1775912400-1775916000@worldchildrensmuseum.org
SUMMARY:Global Friendship Bracelets
DESCRIPTION:Create a colorful bracelet inspired by bead and weaving traditions from cultures around the world. In this hands-on workshop\, children will explore patterns\, colors\, and the meaning of friendship while designing a bracelet to wear or share.   \nAges: 5+Cost: Free with admissionRegistration: Pre-registration required \nTo reserve your spot\, call 518-793-2773 or register online at ticketleap.events/events/wacm-1.
URL:https://worldchildrensmuseum.org/events/global-friendship-bracelets/
LOCATION:89 Warren St\, Glens Falls\, NY\, United States
GEO:43.30952;-73.64401
END:VEVENT
BEGIN:VEVENT
DTSTART;TZID=America/New_York:20260412T100000
DTEND;TZID=America/New_York:20260412T150000
DTSTAMP:20260419T145753
CREATED:20250321T160917Z
LAST-MODIFIED:20260408T025516Z
UID:10004387-1775988000-1776006000@worldchildrensmuseum.org
SUMMARY:Free Day!
DESCRIPTION:Visit the museum for free today\, thanks to Stewart’s Holiday Match and all who contributed! We are pleased to offer these free days from 10am-3pm once per month. Donations are appreciated but not required. \nFree Days are generously sponsored by Stewart’s Holiday Match.  \nYou can learn more by visiting www.stewartsshops.com/community-giving
URL:https://worldchildrensmuseum.org/events/free-day-60/
LOCATION:NY
END:VEVENT
BEGIN:VEVENT
DTSTART;TZID=America/New_York:20260413T100000
DTEND;TZID=America/New_York:20260413T150000
DTSTAMP:20260419T145753
CREATED:20250407T191503Z
LAST-MODIFIED:20250619T190933Z
UID:10004412-1776074400-1776092400@worldchildrensmuseum.org
SUMMARY:Open for General Admission
DESCRIPTION:Tickets can be purchased online at https://wacm.ticketleap.com/museum-admission-2024/Admission Costs:Members: FreeNot-Yet-Members: $7 per person\, children under 12mo. are free.Please visit our website for more information on admission: https://worldchildrensmuseum.org/for-visitors/
URL:https://worldchildrensmuseum.org/events/open-for-general-admission-2231/
LOCATION:World Awareness Children’s Museum\, 89 Warren St\, Glens Falls\, NY\, United States
GEO:43.310029;-73.639958
X-APPLE-STRUCTURED-LOCATION;VALUE=URI;X-ADDRESS=World Awareness Children’s Museum 89 Warren St Glens Falls NY United States;X-APPLE-RADIUS=500;X-TITLE=89 Warren St:geo:-73.639958,43.310029
END:VEVENT
BEGIN:VEVENT
DTSTART;TZID=America/New_York:20260413T103000
DTEND;TZID=America/New_York:20260413T113000
DTSTAMP:20260419T145753
CREATED:20260318T015301Z
LAST-MODIFIED:20260408T025519Z
UID:10006580-1776076200-1776079800@worldchildrensmuseum.org
SUMMARY:Scribble Squad: Lil' Hands Big Earth
DESCRIPTION:Little artists are invited to explore color\, texture\, and movement in this Earth-inspired art adventure! \nChildren will squish\, rub\, and finger paint—without the mess—as they experiment with patterns\, swirls\, and shapes inspired by our planet. This playful\, process-based art activity encourages sensory exploration\, creativity\, and early mark-making skills. \n \nDetails:Ages: 1–3 yearsCost: Free with admissionCapacity: Limited to 8 scribblers per sessionReserve your spot: Call 518-793-2773 or visit https://www.ticketleap.events/events/wacm-1
URL:https://worldchildrensmuseum.org/events/scribble-squad-lil-hands-big-earth/
LOCATION:World Awareness Children’s Museum\, 89 Warren St\, Glens Falls\, NY\, United States
GEO:43.310029;-73.639958
X-APPLE-STRUCTURED-LOCATION;VALUE=URI;X-ADDRESS=World Awareness Children’s Museum 89 Warren St Glens Falls NY United States;X-APPLE-RADIUS=500;X-TITLE=89 Warren St:geo:-73.639958,43.310029
END:VEVENT
BEGIN:VEVENT
DTSTART;TZID=America/New_York:20260416T100000
DTEND;TZID=America/New_York:20260416T150000
DTSTAMP:20260419T145753
CREATED:20250410T153932Z
LAST-MODIFIED:20250619T190933Z
UID:10004414-1776333600-1776351600@worldchildrensmuseum.org
SUMMARY:Open for General Admission
DESCRIPTION:Tickets can be purchased online at https://wacm.ticketleap.com/museum-admission-2024/Admission Costs:Members: FreeNot-Yet-Members: $7 per person\, children under 12mo. are free.Please visit our website for more information on admission: https://worldchildrensmuseum.org/for-visitors/
URL:https://worldchildrensmuseum.org/events/open-for-general-admission-2233/
LOCATION:World Awareness Children’s Museum\, 89 Warren St\, Glens Falls\, NY\, United States
GEO:43.310029;-73.639958
X-APPLE-STRUCTURED-LOCATION;VALUE=URI;X-ADDRESS=World Awareness Children’s Museum 89 Warren St Glens Falls NY United States;X-APPLE-RADIUS=500;X-TITLE=89 Warren St:geo:-73.639958,43.310029
END:VEVENT
BEGIN:VEVENT
DTSTART;TZID=America/New_York:20260416T100000
DTEND;TZID=America/New_York:20260416T150000
DTSTAMP:20260419T145753
CREATED:20260415T032341Z
LAST-MODIFIED:20260415T032346Z
UID:10006662-1776333600-1776351600@worldchildrensmuseum.org
SUMMARY:Open for General Admission
DESCRIPTION:Tickets can be purchased online at https://events.ticketleap.com/tickets/wacm-1/museum-admission-2026Admission Costs:Members: FreeNot-Yet-Members: $7 per person\, children under 12mo. are free.Please visit our website for more information on admission: https://worldchildrensmuseum.org/for-visitors/
URL:https://worldchildrensmuseum.org/events/open-for-general-admission-1655/
LOCATION:World Awareness Children’s Museum\, 89 Warren St\, Glens Falls\, NY\, United States
GEO:43.310029;-73.639958
X-APPLE-STRUCTURED-LOCATION;VALUE=URI;X-ADDRESS=World Awareness Children’s Museum 89 Warren St Glens Falls NY United States;X-APPLE-RADIUS=500;X-TITLE=89 Warren St:geo:-73.639958,43.310029
END:VEVENT
BEGIN:VEVENT
DTSTART;TZID=America/New_York:20260416T103000
DTEND;TZID=America/New_York:20260416T113000
DTSTAMP:20260419T145753
CREATED:20260318T015301Z
LAST-MODIFIED:20260415T032344Z
UID:10006581-1776335400-1776339000@worldchildrensmuseum.org
SUMMARY:Kinder Rhythm
DESCRIPTION:Join us for a lively\, intergenerational\, interactive music session ideal for children ages 1–5. This program inspires creativity\, joyful play\, and social connection through the power of group rhythm-making. We’ll sing\, dance\, play instruments\, and move to the beat together! \n \nCost: Free with Admission
URL:https://worldchildrensmuseum.org/events/kinder-rhythm-22/
LOCATION:89 Warren St\, Glens Falls\, NY\, United States
GEO:43.30952;-73.64401
END:VEVENT
BEGIN:VEVENT
DTSTART;TZID=America/New_York:20260416T120000
DTEND;TZID=America/New_York:20260416T130000
DTSTAMP:20260419T145753
CREATED:20260318T015301Z
LAST-MODIFIED:20260415T032345Z
UID:10006582-1776340800-1776344400@worldchildrensmuseum.org
SUMMARY:Kinder Krafts!
DESCRIPTION:Start the morning with one of our most popular programs\, Kinder Rhythm\, then stay for some creative krafting fun for preschoolers! Create simple art projects designed for little hands and big imaginations.  Cost: Free with admission.
URL:https://worldchildrensmuseum.org/events/kinder-krafts-17/
LOCATION:89 Warren St\, Glens Falls\, NY\, United States
GEO:43.30952;-73.64401
END:VEVENT
BEGIN:VEVENT
DTSTART;TZID=America/New_York:20260417T100000
DTEND;TZID=America/New_York:20260417T150000
DTSTAMP:20260419T145753
CREATED:20251024T183950Z
LAST-MODIFIED:20260408T025534Z
UID:10005949-1776420000-1776438000@worldchildrensmuseum.org
SUMMARY:Open for General Admission
DESCRIPTION:Tickets can be purchased online at https://wacm.ticketleap.com/admission-2025/Admission Costs:Members: FreeNot-Yet-Members: $7 per person\, children under 12mo. are free.Please visit our website for more information on admission: https://worldchildrensmuseum.org/for-visitors/
URL:https://worldchildrensmuseum.org/events/open-for-general-admission-729/
LOCATION:World Awareness Children’s Museum\, 89 Warren St\, Glens Falls\, NY\, United States
GEO:43.310029;-73.639958
X-APPLE-STRUCTURED-LOCATION;VALUE=URI;X-ADDRESS=World Awareness Children’s Museum 89 Warren St Glens Falls NY United States;X-APPLE-RADIUS=500;X-TITLE=89 Warren St:geo:-73.639958,43.310029
END:VEVENT
BEGIN:VEVENT
DTSTART;TZID=America/New_York:20260417T100000
DTEND;TZID=America/New_York:20260417T150000
DTSTAMP:20260419T145753
CREATED:20260415T032342Z
LAST-MODIFIED:20260415T032348Z
UID:10006663-1776420000-1776438000@worldchildrensmuseum.org
SUMMARY:Open for General Admission
DESCRIPTION:Tickets can be purchased online at https://events.ticketleap.com/tickets/wacm-1/museum-admission-2026Admission Costs:Members: FreeNot-Yet-Members: $7 per person\, children under 12mo. are free.Please visit our website for more information on admission: https://worldchildrensmuseum.org/for-visitors/
URL:https://worldchildrensmuseum.org/events/open-for-general-admission-1656/
LOCATION:World Awareness Children’s Museum\, 89 Warren St\, Glens Falls\, NY\, United States
GEO:43.310029;-73.639958
X-APPLE-STRUCTURED-LOCATION;VALUE=URI;X-ADDRESS=World Awareness Children’s Museum 89 Warren St Glens Falls NY United States;X-APPLE-RADIUS=500;X-TITLE=89 Warren St:geo:-73.639958,43.310029
END:VEVENT
BEGIN:VEVENT
DTSTART;TZID=America/New_York:20260417T120000
DTEND;TZID=America/New_York:20260417T130000
DTSTAMP:20260419T145753
CREATED:20260318T015301Z
LAST-MODIFIED:20260415T032350Z
UID:10006583-1776427200-1776430800@worldchildrensmuseum.org
SUMMARY:Handprint Friends
DESCRIPTION:Create your own unique “friend” each week using your very own handprint! Perfect for children ages 2 and up\, this fun and creative series lets little artists bring home a new handmade friend every Friday. \nCost: Free with admission
URL:https://worldchildrensmuseum.org/events/handprint-friends-17/
LOCATION:89 Warren St\, Glens Falls\, NY\, United States
GEO:43.30952;-73.64401
END:VEVENT
BEGIN:VEVENT
DTSTART;TZID=America/New_York:20260417T133000
DTEND;TZID=America/New_York:20260417T143000
DTSTAMP:20260419T145753
CREATED:20260318T015302Z
LAST-MODIFIED:20260415T032352Z
UID:10006585-1776432600-1776436200@worldchildrensmuseum.org
SUMMARY:Storytime Friday PM
DESCRIPTION:Everyone is welcome at Storytime Fridays\, a recurring program designed to spark joy and curiosity in little ones!  \nEach week\, we explore early literacy skills through movement\, imaginative play\, and a creative craft that brings the story to life. Perfect for toddlers\, preschoolers\, and their caregivers. \nCost: Free with Admission
URL:https://worldchildrensmuseum.org/events/storytime-friday-pm-14/
LOCATION:89 Warren St\, Glens Falls\, NY\, United States
GEO:43.30952;-73.64401
END:VEVENT
BEGIN:VEVENT
DTSTART;TZID=America/New_York:20260418T100000
DTEND;TZID=America/New_York:20260418T150000
DTSTAMP:20260419T145753
CREATED:20250411T154002Z
LAST-MODIFIED:20250619T190933Z
UID:10004416-1776506400-1776524400@worldchildrensmuseum.org
SUMMARY:Open for General Admission
DESCRIPTION:Tickets can be purchased online at https://wacm.ticketleap.com/museum-admission-2024/Admission Costs:Members: FreeNot-Yet-Members: $7 per person\, children under 12mo. are free.Please visit our website for more information on admission: https://worldchildrensmuseum.org/for-visitors/
URL:https://worldchildrensmuseum.org/events/open-for-general-admission-2235/
LOCATION:World Awareness Children’s Museum\, 89 Warren St\, Glens Falls\, NY\, United States
GEO:43.310029;-73.639958
X-APPLE-STRUCTURED-LOCATION;VALUE=URI;X-ADDRESS=World Awareness Children’s Museum 89 Warren St Glens Falls NY United States;X-APPLE-RADIUS=500;X-TITLE=89 Warren St:geo:-73.639958,43.310029
END:VEVENT
END:VCALENDAR