BEGIN:VCALENDAR
VERSION:2.0
PRODID:-//World Awareness Children&#039;s Museum - ECPv6.15.20//NONSGML v1.0//EN
CALSCALE:GREGORIAN
METHOD:PUBLISH
X-ORIGINAL-URL:https://worldchildrensmuseum.org
X-WR-CALDESC:Events for World Awareness Children&#039;s Museum
REFRESH-INTERVAL;VALUE=DURATION:PT1H
X-Robots-Tag:noindex
X-PUBLISHED-TTL:PT1H
BEGIN:VTIMEZONE
TZID:America/New_York
BEGIN:DAYLIGHT
TZOFFSETFROM:-0500
TZOFFSETTO:-0400
TZNAME:EDT
DTSTART:20250309T070000
END:DAYLIGHT
BEGIN:STANDARD
TZOFFSETFROM:-0400
TZOFFSETTO:-0500
TZNAME:EST
DTSTART:20251102T060000
END:STANDARD
BEGIN:DAYLIGHT
TZOFFSETFROM:-0500
TZOFFSETTO:-0400
TZNAME:EDT
DTSTART:20260308T070000
END:DAYLIGHT
BEGIN:STANDARD
TZOFFSETFROM:-0400
TZOFFSETTO:-0500
TZNAME:EST
DTSTART:20261101T060000
END:STANDARD
BEGIN:DAYLIGHT
TZOFFSETFROM:-0500
TZOFFSETTO:-0400
TZNAME:EDT
DTSTART:20270314T070000
END:DAYLIGHT
BEGIN:STANDARD
TZOFFSETFROM:-0400
TZOFFSETTO:-0500
TZNAME:EST
DTSTART:20271107T060000
END:STANDARD
END:VTIMEZONE
BEGIN:VEVENT
DTSTART;TZID=America/New_York:20260425T133000
DTEND;TZID=America/New_York:20260425T143000
DTSTAMP:20260419T183542
CREATED:20250630T192425Z
LAST-MODIFIED:20260415T032416Z
UID:10004860-1777123800-1777127400@worldchildrensmuseum.org
SUMMARY:Storytime Saturday
DESCRIPTION:Join us for a playful weekend storytime designed for families who can’t make it to our Friday sessions! Each month\, enjoy stories\, songs\, and hands-on crafts that bring the themes to life—all in a fun\, welcoming space for little ones and their grown-ups. \nStorytime supports early literacy\, creativity\, and connection. \nCost: Free with admission
URL:https://worldchildrensmuseum.org/events/storytime-saturday-24/
LOCATION:NY
END:VEVENT
BEGIN:VEVENT
DTSTART;TZID=America/New_York:20260426T100000
DTEND;TZID=America/New_York:20260426T150000
DTSTAMP:20260419T183542
CREATED:20250413T190933Z
LAST-MODIFIED:20250619T190934Z
UID:10004422-1777197600-1777215600@worldchildrensmuseum.org
SUMMARY:Open for General Admission
DESCRIPTION:Tickets can be purchased online at https://wacm.ticketleap.com/museum-admission-2024/Admission Costs:Members: FreeNot-Yet-Members: $7 per person\, children under 12mo. are free.Please visit our website for more information on admission: https://worldchildrensmuseum.org/for-visitors/
URL:https://worldchildrensmuseum.org/events/open-for-general-admission-2241/
LOCATION:World Awareness Children’s Museum\, 89 Warren St\, Glens Falls\, NY\, United States
GEO:43.310029;-73.639958
X-APPLE-STRUCTURED-LOCATION;VALUE=URI;X-ADDRESS=World Awareness Children’s Museum 89 Warren St Glens Falls NY United States;X-APPLE-RADIUS=500;X-TITLE=89 Warren St:geo:-73.639958,43.310029
END:VEVENT
BEGIN:VEVENT
DTSTART;TZID=America/New_York:20260426T100000
DTEND;TZID=America/New_York:20260426T150000
DTSTAMP:20260419T183542
CREATED:20260415T032419Z
LAST-MODIFIED:20260415T032423Z
UID:10006674-1777197600-1777215600@worldchildrensmuseum.org
SUMMARY:Open for General Admission
DESCRIPTION:Tickets can be purchased online at https://events.ticketleap.com/tickets/wacm-1/museum-admission-2026Admission Costs:Members: FreeNot-Yet-Members: $7 per person\, children under 12mo. are free.Please visit our website for more information on admission: https://worldchildrensmuseum.org/for-visitors/
URL:https://worldchildrensmuseum.org/events/open-for-general-admission-1665/
LOCATION:World Awareness Children’s Museum\, 89 Warren St\, Glens Falls\, NY\, United States
GEO:43.310029;-73.639958
X-APPLE-STRUCTURED-LOCATION;VALUE=URI;X-ADDRESS=World Awareness Children’s Museum 89 Warren St Glens Falls NY United States;X-APPLE-RADIUS=500;X-TITLE=89 Warren St:geo:-73.639958,43.310029
END:VEVENT
BEGIN:VEVENT
DTSTART;TZID=America/New_York:20260427T100000
DTEND;TZID=America/New_York:20260427T150000
DTSTAMP:20260419T183542
CREATED:20250414T183945Z
LAST-MODIFIED:20250619T190935Z
UID:10004423-1777284000-1777302000@worldchildrensmuseum.org
SUMMARY:Open for General Admission
DESCRIPTION:Tickets can be purchased online at https://wacm.ticketleap.com/museum-admission-2024/Admission Costs:Members: FreeNot-Yet-Members: $7 per person\, children under 12mo. are free.Please visit our website for more information on admission: https://worldchildrensmuseum.org/for-visitors/
URL:https://worldchildrensmuseum.org/events/open-for-general-admission-2242/
LOCATION:World Awareness Children’s Museum\, 89 Warren St\, Glens Falls\, NY\, United States
GEO:43.310029;-73.639958
X-APPLE-STRUCTURED-LOCATION;VALUE=URI;X-ADDRESS=World Awareness Children’s Museum 89 Warren St Glens Falls NY United States;X-APPLE-RADIUS=500;X-TITLE=89 Warren St:geo:-73.639958,43.310029
END:VEVENT
BEGIN:VEVENT
DTSTART;TZID=America/New_York:20260427T100000
DTEND;TZID=America/New_York:20260427T150000
DTSTAMP:20260419T183542
CREATED:20260415T032422Z
LAST-MODIFIED:20260415T032422Z
UID:10006675-1777284000-1777302000@worldchildrensmuseum.org
SUMMARY:Open for General Admission
DESCRIPTION:Tickets can be purchased online at https://events.ticketleap.com/tickets/wacm-1/museum-admission-2026Admission Costs:Members: FreeNot-Yet-Members: $7 per person\, children under 12mo. are free.Please visit our website for more information on admission: https://worldchildrensmuseum.org/for-visitors/
URL:https://worldchildrensmuseum.org/events/open-for-general-admission-1666/
LOCATION:World Awareness Children’s Museum\, 89 Warren St\, Glens Falls\, NY\, United States
GEO:43.310029;-73.639958
X-APPLE-STRUCTURED-LOCATION;VALUE=URI;X-ADDRESS=World Awareness Children’s Museum 89 Warren St Glens Falls NY United States;X-APPLE-RADIUS=500;X-TITLE=89 Warren St:geo:-73.639958,43.310029
END:VEVENT
BEGIN:VEVENT
DTSTART;TZID=America/New_York:20260427T100000
DTEND;TZID=America/New_York:20260427T150000
DTSTAMP:20260419T183542
CREATED:20260415T032423Z
LAST-MODIFIED:20260415T032423Z
UID:10006671-1777284000-1777302000@worldchildrensmuseum.org
SUMMARY:Open for General Admission
DESCRIPTION:Tickets can be purchased online at https://events.ticketleap.com/tickets/wacm-1/museum-admission-2026Admission Costs:Members: FreeNot-Yet-Members: $7 per person\, children under 12mo. are free.Please visit our website for more information on admission: https://worldchildrensmuseum.org/for-visitors/
URL:https://worldchildrensmuseum.org/events/open-for-general-admission-1667/
LOCATION:World Awareness Children’s Museum\, 89 Warren St\, Glens Falls\, NY\, United States
GEO:43.310029;-73.639958
X-APPLE-STRUCTURED-LOCATION;VALUE=URI;X-ADDRESS=World Awareness Children’s Museum 89 Warren St Glens Falls NY United States;X-APPLE-RADIUS=500;X-TITLE=89 Warren St:geo:-73.639958,43.310029
END:VEVENT
BEGIN:VEVENT
DTSTART;TZID=America/New_York:20260427T103000
DTEND;TZID=America/New_York:20260427T113000
DTSTAMP:20260419T183542
CREATED:20260318T015306Z
LAST-MODIFIED:20260415T032424Z
UID:10006592-1777285800-1777289400@worldchildrensmuseum.org
SUMMARY:Music & Movement
DESCRIPTION:Learn beside Miss Susie for a joyful morning of rhythm\, movement\, and hands-on musical exploration! Children and caregivers will sing\, move\, and make music together while discovering how we learn through listening\, playing\, and creative expression. As the Zimbabwe proverb says\, “If you can speak you can sing and if you can walk you can dance!” \nCost: Free with admissionAges: All ages welcome
URL:https://worldchildrensmuseum.org/events/music-movement-2/
LOCATION:World Awareness Children’s Museum\, 89 Warren St\, Glens Falls\, NY\, United States
GEO:43.310029;-73.639958
X-APPLE-STRUCTURED-LOCATION;VALUE=URI;X-ADDRESS=World Awareness Children’s Museum 89 Warren St Glens Falls NY United States;X-APPLE-RADIUS=500;X-TITLE=89 Warren St:geo:-73.639958,43.310029
END:VEVENT
BEGIN:VEVENT
DTSTART;TZID=America/New_York:20260427T103000
DTEND;TZID=America/New_York:20260427T120000
DTSTAMP:20260419T183542
CREATED:20260318T015307Z
LAST-MODIFIED:20260415T032423Z
UID:10006593-1777285800-1777291200@worldchildrensmuseum.org
SUMMARY:Homeschool Hangout
DESCRIPTION:Homeschool Hangout\nCollect your passport and explore a new country or culture each month! Through stories\, art\, and hands-on activities\, homeschool families are invited to learn and discover together at their own pace in this relaxed\, drop-in program. \nThis month’s featured activity is Music & Movement (10:30–11:30am) with Susie Barber\, our museum music educator\, for a joyful morning of rhythm\, movement\, and hands-on musical exploration. As the Zimbabwe proverb says\, “If you can speak you can sing and if you can walk you can dance!” \n \nCost: Free with admissionBest for ages: 5 and up (all ages welcome)
URL:https://worldchildrensmuseum.org/events/homeschool-hangout-3/
LOCATION:World Awareness Children’s Museum\, 89 Warren St\, Glens Falls\, NY\, United States
GEO:43.310029;-73.639958
X-APPLE-STRUCTURED-LOCATION;VALUE=URI;X-ADDRESS=World Awareness Children’s Museum 89 Warren St Glens Falls NY United States;X-APPLE-RADIUS=500;X-TITLE=89 Warren St:geo:-73.639958,43.310029
END:VEVENT
BEGIN:VEVENT
DTSTART;TZID=America/New_York:20260430T100000
DTEND;TZID=America/New_York:20260430T150000
DTSTAMP:20260419T183542
CREATED:20250414T190939Z
LAST-MODIFIED:20250619T190935Z
UID:10004424-1777543200-1777561200@worldchildrensmuseum.org
SUMMARY:Open for General Admission
DESCRIPTION:Tickets can be purchased online at https://wacm.ticketleap.com/museum-admission-2024/Admission Costs:Members: FreeNot-Yet-Members: $7 per person\, children under 12mo. are free.Please visit our website for more information on admission: https://worldchildrensmuseum.org/for-visitors/
URL:https://worldchildrensmuseum.org/events/open-for-general-admission-2243/
LOCATION:World Awareness Children’s Museum\, 89 Warren St\, Glens Falls\, NY\, United States
GEO:43.310029;-73.639958
X-APPLE-STRUCTURED-LOCATION;VALUE=URI;X-ADDRESS=World Awareness Children’s Museum 89 Warren St Glens Falls NY United States;X-APPLE-RADIUS=500;X-TITLE=89 Warren St:geo:-73.639958,43.310029
END:VEVENT
BEGIN:VEVENT
DTSTART;TZID=America/New_York:20260430T100000
DTEND;TZID=America/New_York:20260430T150000
DTSTAMP:20260419T183542
CREATED:20260415T032424Z
LAST-MODIFIED:20260415T032427Z
UID:10006672-1777543200-1777561200@worldchildrensmuseum.org
SUMMARY:Open for General Admission
DESCRIPTION:Tickets can be purchased online at https://events.ticketleap.com/tickets/wacm-1/museum-admission-2026Admission Costs:Members: FreeNot-Yet-Members: $7 per person\, children under 12mo. are free.Please visit our website for more information on admission: https://worldchildrensmuseum.org/for-visitors/
URL:https://worldchildrensmuseum.org/events/open-for-general-admission-1668/
LOCATION:World Awareness Children’s Museum\, 89 Warren St\, Glens Falls\, NY\, United States
GEO:43.310029;-73.639958
X-APPLE-STRUCTURED-LOCATION;VALUE=URI;X-ADDRESS=World Awareness Children’s Museum 89 Warren St Glens Falls NY United States;X-APPLE-RADIUS=500;X-TITLE=89 Warren St:geo:-73.639958,43.310029
END:VEVENT
BEGIN:VEVENT
DTSTART;TZID=America/New_York:20260430T103000
DTEND;TZID=America/New_York:20260430T113000
DTSTAMP:20260419T183542
CREATED:20260318T015307Z
LAST-MODIFIED:20260415T032425Z
UID:10006594-1777545000-1777548600@worldchildrensmuseum.org
SUMMARY:Kinder Rhythm
DESCRIPTION:Join us for a lively\, intergenerational\, interactive music session ideal for children ages 1–5. This program inspires creativity\, joyful play\, and social connection through the power of group rhythm-making. We’ll sing\, dance\, play instruments\, and move to the beat together! \n \nCost: Free with Admission
URL:https://worldchildrensmuseum.org/events/kinder-rhythm-24/
LOCATION:89 Warren St\, Glens Falls\, NY\, United States
GEO:43.30952;-73.64401
END:VEVENT
BEGIN:VEVENT
DTSTART;TZID=America/New_York:20260430T120000
DTEND;TZID=America/New_York:20260430T130000
DTSTAMP:20260419T183542
CREATED:20260318T015308Z
LAST-MODIFIED:20260415T032426Z
UID:10006595-1777550400-1777554000@worldchildrensmuseum.org
SUMMARY:Kinder Krafts!
DESCRIPTION:Start the morning with one of our most popular programs\, Kinder Rhythm\, then stay for some creative krafting fun for preschoolers! Create simple art projects designed for little hands and big imaginations.  Cost: Free with admission.
URL:https://worldchildrensmuseum.org/events/kinder-krafts-19/
LOCATION:89 Warren St\, Glens Falls\, NY\, United States
GEO:43.30952;-73.64401
END:VEVENT
BEGIN:VEVENT
DTSTART;TZID=America/New_York:20260501T100000
DTEND;TZID=America/New_York:20260501T150000
DTSTAMP:20260419T183542
CREATED:20250415T162424Z
LAST-MODIFIED:20250619T190935Z
UID:10004425-1777629600-1777647600@worldchildrensmuseum.org
SUMMARY:Open for General Admission
DESCRIPTION:Tickets can be purchased online at https://wacm.ticketleap.com/museum-admission-2024/Admission Costs:Members: FreeNot-Yet-Members: $7 per person\, children under 12mo. are free.Please visit our website for more information on admission: https://worldchildrensmuseum.org/for-visitors/
URL:https://worldchildrensmuseum.org/events/open-for-general-admission-2244/
LOCATION:World Awareness Children’s Museum\, 89 Warren St\, Glens Falls\, NY\, United States
GEO:43.310029;-73.639958
X-APPLE-STRUCTURED-LOCATION;VALUE=URI;X-ADDRESS=World Awareness Children’s Museum 89 Warren St Glens Falls NY United States;X-APPLE-RADIUS=500;X-TITLE=89 Warren St:geo:-73.639958,43.310029
END:VEVENT
BEGIN:VEVENT
DTSTART;TZID=America/New_York:20260501T103000
DTEND;TZID=America/New_York:20260501T113000
DTSTAMP:20260419T183542
CREATED:20260415T032432Z
LAST-MODIFIED:20260415T032437Z
UID:10006679-1777631400-1777635000@worldchildrensmuseum.org
SUMMARY:Storytime Friday AM
DESCRIPTION:Everyone is welcome at Storytime Fridays\, a recurring program designed to spark joy and curiosity in little ones!  \nEach week\, we explore early literacy skills through movement\, imaginative play\, and a creative craft that brings the story to life. Perfect for toddlers\, preschoolers\, and their caregivers. \nCost: Free with Admission
URL:https://worldchildrensmuseum.org/events/storytime-friday-am-16/
LOCATION:89 Warren St\, Glens Falls\, NY\, United States
GEO:43.30952;-73.64401
END:VEVENT
BEGIN:VEVENT
DTSTART;TZID=America/New_York:20260501T120000
DTEND;TZID=America/New_York:20260501T130000
DTSTAMP:20260419T183542
CREATED:20260415T032433Z
LAST-MODIFIED:20260415T032437Z
UID:10006680-1777636800-1777640400@worldchildrensmuseum.org
SUMMARY:Handprint Friends
DESCRIPTION:Create your own unique “friend” each week using your very own handprint! Perfect for children ages 2 and up\, this fun and creative series lets little artists bring home a new handmade friend every Friday. \nCost: Free with admission
URL:https://worldchildrensmuseum.org/events/handprint-friends-19/
LOCATION:89 Warren St\, Glens Falls\, NY\, United States
GEO:43.30952;-73.64401
END:VEVENT
BEGIN:VEVENT
DTSTART;TZID=America/New_York:20260501T133000
DTEND;TZID=America/New_York:20260501T143000
DTSTAMP:20260419T183542
CREATED:20260415T032434Z
LAST-MODIFIED:20260415T032437Z
UID:10006681-1777642200-1777645800@worldchildrensmuseum.org
SUMMARY:Storytime Friday PM
DESCRIPTION:Everyone is welcome at Storytime Fridays\, a recurring program designed to spark joy and curiosity in little ones!  \nEach week\, we explore early literacy skills through movement\, imaginative play\, and a creative craft that brings the story to life. Perfect for toddlers\, preschoolers\, and their caregivers. \nCost: Free with Admission
URL:https://worldchildrensmuseum.org/events/storytime-friday-pm-16/
LOCATION:89 Warren St\, Glens Falls\, NY\, United States
GEO:43.30952;-73.64401
END:VEVENT
BEGIN:VEVENT
DTSTART;TZID=America/New_York:20260502T100000
DTEND;TZID=America/New_York:20260502T150000
DTSTAMP:20260419T183542
CREATED:20250415T192419Z
LAST-MODIFIED:20250619T190935Z
UID:10004426-1777716000-1777734000@worldchildrensmuseum.org
SUMMARY:Open for General Admission
DESCRIPTION:Tickets can be purchased online at https://wacm.ticketleap.com/museum-admission-2024/Admission Costs:Members: FreeNot-Yet-Members: $7 per person\, children under 12mo. are free.Please visit our website for more information on admission: https://worldchildrensmuseum.org/for-visitors/
URL:https://worldchildrensmuseum.org/events/open-for-general-admission-2245/
LOCATION:World Awareness Children’s Museum\, 89 Warren St\, Glens Falls\, NY\, United States
GEO:43.310029;-73.639958
X-APPLE-STRUCTURED-LOCATION;VALUE=URI;X-ADDRESS=World Awareness Children’s Museum 89 Warren St Glens Falls NY United States;X-APPLE-RADIUS=500;X-TITLE=89 Warren St:geo:-73.639958,43.310029
END:VEVENT
BEGIN:VEVENT
DTSTART;TZID=America/New_York:20260502T100000
DTEND;TZID=America/New_York:20260502T150000
DTSTAMP:20260419T183542
CREATED:20260415T032437Z
LAST-MODIFIED:20260415T032437Z
UID:10006676-1777716000-1777734000@worldchildrensmuseum.org
SUMMARY:Bring Your Favorite Accessory Day!
DESCRIPTION:Bring Your Favorite Accessory! \nShow off something special from home—your favorite bow\, hat\, bracelet\, badge\, cape\, or anything you love to wear! Explore the museum in style\, draw a favorite moment in the Art Room\, and don’t miss our cultural dress-up mirror for a fun photo stop.  \nLook at You Around the World!Try on real clothing pieces inspired by cultures around the globe\, right over your everyday outfit. Take a photo in your favorite accessory\, dress up in something new\, or try both!  \nCost: Free with Admission
URL:https://worldchildrensmuseum.org/events/bring-your-favorite-accessory-day-2/
LOCATION:89 Warren St\, Glens Falls\, NY\, United States
GEO:43.30952;-73.64401
END:VEVENT
BEGIN:VEVENT
DTSTART;TZID=America/New_York:20260502T100000
DTEND;TZID=America/New_York:20260502T150000
DTSTAMP:20260419T183542
CREATED:20260415T032437Z
LAST-MODIFIED:20260415T032437Z
UID:10006683-1777716000-1777734000@worldchildrensmuseum.org
SUMMARY:Bring Your Favorite Accessory Day!
DESCRIPTION:Bring Your Favorite Accessory! \nShow off something special from home—your favorite bow\, hat\, bracelet\, badge\, cape\, or anything you love to wear! Explore the museum in style\, draw a favorite moment in the Art Room\, and don’t miss our cultural dress-up mirror for a fun photo stop.  \nLook at You Around the World!Try on real clothing pieces inspired by cultures around the globe\, right over your everyday outfit. Take a photo in your favorite accessory\, dress up in something new\, or try both!  \nCost: Free with Admission
URL:https://worldchildrensmuseum.org/events/bring-your-favorite-accessory-day/
LOCATION:89 Warren St\, Glens Falls\, NY\, United States
GEO:43.30952;-73.64401
END:VEVENT
BEGIN:VEVENT
DTSTART;TZID=America/New_York:20260503T100000
DTEND;TZID=America/New_York:20260503T150000
DTSTAMP:20260419T183543
CREATED:20250416T173955Z
LAST-MODIFIED:20250619T190935Z
UID:10004427-1777802400-1777820400@worldchildrensmuseum.org
SUMMARY:Open for General Admission
DESCRIPTION:Tickets can be purchased online at https://wacm.ticketleap.com/museum-admission-2024/Admission Costs:Members: FreeNot-Yet-Members: $7 per person\, children under 12mo. are free.Please visit our website for more information on admission: https://worldchildrensmuseum.org/for-visitors/
URL:https://worldchildrensmuseum.org/events/open-for-general-admission-2246/
LOCATION:World Awareness Children’s Museum\, 89 Warren St\, Glens Falls\, NY\, United States
GEO:43.310029;-73.639958
X-APPLE-STRUCTURED-LOCATION;VALUE=URI;X-ADDRESS=World Awareness Children’s Museum 89 Warren St Glens Falls NY United States;X-APPLE-RADIUS=500;X-TITLE=89 Warren St:geo:-73.639958,43.310029
END:VEVENT
BEGIN:VEVENT
DTSTART;TZID=America/New_York:20260504T100000
DTEND;TZID=America/New_York:20260504T150000
DTSTAMP:20260419T183543
CREATED:20250416T182445Z
LAST-MODIFIED:20250619T190935Z
UID:10004428-1777888800-1777906800@worldchildrensmuseum.org
SUMMARY:Open for General Admission
DESCRIPTION:Tickets can be purchased online at https://wacm.ticketleap.com/museum-admission-2024/Admission Costs:Members: FreeNot-Yet-Members: $7 per person\, children under 12mo. are free.Please visit our website for more information on admission: https://worldchildrensmuseum.org/for-visitors/
URL:https://worldchildrensmuseum.org/events/open-for-general-admission-2247/
LOCATION:World Awareness Children’s Museum\, 89 Warren St\, Glens Falls\, NY\, United States
GEO:43.310029;-73.639958
X-APPLE-STRUCTURED-LOCATION;VALUE=URI;X-ADDRESS=World Awareness Children’s Museum 89 Warren St Glens Falls NY United States;X-APPLE-RADIUS=500;X-TITLE=89 Warren St:geo:-73.639958,43.310029
END:VEVENT
BEGIN:VEVENT
DTSTART;TZID=America/New_York:20260504T103000
DTEND;TZID=America/New_York:20260504T113000
DTSTAMP:20260419T183543
CREATED:20260415T032443Z
LAST-MODIFIED:20260415T032451Z
UID:10006685-1777890600-1777894200@worldchildrensmuseum.org
SUMMARY:Fiesta Sensory Play for Preschoolers! Colors of Cinco de Mayo
DESCRIPTION:Fiesta Sensory PlayCelebrate with a colorful\, hands-on sensory experience inspired by festive traditions! Lil' Explorers' are invited to scoop\, pour\, sort\, and explore a variety of bright materials\, textures\, and playful elements. This open-ended activity encourages curiosity\, fine motor skills\, and joyful discovery through play. \nAges: 2–5 yearsCost: Free with admission
URL:https://worldchildrensmuseum.org/events/fiesta-sensory-play-for-preschoolers-colors-of-cinco-de-mayo/
LOCATION:89 Warren St\, Glens Falls\, NY\, United States
GEO:43.30952;-73.64401
END:VEVENT
BEGIN:VEVENT
DTSTART;TZID=America/New_York:20260507T100000
DTEND;TZID=America/New_York:20260507T150000
DTSTAMP:20260419T183543
CREATED:20250416T190924Z
LAST-MODIFIED:20250619T190935Z
UID:10004429-1778148000-1778166000@worldchildrensmuseum.org
SUMMARY:Open for General Admission
DESCRIPTION:Tickets can be purchased online at https://wacm.ticketleap.com/museum-admission-2024/Admission Costs:Members: FreeNot-Yet-Members: $7 per person\, children under 12mo. are free.Please visit our website for more information on admission: https://worldchildrensmuseum.org/for-visitors/
URL:https://worldchildrensmuseum.org/events/open-for-general-admission-2248/
LOCATION:World Awareness Children’s Museum\, 89 Warren St\, Glens Falls\, NY\, United States
GEO:43.310029;-73.639958
X-APPLE-STRUCTURED-LOCATION;VALUE=URI;X-ADDRESS=World Awareness Children’s Museum 89 Warren St Glens Falls NY United States;X-APPLE-RADIUS=500;X-TITLE=89 Warren St:geo:-73.639958,43.310029
END:VEVENT
BEGIN:VEVENT
DTSTART;TZID=America/New_York:20260507T120000
DTEND;TZID=America/New_York:20260507T130000
DTSTAMP:20260419T183543
CREATED:20260415T032447Z
LAST-MODIFIED:20260415T032451Z
UID:10006687-1778155200-1778158800@worldchildrensmuseum.org
SUMMARY:Kinder Krafts!
DESCRIPTION:Get creative with hands-on art designed just for preschoolers! Little artists will explore simple projects that encourage imagination\, fine motor skills\, and self-expression. Perfect for small hands and big ideas\, this program invites children to create\, play\, and take home their own special masterpiece. \nAges: 2–5 yearsCost: Free with admission \nCost: Free with admission.
URL:https://worldchildrensmuseum.org/events/kinder-krafts-20/
LOCATION:89 Warren St\, Glens Falls\, NY\, United States
GEO:43.30952;-73.64401
END:VEVENT
BEGIN:VEVENT
DTSTART;TZID=America/New_York:20260508T100000
DTEND;TZID=America/New_York:20260508T150000
DTSTAMP:20260419T183543
CREATED:20250417T155452Z
LAST-MODIFIED:20250619T190936Z
UID:10004430-1778234400-1778252400@worldchildrensmuseum.org
SUMMARY:Open for General Admission
DESCRIPTION:Tickets can be purchased online at https://wacm.ticketleap.com/museum-admission-2024/Admission Costs:Members: FreeNot-Yet-Members: $7 per person\, children under 12mo. are free.Please visit our website for more information on admission: https://worldchildrensmuseum.org/for-visitors/
URL:https://worldchildrensmuseum.org/events/open-for-general-admission-2249/
LOCATION:World Awareness Children’s Museum\, 89 Warren St\, Glens Falls\, NY\, United States
GEO:43.310029;-73.639958
X-APPLE-STRUCTURED-LOCATION;VALUE=URI;X-ADDRESS=World Awareness Children’s Museum 89 Warren St Glens Falls NY United States;X-APPLE-RADIUS=500;X-TITLE=89 Warren St:geo:-73.639958,43.310029
END:VEVENT
BEGIN:VEVENT
DTSTART;TZID=America/New_York:20260508T103000
DTEND;TZID=America/New_York:20260508T113000
DTSTAMP:20260419T183543
CREATED:20260415T032449Z
LAST-MODIFIED:20260415T032452Z
UID:10006689-1778236200-1778239800@worldchildrensmuseum.org
SUMMARY:Storytime Friday AM
DESCRIPTION:Everyone is welcome at Storytime Fridays\, a recurring program designed to spark joy and curiosity in little ones!  \nEach week\, we explore early literacy skills through movement\, imaginative play\, and a creative craft that brings the story to life. Perfect for toddlers\, preschoolers\, and their caregivers. \nCost: Free with Admission
URL:https://worldchildrensmuseum.org/events/storytime-friday-am-17/
LOCATION:89 Warren St\, Glens Falls\, NY\, United States
GEO:43.30952;-73.64401
END:VEVENT
BEGIN:VEVENT
DTSTART;TZID=America/New_York:20260508T120000
DTEND;TZID=America/New_York:20260508T130000
DTSTAMP:20260419T183543
CREATED:20260415T032450Z
LAST-MODIFIED:20260415T032452Z
UID:10006690-1778241600-1778245200@worldchildrensmuseum.org
SUMMARY:Handprint Friends
DESCRIPTION:Create your own unique “friend” each week using your very own handprint! Perfect for children ages 2 and up\, this fun and creative series lets little artists bring home a new handmade friend every Friday. \nCost: Free with admission
URL:https://worldchildrensmuseum.org/events/handprint-friends-20/
LOCATION:89 Warren St\, Glens Falls\, NY\, United States
GEO:43.30952;-73.64401
END:VEVENT
BEGIN:VEVENT
DTSTART;TZID=America/New_York:20260508T133000
DTEND;TZID=America/New_York:20260508T143000
DTSTAMP:20260419T183543
CREATED:20260415T032452Z
LAST-MODIFIED:20260415T032453Z
UID:10006691-1778247000-1778250600@worldchildrensmuseum.org
SUMMARY:Storytime Friday PM
DESCRIPTION:Everyone is welcome at Storytime Fridays\, a recurring program designed to spark joy and curiosity in little ones!  \nEach week\, we explore early literacy skills through movement\, imaginative play\, and a creative craft that brings the story to life. Perfect for toddlers\, preschoolers\, and their caregivers. \nCost: Free with Admission
URL:https://worldchildrensmuseum.org/events/storytime-friday-pm-17/
LOCATION:89 Warren St\, Glens Falls\, NY\, United States
GEO:43.30952;-73.64401
END:VEVENT
BEGIN:VEVENT
DTSTART;TZID=America/New_York:20260509T100000
DTEND;TZID=America/New_York:20260509T150000
DTSTAMP:20260419T183543
CREATED:20250417T190927Z
LAST-MODIFIED:20250619T190936Z
UID:10004432-1778320800-1778338800@worldchildrensmuseum.org
SUMMARY:Open for General Admission
DESCRIPTION:Tickets can be purchased online at https://wacm.ticketleap.com/museum-admission-2024/Admission Costs:Members: FreeNot-Yet-Members: $7 per person\, children under 12mo. are free.Please visit our website for more information on admission: https://worldchildrensmuseum.org/for-visitors/
URL:https://worldchildrensmuseum.org/events/open-for-general-admission-2250/
LOCATION:World Awareness Children’s Museum\, 89 Warren St\, Glens Falls\, NY\, United States
GEO:43.310029;-73.639958
X-APPLE-STRUCTURED-LOCATION;VALUE=URI;X-ADDRESS=World Awareness Children’s Museum 89 Warren St Glens Falls NY United States;X-APPLE-RADIUS=500;X-TITLE=89 Warren St:geo:-73.639958,43.310029
END:VEVENT
BEGIN:VEVENT
DTSTART;TZID=America/New_York:20260510T100000
DTEND;TZID=America/New_York:20260510T150000
DTSTAMP:20260419T183543
CREATED:20250418T153927Z
LAST-MODIFIED:20260415T032505Z
UID:10004433-1778407200-1778425200@worldchildrensmuseum.org
SUMMARY:Free Day!
DESCRIPTION:Visit the museum for free today\, thanks to Stewart’s Holiday Match and all who contributed! We are pleased to offer these free days from 10am-3pm once per month. Donations are appreciated but not required. \nFree Days are generously sponsored by Stewart’s Holiday Match.  \nYou can learn more by visiting www.stewartsshops.com/community-giving
URL:https://worldchildrensmuseum.org/events/free-day-61/
LOCATION:NY
END:VEVENT
END:VCALENDAR