BEGIN:VCALENDAR
VERSION:2.0
PRODID:-//World Awareness Children&#039;s Museum - ECPv6.15.20//NONSGML v1.0//EN
CALSCALE:GREGORIAN
METHOD:PUBLISH
X-ORIGINAL-URL:https://worldchildrensmuseum.org
X-WR-CALDESC:Events for World Awareness Children&#039;s Museum
REFRESH-INTERVAL;VALUE=DURATION:PT1H
X-Robots-Tag:noindex
X-PUBLISHED-TTL:PT1H
BEGIN:VTIMEZONE
TZID:America/New_York
BEGIN:DAYLIGHT
TZOFFSETFROM:-0500
TZOFFSETTO:-0400
TZNAME:EDT
DTSTART:20250309T070000
END:DAYLIGHT
BEGIN:STANDARD
TZOFFSETFROM:-0400
TZOFFSETTO:-0500
TZNAME:EST
DTSTART:20251102T060000
END:STANDARD
BEGIN:DAYLIGHT
TZOFFSETFROM:-0500
TZOFFSETTO:-0400
TZNAME:EDT
DTSTART:20260308T070000
END:DAYLIGHT
BEGIN:STANDARD
TZOFFSETFROM:-0400
TZOFFSETTO:-0500
TZNAME:EST
DTSTART:20261101T060000
END:STANDARD
BEGIN:DAYLIGHT
TZOFFSETFROM:-0500
TZOFFSETTO:-0400
TZNAME:EDT
DTSTART:20270314T070000
END:DAYLIGHT
BEGIN:STANDARD
TZOFFSETFROM:-0400
TZOFFSETTO:-0500
TZNAME:EST
DTSTART:20271107T060000
END:STANDARD
END:VTIMEZONE
BEGIN:VEVENT
DTSTART;TZID=America/New_York:20260522T103000
DTEND;TZID=America/New_York:20260522T113000
DTSTAMP:20260419T221439
CREATED:20260415T032541Z
LAST-MODIFIED:20260415T032546Z
UID:10006717-1779445800-1779449400@worldchildrensmuseum.org
SUMMARY:Storytime Friday AM
DESCRIPTION:Everyone is welcome at Storytime Fridays\, a recurring program designed to spark joy and curiosity in little ones!  \nEach week\, we explore early literacy skills through movement\, imaginative play\, and a creative craft that brings the story to life. Perfect for toddlers\, preschoolers\, and their caregivers. \nCost: Free with Admission
URL:https://worldchildrensmuseum.org/events/storytime-friday-am-19/
LOCATION:89 Warren St\, Glens Falls\, NY\, United States
GEO:43.30952;-73.64401
END:VEVENT
BEGIN:VEVENT
DTSTART;TZID=America/New_York:20260522T120000
DTEND;TZID=America/New_York:20260522T130000
DTSTAMP:20260419T221439
CREATED:20260415T032547Z
LAST-MODIFIED:20260415T032551Z
UID:10006719-1779451200-1779454800@worldchildrensmuseum.org
SUMMARY:Handprint Friends
DESCRIPTION:Create your own unique “friend” each week using your very own handprint! Perfect for children ages 2 and up\, this fun and creative series lets little artists bring home a new handmade friend every Friday. \nCost: Free with admission
URL:https://worldchildrensmuseum.org/events/handprint-friends-22/
LOCATION:89 Warren St\, Glens Falls\, NY\, United States
GEO:43.30952;-73.64401
END:VEVENT
BEGIN:VEVENT
DTSTART;TZID=America/New_York:20260522T133000
DTEND;TZID=America/New_York:20260522T143000
DTSTAMP:20260419T221439
CREATED:20260415T032546Z
LAST-MODIFIED:20260415T032549Z
UID:10006718-1779456600-1779460200@worldchildrensmuseum.org
SUMMARY:Storytime Friday PM
DESCRIPTION:Everyone is welcome at Storytime Fridays\, a recurring program designed to spark joy and curiosity in little ones!  \nEach week\, we explore early literacy skills through movement\, imaginative play\, and a creative craft that brings the story to life. Perfect for toddlers\, preschoolers\, and their caregivers. \nCost: Free with Admission
URL:https://worldchildrensmuseum.org/events/storytime-friday-pm-19/
LOCATION:89 Warren St\, Glens Falls\, NY\, United States
GEO:43.30952;-73.64401
END:VEVENT
BEGIN:VEVENT
DTSTART;TZID=America/New_York:20260523T100000
DTEND;TZID=America/New_York:20260523T150000
DTSTAMP:20260419T221439
CREATED:20250511T190940Z
LAST-MODIFIED:20250619T190937Z
UID:10004467-1779530400-1779548400@worldchildrensmuseum.org
SUMMARY:Open for General Admission
DESCRIPTION:Tickets can be purchased online at https://wacm.ticketleap.com/museum-admission-2024/Admission Costs:Members: FreeNot-Yet-Members: $7 per person\, children under 12mo. are free.Please visit our website for more information on admission: https://worldchildrensmuseum.org/for-visitors/
URL:https://worldchildrensmuseum.org/events/open-for-general-admission-2260/
LOCATION:World Awareness Children’s Museum\, 89 Warren St\, Glens Falls\, NY\, United States
GEO:43.310029;-73.639958
X-APPLE-STRUCTURED-LOCATION;VALUE=URI;X-ADDRESS=World Awareness Children’s Museum 89 Warren St Glens Falls NY United States;X-APPLE-RADIUS=500;X-TITLE=89 Warren St:geo:-73.639958,43.310029
END:VEVENT
BEGIN:VEVENT
DTSTART;TZID=America/New_York:20260523T103000
DTEND;TZID=America/New_York:20260523T110000
DTSTAMP:20260419T221439
CREATED:20260415T032547Z
LAST-MODIFIED:20260415T032555Z
UID:10006721-1779532200-1779534000@worldchildrensmuseum.org
SUMMARY:GROW Your Slime Lab: Group 1
DESCRIPTION:GROW Your Slime LabWatch your slime grow as you mix\, stretch\, and experiment! In this hands-on workshop\, young scientists will explore how different ingredients can change texture and size—making their slime fluffier and bigger as they go. This fun\, interactive experience encourages creativity\, curiosity\, and simple science exploration. \nBest for ages: 5+Session times:  \nGroup 1: 10:30am   \nGroup 2: 11:00am \nCost: Free with admission \nReserve your spot: Call 518-793-2773 or visit ticketleap.events/events/wacm-1 \nIMPORTANT: When registering online\, be sure to select the specific Slime Lab session\, not just general admission tickets.
URL:https://worldchildrensmuseum.org/events/grow-your-slime-lab-group-1/
LOCATION:89 Warren St\, Glens Falls\, NY\, United States
GEO:43.30952;-73.64401
END:VEVENT
BEGIN:VEVENT
DTSTART;TZID=America/New_York:20260523T110000
DTEND;TZID=America/New_York:20260523T113000
DTSTAMP:20260419T221439
CREATED:20260415T032547Z
LAST-MODIFIED:20260415T032556Z
UID:10006722-1779534000-1779535800@worldchildrensmuseum.org
SUMMARY:GROW Your Slime Lab: Group 2
DESCRIPTION:GROW Your Slime LabWatch your slime grow as you mix\, stretch\, and experiment! In this hands-on workshop\, young scientists will explore how different ingredients can change texture and size—making their slime fluffier and bigger as they go. This fun\, interactive experience encourages creativity\, curiosity\, and simple science exploration. \nBest for ages: 5+Session times:  \nGroup 1: 10:30am   \nGroup 2: 11:00am \nCost: Free with admission \nReserve your spot: Call 518-793-2773 or visit ticketleap.events/events/wacm-1 \nIMPORTANT: When registering online\, be sure to select the specific Slime Lab session\, not just general admission tickets.
URL:https://worldchildrensmuseum.org/events/grow-your-slime-lab-group-2/
LOCATION:89 Warren St\, Glens Falls\, NY\, United States
GEO:43.30952;-73.64401
END:VEVENT
BEGIN:VEVENT
DTSTART;TZID=America/New_York:20260523T120000
DTEND;TZID=America/New_York:20260523T130000
DTSTAMP:20260419T221439
CREATED:20260415T032548Z
LAST-MODIFIED:20260415T032558Z
UID:10006723-1779537600-1779541200@worldchildrensmuseum.org
SUMMARY:Cherry Blossom Art Studio
DESCRIPTION:Cherry Blossom Art StudioCelebrate the beauty of spring and Asian American and Pacific Islander Heritage Month with a cherry blossom-inspired art project! Children will create their own blooming masterpiece using soft colors and textured materials to capture the look of delicate blossoms. This hands-on activity encourages creativity\, observation\, and an appreciation for seasonal traditions celebrated in many cultures. \nBest for ages: 5+Cost: Free with admission
URL:https://worldchildrensmuseum.org/events/cherry-blossom-art-studio/
LOCATION:89 Warren St\, Glens Falls\, NY\, United States
GEO:43.30952;-73.64401
END:VEVENT
BEGIN:VEVENT
DTSTART;TZID=America/New_York:20260524T100000
DTEND;TZID=America/New_York:20260524T150000
DTSTAMP:20260419T221439
CREATED:20250511T190941Z
LAST-MODIFIED:20250619T190938Z
UID:10004468-1779616800-1779634800@worldchildrensmuseum.org
SUMMARY:Open for General Admission
DESCRIPTION:Tickets can be purchased online at https://wacm.ticketleap.com/museum-admission-2024/Admission Costs:Members: FreeNot-Yet-Members: $7 per person\, children under 12mo. are free.Please visit our website for more information on admission: https://worldchildrensmuseum.org/for-visitors/
URL:https://worldchildrensmuseum.org/events/open-for-general-admission-2261/
LOCATION:World Awareness Children’s Museum\, 89 Warren St\, Glens Falls\, NY\, United States
GEO:43.310029;-73.639958
X-APPLE-STRUCTURED-LOCATION;VALUE=URI;X-ADDRESS=World Awareness Children’s Museum 89 Warren St Glens Falls NY United States;X-APPLE-RADIUS=500;X-TITLE=89 Warren St:geo:-73.639958,43.310029
END:VEVENT
BEGIN:VEVENT
DTSTART;TZID=America/New_York:20260524T100000
DTEND;TZID=America/New_York:20260524T150000
DTSTAMP:20260419T221439
CREATED:20260415T032600Z
LAST-MODIFIED:20260415T032600Z
UID:10006732-1779616800-1779634800@worldchildrensmuseum.org
SUMMARY:Make & Take: Red\, White\, and Blue Stars Craft
DESCRIPTION:Make & Take: Red\, White & Blue Star Craft (Self-Guided Activity)Let your creativity shine! Create a bright red\, white\, and blue star to celebrate Memorial Day. Use fun materials to design your own sparkling star and take home a festive keepsake to remember your day at the museum. \nCost: Free with admission & while supplies last
URL:https://worldchildrensmuseum.org/events/make-take-red-white-and-blue-stars-craft-2/
LOCATION:89 Warren St\, Glens Falls\, NY\, United States
GEO:43.30952;-73.64401
END:VEVENT
BEGIN:VEVENT
DTSTART;TZID=America/New_York:20260524T100000
DTEND;TZID=America/New_York:20260524T150000
DTSTAMP:20260419T221439
CREATED:20260415T032600Z
LAST-MODIFIED:20260415T032600Z
UID:10006725-1779616800-1779634800@worldchildrensmuseum.org
SUMMARY:Make & Take: Red\, White\, and Blue Stars Craft
DESCRIPTION:Make & Take: Red\, White & Blue Star Craft (Self-Guided Activity)Let your creativity shine! Create a bright red\, white\, and blue star to celebrate Memorial Day. Use fun materials to design your own sparkling star and take home a festive keepsake to remember your day at the museum. \nCost: Free with admission & while supplies last
URL:https://worldchildrensmuseum.org/events/make-take-red-white-and-blue-stars-craft/
LOCATION:89 Warren St\, Glens Falls\, NY\, United States
GEO:43.30952;-73.64401
END:VEVENT
BEGIN:VEVENT
DTSTART;TZID=America/New_York:20260528T100000
DTEND;TZID=America/New_York:20260528T150000
DTSTAMP:20260419T221439
CREATED:20250515T155425Z
LAST-MODIFIED:20250619T190938Z
UID:10004470-1779962400-1779980400@worldchildrensmuseum.org
SUMMARY:Open for General Admission
DESCRIPTION:Tickets can be purchased online at https://wacm.ticketleap.com/museum-admission-2024/Admission Costs:Members: FreeNot-Yet-Members: $7 per person\, children under 12mo. are free.Please visit our website for more information on admission: https://worldchildrensmuseum.org/for-visitors/
URL:https://worldchildrensmuseum.org/events/open-for-general-admission-2263/
LOCATION:World Awareness Children’s Museum\, 89 Warren St\, Glens Falls\, NY\, United States
GEO:43.310029;-73.639958
X-APPLE-STRUCTURED-LOCATION;VALUE=URI;X-ADDRESS=World Awareness Children’s Museum 89 Warren St Glens Falls NY United States;X-APPLE-RADIUS=500;X-TITLE=89 Warren St:geo:-73.639958,43.310029
END:VEVENT
BEGIN:VEVENT
DTSTART;TZID=America/New_York:20260528T103000
DTEND;TZID=America/New_York:20260528T113000
DTSTAMP:20260419T221439
CREATED:20260415T032602Z
LAST-MODIFIED:20260415T032606Z
UID:10006728-1779964200-1779967800@worldchildrensmuseum.org
SUMMARY:Kinder Rhythm
DESCRIPTION:Join us for a lively\, intergenerational\, interactive music session ideal for children ages 1–5. This program inspires creativity\, joyful play\, and social connection through the power of group rhythm-making. We’ll sing\, dance\, play instruments\, and move to the beat together! \n \nCost: Free with Admission
URL:https://worldchildrensmuseum.org/events/kinder-rhythm-27/
LOCATION:89 Warren St\, Glens Falls\, NY\, United States
GEO:43.30952;-73.64401
END:VEVENT
BEGIN:VEVENT
DTSTART;TZID=America/New_York:20260528T120000
DTEND;TZID=America/New_York:20260528T130000
DTSTAMP:20260419T221439
CREATED:20260415T032602Z
LAST-MODIFIED:20260415T032614Z
UID:10006729-1779969600-1779973200@worldchildrensmuseum.org
SUMMARY:Kinder Krafts!
DESCRIPTION:Get creative with hands-on art designed just for preschoolers! Little artists will explore simple projects that encourage imagination\, fine motor skills\, and self-expression. Perfect for small hands and big ideas\, this program invites children to create\, play\, and take home their own special masterpiece. \nAges: 2–5 yearsCost: Free with admission \nCost: Free with admission.
URL:https://worldchildrensmuseum.org/events/kinder-krafts-23/
LOCATION:89 Warren St\, Glens Falls\, NY\, United States
GEO:43.30952;-73.64401
END:VEVENT
BEGIN:VEVENT
DTSTART;TZID=America/New_York:20260529T100000
DTEND;TZID=America/New_York:20260529T150000
DTSTAMP:20260419T221439
CREATED:20250515T190921Z
LAST-MODIFIED:20250619T190938Z
UID:10004471-1780048800-1780066800@worldchildrensmuseum.org
SUMMARY:Open for General Admission
DESCRIPTION:Tickets can be purchased online at https://wacm.ticketleap.com/museum-admission-2024/Admission Costs:Members: FreeNot-Yet-Members: $7 per person\, children under 12mo. are free.Please visit our website for more information on admission: https://worldchildrensmuseum.org/for-visitors/
URL:https://worldchildrensmuseum.org/events/open-for-general-admission-2264/
LOCATION:World Awareness Children’s Museum\, 89 Warren St\, Glens Falls\, NY\, United States
GEO:43.310029;-73.639958
X-APPLE-STRUCTURED-LOCATION;VALUE=URI;X-ADDRESS=World Awareness Children’s Museum 89 Warren St Glens Falls NY United States;X-APPLE-RADIUS=500;X-TITLE=89 Warren St:geo:-73.639958,43.310029
END:VEVENT
BEGIN:VEVENT
DTSTART;TZID=America/New_York:20260529T103000
DTEND;TZID=America/New_York:20260529T113000
DTSTAMP:20260419T221439
CREATED:20260415T032614Z
LAST-MODIFIED:20260415T032617Z
UID:10006733-1780050600-1780054200@worldchildrensmuseum.org
SUMMARY:Storytime Friday AM
DESCRIPTION:Everyone is welcome at Storytime Fridays\, a recurring program designed to spark joy and curiosity in little ones!  \nEach week\, we explore early literacy skills through movement\, imaginative play\, and a creative craft that brings the story to life. Perfect for toddlers\, preschoolers\, and their caregivers. \nCost: Free with Admission
URL:https://worldchildrensmuseum.org/events/storytime-friday-am-20/
LOCATION:89 Warren St\, Glens Falls\, NY\, United States
GEO:43.30952;-73.64401
END:VEVENT
BEGIN:VEVENT
DTSTART;TZID=America/New_York:20260529T120000
DTEND;TZID=America/New_York:20260529T130000
DTSTAMP:20260419T221439
CREATED:20260415T032602Z
LAST-MODIFIED:20260415T032615Z
UID:10006730-1780056000-1780059600@worldchildrensmuseum.org
SUMMARY:Handprint Friends
DESCRIPTION:Create your own unique “friend” each week using your very own handprint! Perfect for children ages 2 and up\, this fun and creative series lets little artists bring home a new handmade friend every Friday. \nCost: Free with admission
URL:https://worldchildrensmuseum.org/events/handprint-friends-23/
LOCATION:89 Warren St\, Glens Falls\, NY\, United States
GEO:43.30952;-73.64401
END:VEVENT
BEGIN:VEVENT
DTSTART;TZID=America/New_York:20260529T133000
DTEND;TZID=America/New_York:20260529T143000
DTSTAMP:20260419T221439
CREATED:20260415T032614Z
LAST-MODIFIED:20260415T032619Z
UID:10006734-1780061400-1780065000@worldchildrensmuseum.org
SUMMARY:Storytime Friday PM
DESCRIPTION:Everyone is welcome at Storytime Fridays\, a recurring program designed to spark joy and curiosity in little ones!  \nEach week\, we explore early literacy skills through movement\, imaginative play\, and a creative craft that brings the story to life. Perfect for toddlers\, preschoolers\, and their caregivers. \nCost: Free with Admission
URL:https://worldchildrensmuseum.org/events/storytime-friday-pm-20/
LOCATION:89 Warren St\, Glens Falls\, NY\, United States
GEO:43.30952;-73.64401
END:VEVENT
BEGIN:VEVENT
DTSTART;TZID=America/New_York:20260530T100000
DTEND;TZID=America/New_York:20260530T150000
DTSTAMP:20260419T221439
CREATED:20250516T153940Z
LAST-MODIFIED:20250619T190938Z
UID:10004472-1780135200-1780153200@worldchildrensmuseum.org
SUMMARY:Open for General Admission
DESCRIPTION:Tickets can be purchased online at https://wacm.ticketleap.com/museum-admission-2024/Admission Costs:Members: FreeNot-Yet-Members: $7 per person\, children under 12mo. are free.Please visit our website for more information on admission: https://worldchildrensmuseum.org/for-visitors/
URL:https://worldchildrensmuseum.org/events/open-for-general-admission-2265/
LOCATION:World Awareness Children’s Museum\, 89 Warren St\, Glens Falls\, NY\, United States
GEO:43.310029;-73.639958
X-APPLE-STRUCTURED-LOCATION;VALUE=URI;X-ADDRESS=World Awareness Children’s Museum 89 Warren St Glens Falls NY United States;X-APPLE-RADIUS=500;X-TITLE=89 Warren St:geo:-73.639958,43.310029
END:VEVENT
BEGIN:VEVENT
DTSTART;TZID=America/New_York:20260530T103000
DTEND;TZID=America/New_York:20260530T113000
DTSTAMP:20260419T221439
CREATED:20250713T193933Z
LAST-MODIFIED:20260415T032621Z
UID:10004861-1780137000-1780140600@worldchildrensmuseum.org
SUMMARY:Storytime Saturday
DESCRIPTION:Join us for a playful weekend storytime designed for families who can’t make it to our Friday sessions! Each month\, enjoy stories\, songs\, and hands-on crafts that bring the themes to life—all in a fun\, welcoming space for little ones and their grown-ups. \nStorytime supports early literacy\, creativity\, and connection. \nCost: Free with admission
URL:https://worldchildrensmuseum.org/events/storytime-saturday-25/
LOCATION:NY
END:VEVENT
BEGIN:VEVENT
DTSTART;TZID=America/New_York:20260530T120000
DTEND;TZID=America/New_York:20260530T130000
DTSTAMP:20260419T221439
CREATED:20260415T032615Z
LAST-MODIFIED:20260415T032623Z
UID:10006736-1780142400-1780146000@worldchildrensmuseum.org
SUMMARY:Grow Your Own Seed Cup
DESCRIPTION:Grow Your Own Seed Cup Plant the seeds of something new! Children will decorate a terracotta pot\, plant their own seed\, and take it home to grow. This hands-on activity connects to our Freedom to Grow theme and encourages curiosity and care for the natural world. \nBest for ages: 4+ Cost: $5 per participant (Members receive 10% off)Capacity: Limited to 10 lil' plantersRegistration: Pre-registration required \nTo reserve your spot\, call 518-793-2773 or visit ticketleap.events/events/wacm-1
URL:https://worldchildrensmuseum.org/events/grow-your-own-seed-cup/
LOCATION:89 Warren St\, Glens Falls\, NY\, United States
GEO:43.30952;-73.64401
END:VEVENT
BEGIN:VEVENT
DTSTART;TZID=America/New_York:20260530T133000
DTEND;TZID=America/New_York:20260530T143000
DTSTAMP:20260419T221439
CREATED:20250713T193933Z
LAST-MODIFIED:20260415T032624Z
UID:10004862-1780147800-1780151400@worldchildrensmuseum.org
SUMMARY:Storytime Saturday
DESCRIPTION:Join us for a playful weekend storytime designed for families who can’t make it to our Friday sessions! Each month\, enjoy stories\, songs\, and hands-on crafts that bring the themes to life—all in a fun\, welcoming space for little ones and their grown-ups. \nStorytime supports early literacy\, creativity\, and connection. \nCost: Free with admission
URL:https://worldchildrensmuseum.org/events/storytime-saturday-26/
LOCATION:NY
END:VEVENT
BEGIN:VEVENT
DTSTART;TZID=America/New_York:20260531T100000
DTEND;TZID=America/New_York:20260531T150000
DTSTAMP:20260419T221439
CREATED:20250516T190922Z
LAST-MODIFIED:20250619T190938Z
UID:10004473-1780221600-1780239600@worldchildrensmuseum.org
SUMMARY:Open for General Admission
DESCRIPTION:Tickets can be purchased online at https://wacm.ticketleap.com/museum-admission-2024/Admission Costs:Members: FreeNot-Yet-Members: $7 per person\, children under 12mo. are free.Please visit our website for more information on admission: https://worldchildrensmuseum.org/for-visitors/
URL:https://worldchildrensmuseum.org/events/open-for-general-admission-2266/
LOCATION:World Awareness Children’s Museum\, 89 Warren St\, Glens Falls\, NY\, United States
GEO:43.310029;-73.639958
X-APPLE-STRUCTURED-LOCATION;VALUE=URI;X-ADDRESS=World Awareness Children’s Museum 89 Warren St Glens Falls NY United States;X-APPLE-RADIUS=500;X-TITLE=89 Warren St:geo:-73.639958,43.310029
END:VEVENT
BEGIN:VEVENT
DTSTART;TZID=America/New_York:20260601T100000
DTEND;TZID=America/New_York:20260601T150000
DTSTAMP:20260419T221439
CREATED:20250516T190923Z
LAST-MODIFIED:20250619T190938Z
UID:10004474-1780308000-1780326000@worldchildrensmuseum.org
SUMMARY:Open for General Admission
DESCRIPTION:Tickets can be purchased online at https://wacm.ticketleap.com/museum-admission-2024/Admission Costs:Members: FreeNot-Yet-Members: $7 per person\, children under 12mo. are free.Please visit our website for more information on admission: https://worldchildrensmuseum.org/for-visitors/
URL:https://worldchildrensmuseum.org/events/open-for-general-admission-2267/
LOCATION:World Awareness Children’s Museum\, 89 Warren St\, Glens Falls\, NY\, United States
GEO:43.310029;-73.639958
X-APPLE-STRUCTURED-LOCATION;VALUE=URI;X-ADDRESS=World Awareness Children’s Museum 89 Warren St Glens Falls NY United States;X-APPLE-RADIUS=500;X-TITLE=89 Warren St:geo:-73.639958,43.310029
END:VEVENT
BEGIN:VEVENT
DTSTART;TZID=America/New_York:20260601T100000
DTEND;TZID=America/New_York:20260601T150000
DTSTAMP:20260419T221439
CREATED:20251003T182451Z
LAST-MODIFIED:20260415T032629Z
UID:10005796-1780308000-1780326000@worldchildrensmuseum.org
SUMMARY:Open for General Admission
DESCRIPTION:Tickets can be purchased online at https://wacm.ticketleap.com/admission-2025/Admission Costs:Members: FreeNot-Yet-Members: $7 per person\, children under 12mo. are free.Please visit our website for more information on admission: https://worldchildrensmuseum.org/for-visitors/
URL:https://worldchildrensmuseum.org/events/open-for-general-admission-615/
LOCATION:World Awareness Children’s Museum\, 89 Warren St\, Glens Falls\, NY\, United States
GEO:43.310029;-73.639958
X-APPLE-STRUCTURED-LOCATION;VALUE=URI;X-ADDRESS=World Awareness Children’s Museum 89 Warren St Glens Falls NY United States;X-APPLE-RADIUS=500;X-TITLE=89 Warren St:geo:-73.639958,43.310029
END:VEVENT
BEGIN:VEVENT
DTSTART;TZID=America/New_York:20260601T100000
DTEND;TZID=America/New_York:20260601T150000
DTSTAMP:20260419T221439
CREATED:20251024T184014Z
LAST-MODIFIED:20260408T025716Z
UID:10005982-1780308000-1780326000@worldchildrensmuseum.org
SUMMARY:Open for General Admission
DESCRIPTION:Tickets can be purchased online at https://wacm.ticketleap.com/admission-2025/Admission Costs:Members: FreeNot-Yet-Members: $7 per person\, children under 12mo. are free.Please visit our website for more information on admission: https://worldchildrensmuseum.org/for-visitors/
URL:https://worldchildrensmuseum.org/events/open-for-general-admission-762/
LOCATION:World Awareness Children’s Museum\, 89 Warren St\, Glens Falls\, NY\, United States
GEO:43.310029;-73.639958
X-APPLE-STRUCTURED-LOCATION;VALUE=URI;X-ADDRESS=World Awareness Children’s Museum 89 Warren St Glens Falls NY United States;X-APPLE-RADIUS=500;X-TITLE=89 Warren St:geo:-73.639958,43.310029
END:VEVENT
BEGIN:VEVENT
DTSTART;TZID=America/New_York:20260601T100000
DTEND;TZID=America/New_York:20260601T150000
DTSTAMP:20260419T221439
CREATED:20260415T032629Z
LAST-MODIFIED:20260415T032629Z
UID:10006739-1780308000-1780326000@worldchildrensmuseum.org
SUMMARY:Open for General Admission
DESCRIPTION:Tickets can be purchased online at https://events.ticketleap.com/tickets/wacm-1/museum-admission-2026Admission Costs:Members: FreeNot-Yet-Members: $7 per person\, children under 12mo. are free.Please visit our website for more information on admission: https://worldchildrensmuseum.org/for-visitors/
URL:https://worldchildrensmuseum.org/events/open-for-general-admission-1697/
LOCATION:World Awareness Children’s Museum\, 89 Warren St\, Glens Falls\, NY\, United States
GEO:43.310029;-73.639958
X-APPLE-STRUCTURED-LOCATION;VALUE=URI;X-ADDRESS=World Awareness Children’s Museum 89 Warren St Glens Falls NY United States;X-APPLE-RADIUS=500;X-TITLE=89 Warren St:geo:-73.639958,43.310029
END:VEVENT
BEGIN:VEVENT
DTSTART;TZID=America/New_York:20260601T100000
DTEND;TZID=America/New_York:20260601T150000
DTSTAMP:20260419T221439
CREATED:20260415T032630Z
LAST-MODIFIED:20260415T032630Z
UID:10006743-1780308000-1780326000@worldchildrensmuseum.org
SUMMARY:Open for General Admission
DESCRIPTION:Tickets can be purchased online at https://events.ticketleap.com/tickets/wacm-1/museum-admission-2026Admission Costs:Members: FreeNot-Yet-Members: $7 per person\, children under 12mo. are free.Please visit our website for more information on admission: https://worldchildrensmuseum.org/for-visitors/
URL:https://worldchildrensmuseum.org/events/open-for-general-admission-1699/
LOCATION:World Awareness Children’s Museum\, 89 Warren St\, Glens Falls\, NY\, United States
GEO:43.310029;-73.639958
X-APPLE-STRUCTURED-LOCATION;VALUE=URI;X-ADDRESS=World Awareness Children’s Museum 89 Warren St Glens Falls NY United States;X-APPLE-RADIUS=500;X-TITLE=89 Warren St:geo:-73.639958,43.310029
END:VEVENT
BEGIN:VEVENT
DTSTART;TZID=America/New_York:20260604T100000
DTEND;TZID=America/New_York:20260604T150000
DTSTAMP:20260419T221439
CREATED:20250517T192435Z
LAST-MODIFIED:20250619T190939Z
UID:10004475-1780567200-1780585200@worldchildrensmuseum.org
SUMMARY:Open for General Admission
DESCRIPTION:Tickets can be purchased online at https://wacm.ticketleap.com/museum-admission-2024/Admission Costs:Members: FreeNot-Yet-Members: $7 per person\, children under 12mo. are free.Please visit our website for more information on admission: https://worldchildrensmuseum.org/for-visitors/
URL:https://worldchildrensmuseum.org/events/open-for-general-admission-2268/
LOCATION:World Awareness Children’s Museum\, 89 Warren St\, Glens Falls\, NY\, United States
GEO:43.310029;-73.639958
X-APPLE-STRUCTURED-LOCATION;VALUE=URI;X-ADDRESS=World Awareness Children’s Museum 89 Warren St Glens Falls NY United States;X-APPLE-RADIUS=500;X-TITLE=89 Warren St:geo:-73.639958,43.310029
END:VEVENT
BEGIN:VEVENT
DTSTART;TZID=America/New_York:20260604T100000
DTEND;TZID=America/New_York:20260604T150000
DTSTAMP:20260419T221439
CREATED:20251003T182451Z
LAST-MODIFIED:20260415T032632Z
UID:10005797-1780567200-1780585200@worldchildrensmuseum.org
SUMMARY:Open for General Admission
DESCRIPTION:Tickets can be purchased online at https://wacm.ticketleap.com/admission-2025/Admission Costs:Members: FreeNot-Yet-Members: $7 per person\, children under 12mo. are free.Please visit our website for more information on admission: https://worldchildrensmuseum.org/for-visitors/
URL:https://worldchildrensmuseum.org/events/open-for-general-admission-616/
LOCATION:World Awareness Children’s Museum\, 89 Warren St\, Glens Falls\, NY\, United States
GEO:43.310029;-73.639958
X-APPLE-STRUCTURED-LOCATION;VALUE=URI;X-ADDRESS=World Awareness Children’s Museum 89 Warren St Glens Falls NY United States;X-APPLE-RADIUS=500;X-TITLE=89 Warren St:geo:-73.639958,43.310029
END:VEVENT
BEGIN:VEVENT
DTSTART;TZID=America/New_York:20260604T100000
DTEND;TZID=America/New_York:20260604T150000
DTSTAMP:20260419T221439
CREATED:20251024T184015Z
LAST-MODIFIED:20260408T025717Z
UID:10005983-1780567200-1780585200@worldchildrensmuseum.org
SUMMARY:Open for General Admission
DESCRIPTION:Tickets can be purchased online at https://wacm.ticketleap.com/admission-2025/Admission Costs:Members: FreeNot-Yet-Members: $7 per person\, children under 12mo. are free.Please visit our website for more information on admission: https://worldchildrensmuseum.org/for-visitors/
URL:https://worldchildrensmuseum.org/events/open-for-general-admission-763/
LOCATION:World Awareness Children’s Museum\, 89 Warren St\, Glens Falls\, NY\, United States
GEO:43.310029;-73.639958
X-APPLE-STRUCTURED-LOCATION;VALUE=URI;X-ADDRESS=World Awareness Children’s Museum 89 Warren St Glens Falls NY United States;X-APPLE-RADIUS=500;X-TITLE=89 Warren St:geo:-73.639958,43.310029
END:VEVENT
END:VCALENDAR