BEGIN:VCALENDAR
VERSION:2.0
PRODID:-//World Awareness Children&#039;s Museum - ECPv6.15.20//NONSGML v1.0//EN
CALSCALE:GREGORIAN
METHOD:PUBLISH
X-WR-CALNAME:World Awareness Children&#039;s Museum
X-ORIGINAL-URL:https://worldchildrensmuseum.org
X-WR-CALDESC:Events for World Awareness Children&#039;s Museum
REFRESH-INTERVAL;VALUE=DURATION:PT1H
X-Robots-Tag:noindex
X-PUBLISHED-TTL:PT1H
BEGIN:VTIMEZONE
TZID:America/New_York
BEGIN:DAYLIGHT
TZOFFSETFROM:-0500
TZOFFSETTO:-0400
TZNAME:EDT
DTSTART:20220313T070000
END:DAYLIGHT
BEGIN:STANDARD
TZOFFSETFROM:-0400
TZOFFSETTO:-0500
TZNAME:EST
DTSTART:20221106T060000
END:STANDARD
BEGIN:DAYLIGHT
TZOFFSETFROM:-0500
TZOFFSETTO:-0400
TZNAME:EDT
DTSTART:20230312T070000
END:DAYLIGHT
BEGIN:STANDARD
TZOFFSETFROM:-0400
TZOFFSETTO:-0500
TZNAME:EST
DTSTART:20231105T060000
END:STANDARD
BEGIN:DAYLIGHT
TZOFFSETFROM:-0500
TZOFFSETTO:-0400
TZNAME:EDT
DTSTART:20240310T070000
END:DAYLIGHT
BEGIN:STANDARD
TZOFFSETFROM:-0400
TZOFFSETTO:-0500
TZNAME:EST
DTSTART:20241103T060000
END:STANDARD
END:VTIMEZONE
BEGIN:VEVENT
DTSTART;TZID=America/New_York:20231120T110000
DTEND;TZID=America/New_York:20231120T120000
DTSTAMP:20260420T001517
CREATED:20231124T141926Z
LAST-MODIFIED:20231124T141926Z
UID:10003225-1700478000-1700481600@worldchildrensmuseum.org
SUMMARY:“Noon” Year’s Eve Around the World
DESCRIPTION:Celebrate New Year’s Eve at a child-friendly time! We’ll learn about New Year traditions from around the world and celebrate a ball drop at noon.\n\nCost: Free with admission
URL:https://worldchildrensmuseum.org/events/noon-years-eve23/
LOCATION:NY
END:VEVENT
BEGIN:VEVENT
DTSTART;TZID=America/New_York:20231120T103000
DTEND;TZID=America/New_York:20231120T113000
DTSTAMP:20260420T001517
CREATED:20231028T000847Z
LAST-MODIFIED:20231120T045351Z
UID:10003182-1700476200-1700479800@worldchildrensmuseum.org
SUMMARY:Learn About China
DESCRIPTION:Learn about the different languages spoken in China\, see art from Chinese kids\, and make your own dragon!Cost: Free with admission
URL:https://worldchildrensmuseum.org/events/learn-about-china/
LOCATION:NY
END:VEVENT
BEGIN:VEVENT
DTSTART;TZID=America/New_York:20231118T150000
DTEND;TZID=America/New_York:20231118T163000
DTSTAMP:20260420T001517
CREATED:20231109T010834Z
LAST-MODIFIED:20231118T045350Z
UID:10003194-1700319600-1700325000@worldchildrensmuseum.org
SUMMARY:Thanksgiving Turkey Paint & Sip (Session 2)
DESCRIPTION:This program was so popular that we added a second session!  \nJoin us for our popular family-friendly Paint & Sip series taught by local artist Patrice Jarvis-Weber. Artists will paint their own Thanksgiving turkey on canvas. \nCost: $10 per person. Members get a 10% discount! Please call to reserve your spot: 518-793-2773 or visit https://wacm.ticketleap.com/11182023s2/ to reserve online. \nThis class is limited to 9 people.
URL:https://worldchildrensmuseum.org/events/thanksgiving-turkey-paint-sip-session-2/
LOCATION:NY
END:VEVENT
BEGIN:VEVENT
DTSTART;TZID=America/New_York:20231118T130000
DTEND;TZID=America/New_York:20231118T143000
DTSTAMP:20260420T001517
CREATED:20231028T000847Z
LAST-MODIFIED:20231118T045349Z
UID:10003181-1700312400-1700317800@worldchildrensmuseum.org
SUMMARY:Thanksgiving Turkey Paint & Sip (Session 1)
DESCRIPTION:Session 1 is sold out. To reserve your spot for Session 2 (November 18\, 3-4:30pm)\, please visit https://wacm.ticketleap.com/11182023s2/  \nJoin us for our popular family-friendly Paint & Sip series taught by local artist Patrice Jarvis-Weber. Artists will paint their own Thanksgiving turkey on canvas. \nCost: $10 per person. Members get a 10% discount! Please call to reserve your spot: 518-793-2773 or visit https://wacm.ticketleap.com/11182023/ to reserve online. \nThis class is limited to 9 people.
URL:https://worldchildrensmuseum.org/events/thanksgiving-turkey-paint-sip/
LOCATION:NY
END:VEVENT
BEGIN:VEVENT
DTSTART;TZID=America/New_York:20231117T103000
DTEND;TZID=America/New_York:20231117T113000
DTSTAMP:20260420T001517
CREATED:20231028T000847Z
LAST-MODIFIED:20231117T045444Z
UID:10003180-1700217000-1700220600@worldchildrensmuseum.org
SUMMARY:Storytime Friday
DESCRIPTION:Reading: “My Diwali Light” by Raakhee Mirchandani  \n \nEveryone is welcome at our recurring program\, Storytime Fridays! This program is appropriate for all ages and includes a story and a craft.  \nCost: Free with admission
URL:https://worldchildrensmuseum.org/events/storytime-friday-36/
LOCATION:NY
END:VEVENT
BEGIN:VEVENT
DTSTART;VALUE=DATE:20231115
DTEND;VALUE=DATE:20231116
DTSTAMP:20260420T001517
CREATED:20230830T210915Z
LAST-MODIFIED:20231115T043831Z
UID:10002869-1700006400-1700092799@worldchildrensmuseum.org
SUMMARY:MUSEUM CLOSED
DESCRIPTION:School Year Schedule: \nMondays: Open 10am-3pmTuesdays: ClosedWednesdays: ClosedThursdays: Open 10am-3pmFridays: Open 10am-3pmSaturdays: Open 10am-3pmSundays: Open 10am-3pm
URL:https://worldchildrensmuseum.org/events/museum-closed-113/
LOCATION:NY
END:VEVENT
BEGIN:VEVENT
DTSTART;VALUE=DATE:20231114
DTEND;VALUE=DATE:20231115
DTSTAMP:20260420T001517
CREATED:20230830T210915Z
LAST-MODIFIED:20231114T043829Z
UID:10002868-1699920000-1700006399@worldchildrensmuseum.org
SUMMARY:MUSEUM CLOSED
DESCRIPTION:School Year Schedule: \nMondays: Open 10am-3pmTuesdays: ClosedWednesdays: ClosedThursdays: Open 10am-3pmFridays: Open 10am-3pmSaturdays: Open 10am-3pmSundays: Open 10am-3pm
URL:https://worldchildrensmuseum.org/events/museum-closed-112/
LOCATION:NY
END:VEVENT
BEGIN:VEVENT
DTSTART;TZID=America/New_York:20231112T100000
DTEND;TZID=America/New_York:20231112T150000
DTSTAMP:20260420T001517
CREATED:20230714T191735Z
LAST-MODIFIED:20231112T042332Z
UID:10002810-1699783200-1699801200@worldchildrensmuseum.org
SUMMARY:Free Day!
DESCRIPTION:Visit the museum for free today\, thanks to Stewart’s Holiday Match and all who contributed! We are pleased to offer these free days from 10am-3pm once per month. Donations are appreciated but not required. \nFree Days are generously sponsored by Stewart’s Holiday Match.  \nYou can learn more by visiting www.stewartsshops.com/community-giving
URL:https://worldchildrensmuseum.org/events/free-day-18/
LOCATION:NY
END:VEVENT
BEGIN:VEVENT
DTSTART;TZID=America/New_York:20231111T110000
DTEND;TZID=America/New_York:20231111T120000
DTSTAMP:20260420T001517
CREATED:20231101T002332Z
LAST-MODIFIED:20231111T042335Z
UID:10003185-1699700400-1699704000@worldchildrensmuseum.org
SUMMARY:Veterans Day Program
DESCRIPTION:Join us to hear from Navy Veteran Amie Gonzales and Retired Navy Senior Chief Petty Officer Juan Gonzales as they share about their time serving in the Navy and what Veterans Day means to them. Children will also make a craft to honor and remember veterans all year. All ages welcome! \nCost: Free with admission
URL:https://worldchildrensmuseum.org/events/veterans-day-program/
LOCATION:NY
END:VEVENT
BEGIN:VEVENT
DTSTART;TZID=America/New_York:20231110T103000
DTEND;TZID=America/New_York:20231110T113000
DTSTAMP:20260420T001517
CREATED:20231028T000846Z
LAST-MODIFIED:20231110T042333Z
UID:10003179-1699612200-1699615800@worldchildrensmuseum.org
SUMMARY:Storytime Friday
DESCRIPTION:Reading: “Fry Bread: A Native American Family Story ” by Kevin Noble Maillard  \n \nEveryone is welcome at our recurring program\, Storytime Fridays! This program is appropriate for all ages and includes a story and a craft.  \nCost: Free with admission
URL:https://worldchildrensmuseum.org/events/storytime-friday-35/
LOCATION:NY
END:VEVENT
BEGIN:VEVENT
DTSTART;VALUE=DATE:20231108
DTEND;VALUE=DATE:20231109
DTSTAMP:20260420T001517
CREATED:20230830T210914Z
LAST-MODIFIED:20231108T040829Z
UID:10002866-1699401600-1699487999@worldchildrensmuseum.org
SUMMARY:MUSEUM CLOSED
DESCRIPTION:School Year Schedule: \nMondays: Open 10am-3pmTuesdays: ClosedWednesdays: ClosedThursdays: Open 10am-3pmFridays: Open 10am-3pmSaturdays: Open 10am-3pmSundays: Open 10am-3pm
URL:https://worldchildrensmuseum.org/events/museum-closed-110/
LOCATION:NY
END:VEVENT
BEGIN:VEVENT
DTSTART;VALUE=DATE:20231107
DTEND;VALUE=DATE:20231108
DTSTAMP:20260420T001517
CREATED:20230830T210914Z
LAST-MODIFIED:20231107T035332Z
UID:10002867-1699315200-1699401599@worldchildrensmuseum.org
SUMMARY:MUSEUM CLOSED
DESCRIPTION:School Year Schedule: \nMondays: Open 10am-3pmTuesdays: ClosedWednesdays: ClosedThursdays: Open 10am-3pmFridays: Open 10am-3pmSaturdays: Open 10am-3pmSundays: Open 10am-3pm
URL:https://worldchildrensmuseum.org/events/museum-closed-111/
LOCATION:NY
END:VEVENT
BEGIN:VEVENT
DTSTART;TZID=America/New_York:20231106T103000
DTEND;TZID=America/New_York:20231106T113000
DTSTAMP:20260420T001517
CREATED:20231028T000845Z
LAST-MODIFIED:20231106T035331Z
UID:10003178-1699266600-1699270200@worldchildrensmuseum.org
SUMMARY:Learn About Greece
DESCRIPTION:Practice some basic Greek words and phrases\, see art and artifacts from Greece\, and make your own Parthenon!Cost: Free with admission
URL:https://worldchildrensmuseum.org/events/learn-about-greece/
LOCATION:NY
END:VEVENT
BEGIN:VEVENT
DTSTART;TZID=America/New_York:20231103T103000
DTEND;TZID=America/New_York:20231103T113000
DTSTAMP:20260420T001517
CREATED:20231028T000843Z
LAST-MODIFIED:20231103T033833Z
UID:10003177-1699007400-1699011000@worldchildrensmuseum.org
SUMMARY:Storytime Friday
DESCRIPTION:Reading: “The Festival of Bones / El festival de las calaveras” by Luis San Vincente  \n \nEveryone is welcome at our recurring program\, Storytime Fridays! This program is appropriate for all ages and includes a story and a craft.  \nCost: Free with admission
URL:https://worldchildrensmuseum.org/events/storytime-friday-34/
LOCATION:NY
END:VEVENT
BEGIN:VEVENT
DTSTART;VALUE=DATE:20231101
DTEND;VALUE=DATE:20231102
DTSTAMP:20260420T001517
CREATED:20230830T210914Z
LAST-MODIFIED:20231101T033834Z
UID:10002864-1698796800-1698883199@worldchildrensmuseum.org
SUMMARY:MUSEUM CLOSED
DESCRIPTION:School Year Schedule: \nMondays: Open 10am-3pmTuesdays: ClosedWednesdays: ClosedThursdays: Open 10am-3pmFridays: Open 10am-3pmSaturdays: Open 10am-3pmSundays: Open 10am-3pm
URL:https://worldchildrensmuseum.org/events/museum-closed-108/
LOCATION:NY
END:VEVENT
BEGIN:VEVENT
DTSTART;VALUE=DATE:20231031
DTEND;VALUE=DATE:20231101
DTSTAMP:20260420T001517
CREATED:20230830T210914Z
LAST-MODIFIED:20231031T033831Z
UID:10002865-1698710400-1698796799@worldchildrensmuseum.org
SUMMARY:MUSEUM CLOSED
DESCRIPTION:School Year Schedule: \nMondays: Open 10am-3pmTuesdays: ClosedWednesdays: ClosedThursdays: Open 10am-3pmFridays: Open 10am-3pmSaturdays: Open 10am-3pmSundays: Open 10am-3pm
URL:https://worldchildrensmuseum.org/events/museum-closed-109/
LOCATION:NY
END:VEVENT
BEGIN:VEVENT
DTSTART;TZID=America/New_York:20231030T130000
DTEND;TZID=America/New_York:20231030T140000
DTSTAMP:20260420T001517
CREATED:20231010T223849Z
LAST-MODIFIED:20231030T033835Z
UID:10003162-1698670800-1698674400@worldchildrensmuseum.org
SUMMARY:Halloween Around the World
DESCRIPTION:Learn about different cultural Halloween traditions from around the world!Cost: Free with admission
URL:https://worldchildrensmuseum.org/events/halloween-around-the-world/
LOCATION:NY
END:VEVENT
BEGIN:VEVENT
DTSTART;TZID=America/New_York:20231028T130000
DTEND;TZID=America/New_York:20231028T143000
DTSTAMP:20260420T001517
CREATED:20231010T223849Z
LAST-MODIFIED:20231028T032338Z
UID:10003161-1698498000-1698503400@worldchildrensmuseum.org
SUMMARY:Pumpkin House Paint & Sip
DESCRIPTION:Join us for our popular family-friendly Paint & Sip series taught by local artist Patrice Jarvis-Weber. Artists will paint their own pumpkin house on canvas. \nCost: $10 per person. Members get a 10% discount! Please call to reserve your spot: 518-793-2773 or visit https://wacm.ticketleap.com/102823/ to reserve online. \nThis class is limited to 9 people.
URL:https://worldchildrensmuseum.org/events/pumpkin-house-paint-sip/
LOCATION:NY
END:VEVENT
BEGIN:VEVENT
DTSTART;TZID=America/New_York:20231027T103000
DTEND;TZID=America/New_York:20231027T113000
DTSTAMP:20260420T001517
CREATED:20231010T223848Z
LAST-MODIFIED:20231027T030844Z
UID:10003160-1698402600-1698406200@worldchildrensmuseum.org
SUMMARY:Storytime Friday
DESCRIPTION:Reading: "Creepy Carrots" by Aaron Reynolds \n \nEveryone is welcome at our recurring program\, Storytime Fridays! This program is appropriate for all ages and includes a story and a craft.  \nCost: Free with admission
URL:https://worldchildrensmuseum.org/events/storytime-friday-33/
LOCATION:NY
END:VEVENT
BEGIN:VEVENT
DTSTART;VALUE=DATE:20231025
DTEND;VALUE=DATE:20231026
DTSTAMP:20260420T001517
CREATED:20230830T210914Z
LAST-MODIFIED:20231025T030847Z
UID:10002862-1698192000-1698278399@worldchildrensmuseum.org
SUMMARY:MUSEUM CLOSED
DESCRIPTION:School Year Schedule: \nMondays: Open 10am-3pmTuesdays: ClosedWednesdays: ClosedThursdays: Open 10am-3pmFridays: Open 10am-3pmSaturdays: Open 10am-3pmSundays: Open 10am-3pm
URL:https://worldchildrensmuseum.org/events/museum-closed-106/
LOCATION:NY
END:VEVENT
BEGIN:VEVENT
DTSTART;VALUE=DATE:20231024
DTEND;VALUE=DATE:20231025
DTSTAMP:20260420T001517
CREATED:20230830T210914Z
LAST-MODIFIED:20231024T030833Z
UID:10002863-1698105600-1698191999@worldchildrensmuseum.org
SUMMARY:MUSEUM CLOSED
DESCRIPTION:School Year Schedule: \nMondays: Open 10am-3pmTuesdays: ClosedWednesdays: ClosedThursdays: Open 10am-3pmFridays: Open 10am-3pmSaturdays: Open 10am-3pmSundays: Open 10am-3pm
URL:https://worldchildrensmuseum.org/events/museum-closed-107/
LOCATION:NY
END:VEVENT
BEGIN:VEVENT
DTSTART;TZID=America/New_York:20231023T130000
DTEND;TZID=America/New_York:20231023T140000
DTSTAMP:20260420T001517
CREATED:20231010T223848Z
LAST-MODIFIED:20231023T030828Z
UID:10003159-1698066000-1698069600@worldchildrensmuseum.org
SUMMARY:Swahili and the Lion King
DESCRIPTION:Learn about the Swahili words used in the Lion King and about the people who speak the language.Cost: Free with admission
URL:https://worldchildrensmuseum.org/events/swahili-and-the-lion-king/
LOCATION:NY
END:VEVENT
BEGIN:VEVENT
DTSTART;TZID=America/New_York:20231021T180000
DTEND;TZID=America/New_York:20231021T203000
DTSTAMP:20260420T001517
CREATED:20231010T223848Z
LAST-MODIFIED:20231022T000834Z
UID:10003158-1697911200-1697920200@worldchildrensmuseum.org
SUMMARY:Venetian Masquerade: A Cocktail Party Fundraiser
DESCRIPTION:“When the night unfolds\, let your costume shine bright\, for the masquerade is a magical sight.” Join us for a Venetian Masquerade cocktail party to support the museum! Dress for the theme and don your best masquerade mask to help us in our mission of bringing our diverse world to children. \nElegant hors d’oeuvres and decadent desserts will be served\, along with a full cash bar with fabulous cocktails. Live music provided by Lark Strings. \nBuy your tickets at http://wacm.ticketleap.com/vm2023 or call 518-793-2773 ext. 305. Tickets begin at $95 per person.
URL:https://worldchildrensmuseum.org/events/venetian-masquerade-a-cocktail-party-fundraiser/
LOCATION:NY
END:VEVENT
BEGIN:VEVENT
DTSTART;TZID=America/New_York:20231020T103000
DTEND;TZID=America/New_York:20231020T113000
DTSTAMP:20260420T001517
CREATED:20231010T223847Z
LAST-MODIFIED:20231020T025333Z
UID:10003157-1697797800-1697801400@worldchildrensmuseum.org
SUMMARY:Storytime Friday
DESCRIPTION:Reading: "Mommy's Khimar" by Jamilah Thompkins-Bigelow \n \nEveryone is welcome at our recurring program\, Storytime Fridays! This program is appropriate for all ages and includes a story and a craft.  \nCost: Free with admission
URL:https://worldchildrensmuseum.org/events/storytime-friday-32/
LOCATION:NY
END:VEVENT
BEGIN:VEVENT
DTSTART;VALUE=DATE:20231018
DTEND;VALUE=DATE:20231019
DTSTAMP:20260420T001517
CREATED:20230830T210914Z
LAST-MODIFIED:20231018T233831Z
UID:10002860-1697587200-1697673599@worldchildrensmuseum.org
SUMMARY:MUSEUM CLOSED
DESCRIPTION:School Year Schedule: \nMondays: Open 10am-3pmTuesdays: ClosedWednesdays: ClosedThursdays: Open 10am-3pmFridays: Open 10am-3pmSaturdays: Open 10am-3pmSundays: Open 10am-3pm
URL:https://worldchildrensmuseum.org/events/museum-closed-104/
LOCATION:NY
END:VEVENT
BEGIN:VEVENT
DTSTART;VALUE=DATE:20231017
DTEND;VALUE=DATE:20231018
DTSTAMP:20260420T001517
CREATED:20230830T210914Z
LAST-MODIFIED:20231017T232336Z
UID:10002861-1697500800-1697587199@worldchildrensmuseum.org
SUMMARY:MUSEUM CLOSED
DESCRIPTION:School Year Schedule: \nMondays: Open 10am-3pmTuesdays: ClosedWednesdays: ClosedThursdays: Open 10am-3pmFridays: Open 10am-3pmSaturdays: Open 10am-3pmSundays: Open 10am-3pm
URL:https://worldchildrensmuseum.org/events/museum-closed-105/
LOCATION:NY
END:VEVENT
BEGIN:VEVENT
DTSTART;TZID=America/New_York:20231016T130000
DTEND;TZID=America/New_York:20231016T140000
DTSTAMP:20260420T001517
CREATED:20231010T223845Z
LAST-MODIFIED:20231016T023843Z
UID:10003156-1697461200-1697464800@worldchildrensmuseum.org
SUMMARY:Learn about Sweden!
DESCRIPTION:Learn about Sweden\, practice some basic Swedish words and phrases\, and paint a dala horse!Cost: Free with admission
URL:https://worldchildrensmuseum.org/events/learn-about-sweden/
LOCATION:NY
END:VEVENT
BEGIN:VEVENT
DTSTART;TZID=America/New_York:20231015T100000
DTEND;TZID=America/New_York:20231015T150000
DTSTAMP:20260420T001517
CREATED:20231010T223844Z
LAST-MODIFIED:20231015T023838Z
UID:10003155-1697364000-1697382000@worldchildrensmuseum.org
SUMMARY:Free Day!
DESCRIPTION:Visit the museum for free today\, thanks to Stewart’s Holiday Match and all who contributed! We are pleased to offer these free days from 10am-3pm once per month. Donations are appreciated but not required. \nFree Days are generously sponsored by Stewart’s Holiday Match.  \nYou can learn more by visiting www.stewartsshops.com/community-giving
URL:https://worldchildrensmuseum.org/events/free-day-42/
LOCATION:NY
END:VEVENT
BEGIN:VEVENT
DTSTART;TZID=America/New_York:20231013T103000
DTEND;TZID=America/New_York:20231013T113000
DTSTAMP:20260420T001517
CREATED:20231006T222338Z
LAST-MODIFIED:20231013T023830Z
UID:10002932-1697193000-1697196600@worldchildrensmuseum.org
SUMMARY:Storytime Friday
DESCRIPTION:Reading: “The Water Princess” by Susan Verde\, based on the life of Georgie Badiel \nEveryone is welcome at our recurring program\, Storytime Fridays! This program is appropriate for all ages and includes a story and a craft.  \nCost: Free with admission
URL:https://worldchildrensmuseum.org/events/storytime-friday-31/
LOCATION:NY
END:VEVENT
BEGIN:VEVENT
DTSTART;VALUE=DATE:20231011
DTEND;VALUE=DATE:20231012
DTSTAMP:20260420T001517
CREATED:20230830T210913Z
LAST-MODIFIED:20231011T225415Z
UID:10002858-1696982400-1697068799@worldchildrensmuseum.org
SUMMARY:MUSEUM CLOSED
DESCRIPTION:School Year Schedule: \nMondays: Open 10am-3pmTuesdays: ClosedWednesdays: ClosedThursdays: Open 10am-3pmFridays: Open 10am-3pmSaturdays: Open 10am-3pmSundays: Open 10am-3pm
URL:https://worldchildrensmuseum.org/events/museum-closed-102/
LOCATION:NY
END:VEVENT
END:VCALENDAR