BEGIN:VCALENDAR
VERSION:2.0
PRODID:-//World Awareness Children&#039;s Museum - ECPv6.15.20//NONSGML v1.0//EN
CALSCALE:GREGORIAN
METHOD:PUBLISH
X-WR-CALNAME:World Awareness Children&#039;s Museum
X-ORIGINAL-URL:https://worldchildrensmuseum.org
X-WR-CALDESC:Events for World Awareness Children&#039;s Museum
REFRESH-INTERVAL;VALUE=DURATION:PT1H
X-Robots-Tag:noindex
X-PUBLISHED-TTL:PT1H
BEGIN:VTIMEZONE
TZID:America/New_York
BEGIN:DAYLIGHT
TZOFFSETFROM:-0500
TZOFFSETTO:-0400
TZNAME:EDT
DTSTART:20240310T070000
END:DAYLIGHT
BEGIN:STANDARD
TZOFFSETFROM:-0400
TZOFFSETTO:-0500
TZNAME:EST
DTSTART:20241103T060000
END:STANDARD
BEGIN:DAYLIGHT
TZOFFSETFROM:-0500
TZOFFSETTO:-0400
TZNAME:EDT
DTSTART:20250309T070000
END:DAYLIGHT
BEGIN:STANDARD
TZOFFSETFROM:-0400
TZOFFSETTO:-0500
TZNAME:EST
DTSTART:20251102T060000
END:STANDARD
BEGIN:DAYLIGHT
TZOFFSETFROM:-0500
TZOFFSETTO:-0400
TZNAME:EDT
DTSTART:20260308T070000
END:DAYLIGHT
BEGIN:STANDARD
TZOFFSETFROM:-0400
TZOFFSETTO:-0500
TZNAME:EST
DTSTART:20261101T060000
END:STANDARD
END:VTIMEZONE
BEGIN:VEVENT
DTSTART;TZID=America/New_York:20250607T100000
DTEND;TZID=America/New_York:20250607T150000
DTSTAMP:20260423T134222
CREATED:20250520T082346Z
LAST-MODIFIED:20250607T185339Z
UID:10004483-1749290400-1749308400@worldchildrensmuseum.org
SUMMARY:Stuffed Lovie Day!
DESCRIPTION:Bring your favorite stuffed animal into the museum for a ‘trip around the world’!   \nCome in and follow Thailand’s elephant footprints on the floor. Are your stuffed animal’s feet bigger or smaller than the elephants? You and your lovie can then stroll to Japan\, explore Mexico’s Kitchen\, and climb the Mountain Tots wall or roast a marshmallow together!  \nDon’t forget to color a picture in the Art Room of your favorite memory today and pick up a sticker at the front desk for your stuffed animal as a keepsake. Did you or your lovie have a favorite exhibit\, or was it just too hard to choose? \nCost: Free with Admission
URL:https://worldchildrensmuseum.org/events/stuffed-lovie-day-2/
LOCATION:89 Warren St\, Glens Falls\, NY\, United States
GEO:43.30952;-73.64401
END:VEVENT
BEGIN:VEVENT
DTSTART;TZID=America/New_York:20250607T100000
DTEND;TZID=America/New_York:20250607T150000
DTSTAMP:20260423T134222
CREATED:20240523T143944Z
LAST-MODIFIED:20250607T185339Z
UID:10003994-1749290400-1749308400@worldchildrensmuseum.org
SUMMARY:Open for General Admission
DESCRIPTION:Tickets can be purchased online at https://wacm.ticketleap.com/museum-admission-2024/Admission Costs:Members: FreeNot-Yet-Members: $7 per person\, children under 12mo. are free.Please visit our website for more information on admission: https://worldchildrensmuseum.org/for-visitors/
URL:https://worldchildrensmuseum.org/events/open-for-general-admission-1981/
LOCATION:World Awareness Children’s Museum\, 89 Warren St\, Glens Falls\, NY\, United States
GEO:43.310029;-73.639958
X-APPLE-STRUCTURED-LOCATION;VALUE=URI;X-ADDRESS=World Awareness Children’s Museum 89 Warren St Glens Falls NY United States;X-APPLE-RADIUS=500;X-TITLE=89 Warren St:geo:-73.639958,43.310029
END:VEVENT
BEGIN:VEVENT
DTSTART;TZID=America/New_York:20250606T133000
DTEND;TZID=America/New_York:20250606T143000
DTSTAMP:20260423T134222
CREATED:20250520T082345Z
LAST-MODIFIED:20250606T180855Z
UID:10004482-1749216600-1749220200@worldchildrensmuseum.org
SUMMARY:Storytime Friday
DESCRIPTION:Everyone is welcome at Storytime Fridays\, a recurring program designed to spark joy and curiosity in little ones!  \nEach week\, we explore early literacy skills through movement\, imaginative play\, and a creative craft that brings the story to life. Perfect for toddlers\, preschoolers\, and their caregivers. \nCost: Free with Admission
URL:https://worldchildrensmuseum.org/events/storytime-friday-135/
LOCATION:89 Warren St\, Glens Falls\, NY\, United States
GEO:43.30952;-73.64401
END:VEVENT
BEGIN:VEVENT
DTSTART;TZID=America/New_York:20250606T103000
DTEND;TZID=America/New_York:20250606T113000
DTSTAMP:20260423T134222
CREATED:20250520T082344Z
LAST-MODIFIED:20250606T150911Z
UID:10004481-1749205800-1749209400@worldchildrensmuseum.org
SUMMARY:Storytime Friday
DESCRIPTION:Everyone is welcome at Storytime Fridays\, a recurring program designed to spark joy and curiosity in little ones!  \nEach week\, we explore early literacy skills through movement\, imaginative play\, and a creative craft that brings the story to life. Perfect for toddlers\, preschoolers\, and their caregivers. \nCost: Free with Admission
URL:https://worldchildrensmuseum.org/events/storytime-friday-134/
LOCATION:89 Warren St\, Glens Falls\, NY\, United States
GEO:43.30952;-73.64401
END:VEVENT
BEGIN:VEVENT
DTSTART;TZID=America/New_York:20250606T100000
DTEND;TZID=America/New_York:20250606T150000
DTSTAMP:20260423T134222
CREATED:20240522T143947Z
LAST-MODIFIED:20250606T183900Z
UID:10003993-1749204000-1749222000@worldchildrensmuseum.org
SUMMARY:Open for General Admission
DESCRIPTION:Tickets can be purchased online at https://wacm.ticketleap.com/museum-admission-2024/Admission Costs:Members: FreeNot-Yet-Members: $7 per person\, children under 12mo. are free.Please visit our website for more information on admission: https://worldchildrensmuseum.org/for-visitors/
URL:https://worldchildrensmuseum.org/events/open-for-general-admission-1980/
LOCATION:World Awareness Children’s Museum\, 89 Warren St\, Glens Falls\, NY\, United States
GEO:43.310029;-73.639958
X-APPLE-STRUCTURED-LOCATION;VALUE=URI;X-ADDRESS=World Awareness Children’s Museum 89 Warren St Glens Falls NY United States;X-APPLE-RADIUS=500;X-TITLE=89 Warren St:geo:-73.639958,43.310029
END:VEVENT
BEGIN:VEVENT
DTSTART;TZID=America/New_York:20250605T100000
DTEND;TZID=America/New_York:20250605T150000
DTSTAMP:20260423T134222
CREATED:20240521T143921Z
LAST-MODIFIED:20250605T185347Z
UID:10003991-1749117600-1749135600@worldchildrensmuseum.org
SUMMARY:Open for General Admission
DESCRIPTION:Tickets can be purchased online at https://wacm.ticketleap.com/museum-admission-2024/Admission Costs:Members: FreeNot-Yet-Members: $7 per person\, children under 12mo. are free.Please visit our website for more information on admission: https://worldchildrensmuseum.org/for-visitors/
URL:https://worldchildrensmuseum.org/events/open-for-general-admission-1978/
LOCATION:World Awareness Children’s Museum\, 89 Warren St\, Glens Falls\, NY\, United States
GEO:43.310029;-73.639958
X-APPLE-STRUCTURED-LOCATION;VALUE=URI;X-ADDRESS=World Awareness Children’s Museum 89 Warren St Glens Falls NY United States;X-APPLE-RADIUS=500;X-TITLE=89 Warren St:geo:-73.639958,43.310029
END:VEVENT
BEGIN:VEVENT
DTSTART;TZID=America/New_York:20250602T103000
DTEND;TZID=America/New_York:20250602T113000
DTSTAMP:20260423T134222
CREATED:20250520T082344Z
LAST-MODIFIED:20250602T152336Z
UID:10004479-1748860200-1748863800@worldchildrensmuseum.org
SUMMARY:Summer Garden Discovery Sensory Fun for Preschoolers!
DESCRIPTION:This spring-themed bin invites little hands to explore\, scoop\, and sort—boosting fine motor skills\, early language\, and imaginative play through hands-on discovery. Our sensory bins help young minds bloom! Cost: Free with admission.
URL:https://worldchildrensmuseum.org/events/summer-garden-discovery-sensory-fun-for-preschoolers/
LOCATION:NY
END:VEVENT
BEGIN:VEVENT
DTSTART;TZID=America/New_York:20250602T100000
DTEND;TZID=America/New_York:20250602T150000
DTSTAMP:20260423T134222
CREATED:20240520T143922Z
LAST-MODIFIED:20250602T185334Z
UID:10003990-1748858400-1748876400@worldchildrensmuseum.org
SUMMARY:Open for General Admission
DESCRIPTION:Tickets can be purchased online at https://wacm.ticketleap.com/museum-admission-2024/Admission Costs:Members: FreeNot-Yet-Members: $7 per person\, children under 12mo. are free.Please visit our website for more information on admission: https://worldchildrensmuseum.org/for-visitors/
URL:https://worldchildrensmuseum.org/events/open-for-general-admission-1977/
LOCATION:World Awareness Children’s Museum\, 89 Warren St\, Glens Falls\, NY\, United States
GEO:43.310029;-73.639958
X-APPLE-STRUCTURED-LOCATION;VALUE=URI;X-ADDRESS=World Awareness Children’s Museum 89 Warren St Glens Falls NY United States;X-APPLE-RADIUS=500;X-TITLE=89 Warren St:geo:-73.639958,43.310029
END:VEVENT
BEGIN:VEVENT
DTSTART;TZID=America/New_York:20250601T100000
DTEND;TZID=America/New_York:20250601T150000
DTSTAMP:20260423T134222
CREATED:20240520T143921Z
LAST-MODIFIED:20250601T183833Z
UID:10003989-1748772000-1748790000@worldchildrensmuseum.org
SUMMARY:Open for General Admission
DESCRIPTION:Tickets can be purchased online at https://wacm.ticketleap.com/museum-admission-2024/Admission Costs:Members: FreeNot-Yet-Members: $7 per person\, children under 12mo. are free.Please visit our website for more information on admission: https://worldchildrensmuseum.org/for-visitors/
URL:https://worldchildrensmuseum.org/events/open-for-general-admission-1976/
LOCATION:World Awareness Children’s Museum\, 89 Warren St\, Glens Falls\, NY\, United States
GEO:43.310029;-73.639958
X-APPLE-STRUCTURED-LOCATION;VALUE=URI;X-ADDRESS=World Awareness Children’s Museum 89 Warren St Glens Falls NY United States;X-APPLE-RADIUS=500;X-TITLE=89 Warren St:geo:-73.639958,43.310029
END:VEVENT
BEGIN:VEVENT
DTSTART;TZID=America/New_York:20250531T133000
DTEND;TZID=America/New_York:20250531T143000
DTSTAMP:20260423T134222
CREATED:20250423T165343Z
LAST-MODIFIED:20250531T182340Z
UID:10004463-1748698200-1748701800@worldchildrensmuseum.org
SUMMARY:Storytime Saturday
DESCRIPTION:Introducing Storytime Saturday! \nWe’re excited to launch Storytime Saturday\, a new monthly program designed especially for families who may not be able to attend our regular Friday sessions. This special weekend storytime offers parents and caregivers the chance to enjoy stories\, songs\, and activities with their little ones in a welcoming and playful setting. \nEach session will include a hands-on craft to help bring the story to life\, encouraging creativity and deeper connections with the themes we explore together. \nStorytime promotes early literacy skills\, supports language and social development\, builds imaginative thinking\, and creates special bonding moments between children and their grown-ups. \nWe hope you’ll join us and make Storytime Saturday a new tradition for your family! \nCost: Free with admission.
URL:https://worldchildrensmuseum.org/events/storytime-saturday-2/
LOCATION:NY
END:VEVENT
BEGIN:VEVENT
DTSTART;TZID=America/New_York:20250531T120000
DTEND;TZID=America/New_York:20250531T130000
DTSTAMP:20260423T134222
CREATED:20250423T165343Z
LAST-MODIFIED:20250531T165334Z
UID:10004462-1748692800-1748696400@worldchildrensmuseum.org
SUMMARY:Dolls from Around the World Workshop
DESCRIPTION:Come explore special handmade dolls that aren’t usually seen at the Museum! Look closely\, investigate\, and observe their details—then make your very own doll to take home and keep! \nPerfect for: Ages 5+.  \nPlease call to reserve your spot at 518-793-2773 or visit wacm.ticketleap.com to reserve online. \n*This class is limited to 10 people.
URL:https://worldchildrensmuseum.org/events/dolls-from-around-the-world-workshop/
LOCATION:NY
END:VEVENT
BEGIN:VEVENT
DTSTART;TZID=America/New_York:20250531T103000
DTEND;TZID=America/New_York:20250531T113000
DTSTAMP:20260423T134222
CREATED:20250423T162403Z
LAST-MODIFIED:20250531T150836Z
UID:10004461-1748687400-1748691000@worldchildrensmuseum.org
SUMMARY:Storytime Saturday
DESCRIPTION:Introducing Storytime Saturday! \nWe’re excited to launch Storytime Saturday\, a new monthly program designed especially for families who may not be able to attend our regular Friday sessions. This special weekend storytime offers parents and caregivers the chance to enjoy stories\, songs\, and activities with their little ones in a welcoming and playful setting. \nEach session will include a hands-on craft to help bring the story to life\, encouraging creativity and deeper connections with the themes we explore together. \nStorytime promotes early literacy skills\, supports language and social development\, builds imaginative thinking\, and creates special bonding moments between children and their grown-ups. \nWe hope you’ll join us and make Storytime Saturday a new tradition for your family! \nCost: Free with admission.
URL:https://worldchildrensmuseum.org/events/storytime-saturday/
LOCATION:NY
END:VEVENT
BEGIN:VEVENT
DTSTART;TZID=America/New_York:20250531T100000
DTEND;TZID=America/New_York:20250531T150000
DTSTAMP:20260423T134222
CREATED:20240519T142422Z
LAST-MODIFIED:20250531T185332Z
UID:10003988-1748685600-1748703600@worldchildrensmuseum.org
SUMMARY:Open for General Admission
DESCRIPTION:Tickets can be purchased online at https://wacm.ticketleap.com/museum-admission-2024/Admission Costs:Members: FreeNot-Yet-Members: $7 per person\, children under 12mo. are free.Please visit our website for more information on admission: https://worldchildrensmuseum.org/for-visitors/
URL:https://worldchildrensmuseum.org/events/open-for-general-admission-1975/
LOCATION:World Awareness Children’s Museum\, 89 Warren St\, Glens Falls\, NY\, United States
GEO:43.310029;-73.639958
X-APPLE-STRUCTURED-LOCATION;VALUE=URI;X-ADDRESS=World Awareness Children’s Museum 89 Warren St Glens Falls NY United States;X-APPLE-RADIUS=500;X-TITLE=89 Warren St:geo:-73.639958,43.310029
END:VEVENT
BEGIN:VEVENT
DTSTART;TZID=America/New_York:20250530T133000
DTEND;TZID=America/New_York:20250530T143000
DTSTAMP:20260423T134222
CREATED:20250423T152419Z
LAST-MODIFIED:20250530T180839Z
UID:10004454-1748611800-1748615400@worldchildrensmuseum.org
SUMMARY:Storytime Friday
DESCRIPTION:Everyone is welcome at Storytime Fridays\, a recurring program designed to spark joy and curiosity in little ones! Each week\, we explore early literacy skills through movement\, imaginative play\, and a creative craft that brings the story to life. Perfect for toddlers\, preschoolers\, and their caregivers. \nCost: Free with Admission
URL:https://worldchildrensmuseum.org/events/storytime-friday-133/
LOCATION:NY
END:VEVENT
BEGIN:VEVENT
DTSTART;TZID=America/New_York:20250530T103000
DTEND;TZID=America/New_York:20250530T113000
DTSTAMP:20260423T134222
CREATED:20250423T152418Z
LAST-MODIFIED:20250530T145334Z
UID:10004453-1748601000-1748604600@worldchildrensmuseum.org
SUMMARY:Storytime Friday
DESCRIPTION:Everyone is welcome at Storytime Fridays\, a recurring program designed to spark joy and curiosity in little ones! Each week\, we explore early literacy skills through movement\, imaginative play\, and a creative craft that brings the story to life. Perfect for toddlers\, preschoolers\, and their caregivers. \nCost: Free with Admission
URL:https://worldchildrensmuseum.org/events/storytime-friday-132/
LOCATION:NY
END:VEVENT
BEGIN:VEVENT
DTSTART;TZID=America/New_York:20250530T100000
DTEND;TZID=America/New_York:20250530T150000
DTSTAMP:20260423T134222
CREATED:20240518T140923Z
LAST-MODIFIED:20250530T183838Z
UID:10003987-1748599200-1748617200@worldchildrensmuseum.org
SUMMARY:Open for General Admission
DESCRIPTION:Tickets can be purchased online at https://wacm.ticketleap.com/museum-admission-2024/Admission Costs:Members: FreeNot-Yet-Members: $7 per person\, children under 12mo. are free.Please visit our website for more information on admission: https://worldchildrensmuseum.org/for-visitors/
URL:https://worldchildrensmuseum.org/events/open-for-general-admission-1974/
LOCATION:World Awareness Children’s Museum\, 89 Warren St\, Glens Falls\, NY\, United States
GEO:43.310029;-73.639958
X-APPLE-STRUCTURED-LOCATION;VALUE=URI;X-ADDRESS=World Awareness Children’s Museum 89 Warren St Glens Falls NY United States;X-APPLE-RADIUS=500;X-TITLE=89 Warren St:geo:-73.639958,43.310029
END:VEVENT
BEGIN:VEVENT
DTSTART;TZID=America/New_York:20250529T100000
DTEND;TZID=America/New_York:20250529T150000
DTSTAMP:20260423T134222
CREATED:20240518T140922Z
LAST-MODIFIED:20250529T183833Z
UID:10003986-1748512800-1748530800@worldchildrensmuseum.org
SUMMARY:Open for General Admission
DESCRIPTION:Tickets can be purchased online at https://wacm.ticketleap.com/museum-admission-2024/Admission Costs:Members: FreeNot-Yet-Members: $7 per person\, children under 12mo. are free.Please visit our website for more information on admission: https://worldchildrensmuseum.org/for-visitors/
URL:https://worldchildrensmuseum.org/events/open-for-general-admission-1973/
LOCATION:World Awareness Children’s Museum\, 89 Warren St\, Glens Falls\, NY\, United States
GEO:43.310029;-73.639958
X-APPLE-STRUCTURED-LOCATION;VALUE=URI;X-ADDRESS=World Awareness Children’s Museum 89 Warren St Glens Falls NY United States;X-APPLE-RADIUS=500;X-TITLE=89 Warren St:geo:-73.639958,43.310029
END:VEVENT
BEGIN:VEVENT
DTSTART;TZID=America/New_York:20250526T100000
DTEND;TZID=America/New_York:20250526T150000
DTSTAMP:20260423T134222
CREATED:20240517T140928Z
LAST-MODIFIED:20250417T162504Z
UID:10003985-1748253600-1748271600@worldchildrensmuseum.org
SUMMARY:Open for General Admission
DESCRIPTION:Tickets can be purchased online at https://wacm.ticketleap.com/museum-admission-2024/Admission Costs:Members: FreeNot-Yet-Members: $7 per person\, children under 12mo. are free.Please visit our website for more information on admission: https://worldchildrensmuseum.org/for-visitors/
URL:https://worldchildrensmuseum.org/events/open-for-general-admission-1972/
LOCATION:World Awareness Children’s Museum\, 89 Warren St\, Glens Falls\, NY\, United States
GEO:43.310029;-73.639958
X-APPLE-STRUCTURED-LOCATION;VALUE=URI;X-ADDRESS=World Awareness Children’s Museum 89 Warren St Glens Falls NY United States;X-APPLE-RADIUS=500;X-TITLE=89 Warren St:geo:-73.639958,43.310029
END:VEVENT
BEGIN:VEVENT
DTSTART;VALUE=DATE:20250526
DTEND;VALUE=DATE:20250527
DTSTAMP:20260423T134222
CREATED:20250417T165349Z
LAST-MODIFIED:20250526T235336Z
UID:10004431-1748217600-1748303999@worldchildrensmuseum.org
SUMMARY:MUSEUM CLOSED FOR MEMORIAL DAY
DESCRIPTION:
URL:https://worldchildrensmuseum.org/events/museum-closed-for-memorial-day-4/
LOCATION:NY
END:VEVENT
BEGIN:VEVENT
DTSTART;TZID=America/New_York:20250525T100000
DTEND;TZID=America/New_York:20250525T150000
DTSTAMP:20260423T134222
CREATED:20250423T162401Z
LAST-MODIFIED:20250525T185341Z
UID:10004460-1748167200-1748185200@worldchildrensmuseum.org
SUMMARY:Make & Take: Red\, White\, and Blue Tissue Stars
DESCRIPTION:Show your patriotic spirit with this fun and easy craft! Kids will create a festive red\, white\, and blue star by scrunching and gluing tissue paper pieces onto a star template. Perfect for little hands and big celebrations alike! \nCost: Free with admission and while supplies last. 
URL:https://worldchildrensmuseum.org/events/make-take-red-white-and-blue-tissue-stars/
LOCATION:NY
END:VEVENT
BEGIN:VEVENT
DTSTART;TZID=America/New_York:20250525T100000
DTEND;TZID=America/New_York:20250525T150000
DTSTAMP:20260423T134222
CREATED:20240516T135443Z
LAST-MODIFIED:20250525T185341Z
UID:10003984-1748167200-1748185200@worldchildrensmuseum.org
SUMMARY:Open for General Admission
DESCRIPTION:Tickets can be purchased online at https://wacm.ticketleap.com/museum-admission-2024/Admission Costs:Members: FreeNot-Yet-Members: $7 per person\, children under 12mo. are free.Please visit our website for more information on admission: https://worldchildrensmuseum.org/for-visitors/
URL:https://worldchildrensmuseum.org/events/open-for-general-admission-1971/
LOCATION:World Awareness Children’s Museum\, 89 Warren St\, Glens Falls\, NY\, United States
GEO:43.310029;-73.639958
X-APPLE-STRUCTURED-LOCATION;VALUE=URI;X-ADDRESS=World Awareness Children’s Museum 89 Warren St Glens Falls NY United States;X-APPLE-RADIUS=500;X-TITLE=89 Warren St:geo:-73.639958,43.310029
END:VEVENT
BEGIN:VEVENT
DTSTART;TZID=America/New_York:20250524T130000
DTEND;TZID=America/New_York:20250524T143000
DTSTAMP:20260423T134222
CREATED:20250224T182342Z
LAST-MODIFIED:20250524T182332Z
UID:10004358-1748091600-1748097000@worldchildrensmuseum.org
SUMMARY:Sweet Bunny Rabbit Paint & Sip
DESCRIPTION:Join us for our popular family-friendly Paint & Sip series taught by local artist Patrice Jarvis-Weber. Artists will paint their own sweet bunny rabbit on canvas.  \nCost: $12 per person. Members get a 10% discount! Please call to reserve your spot: 518-793-2773 or visit wacm.ticketleap.com to reserve online. \nThis class is limited to 9 people.
URL:https://worldchildrensmuseum.org/events/sweet-bunny-rabbit-paint-sip/
LOCATION:NY
END:VEVENT
BEGIN:VEVENT
DTSTART;TZID=America/New_York:20250524T100000
DTEND;TZID=America/New_York:20250524T150000
DTSTAMP:20260423T134222
CREATED:20240515T133946Z
LAST-MODIFIED:20250524T185439Z
UID:10003983-1748080800-1748098800@worldchildrensmuseum.org
SUMMARY:Open for General Admission
DESCRIPTION:Tickets can be purchased online at https://wacm.ticketleap.com/museum-admission-2024/Admission Costs:Members: FreeNot-Yet-Members: $7 per person\, children under 12mo. are free.Please visit our website for more information on admission: https://worldchildrensmuseum.org/for-visitors/
URL:https://worldchildrensmuseum.org/events/open-for-general-admission-1970/
LOCATION:World Awareness Children’s Museum\, 89 Warren St\, Glens Falls\, NY\, United States
GEO:43.310029;-73.639958
X-APPLE-STRUCTURED-LOCATION;VALUE=URI;X-ADDRESS=World Awareness Children’s Museum 89 Warren St Glens Falls NY United States;X-APPLE-RADIUS=500;X-TITLE=89 Warren St:geo:-73.639958,43.310029
END:VEVENT
BEGIN:VEVENT
DTSTART;TZID=America/New_York:20250523T133000
DTEND;TZID=America/New_York:20250523T143000
DTSTAMP:20260423T134222
CREATED:20250423T152417Z
LAST-MODIFIED:20250523T182334Z
UID:10004452-1748007000-1748010600@worldchildrensmuseum.org
SUMMARY:Storytime Friday
DESCRIPTION:Everyone is welcome at Storytime Fridays\, a recurring program designed to spark joy and curiosity in little ones! Each week\, we explore early literacy skills through movement\, imaginative play\, and a creative craft that brings the story to life. Perfect for toddlers\, preschoolers\, and their caregivers. \nCost: Free with Admission
URL:https://worldchildrensmuseum.org/events/storytime-friday-131/
LOCATION:NY
END:VEVENT
BEGIN:VEVENT
DTSTART;TZID=America/New_York:20250523T103000
DTEND;TZID=America/New_York:20250523T113000
DTSTAMP:20260423T134222
CREATED:20250423T152417Z
LAST-MODIFIED:20250523T152413Z
UID:10004451-1747996200-1747999800@worldchildrensmuseum.org
SUMMARY:Storytime Friday
DESCRIPTION:Everyone is welcome at Storytime Fridays\, a recurring program designed to spark joy and curiosity in little ones! Each week\, we explore early literacy skills through movement\, imaginative play\, and a creative craft that brings the story to life. Perfect for toddlers\, preschoolers\, and their caregivers. \nCost: Free with Admission
URL:https://worldchildrensmuseum.org/events/storytime-friday-130/
LOCATION:NY
END:VEVENT
BEGIN:VEVENT
DTSTART;TZID=America/New_York:20250523T100000
DTEND;TZID=America/New_York:20250523T150000
DTSTAMP:20260423T134222
CREATED:20240514T132442Z
LAST-MODIFIED:20250523T185334Z
UID:10003982-1747994400-1748012400@worldchildrensmuseum.org
SUMMARY:Open for General Admission
DESCRIPTION:Tickets can be purchased online at https://wacm.ticketleap.com/museum-admission-2024/Admission Costs:Members: FreeNot-Yet-Members: $7 per person\, children under 12mo. are free.Please visit our website for more information on admission: https://worldchildrensmuseum.org/for-visitors/
URL:https://worldchildrensmuseum.org/events/open-for-general-admission-1969/
LOCATION:World Awareness Children’s Museum\, 89 Warren St\, Glens Falls\, NY\, United States
GEO:43.310029;-73.639958
X-APPLE-STRUCTURED-LOCATION;VALUE=URI;X-ADDRESS=World Awareness Children’s Museum 89 Warren St Glens Falls NY United States;X-APPLE-RADIUS=500;X-TITLE=89 Warren St:geo:-73.639958,43.310029
END:VEVENT
BEGIN:VEVENT
DTSTART;TZID=America/New_York:20250522T103000
DTEND;TZID=America/New_York:20250522T113000
DTSTAMP:20260423T134222
CREATED:20250423T145405Z
LAST-MODIFIED:20250522T152402Z
UID:10004444-1747909800-1747913400@worldchildrensmuseum.org
SUMMARY:Kinder Rhythm Drumming
DESCRIPTION:Kinder Rhythm Inspires creativity\, joyful play\, and social interaction through the power of group rhythm-making. This includes singing\, dancing\, playing instruments\, and moving to the beat. Come and join Susie Barber\, national and international music\, theatre\, and movement educator and drum facilitator for a morning of fun and adventure with a hands-on rhythmic exploration for your child and the child in you!  As the Zimbabwe proverb says\, “If you can speak you can sing and if you can walk you can dance!” \nCost: Free with admission
URL:https://worldchildrensmuseum.org/events/kinder-rhythm-drumming-19/
LOCATION:NY
END:VEVENT
BEGIN:VEVENT
DTSTART;TZID=America/New_York:20250522T100000
DTEND;TZID=America/New_York:20250522T150000
DTSTAMP:20260423T134222
CREATED:20240513T132422Z
LAST-MODIFIED:20250522T185410Z
UID:10003981-1747908000-1747926000@worldchildrensmuseum.org
SUMMARY:Open for General Admission
DESCRIPTION:Tickets can be purchased online at https://wacm.ticketleap.com/museum-admission-2024/Admission Costs:Members: FreeNot-Yet-Members: $7 per person\, children under 12mo. are free.Please visit our website for more information on admission: https://worldchildrensmuseum.org/for-visitors/
URL:https://worldchildrensmuseum.org/events/open-for-general-admission-1968/
LOCATION:World Awareness Children’s Museum\, 89 Warren St\, Glens Falls\, NY\, United States
GEO:43.310029;-73.639958
X-APPLE-STRUCTURED-LOCATION;VALUE=URI;X-ADDRESS=World Awareness Children’s Museum 89 Warren St Glens Falls NY United States;X-APPLE-RADIUS=500;X-TITLE=89 Warren St:geo:-73.639958,43.310029
END:VEVENT
BEGIN:VEVENT
DTSTART;TZID=America/New_York:20250519T103000
DTEND;TZID=America/New_York:20250519T113000
DTSTAMP:20260423T134222
CREATED:20250424T163913Z
LAST-MODIFIED:20250519T055336Z
UID:10004464-1747650600-1747654200@worldchildrensmuseum.org
SUMMARY:Global Rhythms: A (g)row & WACM Playdate!
DESCRIPTION:Join us for a special collaborative playdate with (g)row\, a local kids boutique known for sustainable goods\, children’s clothing\, and creative classes for families! \nOn May 18th from 10:30–11:30am\, (g)row will visit the World Awareness Children’s Museum for a sensory play session! \nThen\, on May 19th from 10:30–11:30 AM\, WACM will present Global Rhythms—a lively session of globally inspired music and movement. Meet us at (g)row’s vibrant space for the fun at 18 Exchange St.\, Glens Falls\, NY!  \nWanna play? Check both (g)row’s and WACM’s calendars for sign-up details and costs! Perfect for children ages 0–5 and their grown-ups! 
URL:https://worldchildrensmuseum.org/events/global-rhythms-a-grow-wacm-playdate/
LOCATION:18 Exchange St\, Glens Falls\, NY\, United States
GEO:43.30952;-73.64401
END:VEVENT
BEGIN:VEVENT
DTSTART;TZID=America/New_York:20250519T100000
DTEND;TZID=America/New_York:20250519T150000
DTSTAMP:20260423T134222
CREATED:20240513T132422Z
LAST-MODIFIED:20250519T055336Z
UID:10003980-1747648800-1747666800@worldchildrensmuseum.org
SUMMARY:Open for General Admission
DESCRIPTION:Tickets can be purchased online at https://wacm.ticketleap.com/museum-admission-2024/Admission Costs:Members: FreeNot-Yet-Members: $7 per person\, children under 12mo. are free.Please visit our website for more information on admission: https://worldchildrensmuseum.org/for-visitors/
URL:https://worldchildrensmuseum.org/events/open-for-general-admission-1967/
LOCATION:World Awareness Children’s Museum\, 89 Warren St\, Glens Falls\, NY\, United States
GEO:43.310029;-73.639958
X-APPLE-STRUCTURED-LOCATION;VALUE=URI;X-ADDRESS=World Awareness Children’s Museum 89 Warren St Glens Falls NY United States;X-APPLE-RADIUS=500;X-TITLE=89 Warren St:geo:-73.639958,43.310029
END:VEVENT
END:VCALENDAR