BEGIN:VCALENDAR
VERSION:2.0
PRODID:-//World Awareness Children&#039;s Museum - ECPv6.15.20//NONSGML v1.0//EN
CALSCALE:GREGORIAN
METHOD:PUBLISH
X-WR-CALNAME:World Awareness Children&#039;s Museum
X-ORIGINAL-URL:https://worldchildrensmuseum.org
X-WR-CALDESC:Events for World Awareness Children&#039;s Museum
REFRESH-INTERVAL;VALUE=DURATION:PT1H
X-Robots-Tag:noindex
X-PUBLISHED-TTL:PT1H
BEGIN:VTIMEZONE
TZID:America/New_York
BEGIN:DAYLIGHT
TZOFFSETFROM:-0500
TZOFFSETTO:-0400
TZNAME:EDT
DTSTART:20220313T070000
END:DAYLIGHT
BEGIN:STANDARD
TZOFFSETFROM:-0400
TZOFFSETTO:-0500
TZNAME:EST
DTSTART:20221106T060000
END:STANDARD
BEGIN:DAYLIGHT
TZOFFSETFROM:-0500
TZOFFSETTO:-0400
TZNAME:EDT
DTSTART:20230312T070000
END:DAYLIGHT
BEGIN:STANDARD
TZOFFSETFROM:-0400
TZOFFSETTO:-0500
TZNAME:EST
DTSTART:20231105T060000
END:STANDARD
BEGIN:DAYLIGHT
TZOFFSETFROM:-0500
TZOFFSETTO:-0400
TZNAME:EDT
DTSTART:20240310T070000
END:DAYLIGHT
BEGIN:STANDARD
TZOFFSETFROM:-0400
TZOFFSETTO:-0500
TZNAME:EST
DTSTART:20241103T060000
END:STANDARD
END:VTIMEZONE
BEGIN:VEVENT
DTSTART;TZID=America/New_York:20230115T100000
DTEND;TZID=America/New_York:20230115T150000
DTSTAMP:20260423T064743
CREATED:20220325T231023Z
LAST-MODIFIED:20230114T222457Z
UID:10001722-1673776800-1673794800@worldchildrensmuseum.org
SUMMARY:Free Day!
DESCRIPTION:Visit the museum for free today thanks to Stewart’s Holiday Match and all who contributed! We are pleased to offer these free days from 10am-3pm once per month. Donations are appreciated\, but not required. \nFree Days are generously sponsored by Stewart’s Holiday Match.  \nYou can learn more by visiting www.stewartsshops.com/community-giving
URL:https://worldchildrensmuseum.org/events/free-day-10/
LOCATION:NY
ATTACH;FMTTYPE=image/jpeg:https://worldchildrensmuseum.org/wp-content/uploads/2022/11/PS-Photo-1.jpg
END:VEVENT
BEGIN:VEVENT
DTSTART;TZID=America/New_York:20230116T103000
DTEND;TZID=America/New_York:20230116T113000
DTSTAMP:20260423T064743
CREATED:20230105T215518Z
LAST-MODIFIED:20230115T224046Z
UID:10002208-1673865000-1673868600@worldchildrensmuseum.org
SUMMARY:Peaceful Hands Craft
DESCRIPTION:Join us today to honor Martin Luther King\, Jr. by making a craft that reminds us to use our hands for good to bring peace to the world.  \nCost: Free with admission
URL:https://worldchildrensmuseum.org/events/peaceful-hands-craft/
LOCATION:NY
END:VEVENT
BEGIN:VEVENT
DTSTART;VALUE=DATE:20230117
DTEND;VALUE=DATE:20230118
DTSTAMP:20260423T064743
CREATED:20220907T045609Z
LAST-MODIFIED:20230117T225611Z
UID:10002128-1673913600-1673999999@worldchildrensmuseum.org
SUMMARY:MUSEUM CLOSED
DESCRIPTION:
URL:https://worldchildrensmuseum.org/events/museum-closed-43/
LOCATION:NY
END:VEVENT
BEGIN:VEVENT
DTSTART;VALUE=DATE:20230118
DTEND;VALUE=DATE:20230119
DTSTAMP:20260423T064743
CREATED:20220907T045609Z
LAST-MODIFIED:20230118T231148Z
UID:10002125-1674000000-1674086399@worldchildrensmuseum.org
SUMMARY:MUSEUM CLOSED
DESCRIPTION:
URL:https://worldchildrensmuseum.org/events/museum-closed-42/
LOCATION:NY
END:VEVENT
BEGIN:VEVENT
DTSTART;TZID=America/New_York:20230119T100000
DTEND;TZID=America/New_York:20230119T150000
DTSTAMP:20260423T064743
CREATED:20220824T022732Z
LAST-MODIFIED:20221221T214108Z
UID:10001731-1674122400-1674140400@worldchildrensmuseum.org
SUMMARY:Open for General Admission
DESCRIPTION:Pre-registration is encouraged: wacm.ticketleap.com/admission-2022 \nAdmission Costs:Members: FreeNot-Yet-Members: $7 per person\, children under 3 are free.Please visit our website for more information on admission: https://worldchildrensmuseum.org/for-visitors/
URL:https://worldchildrensmuseum.org/events/open-for-general-admission-360/
LOCATION:World Awareness Children’s Museum\, 89 Warren St\, Glens Falls\, NY 12801\, USA
END:VEVENT
BEGIN:VEVENT
DTSTART;TZID=America/New_York:20230119T130000
DTEND;TZID=America/New_York:20230119T133000
DTSTAMP:20260423T064743
CREATED:20230105T215519Z
LAST-MODIFIED:20230118T231148Z
UID:10002209-1674133200-1674135000@worldchildrensmuseum.org
SUMMARY:Chinese Lunar New Year Program
DESCRIPTION:Join us for this World Culture Workshop! \nWe will read a book about the Lunar New Year celebration\, observe art and artifacts from the museum’s collection\, and everyone will play a part in the Lion Parade at the museum!  \nCost: $2 per person in addition to admission. Members attend for free! (Appropriate for ages 3-9) \nPlease call to reserve your spot: 518-793-2773 or visit wacm.ticketleap.com to reserve online.
URL:https://worldchildrensmuseum.org/events/chinese-lunar-new-year-program/
LOCATION:NY
END:VEVENT
BEGIN:VEVENT
DTSTART;TZID=America/New_York:20230120T100000
DTEND;TZID=America/New_York:20230120T150000
DTSTAMP:20260423T064743
CREATED:20220824T022732Z
LAST-MODIFIED:20221221T214108Z
UID:10001733-1674208800-1674226800@worldchildrensmuseum.org
SUMMARY:Open for General Admission
DESCRIPTION:Pre-registration is encouraged: wacm.ticketleap.com/admission-2022 \nAdmission Costs:Members: FreeNot-Yet-Members: $7 per person\, children under 3 are free.Please visit our website for more information on admission: https://worldchildrensmuseum.org/for-visitors/
URL:https://worldchildrensmuseum.org/events/open-for-general-admission-361/
LOCATION:World Awareness Children’s Museum\, 89 Warren St\, Glens Falls\, NY 12801\, USA
END:VEVENT
BEGIN:VEVENT
DTSTART;TZID=America/New_York:20230121T110000
DTEND;TZID=America/New_York:20230121T113000
DTSTAMP:20260423T064743
CREATED:20230105T215519Z
LAST-MODIFIED:20230120T231013Z
UID:10002210-1674298800-1674300600@worldchildrensmuseum.org
SUMMARY:Chinese Lunar New Year @ CMAS
DESCRIPTION: This program takes place at the Children’s Museum at Saratoga. \nThe World Awareness Children’s Museum will present an introduction to the Chinese Lunar New Year Festival! Children will learn through hands-on stations with authentic clothing and objects\, original art\, and a make-and-take project that brings this celebration to life! \nCost: Free with CMAS Admission ($10 per person)Learn more at their website: https://cmssny.org
URL:https://worldchildrensmuseum.org/events/chinese-lunar-new-year-cmas/
LOCATION:Children’s Museum at Saratoga\, 65 S Broadway\, Saratoga Springs\, NY 12866\, USA
END:VEVENT
BEGIN:VEVENT
DTSTART;TZID=America/New_York:20230122T100000
DTEND;TZID=America/New_York:20230122T150000
DTSTAMP:20260423T064743
CREATED:20220824T022732Z
LAST-MODIFIED:20221221T214108Z
UID:10001961-1674381600-1674399600@worldchildrensmuseum.org
SUMMARY:Open for General Admission
DESCRIPTION:Pre-registration is encouraged: wacm.ticketleap.com/admission-2022 \nAdmission Costs:Members: FreeNot-Yet-Members: $7 per person\, children under 3 are free.Please visit our website for more information on admission: https://worldchildrensmuseum.org/for-visitors/
URL:https://worldchildrensmuseum.org/events/open-for-general-admission-363/
LOCATION:World Awareness Children’s Museum\, 89 Warren St\, Glens Falls\, NY 12801\, USA
END:VEVENT
BEGIN:VEVENT
DTSTART;VALUE=DATE:20230124
DTEND;VALUE=DATE:20230125
DTSTAMP:20260423T064743
CREATED:20220907T045610Z
LAST-MODIFIED:20230124T231029Z
UID:10002130-1674518400-1674604799@worldchildrensmuseum.org
SUMMARY:MUSEUM CLOSED
DESCRIPTION:
URL:https://worldchildrensmuseum.org/events/museum-closed-44/
LOCATION:NY
END:VEVENT
BEGIN:VEVENT
DTSTART;VALUE=DATE:20230125
DTEND;VALUE=DATE:20230126
DTSTAMP:20260423T064743
CREATED:20220907T045610Z
LAST-MODIFIED:20230125T231003Z
UID:10002132-1674604800-1674691199@worldchildrensmuseum.org
SUMMARY:MUSEUM CLOSED
DESCRIPTION:
URL:https://worldchildrensmuseum.org/events/museum-closed-45/
LOCATION:NY
END:VEVENT
BEGIN:VEVENT
DTSTART;TZID=America/New_York:20230126T103000
DTEND;TZID=America/New_York:20230126T113000
DTSTAMP:20260423T064743
CREATED:20230105T215520Z
LAST-MODIFIED:20230125T231003Z
UID:10002211-1674729000-1674732600@worldchildrensmuseum.org
SUMMARY:Slime Lab
DESCRIPTION:Today we’ll be making Moon Dough! \nCost: Free with admission.
URL:https://worldchildrensmuseum.org/events/slime-lab-8/
LOCATION:NY
END:VEVENT
BEGIN:VEVENT
DTSTART;TZID=America/New_York:20230127T100000
DTEND;TZID=America/New_York:20230127T150000
DTSTAMP:20260423T064743
CREATED:20220824T022737Z
LAST-MODIFIED:20221221T214109Z
UID:10001969-1674813600-1674831600@worldchildrensmuseum.org
SUMMARY:Open for General Admission
DESCRIPTION:Pre-registration is encouraged: wacm.ticketleap.com/admission-2022 \nAdmission Costs:Members: FreeNot-Yet-Members: $7 per person\, children under 3 are free.Please visit our website for more information on admission: https://worldchildrensmuseum.org/for-visitors/
URL:https://worldchildrensmuseum.org/events/open-for-general-admission-366/
LOCATION:World Awareness Children’s Museum\, 89 Warren St\, Glens Falls\, NY 12801\, USA
END:VEVENT
BEGIN:VEVENT
DTSTART;TZID=America/New_York:20230128T100000
DTEND;TZID=America/New_York:20230128T150000
DTSTAMP:20260423T064743
CREATED:20220824T022737Z
LAST-MODIFIED:20221221T214109Z
UID:10001983-1674900000-1674918000@worldchildrensmuseum.org
SUMMARY:Open for General Admission
DESCRIPTION:Pre-registration is encouraged: wacm.ticketleap.com/admission-2022 \nAdmission Costs:Members: FreeNot-Yet-Members: $7 per person\, children under 3 are free.Please visit our website for more information on admission: https://worldchildrensmuseum.org/for-visitors/
URL:https://worldchildrensmuseum.org/events/open-for-general-admission-367/
LOCATION:World Awareness Children’s Museum\, 89 Warren St\, Glens Falls\, NY 12801\, USA
END:VEVENT
BEGIN:VEVENT
DTSTART;TZID=America/New_York:20230129T100000
DTEND;TZID=America/New_York:20230129T150000
DTSTAMP:20260423T064743
CREATED:20220824T022738Z
LAST-MODIFIED:20221221T214109Z
UID:10001950-1674986400-1675004400@worldchildrensmuseum.org
SUMMARY:Open for General Admission
DESCRIPTION:Pre-registration is encouraged: wacm.ticketleap.com/admission-2022 \nAdmission Costs:Members: FreeNot-Yet-Members: $7 per person\, children under 3 are free.Please visit our website for more information on admission: https://worldchildrensmuseum.org/for-visitors/
URL:https://worldchildrensmuseum.org/events/open-for-general-admission-368/
LOCATION:World Awareness Children’s Museum\, 89 Warren St\, Glens Falls\, NY 12801\, USA
END:VEVENT
BEGIN:VEVENT
DTSTART;TZID=America/New_York:20230129T130000
DTEND;TZID=America/New_York:20230129T143000
DTSTAMP:20260423T064743
CREATED:20230105T215520Z
LAST-MODIFIED:20230128T232514Z
UID:10002212-1674997200-1675002600@worldchildrensmuseum.org
SUMMARY:My Panda Friend Paint & Sip
DESCRIPTION:Join us for our popular family-friendly Paint & Sip series. Artists will paint their own panda masterpiece on canvas with instruction from local artist Patrice Jarvis-Weber.  \nCost: $10 per person. Members get a 10% discount! \nPlease call to reserve your spot: 518-793-2773 or visit wacm.ticketleap.com to reserve online. This class is limited to 9 people.
URL:https://worldchildrensmuseum.org/events/my-panda-friend-paint-sip/
LOCATION:NY
END:VEVENT
BEGIN:VEVENT
DTSTART;TZID=America/New_York:20230130T100000
DTEND;TZID=America/New_York:20230130T150000
DTSTAMP:20260423T064743
CREATED:20220824T022738Z
LAST-MODIFIED:20221221T214109Z
UID:10001949-1675072800-1675090800@worldchildrensmuseum.org
SUMMARY:Open for General Admission
DESCRIPTION:Pre-registration is encouraged: wacm.ticketleap.com/admission-2022 \nAdmission Costs:Members: FreeNot-Yet-Members: $7 per person\, children under 3 are free.Please visit our website for more information on admission: https://worldchildrensmuseum.org/for-visitors/
URL:https://worldchildrensmuseum.org/events/open-for-general-admission-369/
LOCATION:World Awareness Children’s Museum\, 89 Warren St\, Glens Falls\, NY 12801\, USA
END:VEVENT
BEGIN:VEVENT
DTSTART;VALUE=DATE:20230131
DTEND;VALUE=DATE:20230201
DTSTAMP:20260423T064743
CREATED:20220907T045611Z
LAST-MODIFIED:20230131T232559Z
UID:10002134-1675123200-1675209599@worldchildrensmuseum.org
SUMMARY:MUSEUM CLOSED
DESCRIPTION:
URL:https://worldchildrensmuseum.org/events/museum-closed-46/
LOCATION:NY
END:VEVENT
BEGIN:VEVENT
DTSTART;VALUE=DATE:20230201
DTEND;VALUE=DATE:20230202
DTSTAMP:20260423T064743
CREATED:20220907T045611Z
LAST-MODIFIED:20230201T234002Z
UID:10002136-1675209600-1675295999@worldchildrensmuseum.org
SUMMARY:MUSEUM CLOSED
DESCRIPTION:
URL:https://worldchildrensmuseum.org/events/museum-closed-47/
LOCATION:NY
END:VEVENT
BEGIN:VEVENT
DTSTART;TZID=America/New_York:20230202T100000
DTEND;TZID=America/New_York:20230202T150000
DTSTAMP:20260423T064743
CREATED:20220824T022738Z
LAST-MODIFIED:20221221T214109Z
UID:10001948-1675332000-1675350000@worldchildrensmuseum.org
SUMMARY:Open for General Admission
DESCRIPTION:Pre-registration is encouraged: wacm.ticketleap.com/admission-2022 \nAdmission Costs:Members: FreeNot-Yet-Members: $7 per person\, children under 3 are free.Please visit our website for more information on admission: https://worldchildrensmuseum.org/for-visitors/
URL:https://worldchildrensmuseum.org/events/open-for-general-admission-370/
LOCATION:World Awareness Children’s Museum\, 89 Warren St\, Glens Falls\, NY 12801\, USA
END:VEVENT
BEGIN:VEVENT
DTSTART;TZID=America/New_York:20230203T100000
DTEND;TZID=America/New_York:20230203T150000
DTSTAMP:20260423T064743
CREATED:20220824T022738Z
LAST-MODIFIED:20221221T214109Z
UID:10001938-1675418400-1675436400@worldchildrensmuseum.org
SUMMARY:Open for General Admission
DESCRIPTION:Pre-registration is encouraged: wacm.ticketleap.com/admission-2022 \nAdmission Costs:Members: FreeNot-Yet-Members: $7 per person\, children under 3 are free.Please visit our website for more information on admission: https://worldchildrensmuseum.org/for-visitors/
URL:https://worldchildrensmuseum.org/events/open-for-general-admission-371/
LOCATION:World Awareness Children’s Museum\, 89 Warren St\, Glens Falls\, NY 12801\, USA
END:VEVENT
BEGIN:VEVENT
DTSTART;TZID=America/New_York:20230204T100000
DTEND;TZID=America/New_York:20230204T150000
DTSTAMP:20260423T064743
CREATED:20220824T022738Z
LAST-MODIFIED:20221221T214110Z
UID:10001939-1675504800-1675522800@worldchildrensmuseum.org
SUMMARY:Open for General Admission
DESCRIPTION:Pre-registration is encouraged: wacm.ticketleap.com/admission-2022 \nAdmission Costs:Members: FreeNot-Yet-Members: $7 per person\, children under 3 are free.Please visit our website for more information on admission: https://worldchildrensmuseum.org/for-visitors/
URL:https://worldchildrensmuseum.org/events/open-for-general-admission-372/
LOCATION:World Awareness Children’s Museum\, 89 Warren St\, Glens Falls\, NY 12801\, USA
END:VEVENT
BEGIN:VEVENT
DTSTART;TZID=America/New_York:20230205T100000
DTEND;TZID=America/New_York:20230205T150000
DTSTAMP:20260423T064743
CREATED:20220824T022739Z
LAST-MODIFIED:20221221T214110Z
UID:10001940-1675591200-1675609200@worldchildrensmuseum.org
SUMMARY:Open for General Admission
DESCRIPTION:Pre-registration is encouraged: wacm.ticketleap.com/admission-2022 \nAdmission Costs:Members: FreeNot-Yet-Members: $7 per person\, children under 3 are free.Please visit our website for more information on admission: https://worldchildrensmuseum.org/for-visitors/
URL:https://worldchildrensmuseum.org/events/open-for-general-admission-373/
LOCATION:World Awareness Children’s Museum\, 89 Warren St\, Glens Falls\, NY 12801\, USA
END:VEVENT
BEGIN:VEVENT
DTSTART;TZID=America/New_York:20230206T100000
DTEND;TZID=America/New_York:20230206T150000
DTSTAMP:20260423T064743
CREATED:20220824T022739Z
LAST-MODIFIED:20221221T214110Z
UID:10001941-1675677600-1675695600@worldchildrensmuseum.org
SUMMARY:Open for General Admission
DESCRIPTION:Pre-registration is encouraged: wacm.ticketleap.com/admission-2022 \nAdmission Costs:Members: FreeNot-Yet-Members: $7 per person\, children under 3 are free.Please visit our website for more information on admission: https://worldchildrensmuseum.org/for-visitors/
URL:https://worldchildrensmuseum.org/events/open-for-general-admission-374/
LOCATION:World Awareness Children’s Museum\, 89 Warren St\, Glens Falls\, NY 12801\, USA
END:VEVENT
BEGIN:VEVENT
DTSTART;VALUE=DATE:20230207
DTEND;VALUE=DATE:20230208
DTSTAMP:20260423T064743
CREATED:20220907T045612Z
LAST-MODIFIED:20230207T235457Z
UID:10002140-1675728000-1675814399@worldchildrensmuseum.org
SUMMARY:MUSEUM CLOSED
DESCRIPTION:
URL:https://worldchildrensmuseum.org/events/museum-closed-49/
LOCATION:NY
END:VEVENT
BEGIN:VEVENT
DTSTART;VALUE=DATE:20230208
DTEND;VALUE=DATE:20230209
DTSTAMP:20260423T064743
CREATED:20220907T045612Z
LAST-MODIFIED:20230208T235459Z
UID:10002138-1675814400-1675900799@worldchildrensmuseum.org
SUMMARY:MUSEUM CLOSED
DESCRIPTION:
URL:https://worldchildrensmuseum.org/events/museum-closed-48/
LOCATION:NY
END:VEVENT
BEGIN:VEVENT
DTSTART;TZID=America/New_York:20230209T100000
DTEND;TZID=America/New_York:20230209T150000
DTSTAMP:20260423T064743
CREATED:20220824T022739Z
LAST-MODIFIED:20221221T214110Z
UID:10001942-1675936800-1675954800@worldchildrensmuseum.org
SUMMARY:Open for General Admission
DESCRIPTION:Pre-registration is encouraged: wacm.ticketleap.com/admission-2022 \nAdmission Costs:Members: FreeNot-Yet-Members: $7 per person\, children under 3 are free.Please visit our website for more information on admission: https://worldchildrensmuseum.org/for-visitors/
URL:https://worldchildrensmuseum.org/events/open-for-general-admission-375/
LOCATION:World Awareness Children’s Museum\, 89 Warren St\, Glens Falls\, NY 12801\, USA
END:VEVENT
BEGIN:VEVENT
DTSTART;TZID=America/New_York:20230210T100000
DTEND;TZID=America/New_York:20230210T150000
DTSTAMP:20260423T064743
CREATED:20220824T022739Z
LAST-MODIFIED:20221221T214110Z
UID:10001943-1676023200-1676041200@worldchildrensmuseum.org
SUMMARY:Open for General Admission
DESCRIPTION:Pre-registration is encouraged: wacm.ticketleap.com/admission-2022 \nAdmission Costs:Members: FreeNot-Yet-Members: $7 per person\, children under 3 are free.Please visit our website for more information on admission: https://worldchildrensmuseum.org/for-visitors/
URL:https://worldchildrensmuseum.org/events/open-for-general-admission-376/
LOCATION:World Awareness Children’s Museum\, 89 Warren St\, Glens Falls\, NY 12801\, USA
END:VEVENT
BEGIN:VEVENT
DTSTART;TZID=America/New_York:20230210T103000
DTEND;TZID=America/New_York:20230210T113000
DTSTAMP:20260423T064743
CREATED:20230130T232501Z
LAST-MODIFIED:20230209T235511Z
UID:10002233-1676025000-1676028600@worldchildrensmuseum.org
SUMMARY:Storytime Friday: Mardi Gras
DESCRIPTION:Reading: “Delphine Denise and the Mardi Gras Prize” by Brittany Mazique \nEveryone is welcome at our recurring program\, Storytime Fridays! This program is appropriate for all ages and includes a story and a craft.  \nCost: Free with admission
URL:https://worldchildrensmuseum.org/events/storytime-friday-mardi-gras/
LOCATION:NY
END:VEVENT
BEGIN:VEVENT
DTSTART;TZID=America/New_York:20230211T100000
DTEND;TZID=America/New_York:20230211T150000
DTSTAMP:20260423T064743
CREATED:20220824T022739Z
LAST-MODIFIED:20221221T214110Z
UID:10001944-1676109600-1676127600@worldchildrensmuseum.org
SUMMARY:Open for General Admission
DESCRIPTION:Pre-registration is encouraged: wacm.ticketleap.com/admission-2022 \nAdmission Costs:Members: FreeNot-Yet-Members: $7 per person\, children under 3 are free.Please visit our website for more information on admission: https://worldchildrensmuseum.org/for-visitors/
URL:https://worldchildrensmuseum.org/events/open-for-general-admission-377/
LOCATION:World Awareness Children’s Museum\, 89 Warren St\, Glens Falls\, NY 12801\, USA
END:VEVENT
END:VCALENDAR