BEGIN:VCALENDAR
VERSION:2.0
PRODID:-//World Awareness Children&#039;s Museum - ECPv6.15.20//NONSGML v1.0//EN
CALSCALE:GREGORIAN
METHOD:PUBLISH
X-WR-CALNAME:World Awareness Children&#039;s Museum
X-ORIGINAL-URL:https://worldchildrensmuseum.org
X-WR-CALDESC:Events for World Awareness Children&#039;s Museum
REFRESH-INTERVAL;VALUE=DURATION:PT1H
X-Robots-Tag:noindex
X-PUBLISHED-TTL:PT1H
BEGIN:VTIMEZONE
TZID:America/New_York
BEGIN:DAYLIGHT
TZOFFSETFROM:-0500
TZOFFSETTO:-0400
TZNAME:EDT
DTSTART:20220313T070000
END:DAYLIGHT
BEGIN:STANDARD
TZOFFSETFROM:-0400
TZOFFSETTO:-0500
TZNAME:EST
DTSTART:20221106T060000
END:STANDARD
BEGIN:DAYLIGHT
TZOFFSETFROM:-0500
TZOFFSETTO:-0400
TZNAME:EDT
DTSTART:20230312T070000
END:DAYLIGHT
BEGIN:STANDARD
TZOFFSETFROM:-0400
TZOFFSETTO:-0500
TZNAME:EST
DTSTART:20231105T060000
END:STANDARD
BEGIN:DAYLIGHT
TZOFFSETFROM:-0500
TZOFFSETTO:-0400
TZNAME:EDT
DTSTART:20240310T070000
END:DAYLIGHT
BEGIN:STANDARD
TZOFFSETFROM:-0400
TZOFFSETTO:-0500
TZNAME:EST
DTSTART:20241103T060000
END:STANDARD
END:VTIMEZONE
BEGIN:VEVENT
DTSTART;VALUE=DATE:20231011
DTEND;VALUE=DATE:20231012
DTSTAMP:20260420T150212
CREATED:20230830T210913Z
LAST-MODIFIED:20231011T225415Z
UID:10002858-1696982400-1697068799@worldchildrensmuseum.org
SUMMARY:MUSEUM CLOSED
DESCRIPTION:School Year Schedule: \nMondays: Open 10am-3pmTuesdays: ClosedWednesdays: ClosedThursdays: Open 10am-3pmFridays: Open 10am-3pmSaturdays: Open 10am-3pmSundays: Open 10am-3pm
URL:https://worldchildrensmuseum.org/events/museum-closed-102/
LOCATION:NY
END:VEVENT
BEGIN:VEVENT
DTSTART;VALUE=DATE:20231010
DTEND;VALUE=DATE:20231011
DTSTAMP:20260420T150212
CREATED:20230830T210913Z
LAST-MODIFIED:20231010T223846Z
UID:10002859-1696896000-1696982399@worldchildrensmuseum.org
SUMMARY:MUSEUM CLOSED
DESCRIPTION:School Year Schedule: \nMondays: Open 10am-3pmTuesdays: ClosedWednesdays: ClosedThursdays: Open 10am-3pmFridays: Open 10am-3pmSaturdays: Open 10am-3pmSundays: Open 10am-3pm
URL:https://worldchildrensmuseum.org/events/museum-closed-103/
LOCATION:NY
END:VEVENT
BEGIN:VEVENT
DTSTART;TZID=America/New_York:20231009T130000
DTEND;TZID=America/New_York:20231009T140000
DTSTAMP:20260420T150212
CREATED:20231009T122943Z
LAST-MODIFIED:20231009T122943Z
UID:10002934-1696856400-1696860000@worldchildrensmuseum.org
SUMMARY:Learn About Indigenous Cultures!
DESCRIPTION:Learn about different indigenous cultures and view art from indigenous kids! \nCost: Free with admission
URL:https://worldchildrensmuseum.org/events/learn-indig-oct23/
LOCATION:NY
END:VEVENT
BEGIN:VEVENT
DTSTART;TZID=America/New_York:20231007T110000
DTEND;TZID=America/New_York:20231007T120000
DTSTAMP:20260420T150212
CREATED:20231006T222338Z
LAST-MODIFIED:20231007T020841Z
UID:10002931-1696676400-1696680000@worldchildrensmuseum.org
SUMMARY:Animals with Bernie
DESCRIPTION:Say hello to Bernie the Animal Educator and her three live animal friends!Cost: Free with admission
URL:https://worldchildrensmuseum.org/events/animals-with-bernie/
LOCATION:NY
END:VEVENT
BEGIN:VEVENT
DTSTART;VALUE=DATE:20231004
DTEND;VALUE=DATE:20231005
DTSTAMP:20260420T150212
CREATED:20230830T210912Z
LAST-MODIFIED:20231004T222338Z
UID:10002853-1696377600-1696463999@worldchildrensmuseum.org
SUMMARY:MUSEUM CLOSED
DESCRIPTION:School Year Schedule: \nMondays: Open 10am-3pmTuesdays: ClosedWednesdays: ClosedThursdays: Open 10am-3pmFridays: Open 10am-3pmSaturdays: Open 10am-3pmSundays: Open 10am-3pm
URL:https://worldchildrensmuseum.org/events/museum-closed-98/
LOCATION:NY
END:VEVENT
BEGIN:VEVENT
DTSTART;VALUE=DATE:20231003
DTEND;VALUE=DATE:20231004
DTSTAMP:20260420T150212
CREATED:20230830T210913Z
LAST-MODIFIED:20231003T222419Z
UID:10002857-1696291200-1696377599@worldchildrensmuseum.org
SUMMARY:MUSEUM CLOSED
DESCRIPTION:School Year Schedule: \nMondays: Open 10am-3pmTuesdays: ClosedWednesdays: ClosedThursdays: Open 10am-3pmFridays: Open 10am-3pmSaturdays: Open 10am-3pmSundays: Open 10am-3pm
URL:https://worldchildrensmuseum.org/events/museum-closed-101/
LOCATION:NY
END:VEVENT
BEGIN:VEVENT
DTSTART;VALUE=DATE:20230927
DTEND;VALUE=DATE:20230928
DTSTAMP:20260420T150212
CREATED:20230830T210913Z
LAST-MODIFIED:20230927T220833Z
UID:10002855-1695772800-1695859199@worldchildrensmuseum.org
SUMMARY:MUSEUM CLOSED
DESCRIPTION:School Year Schedule: \nMondays: Open 10am-3pmTuesdays: ClosedWednesdays: ClosedThursdays: Open 10am-3pmFridays: Open 10am-3pmSaturdays: Open 10am-3pmSundays: Open 10am-3pm
URL:https://worldchildrensmuseum.org/events/museum-closed-99/
LOCATION:NY
END:VEVENT
BEGIN:VEVENT
DTSTART;VALUE=DATE:20230926
DTEND;VALUE=DATE:20230927
DTSTAMP:20260420T150212
CREATED:20230830T210913Z
LAST-MODIFIED:20230926T220836Z
UID:10002856-1695686400-1695772799@worldchildrensmuseum.org
SUMMARY:MUSEUM CLOSED
DESCRIPTION:School Year Schedule: \nMondays: Open 10am-3pmTuesdays: ClosedWednesdays: ClosedThursdays: Open 10am-3pmFridays: Open 10am-3pmSaturdays: Open 10am-3pmSundays: Open 10am-3pm
URL:https://worldchildrensmuseum.org/events/museum-closed-100/
LOCATION:NY
END:VEVENT
BEGIN:VEVENT
DTSTART;VALUE=DATE:20230920
DTEND;VALUE=DATE:20230921
DTSTAMP:20260420T150212
CREATED:20230830T210912Z
LAST-MODIFIED:20230920T213844Z
UID:10002852-1695168000-1695254399@worldchildrensmuseum.org
SUMMARY:MUSEUM CLOSED
DESCRIPTION:School Year Schedule: \nMondays: Open 10am-3pmTuesdays: ClosedWednesdays: ClosedThursdays: Open 10am-3pmFridays: Open 10am-3pmSaturdays: Open 10am-3pmSundays: Open 10am-3pm
URL:https://worldchildrensmuseum.org/events/museum-closed-97/
LOCATION:NY
END:VEVENT
BEGIN:VEVENT
DTSTART;VALUE=DATE:20230919
DTEND;VALUE=DATE:20230920
DTSTAMP:20260420T150212
CREATED:20230830T210912Z
LAST-MODIFIED:20230919T213833Z
UID:10002851-1695081600-1695167999@worldchildrensmuseum.org
SUMMARY:MUSEUM CLOSED
DESCRIPTION:School Year Schedule: \nMondays: Open 10am-3pmTuesdays: ClosedWednesdays: ClosedThursdays: Open 10am-3pmFridays: Open 10am-3pmSaturdays: Open 10am-3pmSundays: Open 10am-3pm
URL:https://worldchildrensmuseum.org/events/museum-closed-96/
LOCATION:NY
END:VEVENT
BEGIN:VEVENT
DTSTART;VALUE=DATE:20230918
DTEND;VALUE=DATE:20231007
DTSTAMP:20260420T150212
CREATED:20230830T210912Z
LAST-MODIFIED:20231006T222339Z
UID:10002854-1694995200-1696636799@worldchildrensmuseum.org
SUMMARY:Museum Closed for New Exhibit Installation
DESCRIPTION:The museum will be closed from September 18 to October 6 to install our newest exhibition\, MountainTots! We will reopen on Saturday\, October 7\, 2023. \nWe hope to see you then!
URL:https://worldchildrensmuseum.org/events/museum-closed-for-new-exhibit-installation-2/
LOCATION:NY
END:VEVENT
BEGIN:VEVENT
DTSTART;TZID=America/New_York:20230916T130000
DTEND;TZID=America/New_York:20230916T143000
DTSTAMP:20260420T150212
CREATED:20230830T210912Z
LAST-MODIFIED:20230916T005332Z
UID:10002850-1694869200-1694874600@worldchildrensmuseum.org
SUMMARY:Hot Air Balloon Paint & Sip
DESCRIPTION:Join us for our popular family-friendly Paint & Sip series taught by local artist Patrice Jarvis-Weber. Artists will paint their own hot air balloon on canvas to celebrate the 50th anniversary of the Adirondack Balloon Festival! \nCost: $10 per person. Members get a 10% discount! Please call to reserve your spot: 518-793-2773 or visit wacm.ticketleap.com to reserve online. \nThis class is limited to 9 people.
URL:https://worldchildrensmuseum.org/events/hot-air-balloon-paint-sip/
LOCATION:NY
END:VEVENT
BEGIN:VEVENT
DTSTART;TZID=America/New_York:20230915T103000
DTEND;TZID=America/New_York:20230915T113000
DTSTAMP:20260420T150212
CREATED:20230830T210912Z
LAST-MODIFIED:20230915T005343Z
UID:10002849-1694773800-1694777400@worldchildrensmuseum.org
SUMMARY:Storytime Friday
DESCRIPTION:Reading: “KeeKee’s Big Adventures in Athens\, Greece” by Shannon Jones \nEveryone is welcome at our recurring program\, Storytime Fridays! This program is appropriate for all ages and includes a story and a craft.  \nCost: Free with admission
URL:https://worldchildrensmuseum.org/events/storytime-friday-30/
LOCATION:NY
END:VEVENT
BEGIN:VEVENT
DTSTART;TZID=America/New_York:20230914T103000
DTEND;TZID=America/New_York:20230914T113000
DTSTAMP:20260420T150212
CREATED:20230830T210910Z
LAST-MODIFIED:20230914T005331Z
UID:10002848-1694687400-1694691000@worldchildrensmuseum.org
SUMMARY:Learn about Mexico!
DESCRIPTION:Kids will learn about Mexico and make a tamale out of craft supplies! \nCost: Free with admission
URL:https://worldchildrensmuseum.org/events/learn-about-mexico/
LOCATION:NY
END:VEVENT
BEGIN:VEVENT
DTSTART;VALUE=DATE:20230913
DTEND;VALUE=DATE:20230914
DTSTAMP:20260420T150212
CREATED:20230830T210910Z
LAST-MODIFIED:20230913T213830Z
UID:10002847-1694563200-1694649599@worldchildrensmuseum.org
SUMMARY:MUSEUM CLOSED
DESCRIPTION:School Year Schedule: \nMondays: Open 10am-3pmTuesdays: ClosedWednesdays: ClosedThursdays: Open 10am-3pmFridays: Open 10am-3pmSaturdays: Open 10am-3pmSundays: Open 10am-3pm
URL:https://worldchildrensmuseum.org/events/museum-closed-95/
LOCATION:NY
END:VEVENT
BEGIN:VEVENT
DTSTART;VALUE=DATE:20230912
DTEND;VALUE=DATE:20230913
DTSTAMP:20260420T150212
CREATED:20230830T210909Z
LAST-MODIFIED:20230912T213832Z
UID:10002846-1694476800-1694563199@worldchildrensmuseum.org
SUMMARY:MUSEUM CLOSED
DESCRIPTION:School Year Schedule: \nMondays: Open 10am-3pmTuesdays: ClosedWednesdays: ClosedThursdays: Open 10am-3pmFridays: Open 10am-3pmSaturdays: Open 10am-3pmSundays: Open 10am-3pm
URL:https://worldchildrensmuseum.org/events/museum-closed-94/
LOCATION:NY
END:VEVENT
BEGIN:VEVENT
DTSTART;TZID=America/New_York:20230910T100000
DTEND;TZID=America/New_York:20230910T150000
DTSTAMP:20260420T150212
CREATED:20230830T210909Z
LAST-MODIFIED:20230910T002529Z
UID:10002845-1694340000-1694358000@worldchildrensmuseum.org
SUMMARY:Free Day!
DESCRIPTION:Visit the museum for free today\, thanks to Stewart’s Holiday Match and all who contributed! We are pleased to offer these free days from 10am-3pm once per month. Donations are appreciated but not required. \nFree Days are generously sponsored by Stewart’s Holiday Match.  \nYou can learn more by visiting www.stewartsshops.com/community-giving
URL:https://worldchildrensmuseum.org/events/free-day-40/
LOCATION:NY
END:VEVENT
BEGIN:VEVENT
DTSTART;TZID=America/New_York:20230908T103000
DTEND;TZID=America/New_York:20230908T113000
DTSTAMP:20260420T150212
CREATED:20230830T210909Z
LAST-MODIFIED:20230908T002401Z
UID:10002844-1694169000-1694172600@worldchildrensmuseum.org
SUMMARY:Storytime Friday
DESCRIPTION:Reading: “Namaste!” by Diana Cohn \nEveryone is welcome at our recurring program\, Storytime Fridays! This program is appropriate for all ages and includes a story and a craft.  \nCost: Free with admission
URL:https://worldchildrensmuseum.org/events/storytime-friday-29/
LOCATION:NY
END:VEVENT
BEGIN:VEVENT
DTSTART;TZID=America/New_York:20230907T103000
DTEND;TZID=America/New_York:20230907T113000
DTSTAMP:20260420T150212
CREATED:20230830T210909Z
LAST-MODIFIED:20230907T002341Z
UID:10002843-1694082600-1694086200@worldchildrensmuseum.org
SUMMARY:Learn about Korea!
DESCRIPTION:Kids will learn about Korea\, practice using chopsticks\, and make their own pretend bibimbap bowls! \nCost: Free with admission
URL:https://worldchildrensmuseum.org/events/learn-about-korea/
LOCATION:NY
END:VEVENT
BEGIN:VEVENT
DTSTART;VALUE=DATE:20230906
DTEND;VALUE=DATE:20230907
DTSTAMP:20260420T150212
CREATED:20230830T210909Z
LAST-MODIFIED:20230906T210828Z
UID:10002841-1693958400-1694044799@worldchildrensmuseum.org
SUMMARY:MUSEUM CLOSED
DESCRIPTION:School Year Schedule: \nMondays: Open 10am-3pmTuesdays: ClosedWednesdays: ClosedThursdays: Open 10am-3pmFridays: Open 10am-3pmSaturdays: Open 10am-3pmSundays: Open 10am-3pm
URL:https://worldchildrensmuseum.org/events/museum-closed-92/
LOCATION:NY
END:VEVENT
BEGIN:VEVENT
DTSTART;VALUE=DATE:20230905
DTEND;VALUE=DATE:20230906
DTSTAMP:20260420T150212
CREATED:20230830T210909Z
LAST-MODIFIED:20230905T210855Z
UID:10002842-1693872000-1693958399@worldchildrensmuseum.org
SUMMARY:MUSEUM CLOSED
DESCRIPTION:School Year Schedule: \nMondays: Open 10am-3pmTuesdays: ClosedWednesdays: ClosedThursdays: Open 10am-3pmFridays: Open 10am-3pmSaturdays: Open 10am-3pmSundays: Open 10am-3pm
URL:https://worldchildrensmuseum.org/events/museum-closed-93/
LOCATION:NY
END:VEVENT
BEGIN:VEVENT
DTSTART;VALUE=DATE:20230904
DTEND;VALUE=DATE:20230905
DTSTAMP:20260420T150212
CREATED:20230817T205615Z
LAST-MODIFIED:20230904T210832Z
UID:10002839-1693785600-1693871999@worldchildrensmuseum.org
SUMMARY:MUSEUM CLOSED
DESCRIPTION:
URL:https://worldchildrensmuseum.org/events/museum-closed-89/
LOCATION:NY
END:VEVENT
BEGIN:VEVENT
DTSTART;TZID=America/New_York:20230901T103000
DTEND;TZID=America/New_York:20230901T113000
DTSTAMP:20260420T150212
CREATED:20230830T210908Z
LAST-MODIFIED:20230831T235521Z
UID:10002840-1693564200-1693567800@worldchildrensmuseum.org
SUMMARY:Storytime Friday
DESCRIPTION:Reading: “A Gift for Amma” by Meera Sriram \nEveryone is welcome at our recurring program\, Storytime Fridays! This program is appropriate for all ages and includes a story and a craft.  \nCost: Free with admission
URL:https://worldchildrensmuseum.org/events/storytime-friday-28/
LOCATION:NY
END:VEVENT
BEGIN:VEVENT
DTSTART;TZID=America/New_York:20230829T130000
DTEND;TZID=America/New_York:20230829T140000
DTSTAMP:20260420T150212
CREATED:20230802T193915Z
LAST-MODIFIED:20230828T235405Z
UID:10002836-1693314000-1693317600@worldchildrensmuseum.org
SUMMARY:Kitty Cat Paint & Sip
DESCRIPTION:Join us for our popular family-friendly Paint & Sip series. Artists will paint their own kitty cat on canvas\, with instruction from local artist Patrice Jarvis-Weber.  \nCost: $10 per person. Members get a 10% discount! Please call to reserve your spot: 518-793-2773 or visit wacm.ticketleap.com to reserve online. \nThis class is limited to 9 people.
URL:https://worldchildrensmuseum.org/events/kitty-cat-paint-sip/
LOCATION:NY
END:VEVENT
BEGIN:VEVENT
DTSTART;TZID=America/New_York:20230826T130000
DTEND;TZID=America/New_York:20230826T143000
DTSTAMP:20260420T150212
CREATED:20230802T193915Z
LAST-MODIFIED:20230825T232522Z
UID:10002835-1693054800-1693060200@worldchildrensmuseum.org
SUMMARY:Hummingbird Paint & Sip
DESCRIPTION:Join us for our popular family-friendly Paint & Sip series. Artists will paint their own hummingbird on canvas\, with instruction from local artist Patrice Jarvis-Weber.  \nCost: $10 per person. Members get a 10% discount! Please call to reserve your spot: 518-793-2773 or visit wacm.ticketleap.com to reserve online. \nThis class is limited to 9 people.
URL:https://worldchildrensmuseum.org/events/hummingbird-paint-sip/
LOCATION:NY
END:VEVENT
BEGIN:VEVENT
DTSTART;TZID=America/New_York:20230821T090000
DTEND;TZID=America/New_York:20230825T170000
DTSTAMP:20260420T150212
CREATED:20230309T022611Z
LAST-MODIFIED:20230825T205403Z
UID:10002085-1692608400-1692982800@worldchildrensmuseum.org
SUMMARY:Pirate Adventure Camp (Pre-K - 2nd Grade)
DESCRIPTION:This camp session is appropriate for children going into Pre-K through 2nd grade.  \nAll children must be fully potty–trained. \nTo register\, please visit: https://wacm.ticketleap.com/pirate-adventure-camp/ \nArrrrrr you ready for a great summer? During Pirate Adventure Camp\, children will ‘sail’ the seven seas and explore our world! Each day\, children will follow a treasure map and learn about different countries with the museum’s art\, exhibits\, and wherever ‘x’ marks the spot! \nCamp days are Monday\, Aug. 21 – Friday\, Aug. 25\, from 9am – 5pm each day. \nSample camp schedule:9-10am: Arrival\, snack\, and playtime in the museum.10-11:30am: Activities and crafts.11:30am-12pm: Lunch12-2pm: Playtime at the SMSA School playground2-3pm: Quiet activity and snack time.3-4pm: Playtime in the museum.4-5pm: Activity and departure. \nChildren must bring their own snacks\, lunch\, and beverages to camp each day. \nPricing:Museum Members: $225 per child per weekNot-yet-members: $250 per child per week \nCamp sessions are limited to 9 children. \nIf you have questions\, please call 518-793-2773 or email info@worldchildrensmuseum.org.
URL:https://worldchildrensmuseum.org/events/pirate-adventure-camp-pre-k-2nd-grade/
LOCATION:NY
END:VEVENT
BEGIN:VEVENT
DTSTART;TZID=America/New_York:20230814T090000
DTEND;TZID=America/New_York:20230818T170000
DTSTAMP:20260420T150212
CREATED:20230714T191733Z
LAST-MODIFIED:20230818T205416Z
UID:10002807-1692003600-1692378000@worldchildrensmuseum.org
SUMMARY:Pirate Adventure Camp (Pre-K - 2nd Grade)
DESCRIPTION:This camp session is appropriate for children going into Pre-K through 2nd grade.  \nAll children must be fully potty–trained. \nTo register\, please visit: https://wacm.ticketleap.com/pirate-adventure-camp/ \nArrrrrr you ready for a great summer? During Pirate Adventure Camp\, children will ‘sail’ the seven seas and explore our world! Each day\, children will follow a treasure map and learn about different countries with the museum’s art\, exhibits\, and wherever ‘x’ marks the spot! \nCamp days are Monday\, Aug. 14 – Friday\, Aug. 18\, from 9am – 5pm each day. \nSample camp schedule:9-10am: Arrival\, snack\, and playtime in the museum.10-11:30am: Activities and crafts.11:30am-12pm: Lunch12-2pm: Playtime at the SMSA School playground2-3pm: Quiet activity and snack time.3-4pm: Playtime in the museum.4-5pm: Activity and departure. \nChildren must bring their own snacks\, lunch\, and beverages to camp each day. \nPricing:Museum Members: $225 per child per weekNot-yet-members: $250 per child per week \nCamp sessions are limited to 9 children. \nIf you have questions\, please call 518-793-2773 or email info@worldchildrensmuseum.org.
URL:https://worldchildrensmuseum.org/events/pirate-adventure-camp-pre-k-2nd-grade-2/
LOCATION:NY
END:VEVENT
BEGIN:VEVENT
DTSTART;TZID=America/New_York:20230813T100000
DTEND;TZID=America/New_York:20230813T150000
DTSTAMP:20260420T150212
CREATED:20230714T191732Z
LAST-MODIFIED:20230812T195342Z
UID:10002806-1691920800-1691938800@worldchildrensmuseum.org
SUMMARY:Free Day!
DESCRIPTION:Visit the museum for free today\, thanks to Stewart’s Holiday Match and all who contributed! We are pleased to offer these free days from 10am-3pm once per month. Donations are appreciated but not required. \nFree Days are generously sponsored by Stewart’s Holiday Match.  \nYou can learn more by visiting www.stewartsshops.com/community-giving
URL:https://worldchildrensmuseum.org/events/free-day-16/
LOCATION:NY
END:VEVENT
BEGIN:VEVENT
DTSTART;TZID=America/New_York:20230811T103000
DTEND;TZID=America/New_York:20230811T113000
DTSTAMP:20260420T150212
CREATED:20230802T193914Z
LAST-MODIFIED:20230810T195351Z
UID:10002834-1691749800-1691753400@worldchildrensmuseum.org
SUMMARY:Storytime Friday
DESCRIPTION:Reading: “Bee-Bim Bop!” by Linda Sue Park and Ho Baek Lee \nEveryone is welcome at our recurring program\, Storytime Fridays! This program is appropriate for all ages and includes a story and a craft.  \nCost: Free with admission
URL:https://worldchildrensmuseum.org/events/storytime-friday-27/
LOCATION:NY
END:VEVENT
BEGIN:VEVENT
DTSTART;TZID=America/New_York:20230809T103000
DTEND;TZID=America/New_York:20230809T113000
DTSTAMP:20260420T150212
CREATED:20230802T193914Z
LAST-MODIFIED:20230808T195356Z
UID:10002833-1691577000-1691580600@worldchildrensmuseum.org
SUMMARY:Little Ones Yoga
DESCRIPTION:Guest instructor Neha Golwala leads an age-inclusive yoga class! This program is open to children of all ages. \nCost: Free with admission
URL:https://worldchildrensmuseum.org/events/little-ones-yoga-13/
LOCATION:NY
END:VEVENT
END:VCALENDAR