BEGIN:VCALENDAR
VERSION:2.0
PRODID:-//World Awareness Children&#039;s Museum - ECPv6.15.20//NONSGML v1.0//EN
CALSCALE:GREGORIAN
METHOD:PUBLISH
X-WR-CALNAME:World Awareness Children&#039;s Museum
X-ORIGINAL-URL:https://worldchildrensmuseum.org
X-WR-CALDESC:Events for World Awareness Children&#039;s Museum
REFRESH-INTERVAL;VALUE=DURATION:PT1H
X-Robots-Tag:noindex
X-PUBLISHED-TTL:PT1H
BEGIN:VTIMEZONE
TZID:America/New_York
BEGIN:DAYLIGHT
TZOFFSETFROM:-0500
TZOFFSETTO:-0400
TZNAME:EDT
DTSTART:20240310T070000
END:DAYLIGHT
BEGIN:STANDARD
TZOFFSETFROM:-0400
TZOFFSETTO:-0500
TZNAME:EST
DTSTART:20241103T060000
END:STANDARD
BEGIN:DAYLIGHT
TZOFFSETFROM:-0500
TZOFFSETTO:-0400
TZNAME:EDT
DTSTART:20250309T070000
END:DAYLIGHT
BEGIN:STANDARD
TZOFFSETFROM:-0400
TZOFFSETTO:-0500
TZNAME:EST
DTSTART:20251102T060000
END:STANDARD
BEGIN:DAYLIGHT
TZOFFSETFROM:-0500
TZOFFSETTO:-0400
TZNAME:EDT
DTSTART:20260308T070000
END:DAYLIGHT
BEGIN:STANDARD
TZOFFSETFROM:-0400
TZOFFSETTO:-0500
TZNAME:EST
DTSTART:20261101T060000
END:STANDARD
END:VTIMEZONE
BEGIN:VEVENT
DTSTART;TZID=America/New_York:20251030T100000
DTEND;TZID=America/New_York:20251030T150000
DTSTAMP:20260423T131537
CREATED:20251003T182352Z
LAST-MODIFIED:20251024T183840Z
UID:10005642-1761818400-1761836400@worldchildrensmuseum.org
SUMMARY:Open for General Admission
DESCRIPTION:Tickets can be purchased online at https://wacm.ticketleap.com/admission-2025/Admission Costs:Members: FreeNot-Yet-Members: $7 per person\, children under 12mo. are free.Please visit our website for more information on admission: https://worldchildrensmuseum.org/for-visitors/
URL:https://worldchildrensmuseum.org/events/open-for-general-admission-61/
LOCATION:World Awareness Children’s Museum\, 89 Warren St\, Glens Falls\, NY\, United States
GEO:43.310029;-73.639958
X-APPLE-STRUCTURED-LOCATION;VALUE=URI;X-ADDRESS=World Awareness Children’s Museum 89 Warren St Glens Falls NY United States;X-APPLE-RADIUS=500;X-TITLE=89 Warren St:geo:-73.639958,43.310029
END:VEVENT
BEGIN:VEVENT
DTSTART;TZID=America/New_York:20251030T103000
DTEND;TZID=America/New_York:20251030T113000
DTSTAMP:20260423T131537
CREATED:20250925T172048Z
LAST-MODIFIED:20251024T183840Z
UID:10005049-1761820200-1761823800@worldchildrensmuseum.org
SUMMARY:Kinder Rhythm Drumming
DESCRIPTION:Join us for a lively\, interactive music session that inspires creativity\, joyful play\, and social connection through the power of group rhythm-making. We’ll sing\, dance\, play instruments\, and move to the beat together! \nCost: Free with Admission
URL:https://worldchildrensmuseum.org/events/kinder-rhythm-drumming-35/
LOCATION:World Awareness Children’s Museum\, 89 Warren St\, Glens Falls\, NY\, United States
GEO:43.310029;-73.639958
X-APPLE-STRUCTURED-LOCATION;VALUE=URI;X-ADDRESS=World Awareness Children’s Museum 89 Warren St Glens Falls NY United States;X-APPLE-RADIUS=500;X-TITLE=89 Warren St:geo:-73.639958,43.310029
END:VEVENT
BEGIN:VEVENT
DTSTART;TZID=America/New_York:20251031T100000
DTEND;TZID=America/New_York:20251031T150000
DTSTAMP:20260423T131537
CREATED:20251003T182352Z
LAST-MODIFIED:20251031T185336Z
UID:10005643-1761904800-1761922800@worldchildrensmuseum.org
SUMMARY:Open for General Admission
DESCRIPTION:Tickets can be purchased online at https://wacm.ticketleap.com/admission-2025/Admission Costs:Members: FreeNot-Yet-Members: $7 per person\, children under 12mo. are free.Please visit our website for more information on admission: https://worldchildrensmuseum.org/for-visitors/
URL:https://worldchildrensmuseum.org/events/open-for-general-admission-63/
LOCATION:World Awareness Children’s Museum\, 89 Warren St\, Glens Falls\, NY\, United States
GEO:43.310029;-73.639958
X-APPLE-STRUCTURED-LOCATION;VALUE=URI;X-ADDRESS=World Awareness Children’s Museum 89 Warren St Glens Falls NY United States;X-APPLE-RADIUS=500;X-TITLE=89 Warren St:geo:-73.639958,43.310029
END:VEVENT
BEGIN:VEVENT
DTSTART;TZID=America/New_York:20251031T103000
DTEND;TZID=America/New_York:20251031T113000
DTSTAMP:20260423T131537
CREATED:20250925T172048Z
LAST-MODIFIED:20251024T183850Z
UID:10005050-1761906600-1761910200@worldchildrensmuseum.org
SUMMARY:Storytime Friday
DESCRIPTION:Everyone is welcome at Storytime Fridays\, a recurring program designed to spark joy and curiosity in little ones!  \nEach week\, we explore early literacy skills through movement\, imaginative play\, and a creative craft that brings the story to life. Perfect for toddlers\, preschoolers\, and their caregivers. \nCost: Free with Admission
URL:https://worldchildrensmuseum.org/events/storytime-friday-164/
LOCATION:World Awareness Children’s Museum\, 89 Warren St\, Glens Falls\, NY\, United States
GEO:43.310029;-73.639958
X-APPLE-STRUCTURED-LOCATION;VALUE=URI;X-ADDRESS=World Awareness Children’s Museum 89 Warren St Glens Falls NY United States;X-APPLE-RADIUS=500;X-TITLE=89 Warren St:geo:-73.639958,43.310029
END:VEVENT
BEGIN:VEVENT
DTSTART;TZID=America/New_York:20251031T120000
DTEND;TZID=America/New_York:20251031T130000
DTSTAMP:20260423T131537
CREATED:20250925T172049Z
LAST-MODIFIED:20251024T183850Z
UID:10005051-1761912000-1761915600@worldchildrensmuseum.org
SUMMARY:Monster Mash & Move!
DESCRIPTION:Creep\, crawl\, stomp\, and boogie! Ms. Susie will get little monsters moving and grooving in this spirited music and movement workshop. Wear your costume on 10/31 for FREE admission and join the spooky fun! \n\nKids in costume = free admission all day.\nKids not in costume = they can still join Monster Mash & Move\, but they’ll just pay regular admission.
URL:https://worldchildrensmuseum.org/events/monster-mash-move/
LOCATION:World Awareness Children’s Museum\, 89 Warren St\, Glens Falls\, NY\, United States
GEO:43.310029;-73.639958
X-APPLE-STRUCTURED-LOCATION;VALUE=URI;X-ADDRESS=World Awareness Children’s Museum 89 Warren St Glens Falls NY United States;X-APPLE-RADIUS=500;X-TITLE=89 Warren St:geo:-73.639958,43.310029
END:VEVENT
BEGIN:VEVENT
DTSTART;TZID=America/New_York:20251031T133000
DTEND;TZID=America/New_York:20251031T143000
DTSTAMP:20260423T131537
CREATED:20250925T172049Z
LAST-MODIFIED:20251024T183851Z
UID:10005052-1761917400-1761921000@worldchildrensmuseum.org
SUMMARY:Storytime Friday
DESCRIPTION:Everyone is welcome at Storytime Fridays\, a recurring program designed to spark joy and curiosity in little ones!  \nEach week\, we explore early literacy skills through movement\, imaginative play\, and a creative craft that brings the story to life. Perfect for toddlers\, preschoolers\, and their caregivers. \nCost: Free with Admission
URL:https://worldchildrensmuseum.org/events/storytime-friday-165/
LOCATION:NY
END:VEVENT
BEGIN:VEVENT
DTSTART;TZID=America/New_York:20251101T100000
DTEND;TZID=America/New_York:20251101T150000
DTSTAMP:20260423T131537
CREATED:20251003T182353Z
LAST-MODIFIED:20251031T185337Z
UID:10005644-1761991200-1762009200@worldchildrensmuseum.org
SUMMARY:Open for General Admission
DESCRIPTION:Tickets can be purchased online at https://wacm.ticketleap.com/admission-2025/Admission Costs:Members: FreeNot-Yet-Members: $7 per person\, children under 12mo. are free.Please visit our website for more information on admission: https://worldchildrensmuseum.org/for-visitors/
URL:https://worldchildrensmuseum.org/events/open-for-general-admission-65/
LOCATION:World Awareness Children’s Museum\, 89 Warren St\, Glens Falls\, NY\, United States
GEO:43.310029;-73.639958
X-APPLE-STRUCTURED-LOCATION;VALUE=URI;X-ADDRESS=World Awareness Children’s Museum 89 Warren St Glens Falls NY United States;X-APPLE-RADIUS=500;X-TITLE=89 Warren St:geo:-73.639958,43.310029
END:VEVENT
BEGIN:VEVENT
DTSTART;TZID=America/New_York:20251101T100000
DTEND;TZID=America/New_York:20251101T150000
DTSTAMP:20260423T131537
CREATED:20251024T183841Z
LAST-MODIFIED:20251031T185337Z
UID:10005827-1761991200-1762009200@worldchildrensmuseum.org
SUMMARY:Bring Your Favorite...Superhero Action Figure Today!
DESCRIPTION:Bring your favorite Superhero Action Figure into the museum\, where they can 'fly around the world'!   \nFly over Thailand's bridge\, perch on the Dragon Boat’s nose\, leap into Japan\, and glide over Ship to Shore. Can your figurine help someone cross the bridge safely? Will they race against the Dragon Boat? Can they soar foods to Japan's table? Have them land on Ship to Shore and see if they can transport goods from one end to the other. Where else can your figurine lend a helping hand?   \nDon't forget to color a picture in the Art Room of your favorite memory today and pick up a sticker at the front desk for your action figure as a keepsake. Did you or your superhero action figure have a favorite exhibit\, or was it just too hard to choose? \nCost: Free with Admission
URL:https://worldchildrensmuseum.org/events/bring-your-favorite-superhero-action-figure-today-3/
LOCATION:NY
END:VEVENT
BEGIN:VEVENT
DTSTART;TZID=America/New_York:20251101T133000
DTEND;TZID=America/New_York:20251101T143000
DTSTAMP:20260423T131537
CREATED:20251024T183841Z
LAST-MODIFIED:20251031T185337Z
UID:10005828-1762003800-1762007400@worldchildrensmuseum.org
SUMMARY:Hands-On Día de los Muertos!
DESCRIPTION:Celebrate the colorful traditions of Día de los Muertos (Day of the Dead) in this hands-on program for ages 7 and up! Learn about ofrendas (altars)\, try out simple Spanish phrases\, and create your own papel picado (decorative paper cut-outs) to take home. A lively way to explore this special Mexican holiday together! \nCost: Free with admission.
URL:https://worldchildrensmuseum.org/events/hands-on-dia-de-los-muertos/
LOCATION:World Awareness Children’s Museum\, 89 Warren St\, Glens Falls\, NY\, United States
GEO:43.310029;-73.639958
X-APPLE-STRUCTURED-LOCATION;VALUE=URI;X-ADDRESS=World Awareness Children’s Museum 89 Warren St Glens Falls NY United States;X-APPLE-RADIUS=500;X-TITLE=89 Warren St:geo:-73.639958,43.310029
END:VEVENT
BEGIN:VEVENT
DTSTART;TZID=America/New_York:20251102T100000
DTEND;TZID=America/New_York:20251102T150000
DTSTAMP:20260423T131537
CREATED:20251003T182353Z
LAST-MODIFIED:20251031T185338Z
UID:10005645-1762077600-1762095600@worldchildrensmuseum.org
SUMMARY:Open for General Admission
DESCRIPTION:Tickets can be purchased online at https://wacm.ticketleap.com/admission-2025/Admission Costs:Members: FreeNot-Yet-Members: $7 per person\, children under 12mo. are free.Please visit our website for more information on admission: https://worldchildrensmuseum.org/for-visitors/
URL:https://worldchildrensmuseum.org/events/open-for-general-admission-67/
LOCATION:World Awareness Children’s Museum\, 89 Warren St\, Glens Falls\, NY\, United States
GEO:43.310029;-73.639958
X-APPLE-STRUCTURED-LOCATION;VALUE=URI;X-ADDRESS=World Awareness Children’s Museum 89 Warren St Glens Falls NY United States;X-APPLE-RADIUS=500;X-TITLE=89 Warren St:geo:-73.639958,43.310029
END:VEVENT
BEGIN:VEVENT
DTSTART;TZID=America/New_York:20251102T100000
DTEND;TZID=America/New_York:20251102T150000
DTSTAMP:20260423T131537
CREATED:20251024T183842Z
LAST-MODIFIED:20251031T185338Z
UID:10005829-1762077600-1762095600@worldchildrensmuseum.org
SUMMARY:Make & Take: Sugar Skull Mask
DESCRIPTION:Color and decorate a bright sugar skull sheet with crayons\, stickers\, and collage fun—then cut it out and glue it to a popsicle stick to make your own festive mask!  \nWant to learn more about this celebration? Check out the books on display to bring Día de los Muertos to life! \nCost: Free with admission & while supplies last.
URL:https://worldchildrensmuseum.org/events/make-take-sugar-skull-mask/
LOCATION:World Awareness Children’s Museum\, 89 Warren St\, Glens Falls\, NY\, United States
GEO:43.310029;-73.639958
X-APPLE-STRUCTURED-LOCATION;VALUE=URI;X-ADDRESS=World Awareness Children’s Museum 89 Warren St Glens Falls NY United States;X-APPLE-RADIUS=500;X-TITLE=89 Warren St:geo:-73.639958,43.310029
END:VEVENT
BEGIN:VEVENT
DTSTART;TZID=America/New_York:20251103T100000
DTEND;TZID=America/New_York:20251103T150000
DTSTAMP:20260423T131537
CREATED:20251003T182354Z
LAST-MODIFIED:20251031T185338Z
UID:10005646-1762164000-1762182000@worldchildrensmuseum.org
SUMMARY:Open for General Admission
DESCRIPTION:Tickets can be purchased online at https://wacm.ticketleap.com/admission-2025/Admission Costs:Members: FreeNot-Yet-Members: $7 per person\, children under 12mo. are free.Please visit our website for more information on admission: https://worldchildrensmuseum.org/for-visitors/
URL:https://worldchildrensmuseum.org/events/open-for-general-admission-69/
LOCATION:World Awareness Children’s Museum\, 89 Warren St\, Glens Falls\, NY\, United States
GEO:43.310029;-73.639958
X-APPLE-STRUCTURED-LOCATION;VALUE=URI;X-ADDRESS=World Awareness Children’s Museum 89 Warren St Glens Falls NY United States;X-APPLE-RADIUS=500;X-TITLE=89 Warren St:geo:-73.639958,43.310029
END:VEVENT
BEGIN:VEVENT
DTSTART;TZID=America/New_York:20251103T103000
DTEND;TZID=America/New_York:20251103T113000
DTSTAMP:20260423T131537
CREATED:20251024T183842Z
LAST-MODIFIED:20251031T185338Z
UID:10005830-1762165800-1762169400@worldchildrensmuseum.org
SUMMARY:Colors of Día de los Muertos Sensory Fun for Preschoolers!
DESCRIPTION:Come scoop\, sort\, and sift through all the colors of this joyful celebration! This self-guided sensory play lets little ones explore textures\, colors\, and creativity while learning through hands-on fun.   \nCost: Free with admission.
URL:https://worldchildrensmuseum.org/events/colors-of-dia-de-los-muertos-sensory-fun-for-preschoolers/
LOCATION:World Awareness Children’s Museum\, 89 Warren St\, Glens Falls\, NY\, United States
GEO:43.310029;-73.639958
X-APPLE-STRUCTURED-LOCATION;VALUE=URI;X-ADDRESS=World Awareness Children’s Museum 89 Warren St Glens Falls NY United States;X-APPLE-RADIUS=500;X-TITLE=89 Warren St:geo:-73.639958,43.310029
END:VEVENT
BEGIN:VEVENT
DTSTART;TZID=America/New_York:20251106T100000
DTEND;TZID=America/New_York:20251106T150000
DTSTAMP:20260423T131537
CREATED:20251003T182354Z
LAST-MODIFIED:20251031T185338Z
UID:10005647-1762423200-1762441200@worldchildrensmuseum.org
SUMMARY:Open for General Admission
DESCRIPTION:Tickets can be purchased online at https://wacm.ticketleap.com/admission-2025/Admission Costs:Members: FreeNot-Yet-Members: $7 per person\, children under 12mo. are free.Please visit our website for more information on admission: https://worldchildrensmuseum.org/for-visitors/
URL:https://worldchildrensmuseum.org/events/open-for-general-admission-71/
LOCATION:World Awareness Children’s Museum\, 89 Warren St\, Glens Falls\, NY\, United States
GEO:43.310029;-73.639958
X-APPLE-STRUCTURED-LOCATION;VALUE=URI;X-ADDRESS=World Awareness Children’s Museum 89 Warren St Glens Falls NY United States;X-APPLE-RADIUS=500;X-TITLE=89 Warren St:geo:-73.639958,43.310029
END:VEVENT
BEGIN:VEVENT
DTSTART;TZID=America/New_York:20251106T103000
DTEND;TZID=America/New_York:20251106T113000
DTSTAMP:20260423T131537
CREATED:20251024T183842Z
LAST-MODIFIED:20251031T185339Z
UID:10005831-1762425000-1762428600@worldchildrensmuseum.org
SUMMARY:Kinder Rhythm Drumming
DESCRIPTION:Join us for a lively\, interactive music session that inspires creativity\, joyful play\, and social connection through the power of group rhythm-making. We’ll sing\, dance\, play instruments\, and move to the beat together! \nCost: Free with Admission
URL:https://worldchildrensmuseum.org/events/kinder-rhythm-drumming-25/
LOCATION:World Awareness Children’s Museum\, 89 Warren St\, Glens Falls\, NY\, United States
GEO:43.310029;-73.639958
X-APPLE-STRUCTURED-LOCATION;VALUE=URI;X-ADDRESS=World Awareness Children’s Museum 89 Warren St Glens Falls NY United States;X-APPLE-RADIUS=500;X-TITLE=89 Warren St:geo:-73.639958,43.310029
END:VEVENT
BEGIN:VEVENT
DTSTART;TZID=America/New_York:20251106T120000
DTEND;TZID=America/New_York:20251106T130000
DTSTAMP:20260423T131537
CREATED:20251024T183843Z
LAST-MODIFIED:20251031T185350Z
UID:10005832-1762430400-1762434000@worldchildrensmuseum.org
SUMMARY:Kinder Krafts!
DESCRIPTION:Make a Day of It!  \n Start your morning with Kinder Rhythm Drumming (10:30–11:30am) — sing\, move\, and make music together! Then head to the art room for an age-appropriate craft just for our littlest makers. \n\n11/06: Scarecrow Buddy\n11/20: Sweet Pumpkin Pie Craft  \n\nCost: Free with admission.
URL:https://worldchildrensmuseum.org/events/kinder-krafts/
LOCATION:World Awareness Children’s Museum\, 89 Warren St\, Glens Falls\, NY\, United States
GEO:43.310029;-73.639958
X-APPLE-STRUCTURED-LOCATION;VALUE=URI;X-ADDRESS=World Awareness Children’s Museum 89 Warren St Glens Falls NY United States;X-APPLE-RADIUS=500;X-TITLE=89 Warren St:geo:-73.639958,43.310029
END:VEVENT
BEGIN:VEVENT
DTSTART;TZID=America/New_York:20251107T100000
DTEND;TZID=America/New_York:20251107T150000
DTSTAMP:20260423T131537
CREATED:20251003T182354Z
LAST-MODIFIED:20251107T190831Z
UID:10005648-1762509600-1762527600@worldchildrensmuseum.org
SUMMARY:Open for General Admission
DESCRIPTION:Tickets can be purchased online at https://wacm.ticketleap.com/admission-2025/Admission Costs:Members: FreeNot-Yet-Members: $7 per person\, children under 12mo. are free.Please visit our website for more information on admission: https://worldchildrensmuseum.org/for-visitors/
URL:https://worldchildrensmuseum.org/events/open-for-general-admission-73/
LOCATION:World Awareness Children’s Museum\, 89 Warren St\, Glens Falls\, NY\, United States
GEO:43.310029;-73.639958
X-APPLE-STRUCTURED-LOCATION;VALUE=URI;X-ADDRESS=World Awareness Children’s Museum 89 Warren St Glens Falls NY United States;X-APPLE-RADIUS=500;X-TITLE=89 Warren St:geo:-73.639958,43.310029
END:VEVENT
BEGIN:VEVENT
DTSTART;TZID=America/New_York:20251107T103000
DTEND;TZID=America/New_York:20251107T113000
DTSTAMP:20260423T131537
CREATED:20251024T183843Z
LAST-MODIFIED:20251031T185350Z
UID:10005833-1762511400-1762515000@worldchildrensmuseum.org
SUMMARY:Storytime Friday AM
DESCRIPTION:Everyone is welcome at Storytime Fridays\, a recurring program designed to spark joy and curiosity in little ones!  \nEach week\, we explore early literacy skills through movement\, imaginative play\, and a creative craft that brings the story to life. Perfect for toddlers\, preschoolers\, and their caregivers. \nCost: Free with Admission
URL:https://worldchildrensmuseum.org/events/storytime-friday-am/
LOCATION:NY
END:VEVENT
BEGIN:VEVENT
DTSTART;TZID=America/New_York:20251107T120000
DTEND;TZID=America/New_York:20251107T130000
DTSTAMP:20260423T131537
CREATED:20251024T183843Z
LAST-MODIFIED:20251031T185351Z
UID:10005834-1762516800-1762520400@worldchildrensmuseum.org
SUMMARY:Handprint Friends: Hello Pumpkin!
DESCRIPTION:Create your own unique “friend” using your very own handprint! Perfect for children ages 2 and up\, this fun and creative series lets little artists design and bring home a new handmade friend each session. \nCost: Free with admission.
URL:https://worldchildrensmuseum.org/events/handprint-friends-hello-pumpkin/
LOCATION:World Awareness Children’s Museum\, 89 Warren St\, Glens Falls\, NY\, United States
GEO:43.310029;-73.639958
X-APPLE-STRUCTURED-LOCATION;VALUE=URI;X-ADDRESS=World Awareness Children’s Museum 89 Warren St Glens Falls NY United States;X-APPLE-RADIUS=500;X-TITLE=89 Warren St:geo:-73.639958,43.310029
END:VEVENT
BEGIN:VEVENT
DTSTART;TZID=America/New_York:20251107T133000
DTEND;TZID=America/New_York:20251107T143000
DTSTAMP:20260423T131537
CREATED:20251024T183843Z
LAST-MODIFIED:20251107T190832Z
UID:10005835-1762522200-1762525800@worldchildrensmuseum.org
SUMMARY:Storytime Friday PM
DESCRIPTION:Everyone is welcome at Storytime Fridays\, a recurring program designed to spark joy and curiosity in little ones!  \nEach week\, we explore early literacy skills through movement\, imaginative play\, and a creative craft that brings the story to life. Perfect for toddlers\, preschoolers\, and their caregivers. \nCost: Free with Admission
URL:https://worldchildrensmuseum.org/events/storytime-friday-pm/
LOCATION:World Awareness Children’s Museum\, 89 Warren St\, Glens Falls\, NY\, United States
GEO:43.310029;-73.639958
X-APPLE-STRUCTURED-LOCATION;VALUE=URI;X-ADDRESS=World Awareness Children’s Museum 89 Warren St Glens Falls NY United States;X-APPLE-RADIUS=500;X-TITLE=89 Warren St:geo:-73.639958,43.310029
END:VEVENT
BEGIN:VEVENT
DTSTART;TZID=America/New_York:20251108T100000
DTEND;TZID=America/New_York:20251108T150000
DTSTAMP:20260423T131537
CREATED:20251003T182354Z
LAST-MODIFIED:20251107T190832Z
UID:10005649-1762596000-1762614000@worldchildrensmuseum.org
SUMMARY:Open for General Admission
DESCRIPTION:Tickets can be purchased online at https://wacm.ticketleap.com/admission-2025/Admission Costs:Members: FreeNot-Yet-Members: $7 per person\, children under 12mo. are free.Please visit our website for more information on admission: https://worldchildrensmuseum.org/for-visitors/
URL:https://worldchildrensmuseum.org/events/open-for-general-admission-75/
LOCATION:World Awareness Children’s Museum\, 89 Warren St\, Glens Falls\, NY\, United States
GEO:43.310029;-73.639958
X-APPLE-STRUCTURED-LOCATION;VALUE=URI;X-ADDRESS=World Awareness Children’s Museum 89 Warren St Glens Falls NY United States;X-APPLE-RADIUS=500;X-TITLE=89 Warren St:geo:-73.639958,43.310029
END:VEVENT
BEGIN:VEVENT
DTSTART;TZID=America/New_York:20251108T110000
DTEND;TZID=America/New_York:20251108T120000
DTSTAMP:20260423T131537
CREATED:20251024T183844Z
LAST-MODIFIED:20251107T190832Z
UID:10005836-1762599600-1762603200@worldchildrensmuseum.org
SUMMARY:Lanterns of Light Craft
DESCRIPTION:Bring the magic of Thailand’s Yi Peng Festival to life! Kids ages 5+ can design glowing paper lanterns inspired by this celebration of light. Up to 10 artists per session.  \nCost: Free with admission. Call 518-793-2773 or visit ticketleap.events/events/wacm-1 to reserve.
URL:https://worldchildrensmuseum.org/events/lanterns-of-light-craft/
LOCATION:NY
END:VEVENT
BEGIN:VEVENT
DTSTART;TZID=America/New_York:20251109T100000
DTEND;TZID=America/New_York:20251109T150000
DTSTAMP:20260423T131537
CREATED:20241014T155439Z
LAST-MODIFIED:20251107T190833Z
UID:10004179-1762682400-1762700400@worldchildrensmuseum.org
SUMMARY:Free Day!
DESCRIPTION:Visit the museum for free today\, thanks to Stewart’s Holiday Match and all who contributed! We are pleased to offer these free days from 10am-3pm once per month. Donations are appreciated but not required. \nFree Days are generously sponsored by Stewart’s Holiday Match.  \nYou can learn more by visiting www.stewartsshops.com/community-giving
URL:https://worldchildrensmuseum.org/events/free-day-55/
LOCATION:NY
END:VEVENT
BEGIN:VEVENT
DTSTART;TZID=America/New_York:20251109T100000
DTEND;TZID=America/New_York:20251109T150000
DTSTAMP:20260423T131537
CREATED:20251003T182354Z
LAST-MODIFIED:20251107T190833Z
UID:10005650-1762682400-1762700400@worldchildrensmuseum.org
SUMMARY:Open for General Admission
DESCRIPTION:Tickets can be purchased online at https://wacm.ticketleap.com/admission-2025/Admission Costs:Members: FreeNot-Yet-Members: $7 per person\, children under 12mo. are free.Please visit our website for more information on admission: https://worldchildrensmuseum.org/for-visitors/
URL:https://worldchildrensmuseum.org/events/open-for-general-admission-77/
LOCATION:World Awareness Children’s Museum\, 89 Warren St\, Glens Falls\, NY\, United States
GEO:43.310029;-73.639958
X-APPLE-STRUCTURED-LOCATION;VALUE=URI;X-ADDRESS=World Awareness Children’s Museum 89 Warren St Glens Falls NY United States;X-APPLE-RADIUS=500;X-TITLE=89 Warren St:geo:-73.639958,43.310029
END:VEVENT
BEGIN:VEVENT
DTSTART;TZID=America/New_York:20251109T100000
DTEND;TZID=America/New_York:20251109T150000
DTSTAMP:20260423T131537
CREATED:20251024T183844Z
LAST-MODIFIED:20251107T190833Z
UID:10005837-1762682400-1762700400@worldchildrensmuseum.org
SUMMARY:Kindness Chain Activity
DESCRIPTION:Share kindness\, join the chain! Celebrate World Kindness Day during our Free Day by decorating a paper strip with kind words\, drawings\, or thank-you notes\, then add it to our growing museum Kindness Chain. Let’s see how long it can grow! \nCost: Free with admission & while supplies last.  
URL:https://worldchildrensmuseum.org/events/kindness-chain-activity/
LOCATION:World Awareness Children’s Museum\, 89 Warren St\, Glens Falls\, NY\, United States
GEO:43.310029;-73.639958
X-APPLE-STRUCTURED-LOCATION;VALUE=URI;X-ADDRESS=World Awareness Children’s Museum 89 Warren St Glens Falls NY United States;X-APPLE-RADIUS=500;X-TITLE=89 Warren St:geo:-73.639958,43.310029
END:VEVENT
BEGIN:VEVENT
DTSTART;TZID=America/New_York:20251110T100000
DTEND;TZID=America/New_York:20251110T150000
DTSTAMP:20260423T131537
CREATED:20241014T192439Z
LAST-MODIFIED:20250619T190913Z
UID:10004180-1762768800-1762786800@worldchildrensmuseum.org
SUMMARY:Open for General Admission
DESCRIPTION:Tickets can be purchased online at https://wacm.ticketleap.com/museum-admission-2024/Admission Costs:Members: FreeNot-Yet-Members: $7 per person\, children under 12mo. are free.Please visit our website for more information on admission: https://worldchildrensmuseum.org/for-visitors/
URL:https://worldchildrensmuseum.org/events/open-for-general-admission-2114/
LOCATION:World Awareness Children’s Museum\, 89 Warren St\, Glens Falls\, NY\, United States
GEO:43.310029;-73.639958
X-APPLE-STRUCTURED-LOCATION;VALUE=URI;X-ADDRESS=World Awareness Children’s Museum 89 Warren St Glens Falls NY United States;X-APPLE-RADIUS=500;X-TITLE=89 Warren St:geo:-73.639958,43.310029
END:VEVENT
BEGIN:VEVENT
DTSTART;TZID=America/New_York:20251110T100000
DTEND;TZID=America/New_York:20251110T150000
DTSTAMP:20260423T131537
CREATED:20251003T182355Z
LAST-MODIFIED:20251107T190834Z
UID:10005651-1762768800-1762786800@worldchildrensmuseum.org
SUMMARY:Open for General Admission
DESCRIPTION:Tickets can be purchased online at https://wacm.ticketleap.com/admission-2025/Admission Costs:Members: FreeNot-Yet-Members: $7 per person\, children under 12mo. are free.Please visit our website for more information on admission: https://worldchildrensmuseum.org/for-visitors/
URL:https://worldchildrensmuseum.org/events/open-for-general-admission-79/
LOCATION:World Awareness Children’s Museum\, 89 Warren St\, Glens Falls\, NY\, United States
GEO:43.310029;-73.639958
X-APPLE-STRUCTURED-LOCATION;VALUE=URI;X-ADDRESS=World Awareness Children’s Museum 89 Warren St Glens Falls NY United States;X-APPLE-RADIUS=500;X-TITLE=89 Warren St:geo:-73.639958,43.310029
END:VEVENT
BEGIN:VEVENT
DTSTART;TZID=America/New_York:20251110T103000
DTEND;TZID=America/New_York:20251110T113000
DTSTAMP:20260423T131537
CREATED:20251024T183844Z
LAST-MODIFIED:20251107T190833Z
UID:10005838-1762770600-1762774200@worldchildrensmuseum.org
SUMMARY:Poppies of Honor Craft
DESCRIPTION:Make poppy flowers to honor heroes this Veterans Day! \nLet’s honor our heroes! Kids ages 5+ can twist red and green pipe cleaners into poppy flowers to thank those who have served our country.  \nCost: Free with admission.
URL:https://worldchildrensmuseum.org/events/poppies-of-honor-craft/
LOCATION:World Awareness Children’s Museum\, 89 Warren St\, Glens Falls\, NY\, United States
GEO:43.310029;-73.639958
X-APPLE-STRUCTURED-LOCATION;VALUE=URI;X-ADDRESS=World Awareness Children’s Museum 89 Warren St Glens Falls NY United States;X-APPLE-RADIUS=500;X-TITLE=89 Warren St:geo:-73.639958,43.310029
END:VEVENT
BEGIN:VEVENT
DTSTART;TZID=America/New_York:20251111T100000
DTEND;TZID=America/New_York:20251111T150000
DTSTAMP:20260423T131537
CREATED:20251024T183845Z
LAST-MODIFIED:20251107T190834Z
UID:10005839-1762855200-1762873200@worldchildrensmuseum.org
SUMMARY:Open for General Admission
DESCRIPTION:Tickets can be purchased online at https://wacm.ticketleap.com/admission-2025/Admission Costs:Members: FreeNot-Yet-Members: $7 per person\, children under 12mo. are free.Please visit our website for more information on admission: https://worldchildrensmuseum.org/for-visitors/
URL:https://worldchildrensmuseum.org/events/open-for-general-admission-642/
LOCATION:World Awareness Children’s Museum\, 89 Warren St\, Glens Falls\, NY\, United States
GEO:43.310029;-73.639958
X-APPLE-STRUCTURED-LOCATION;VALUE=URI;X-ADDRESS=World Awareness Children’s Museum 89 Warren St Glens Falls NY United States;X-APPLE-RADIUS=500;X-TITLE=89 Warren St:geo:-73.639958,43.310029
END:VEVENT
BEGIN:VEVENT
DTSTART;TZID=America/New_York:20251111T103000
DTEND;TZID=America/New_York:20251111T113000
DTSTAMP:20260423T131537
CREATED:20251024T183845Z
LAST-MODIFIED:20251107T190834Z
UID:10005840-1762857000-1762860600@worldchildrensmuseum.org
SUMMARY:Cards for Heroes Station
DESCRIPTION:Self-guided activity: Create a handmade card to thank a veteran for their service! Add your own drawings\, stickers\, and messages of gratitude.   \nCost: Free with admission and while supplies last. 
URL:https://worldchildrensmuseum.org/events/cards-for-heroes-station/
LOCATION:NY
END:VEVENT
END:VCALENDAR