BEGIN:VCALENDAR
VERSION:2.0
PRODID:-//World Awareness Children&#039;s Museum - ECPv6.15.20//NONSGML v1.0//EN
CALSCALE:GREGORIAN
METHOD:PUBLISH
X-WR-CALNAME:World Awareness Children&#039;s Museum
X-ORIGINAL-URL:https://worldchildrensmuseum.org
X-WR-CALDESC:Events for World Awareness Children&#039;s Museum
REFRESH-INTERVAL;VALUE=DURATION:PT1H
X-Robots-Tag:noindex
X-PUBLISHED-TTL:PT1H
BEGIN:VTIMEZONE
TZID:America/New_York
BEGIN:DAYLIGHT
TZOFFSETFROM:-0500
TZOFFSETTO:-0400
TZNAME:EDT
DTSTART:20210314T070000
END:DAYLIGHT
BEGIN:STANDARD
TZOFFSETFROM:-0400
TZOFFSETTO:-0500
TZNAME:EST
DTSTART:20211107T060000
END:STANDARD
BEGIN:DAYLIGHT
TZOFFSETFROM:-0500
TZOFFSETTO:-0400
TZNAME:EDT
DTSTART:20220313T070000
END:DAYLIGHT
BEGIN:STANDARD
TZOFFSETFROM:-0400
TZOFFSETTO:-0500
TZNAME:EST
DTSTART:20221106T060000
END:STANDARD
BEGIN:DAYLIGHT
TZOFFSETFROM:-0500
TZOFFSETTO:-0400
TZNAME:EDT
DTSTART:20230312T070000
END:DAYLIGHT
BEGIN:STANDARD
TZOFFSETFROM:-0400
TZOFFSETTO:-0500
TZNAME:EST
DTSTART:20231105T060000
END:STANDARD
END:VTIMEZONE
BEGIN:VEVENT
DTSTART;TZID=America/New_York:20220703T100000
DTEND;TZID=America/New_York:20220703T150000
DTSTAMP:20260423T164141
CREATED:20220531T215621Z
LAST-MODIFIED:20220702T234030Z
UID:10001579-1656842400-1656860400@worldchildrensmuseum.org
SUMMARY:Open for General Admission
DESCRIPTION:Pre-registration is encouraged: wacm.ticketleap.com/admission-2022 \nAdmission Costs:Members: FreeNot-Yet-Members: $7 per person\, children under 3 are free.Please visit our website for more information on admission: https://worldchildrensmuseum.org/for-visitors/ \nMasks are required for all visitors ages 3 and up\, regardless of vaccination status. 
URL:https://worldchildrensmuseum.org/events/open-for-general-admission-202/
LOCATION:World Awareness Children’s Museum\, 89 Warren St\, Glens Falls\, NY 12801\, USA
END:VEVENT
BEGIN:VEVENT
DTSTART;TZID=America/New_York:20220702T100000
DTEND;TZID=America/New_York:20220702T150000
DTSTAMP:20260423T164141
CREATED:20220531T215621Z
LAST-MODIFIED:20220701T234005Z
UID:10001577-1656756000-1656774000@worldchildrensmuseum.org
SUMMARY:Open for General Admission
DESCRIPTION:Pre-registration is encouraged: wacm.ticketleap.com/admission-2022 \nAdmission Costs:Members: FreeNot-Yet-Members: $7 per person\, children under 3 are free.Please visit our website for more information on admission: https://worldchildrensmuseum.org/for-visitors/ \nMasks are required for all visitors ages 3 and up\, regardless of vaccination status. 
URL:https://worldchildrensmuseum.org/events/open-for-general-admission-201/
LOCATION:World Awareness Children’s Museum\, 89 Warren St\, Glens Falls\, NY 12801\, USA
END:VEVENT
BEGIN:VEVENT
DTSTART;TZID=America/New_York:20220701T103000
DTEND;TZID=America/New_York:20220701T113000
DTSTAMP:20260423T164141
CREATED:20220628T232539Z
LAST-MODIFIED:20220630T232508Z
UID:10001800-1656671400-1656675000@worldchildrensmuseum.org
SUMMARY:World Culture Workshop: Japanese Fan
DESCRIPTION:Join us for our new World Culture Workshops this summer! During this program\, we will explore a few styles of Japanese fans! We will read a story\, observe fans from the museum’s collection\, learn how they were used in the past\, how they are used today\, and then create our own! \nThis program is appropriate for ages 8 and up. \nCost: $2 per person on top of admission. Museum Members attend for free! \nTo reserve your spot\, visit https://wacm.ticketleap.com/07012022/
URL:https://worldchildrensmuseum.org/events/world-culture-workshop-japanese-fan/
LOCATION:NY
END:VEVENT
BEGIN:VEVENT
DTSTART;TZID=America/New_York:20220701T100000
DTEND;TZID=America/New_York:20220701T150000
DTSTAMP:20260423T164141
CREATED:20220628T232539Z
LAST-MODIFIED:20220630T232508Z
UID:10001801-1656669600-1656687600@worldchildrensmuseum.org
SUMMARY:Homeschool Discount Day
DESCRIPTION:Once per quarter\, we are happy to extend a discount to our homeschool families! Homeschoolers who visit today will receive $1 off of their admission price. We can’t wait to see you! \nUpcoming Homeschool Discount Days:October 7\, 2022
URL:https://worldchildrensmuseum.org/events/homeschool-discount-day-4/
LOCATION:NY
END:VEVENT
BEGIN:VEVENT
DTSTART;TZID=America/New_York:20220701T100000
DTEND;TZID=America/New_York:20220701T150000
DTSTAMP:20260423T164141
CREATED:20220531T215621Z
LAST-MODIFIED:20220630T232508Z
UID:10001575-1656669600-1656687600@worldchildrensmuseum.org
SUMMARY:Open for General Admission
DESCRIPTION:Pre-registration is encouraged: wacm.ticketleap.com/admission-2022 \nAdmission Costs:Members: FreeNot-Yet-Members: $7 per person\, children under 3 are free.Please visit our website for more information on admission: https://worldchildrensmuseum.org/for-visitors/ \nMasks are required for all visitors ages 3 and up\, regardless of vaccination status. 
URL:https://worldchildrensmuseum.org/events/open-for-general-admission-200/
LOCATION:World Awareness Children’s Museum\, 89 Warren St\, Glens Falls\, NY 12801\, USA
END:VEVENT
BEGIN:VEVENT
DTSTART;TZID=America/New_York:20220630T100000
DTEND;TZID=America/New_York:20220630T150000
DTSTAMP:20260423T164141
CREATED:20220531T215621Z
LAST-MODIFIED:20220629T232531Z
UID:10001573-1656583200-1656601200@worldchildrensmuseum.org
SUMMARY:Open for General Admission
DESCRIPTION:Pre-registration is encouraged: wacm.ticketleap.com/admission-2022 \nAdmission Costs:Members: FreeNot-Yet-Members: $7 per person\, children under 3 are free.Please visit our website for more information on admission: https://worldchildrensmuseum.org/for-visitors/ \nMasks are required for all visitors ages 3 and up\, regardless of vaccination status. 
URL:https://worldchildrensmuseum.org/events/open-for-general-admission-199/
LOCATION:World Awareness Children’s Museum\, 89 Warren St\, Glens Falls\, NY 12801\, USA
END:VEVENT
BEGIN:VEVENT
DTSTART;TZID=America/New_York:20220629T110000
DTEND;TZID=America/New_York:20220629T120000
DTSTAMP:20260423T164141
CREATED:20220531T215621Z
LAST-MODIFIED:20220628T232606Z
UID:10001739-1656500400-1656504000@worldchildrensmuseum.org
SUMMARY:Little Ones Yoga
DESCRIPTION:Guest instructor Neha Golwala leads an age-inclusive yoga class! This program is open to children of all ages. \nCost: Free with admission
URL:https://worldchildrensmuseum.org/events/little-ones-yoga-8/
LOCATION:NY
END:VEVENT
BEGIN:VEVENT
DTSTART;TZID=America/New_York:20220629T100000
DTEND;TZID=America/New_York:20220629T150000
DTSTAMP:20260423T164141
CREATED:20220531T215621Z
LAST-MODIFIED:20220628T232605Z
UID:10001724-1656496800-1656514800@worldchildrensmuseum.org
SUMMARY:Open for General Admission
DESCRIPTION:Pre-registration is encouraged: wacm.ticketleap.com/admission-2022 \nAdmission Costs:Members: FreeNot-Yet-Members: $7 per person\, children under 3 are free.Please visit our website for more information on admission: https://worldchildrensmuseum.org/for-visitors/ \nMasks are required for all visitors ages 3 and up\, regardless of vaccination status. 
URL:https://worldchildrensmuseum.org/events/open-for-general-admission-198/
LOCATION:World Awareness Children’s Museum\, 89 Warren St\, Glens Falls\, NY 12801\, USA
END:VEVENT
BEGIN:VEVENT
DTSTART;TZID=America/New_York:20220628T100000
DTEND;TZID=America/New_York:20220628T150000
DTSTAMP:20260423T164141
CREATED:20220531T215620Z
LAST-MODIFIED:20220627T231348Z
UID:10001740-1656410400-1656428400@worldchildrensmuseum.org
SUMMARY:Open for General Admission
DESCRIPTION:Pre-registration is encouraged: wacm.ticketleap.com/admission-2022 \nAdmission Costs:Members: FreeNot-Yet-Members: $7 per person\, children under 3 are free.Please visit our website for more information on admission: https://worldchildrensmuseum.org/for-visitors/ \nMasks are required for all visitors ages 3 and up\, regardless of vaccination status. 
URL:https://worldchildrensmuseum.org/events/open-for-general-admission-197/
LOCATION:World Awareness Children’s Museum\, 89 Warren St\, Glens Falls\, NY 12801\, USA
END:VEVENT
BEGIN:VEVENT
DTSTART;TZID=America/New_York:20220627T100000
DTEND;TZID=America/New_York:20220627T150000
DTSTAMP:20260423T164141
CREATED:20220105T182523Z
LAST-MODIFIED:20220530T214948Z
UID:10001537-1656324000-1656342000@worldchildrensmuseum.org
SUMMARY:Open for General Admission
DESCRIPTION:Pre-registration is encouraged: wacm.ticketleap.com/admission-2022 \nAdmission Costs:Members: FreeNot-Yet-Members: $7 per person\, children under 3 are free.Please visit our website for more information on admission: https://worldchildrensmuseum.org/for-visitors/ \nMasks are required for all visitors ages 3 and up\, regardless of vaccination status. 
URL:https://worldchildrensmuseum.org/events/open-for-general-admission-189/
LOCATION:World Awareness Children’s Museum\, 89 Warren St\, Glens Falls\, NY 12801\, USA
END:VEVENT
BEGIN:VEVENT
DTSTART;TZID=America/New_York:20220626T130000
DTEND;TZID=America/New_York:20220626T140000
DTSTAMP:20260423T164141
CREATED:20220531T215620Z
LAST-MODIFIED:20220625T231103Z
UID:10001741-1656248400-1656252000@worldchildrensmuseum.org
SUMMARY:Mini Masterpieces Painting Class
DESCRIPTION:Join us for our workshop series\, Mini Masterpieces! During this class\, artists will paint a bumblebee on a tiny 4”x4” canvas. This class is taught by local artist Patrice Jarvis-Weber and is recommended for children ages 10 and older. \nCost: $8 per person. Members get a 10% discount! \nPlease call to reserve your spot: 518-793-2773 or visit wacm.ticketleap.com to reserve online. \nThis class is limited to 9 people.
URL:https://worldchildrensmuseum.org/events/mini-masterpieces-painting-class-5/
LOCATION:NY
END:VEVENT
BEGIN:VEVENT
DTSTART;TZID=America/New_York:20220626T100000
DTEND;TZID=America/New_York:20220626T150000
DTSTAMP:20260423T164141
CREATED:20220105T182523Z
LAST-MODIFIED:20220625T231103Z
UID:10001536-1656237600-1656255600@worldchildrensmuseum.org
SUMMARY:Open for General Admission
DESCRIPTION:Pre-registration is encouraged: wacm.ticketleap.com/admission-2022 \nAdmission Costs:Members: FreeNot-Yet-Members: $7 per person\, children under 3 are free.Please visit our website for more information on admission: https://worldchildrensmuseum.org/for-visitors/ \nMasks are required for all visitors ages 3 and up\, regardless of vaccination status. 
URL:https://worldchildrensmuseum.org/events/open-for-general-admission-188/
LOCATION:World Awareness Children’s Museum\, 89 Warren St\, Glens Falls\, NY 12801\, USA
END:VEVENT
BEGIN:VEVENT
DTSTART;TZID=America/New_York:20220625T100000
DTEND;TZID=America/New_York:20220625T150000
DTSTAMP:20260423T164141
CREATED:20220105T182523Z
LAST-MODIFIED:20220624T231120Z
UID:10001535-1656151200-1656169200@worldchildrensmuseum.org
SUMMARY:Open for General Admission
DESCRIPTION:Pre-registration is encouraged: wacm.ticketleap.com/admission-2022 \nAdmission Costs:Members: FreeNot-Yet-Members: $7 per person\, children under 3 are free.Please visit our website for more information on admission: https://worldchildrensmuseum.org/for-visitors/ \nMasks are required for all visitors ages 3 and up\, regardless of vaccination status. 
URL:https://worldchildrensmuseum.org/events/open-for-general-admission-187/
LOCATION:World Awareness Children’s Museum\, 89 Warren St\, Glens Falls\, NY 12801\, USA
END:VEVENT
BEGIN:VEVENT
DTSTART;TZID=America/New_York:20220624T103000
DTEND;TZID=America/New_York:20220624T113000
DTSTAMP:20260423T164141
CREATED:20220531T215620Z
LAST-MODIFIED:20220623T231034Z
UID:10001751-1656066600-1656070200@worldchildrensmuseum.org
SUMMARY:Storytime Friday
DESCRIPTION:Reading: “Little Melba and Her BIG Trombone” by Katheryn Russell-Brown \nEveryone is welcome at our recurring program\, Storytime Fridays! This program is appropriate for all ages and includes a story and a craft.  \nCost: Free with admission
URL:https://worldchildrensmuseum.org/events/storytime-friday-16/
LOCATION:NY
END:VEVENT
BEGIN:VEVENT
DTSTART;TZID=America/New_York:20220624T100000
DTEND;TZID=America/New_York:20220624T150000
DTSTAMP:20260423T164141
CREATED:20220105T182523Z
LAST-MODIFIED:20220623T231034Z
UID:10001534-1656064800-1656082800@worldchildrensmuseum.org
SUMMARY:Open for General Admission
DESCRIPTION:Pre-registration is encouraged: wacm.ticketleap.com/admission-2022 \nAdmission Costs:Members: FreeNot-Yet-Members: $7 per person\, children under 3 are free.Please visit our website for more information on admission: https://worldchildrensmuseum.org/for-visitors/ \nMasks are required for all visitors ages 3 and up\, regardless of vaccination status. 
URL:https://worldchildrensmuseum.org/events/open-for-general-admission-186/
LOCATION:World Awareness Children’s Museum\, 89 Warren St\, Glens Falls\, NY 12801\, USA
END:VEVENT
BEGIN:VEVENT
DTSTART;TZID=America/New_York:20220620T100000
DTEND;TZID=America/New_York:20220620T150000
DTSTAMP:20260423T164141
CREATED:20220105T182517Z
LAST-MODIFIED:20220619T231048Z
UID:10001533-1655719200-1655737200@worldchildrensmuseum.org
SUMMARY:CLOSED DUE TO UNFORESEEN CIRCUMSTANCES
DESCRIPTION:
URL:https://worldchildrensmuseum.org/events/open-for-general-admission-185/
LOCATION:World Awareness Children’s Museum\, 89 Warren St\, Glens Falls\, NY 12801\, USA
END:VEVENT
BEGIN:VEVENT
DTSTART;TZID=America/New_York:20220619T100000
DTEND;TZID=America/New_York:20220619T150000
DTSTAMP:20260423T164141
CREATED:20220105T182516Z
LAST-MODIFIED:20220618T225516Z
UID:10001532-1655632800-1655650800@worldchildrensmuseum.org
SUMMARY:CLOSED DUE TO UNFORESEEN CIRCUMSTANCES
DESCRIPTION:
URL:https://worldchildrensmuseum.org/events/open-for-general-admission-184/
LOCATION:World Awareness Children’s Museum\, 89 Warren St\, Glens Falls\, NY 12801\, USA
END:VEVENT
BEGIN:VEVENT
DTSTART;TZID=America/New_York:20220618T130000
DTEND;TZID=America/New_York:20220618T143000
DTSTAMP:20260423T164141
CREATED:20220531T215619Z
LAST-MODIFIED:20220617T224522Z
UID:10001750-1655557200-1655562600@worldchildrensmuseum.org
SUMMARY:Paint & Sip
DESCRIPTION:Join us for our popular family-friendly Paint & Sip series. Artists will take inspiration from the summer solstice and paint their own masterpiece on canvas with  \ninstruction from local artist Patrice Jarvis-Weber.  \nCost: $10 per person. Members get a 10% discount! \nPlease call to reserve your spot: 518-793-2773 or visit wacm.ticketleap.com to reserve online. \nThis class is limited to 9 people.
URL:https://worldchildrensmuseum.org/events/paint-sip-5/
LOCATION:NY
END:VEVENT
BEGIN:VEVENT
DTSTART;TZID=America/New_York:20220618T100000
DTEND;TZID=America/New_York:20220618T150000
DTSTAMP:20260423T164141
CREATED:20220105T182516Z
LAST-MODIFIED:20220617T224522Z
UID:10001531-1655546400-1655564400@worldchildrensmuseum.org
SUMMARY:Open for General Admission
DESCRIPTION:Pre-registration is encouraged: wacm.ticketleap.com/admission-2022 \nAdmission Costs:Members: FreeNot-Yet-Members: $7 per person\, children under 3 are free.Please visit our website for more information on admission: https://worldchildrensmuseum.org/for-visitors/ \nMasks are required for all visitors ages 3 and up\, regardless of vaccination status. 
URL:https://worldchildrensmuseum.org/events/open-for-general-admission-183/
LOCATION:World Awareness Children’s Museum\, 89 Warren St\, Glens Falls\, NY 12801\, USA
END:VEVENT
BEGIN:VEVENT
DTSTART;TZID=America/New_York:20220617T183000
DTEND;TZID=America/New_York:20220617T203000
DTSTAMP:20260423T164141
CREATED:20220527T211447Z
LAST-MODIFIED:20220617T224522Z
UID:10001749-1655490600-1655497800@worldchildrensmuseum.org
SUMMARY:Museum Members Drop-Off Night
DESCRIPTION:Join us for this brand new membership perk! Once per month\, museum members can drop their children off for a fun night of games\, crafts\, and museum exploration. This program is appropriate for children ages 3 and older\, and all children must be fully potty-trained. \nCost: $10 per child. \nPlease call to reserve your spot: 518-793-2773 or visit wacm.ticketleap.com to reserve online. \nThis program is for museum members only and is limited to 10 children. \nClick Here to become a member today!
URL:https://worldchildrensmuseum.org/events/museum-members-drop-off-night/
LOCATION:NY
END:VEVENT
BEGIN:VEVENT
DTSTART;TZID=America/New_York:20220617T100000
DTEND;TZID=America/New_York:20220617T150000
DTSTAMP:20260423T164141
CREATED:20220105T182516Z
LAST-MODIFIED:20220616T224009Z
UID:10001530-1655460000-1655478000@worldchildrensmuseum.org
SUMMARY:Open for General Admission
DESCRIPTION:Pre-registration is encouraged: wacm.ticketleap.com/admission-2022 \nAdmission Costs:Members: FreeNot-Yet-Members: $7 per person\, children under 3 are free.Please visit our website for more information on admission: https://worldchildrensmuseum.org/for-visitors/ \nMasks are required for all visitors ages 3 and up\, regardless of vaccination status. 
URL:https://worldchildrensmuseum.org/events/open-for-general-admission-182/
LOCATION:World Awareness Children’s Museum\, 89 Warren St\, Glens Falls\, NY 12801\, USA
END:VEVENT
BEGIN:VEVENT
DTSTART;TZID=America/New_York:20220613T100000
DTEND;TZID=America/New_York:20220613T150000
DTSTAMP:20260423T164141
CREATED:20220105T182516Z
LAST-MODIFIED:20220612T221253Z
UID:10001529-1655114400-1655132400@worldchildrensmuseum.org
SUMMARY:Open for General Admission
DESCRIPTION:Pre-registration is encouraged: wacm.ticketleap.com/admission-2022 \nAdmission Costs:Members: FreeNot-Yet-Members: $7 per person\, children under 3 are free.Please visit our website for more information on admission: https://worldchildrensmuseum.org/for-visitors/ \nMasks are required for all visitors ages 3 and up\, regardless of vaccination status. 
URL:https://worldchildrensmuseum.org/events/open-for-general-admission-181/
LOCATION:World Awareness Children’s Museum\, 89 Warren St\, Glens Falls\, NY 12801\, USA
END:VEVENT
BEGIN:VEVENT
DTSTART;TZID=America/New_York:20220612T100000
DTEND;TZID=America/New_York:20220612T150000
DTSTAMP:20260423T164141
CREATED:20220325T231021Z
LAST-MODIFIED:20220611T221135Z
UID:10001698-1655028000-1655046000@worldchildrensmuseum.org
SUMMARY:Free Day!
DESCRIPTION:Visit the museum for free today thanks to Stewart’s Holiday Match and all who contributed! We are pleased to offer these free days from 10am-3pm on the Second Sunday of the month. Donations are appreciated\, but not required. \nFree Days are generously sponsored by Stewart’s Holiday Match.  \nYou can learn more by visiting www.stewartsshops.com/community-giving
URL:https://worldchildrensmuseum.org/events/free-day-3/
LOCATION:NY
END:VEVENT
BEGIN:VEVENT
DTSTART;TZID=America/New_York:20220612T100000
DTEND;TZID=America/New_York:20220612T150000
DTSTAMP:20260423T164141
CREATED:20220105T182515Z
LAST-MODIFIED:20220611T221135Z
UID:10001666-1655028000-1655046000@worldchildrensmuseum.org
SUMMARY:Open for General Admission
DESCRIPTION:Pre-registration is encouraged: wacm.ticketleap.com/admission-2022 \nAdmission Costs:Members: FreeNot-Yet-Members: $7 per person\, children under 3 are free.Please visit our website for more information on admission: https://worldchildrensmuseum.org/for-visitors/ \nMasks are required for all visitors ages 3 and up\, regardless of vaccination status. 
URL:https://worldchildrensmuseum.org/events/open-for-general-admission-180/
LOCATION:World Awareness Children’s Museum\, 89 Warren St\, Glens Falls\, NY 12801\, USA
END:VEVENT
BEGIN:VEVENT
DTSTART;TZID=America/New_York:20220611T130000
DTEND;TZID=America/New_York:20220611T150000
DTSTAMP:20260423T164141
CREATED:20220527T211447Z
LAST-MODIFIED:20220610T221139Z
UID:10001748-1654952400-1654959600@worldchildrensmuseum.org
SUMMARY:Book Signing with Susan Whittemore
DESCRIPTION:Children’s book author\, Susan Whittemore\, author of “Meme the Mouse Learns Patience\,” will host a book signing during our Free Day on Saturday\, June 11th.
URL:https://worldchildrensmuseum.org/events/book-signing-with-susan-whittemore/
LOCATION:NY
END:VEVENT
BEGIN:VEVENT
DTSTART;TZID=America/New_York:20220611T100000
DTEND;TZID=America/New_York:20220611T150000
DTSTAMP:20260423T164141
CREATED:20220527T211435Z
LAST-MODIFIED:20220610T221139Z
UID:10001747-1654941600-1654959600@worldchildrensmuseum.org
SUMMARY:Free Day!
DESCRIPTION:Join us for an Extra Special Free Day!  \nVisit the museum for free today thanks to Stewart’s Holiday Match and all who contributed! Donations are appreciated\, but not required. \nFree Days are generously sponsored by Stewart’s Holiday Match.  \nYou can learn more by visiting www.stewartsshops.com/community-giving
URL:https://worldchildrensmuseum.org/events/free-day-13/
LOCATION:NY
END:VEVENT
BEGIN:VEVENT
DTSTART;TZID=America/New_York:20220611T100000
DTEND;TZID=America/New_York:20220611T150000
DTSTAMP:20260423T164141
CREATED:20220105T182515Z
LAST-MODIFIED:20220610T221139Z
UID:10001665-1654941600-1654959600@worldchildrensmuseum.org
SUMMARY:Open for General Admission
DESCRIPTION:Pre-registration is encouraged: wacm.ticketleap.com/admission-2022 \nAdmission Costs:Members: FreeNot-Yet-Members: $7 per person\, children under 3 are free.Please visit our website for more information on admission: https://worldchildrensmuseum.org/for-visitors/ \nMasks are required for all visitors ages 3 and up\, regardless of vaccination status. 
URL:https://worldchildrensmuseum.org/events/open-for-general-admission-179/
LOCATION:World Awareness Children’s Museum\, 89 Warren St\, Glens Falls\, NY 12801\, USA
END:VEVENT
BEGIN:VEVENT
DTSTART;TZID=America/New_York:20220610T100000
DTEND;TZID=America/New_York:20220610T150000
DTSTAMP:20260423T164141
CREATED:20220105T182515Z
LAST-MODIFIED:20220609T221014Z
UID:10001664-1654855200-1654873200@worldchildrensmuseum.org
SUMMARY:Open for General Admission
DESCRIPTION:Pre-registration is encouraged: wacm.ticketleap.com/admission-2022 \nAdmission Costs:Members: FreeNot-Yet-Members: $7 per person\, children under 3 are free.Please visit our website for more information on admission: https://worldchildrensmuseum.org/for-visitors/ \nMasks are required for all visitors ages 3 and up\, regardless of vaccination status. 
URL:https://worldchildrensmuseum.org/events/open-for-general-admission-178/
LOCATION:World Awareness Children’s Museum\, 89 Warren St\, Glens Falls\, NY 12801\, USA
END:VEVENT
BEGIN:VEVENT
DTSTART;TZID=America/New_York:20220606T100000
DTEND;TZID=America/New_York:20220606T150000
DTSTAMP:20260423T164141
CREATED:20220105T182515Z
LAST-MODIFIED:20220605T221025Z
UID:10001663-1654509600-1654527600@worldchildrensmuseum.org
SUMMARY:Open for General Admission
DESCRIPTION:Pre-registration is encouraged: wacm.ticketleap.com/admission-2022 \nAdmission Costs:Members: FreeNot-Yet-Members: $7 per person\, children under 3 are free.Please visit our website for more information on admission: https://worldchildrensmuseum.org/for-visitors/ \nMasks are required for all visitors ages 3 and up\, regardless of vaccination status. 
URL:https://worldchildrensmuseum.org/events/open-for-general-admission-177/
LOCATION:World Awareness Children’s Museum\, 89 Warren St\, Glens Falls\, NY 12801\, USA
END:VEVENT
BEGIN:VEVENT
DTSTART;TZID=America/New_York:20220605T100000
DTEND;TZID=America/New_York:20220605T150000
DTSTAMP:20260423T164141
CREATED:20220105T182515Z
LAST-MODIFIED:20220604T221126Z
UID:10001662-1654423200-1654441200@worldchildrensmuseum.org
SUMMARY:Open for General Admission
DESCRIPTION:Pre-registration is encouraged: wacm.ticketleap.com/admission-2022 \nAdmission Costs:Members: FreeNot-Yet-Members: $7 per person\, children under 3 are free.Please visit our website for more information on admission: https://worldchildrensmuseum.org/for-visitors/ \nMasks are required for all visitors ages 3 and up\, regardless of vaccination status. 
URL:https://worldchildrensmuseum.org/events/open-for-general-admission-176/
LOCATION:World Awareness Children’s Museum\, 89 Warren St\, Glens Falls\, NY 12801\, USA
END:VEVENT
END:VCALENDAR