BEGIN:VCALENDAR
VERSION:2.0
PRODID:-//World Awareness Children&#039;s Museum - ECPv6.15.20//NONSGML v1.0//EN
CALSCALE:GREGORIAN
METHOD:PUBLISH
X-WR-CALNAME:World Awareness Children&#039;s Museum
X-ORIGINAL-URL:https://worldchildrensmuseum.org
X-WR-CALDESC:Events for World Awareness Children&#039;s Museum
REFRESH-INTERVAL;VALUE=DURATION:PT1H
X-Robots-Tag:noindex
X-PUBLISHED-TTL:PT1H
BEGIN:VTIMEZONE
TZID:America/New_York
BEGIN:DAYLIGHT
TZOFFSETFROM:-0500
TZOFFSETTO:-0400
TZNAME:EDT
DTSTART:20210314T070000
END:DAYLIGHT
BEGIN:STANDARD
TZOFFSETFROM:-0400
TZOFFSETTO:-0500
TZNAME:EST
DTSTART:20211107T060000
END:STANDARD
BEGIN:DAYLIGHT
TZOFFSETFROM:-0500
TZOFFSETTO:-0400
TZNAME:EDT
DTSTART:20220313T070000
END:DAYLIGHT
BEGIN:STANDARD
TZOFFSETFROM:-0400
TZOFFSETTO:-0500
TZNAME:EST
DTSTART:20221106T060000
END:STANDARD
BEGIN:DAYLIGHT
TZOFFSETFROM:-0500
TZOFFSETTO:-0400
TZNAME:EDT
DTSTART:20230312T070000
END:DAYLIGHT
BEGIN:STANDARD
TZOFFSETFROM:-0400
TZOFFSETTO:-0500
TZNAME:EST
DTSTART:20231105T060000
END:STANDARD
END:VTIMEZONE
BEGIN:VEVENT
DTSTART;TZID=America/New_York:20220718T100000
DTEND;TZID=America/New_York:20220718T150000
DTSTAMP:20260423T150337
CREATED:20220531T215625Z
LAST-MODIFIED:20220718T005517Z
UID:10001738-1658138400-1658156400@worldchildrensmuseum.org
SUMMARY:Open for General Admission
DESCRIPTION:Pre-registration is encouraged: wacm.ticketleap.com/admission-2022 \nAdmission Costs:Members: FreeNot-Yet-Members: $7 per person\, children under 3 are free.Please visit our website for more information on admission: https://worldchildrensmuseum.org/for-visitors/ \nMasks are required for all visitors ages 3 and up\, regardless of vaccination status. 
URL:https://worldchildrensmuseum.org/events/open-for-general-admission-216/
LOCATION:World Awareness Children’s Museum\, 89 Warren St\, Glens Falls\, NY 12801\, USA
END:VEVENT
BEGIN:VEVENT
DTSTART;TZID=America/New_York:20220717T100000
DTEND;TZID=America/New_York:20220717T150000
DTSTAMP:20260423T150337
CREATED:20220531T215624Z
LAST-MODIFIED:20220717T005521Z
UID:10001737-1658052000-1658070000@worldchildrensmuseum.org
SUMMARY:Open for General Admission
DESCRIPTION:Pre-registration is encouraged: wacm.ticketleap.com/admission-2022 \nAdmission Costs:Members: FreeNot-Yet-Members: $7 per person\, children under 3 are free.Please visit our website for more information on admission: https://worldchildrensmuseum.org/for-visitors/ \nMasks are required for all visitors ages 3 and up\, regardless of vaccination status. 
URL:https://worldchildrensmuseum.org/events/open-for-general-admission-215/
LOCATION:World Awareness Children’s Museum\, 89 Warren St\, Glens Falls\, NY 12801\, USA
END:VEVENT
BEGIN:VEVENT
DTSTART;TZID=America/New_York:20220716T100000
DTEND;TZID=America/New_York:20220716T150000
DTSTAMP:20260423T150337
CREATED:20220531T215624Z
LAST-MODIFIED:20220716T005505Z
UID:10001736-1657965600-1657983600@worldchildrensmuseum.org
SUMMARY:Open for General Admission
DESCRIPTION:Pre-registration is encouraged: wacm.ticketleap.com/admission-2022 \nAdmission Costs:Members: FreeNot-Yet-Members: $7 per person\, children under 3 are free.Please visit our website for more information on admission: https://worldchildrensmuseum.org/for-visitors/ \nMasks are required for all visitors ages 3 and up\, regardless of vaccination status. 
URL:https://worldchildrensmuseum.org/events/open-for-general-admission-214/
LOCATION:World Awareness Children’s Museum\, 89 Warren St\, Glens Falls\, NY 12801\, USA
END:VEVENT
BEGIN:VEVENT
DTSTART;TZID=America/New_York:20220715T103000
DTEND;TZID=America/New_York:20220715T113000
DTSTAMP:20260423T150337
CREATED:20220628T232609Z
LAST-MODIFIED:20220715T005511Z
UID:10001805-1657881000-1657884600@worldchildrensmuseum.org
SUMMARY:World Culture Workshop: International Clothing
DESCRIPTION:Join us at the World Awareness Children’s Museum for our new World Culture Workshop – International Clothing. We will explore traditional clothing from around the world\, read a story\, look at art from the museum's collection\, and do several activities to learn about different styles of clothing. \nThis program is suitable for children ages 8 and older. \nCost: $2 on top of admission. Museum Members attend for free! \nTo register\, visit https://wacm.ticketleap.com/07152022/
URL:https://worldchildrensmuseum.org/events/world-culture-workshop-international-clothing/
LOCATION:NY
END:VEVENT
BEGIN:VEVENT
DTSTART;TZID=America/New_York:20220715T100000
DTEND;TZID=America/New_York:20220715T150000
DTSTAMP:20260423T150337
CREATED:20220531T215624Z
LAST-MODIFIED:20220715T005511Z
UID:10001735-1657879200-1657897200@worldchildrensmuseum.org
SUMMARY:Open for General Admission
DESCRIPTION:Pre-registration is encouraged: wacm.ticketleap.com/admission-2022 \nAdmission Costs:Members: FreeNot-Yet-Members: $7 per person\, children under 3 are free.Please visit our website for more information on admission: https://worldchildrensmuseum.org/for-visitors/ \nMasks are required for all visitors ages 3 and up\, regardless of vaccination status. 
URL:https://worldchildrensmuseum.org/events/open-for-general-admission-213/
LOCATION:World Awareness Children’s Museum\, 89 Warren St\, Glens Falls\, NY 12801\, USA
END:VEVENT
BEGIN:VEVENT
DTSTART;TZID=America/New_York:20220714T100000
DTEND;TZID=America/New_York:20220714T150000
DTSTAMP:20260423T150337
CREATED:20220531T215624Z
LAST-MODIFIED:20220714T005512Z
UID:10001734-1657792800-1657810800@worldchildrensmuseum.org
SUMMARY:Open for General Admission
DESCRIPTION:Pre-registration is encouraged: wacm.ticketleap.com/admission-2022 \nAdmission Costs:Members: FreeNot-Yet-Members: $7 per person\, children under 3 are free.Please visit our website for more information on admission: https://worldchildrensmuseum.org/for-visitors/ \nMasks are required for all visitors ages 3 and up\, regardless of vaccination status. 
URL:https://worldchildrensmuseum.org/events/open-for-general-admission-212/
LOCATION:World Awareness Children’s Museum\, 89 Warren St\, Glens Falls\, NY 12801\, USA
END:VEVENT
BEGIN:VEVENT
DTSTART;TZID=America/New_York:20220713T100000
DTEND;TZID=America/New_York:20220713T150000
DTSTAMP:20260423T150337
CREATED:20220531T215623Z
LAST-MODIFIED:20220713T005507Z
UID:10001732-1657706400-1657724400@worldchildrensmuseum.org
SUMMARY:Open for General Admission
DESCRIPTION:Pre-registration is encouraged: wacm.ticketleap.com/admission-2022 \nAdmission Costs:Members: FreeNot-Yet-Members: $7 per person\, children under 3 are free.Please visit our website for more information on admission: https://worldchildrensmuseum.org/for-visitors/ \nMasks are required for all visitors ages 3 and up\, regardless of vaccination status. 
URL:https://worldchildrensmuseum.org/events/open-for-general-admission-211/
LOCATION:World Awareness Children’s Museum\, 89 Warren St\, Glens Falls\, NY 12801\, USA
END:VEVENT
BEGIN:VEVENT
DTSTART;TZID=America/New_York:20220712T110000
DTEND;TZID=America/New_York:20220712T120000
DTSTAMP:20260423T150337
CREATED:20220628T232609Z
LAST-MODIFIED:20220712T004025Z
UID:10001804-1657623600-1657627200@worldchildrensmuseum.org
SUMMARY:Summer Watercolor Art
DESCRIPTION:Join us today to make a watercolor masterpiece. Children will use different materials to make a basic resist painting. Resist art is an art technique that uses several layers to expose or define a design in negative space. \nCost: Free with admission.Suitable for all ages.
URL:https://worldchildrensmuseum.org/events/summer-watercolor-art/
LOCATION:NY
END:VEVENT
BEGIN:VEVENT
DTSTART;TZID=America/New_York:20220712T100000
DTEND;TZID=America/New_York:20220712T150000
DTSTAMP:20260423T150337
CREATED:20220531T215623Z
LAST-MODIFIED:20220712T004025Z
UID:10001730-1657620000-1657638000@worldchildrensmuseum.org
SUMMARY:Open for General Admission
DESCRIPTION:Pre-registration is encouraged: wacm.ticketleap.com/admission-2022 \nAdmission Costs:Members: FreeNot-Yet-Members: $7 per person\, children under 3 are free.Please visit our website for more information on admission: https://worldchildrensmuseum.org/for-visitors/ \nMasks are required for all visitors ages 3 and up\, regardless of vaccination status. 
URL:https://worldchildrensmuseum.org/events/open-for-general-admission-210/
LOCATION:World Awareness Children’s Museum\, 89 Warren St\, Glens Falls\, NY 12801\, USA
END:VEVENT
BEGIN:VEVENT
DTSTART;TZID=America/New_York:20220711T100000
DTEND;TZID=America/New_York:20220711T150000
DTSTAMP:20260423T150337
CREATED:20220531T215623Z
LAST-MODIFIED:20220711T002600Z
UID:10001728-1657533600-1657551600@worldchildrensmuseum.org
SUMMARY:Open for General Admission
DESCRIPTION:Pre-registration is encouraged: wacm.ticketleap.com/admission-2022 \nAdmission Costs:Members: FreeNot-Yet-Members: $7 per person\, children under 3 are free.Please visit our website for more information on admission: https://worldchildrensmuseum.org/for-visitors/ \nMasks are required for all visitors ages 3 and up\, regardless of vaccination status. 
URL:https://worldchildrensmuseum.org/events/open-for-general-admission-209/
LOCATION:World Awareness Children’s Museum\, 89 Warren St\, Glens Falls\, NY 12801\, USA
END:VEVENT
BEGIN:VEVENT
DTSTART;TZID=America/New_York:20220710T100000
DTEND;TZID=America/New_York:20220710T150000
DTSTAMP:20260423T150337
CREATED:20220531T215623Z
LAST-MODIFIED:20220710T002627Z
UID:10001726-1657447200-1657465200@worldchildrensmuseum.org
SUMMARY:Open for General Admission
DESCRIPTION:Pre-registration is encouraged: wacm.ticketleap.com/admission-2022 \nAdmission Costs:Members: FreeNot-Yet-Members: $7 per person\, children under 3 are free.Please visit our website for more information on admission: https://worldchildrensmuseum.org/for-visitors/ \nMasks are required for all visitors ages 3 and up\, regardless of vaccination status. 
URL:https://worldchildrensmuseum.org/events/open-for-general-admission-208/
LOCATION:World Awareness Children’s Museum\, 89 Warren St\, Glens Falls\, NY 12801\, USA
END:VEVENT
BEGIN:VEVENT
DTSTART;TZID=America/New_York:20220710T100000
DTEND;TZID=America/New_York:20220710T150000
DTSTAMP:20260423T150337
CREATED:20220325T231022Z
LAST-MODIFIED:20220710T002627Z
UID:10001699-1657447200-1657465200@worldchildrensmuseum.org
SUMMARY:Free Day!
DESCRIPTION:Visit the museum for free today thanks to Stewart’s Holiday Match and all who contributed! We are pleased to offer these free days from 10am-3pm on the Second Sunday of the month. Donations are appreciated\, but not required. \nFree Days are generously sponsored by Stewart’s Holiday Match.  \nYou can learn more by visiting www.stewartsshops.com/community-giving
URL:https://worldchildrensmuseum.org/events/free-day-4/
LOCATION:NY
END:VEVENT
BEGIN:VEVENT
DTSTART;TZID=America/New_York:20220709T100000
DTEND;TZID=America/New_York:20220709T150000
DTSTAMP:20260423T150337
CREATED:20220531T215623Z
LAST-MODIFIED:20220709T001227Z
UID:10001591-1657360800-1657378800@worldchildrensmuseum.org
SUMMARY:Open for General Admission
DESCRIPTION:Pre-registration is encouraged: wacm.ticketleap.com/admission-2022 \nAdmission Costs:Members: FreeNot-Yet-Members: $7 per person\, children under 3 are free.Please visit our website for more information on admission: https://worldchildrensmuseum.org/for-visitors/ \nMasks are required for all visitors ages 3 and up\, regardless of vaccination status. 
URL:https://worldchildrensmuseum.org/events/open-for-general-admission-207/
LOCATION:World Awareness Children’s Museum\, 89 Warren St\, Glens Falls\, NY 12801\, USA
END:VEVENT
BEGIN:VEVENT
DTSTART;TZID=America/New_York:20220708T103000
DTEND;TZID=America/New_York:20220708T113000
DTSTAMP:20260423T150337
CREATED:20220628T232607Z
LAST-MODIFIED:20220707T235520Z
UID:10001803-1657276200-1657279800@worldchildrensmuseum.org
SUMMARY:Storytime Friday
DESCRIPTION:Reading: “A Friend Like You” by Frank Murphy and Charnaie Gordon \nEveryone is welcome at our recurring program\, Storytime Fridays! This program is appropriate for all ages and includes a story and a craft.  \nCost: Free with admission
URL:https://worldchildrensmuseum.org/events/storytime-friday-17/
LOCATION:NY
END:VEVENT
BEGIN:VEVENT
DTSTART;TZID=America/New_York:20220708T100000
DTEND;TZID=America/New_York:20220708T150000
DTSTAMP:20260423T150337
CREATED:20220531T215622Z
LAST-MODIFIED:20220707T235520Z
UID:10001589-1657274400-1657292400@worldchildrensmuseum.org
SUMMARY:Open for General Admission
DESCRIPTION:Pre-registration is encouraged: wacm.ticketleap.com/admission-2022 \nAdmission Costs:Members: FreeNot-Yet-Members: $7 per person\, children under 3 are free.Please visit our website for more information on admission: https://worldchildrensmuseum.org/for-visitors/ \nMasks are required for all visitors ages 3 and up\, regardless of vaccination status. 
URL:https://worldchildrensmuseum.org/events/open-for-general-admission-206/
LOCATION:World Awareness Children’s Museum\, 89 Warren St\, Glens Falls\, NY 12801\, USA
END:VEVENT
BEGIN:VEVENT
DTSTART;TZID=America/New_York:20220707T100000
DTEND;TZID=America/New_York:20220707T150000
DTSTAMP:20260423T150337
CREATED:20220531T215622Z
LAST-MODIFIED:20220706T235521Z
UID:10001587-1657188000-1657206000@worldchildrensmuseum.org
SUMMARY:Open for General Admission
DESCRIPTION:Pre-registration is encouraged: wacm.ticketleap.com/admission-2022 \nAdmission Costs:Members: FreeNot-Yet-Members: $7 per person\, children under 3 are free.Please visit our website for more information on admission: https://worldchildrensmuseum.org/for-visitors/ \nMasks are required for all visitors ages 3 and up\, regardless of vaccination status. 
URL:https://worldchildrensmuseum.org/events/open-for-general-admission-205/
LOCATION:World Awareness Children’s Museum\, 89 Warren St\, Glens Falls\, NY 12801\, USA
END:VEVENT
BEGIN:VEVENT
DTSTART;TZID=America/New_York:20220706T110000
DTEND;TZID=America/New_York:20220706T120000
DTSTAMP:20260423T150337
CREATED:20220628T232607Z
LAST-MODIFIED:20220705T235548Z
UID:10001802-1657105200-1657108800@worldchildrensmuseum.org
SUMMARY:Little Ones Yoga
DESCRIPTION:Guest instructor Neha Golwala leads an age-inclusive yoga class! This program is open to children of all ages. \nCost: Free with admission
URL:https://worldchildrensmuseum.org/events/little-ones-yoga-9/
LOCATION:NY
END:VEVENT
BEGIN:VEVENT
DTSTART;TZID=America/New_York:20220706T100000
DTEND;TZID=America/New_York:20220706T150000
DTSTAMP:20260423T150337
CREATED:20220531T215622Z
LAST-MODIFIED:20220705T235548Z
UID:10001585-1657101600-1657119600@worldchildrensmuseum.org
SUMMARY:Open for General Admission
DESCRIPTION:Pre-registration is encouraged: wacm.ticketleap.com/admission-2022 \nAdmission Costs:Members: FreeNot-Yet-Members: $7 per person\, children under 3 are free.Please visit our website for more information on admission: https://worldchildrensmuseum.org/for-visitors/ \nMasks are required for all visitors ages 3 and up\, regardless of vaccination status. 
URL:https://worldchildrensmuseum.org/events/open-for-general-admission-204/
LOCATION:World Awareness Children’s Museum\, 89 Warren St\, Glens Falls\, NY 12801\, USA
END:VEVENT
BEGIN:VEVENT
DTSTART;TZID=America/New_York:20220705T100000
DTEND;TZID=America/New_York:20220705T150000
DTSTAMP:20260423T150337
CREATED:20220531T215622Z
LAST-MODIFIED:20220704T234025Z
UID:10001583-1657015200-1657033200@worldchildrensmuseum.org
SUMMARY:Open for General Admission
DESCRIPTION:Pre-registration is encouraged: wacm.ticketleap.com/admission-2022 \nAdmission Costs:Members: FreeNot-Yet-Members: $7 per person\, children under 3 are free.Please visit our website for more information on admission: https://worldchildrensmuseum.org/for-visitors/ \nMasks are required for all visitors ages 3 and up\, regardless of vaccination status. 
URL:https://worldchildrensmuseum.org/events/open-for-general-admission-203/
LOCATION:World Awareness Children’s Museum\, 89 Warren St\, Glens Falls\, NY 12801\, USA
END:VEVENT
BEGIN:VEVENT
DTSTART;VALUE=DATE:20220704
DTEND;VALUE=DATE:20220705
DTSTAMP:20260423T150337
CREATED:20220531T215622Z
LAST-MODIFIED:20220704T234025Z
UID:10001581-1656892800-1656979199@worldchildrensmuseum.org
SUMMARY:MUSEUM CLOSED for Independence Day
DESCRIPTION:
URL:https://worldchildrensmuseum.org/events/museum-closed-for-independence-day/
LOCATION:NY
END:VEVENT
BEGIN:VEVENT
DTSTART;TZID=America/New_York:20220703T100000
DTEND;TZID=America/New_York:20220703T150000
DTSTAMP:20260423T150337
CREATED:20220531T215621Z
LAST-MODIFIED:20220702T234030Z
UID:10001579-1656842400-1656860400@worldchildrensmuseum.org
SUMMARY:Open for General Admission
DESCRIPTION:Pre-registration is encouraged: wacm.ticketleap.com/admission-2022 \nAdmission Costs:Members: FreeNot-Yet-Members: $7 per person\, children under 3 are free.Please visit our website for more information on admission: https://worldchildrensmuseum.org/for-visitors/ \nMasks are required for all visitors ages 3 and up\, regardless of vaccination status. 
URL:https://worldchildrensmuseum.org/events/open-for-general-admission-202/
LOCATION:World Awareness Children’s Museum\, 89 Warren St\, Glens Falls\, NY 12801\, USA
END:VEVENT
BEGIN:VEVENT
DTSTART;TZID=America/New_York:20220702T100000
DTEND;TZID=America/New_York:20220702T150000
DTSTAMP:20260423T150337
CREATED:20220531T215621Z
LAST-MODIFIED:20220701T234005Z
UID:10001577-1656756000-1656774000@worldchildrensmuseum.org
SUMMARY:Open for General Admission
DESCRIPTION:Pre-registration is encouraged: wacm.ticketleap.com/admission-2022 \nAdmission Costs:Members: FreeNot-Yet-Members: $7 per person\, children under 3 are free.Please visit our website for more information on admission: https://worldchildrensmuseum.org/for-visitors/ \nMasks are required for all visitors ages 3 and up\, regardless of vaccination status. 
URL:https://worldchildrensmuseum.org/events/open-for-general-admission-201/
LOCATION:World Awareness Children’s Museum\, 89 Warren St\, Glens Falls\, NY 12801\, USA
END:VEVENT
BEGIN:VEVENT
DTSTART;TZID=America/New_York:20220701T103000
DTEND;TZID=America/New_York:20220701T113000
DTSTAMP:20260423T150337
CREATED:20220628T232539Z
LAST-MODIFIED:20220630T232508Z
UID:10001800-1656671400-1656675000@worldchildrensmuseum.org
SUMMARY:World Culture Workshop: Japanese Fan
DESCRIPTION:Join us for our new World Culture Workshops this summer! During this program\, we will explore a few styles of Japanese fans! We will read a story\, observe fans from the museum’s collection\, learn how they were used in the past\, how they are used today\, and then create our own! \nThis program is appropriate for ages 8 and up. \nCost: $2 per person on top of admission. Museum Members attend for free! \nTo reserve your spot\, visit https://wacm.ticketleap.com/07012022/
URL:https://worldchildrensmuseum.org/events/world-culture-workshop-japanese-fan/
LOCATION:NY
END:VEVENT
BEGIN:VEVENT
DTSTART;TZID=America/New_York:20220701T100000
DTEND;TZID=America/New_York:20220701T150000
DTSTAMP:20260423T150337
CREATED:20220628T232539Z
LAST-MODIFIED:20220630T232508Z
UID:10001801-1656669600-1656687600@worldchildrensmuseum.org
SUMMARY:Homeschool Discount Day
DESCRIPTION:Once per quarter\, we are happy to extend a discount to our homeschool families! Homeschoolers who visit today will receive $1 off of their admission price. We can’t wait to see you! \nUpcoming Homeschool Discount Days:October 7\, 2022
URL:https://worldchildrensmuseum.org/events/homeschool-discount-day-4/
LOCATION:NY
END:VEVENT
BEGIN:VEVENT
DTSTART;TZID=America/New_York:20220701T100000
DTEND;TZID=America/New_York:20220701T150000
DTSTAMP:20260423T150337
CREATED:20220531T215621Z
LAST-MODIFIED:20220630T232508Z
UID:10001575-1656669600-1656687600@worldchildrensmuseum.org
SUMMARY:Open for General Admission
DESCRIPTION:Pre-registration is encouraged: wacm.ticketleap.com/admission-2022 \nAdmission Costs:Members: FreeNot-Yet-Members: $7 per person\, children under 3 are free.Please visit our website for more information on admission: https://worldchildrensmuseum.org/for-visitors/ \nMasks are required for all visitors ages 3 and up\, regardless of vaccination status. 
URL:https://worldchildrensmuseum.org/events/open-for-general-admission-200/
LOCATION:World Awareness Children’s Museum\, 89 Warren St\, Glens Falls\, NY 12801\, USA
END:VEVENT
BEGIN:VEVENT
DTSTART;TZID=America/New_York:20220630T100000
DTEND;TZID=America/New_York:20220630T150000
DTSTAMP:20260423T150337
CREATED:20220531T215621Z
LAST-MODIFIED:20220629T232531Z
UID:10001573-1656583200-1656601200@worldchildrensmuseum.org
SUMMARY:Open for General Admission
DESCRIPTION:Pre-registration is encouraged: wacm.ticketleap.com/admission-2022 \nAdmission Costs:Members: FreeNot-Yet-Members: $7 per person\, children under 3 are free.Please visit our website for more information on admission: https://worldchildrensmuseum.org/for-visitors/ \nMasks are required for all visitors ages 3 and up\, regardless of vaccination status. 
URL:https://worldchildrensmuseum.org/events/open-for-general-admission-199/
LOCATION:World Awareness Children’s Museum\, 89 Warren St\, Glens Falls\, NY 12801\, USA
END:VEVENT
BEGIN:VEVENT
DTSTART;TZID=America/New_York:20220629T110000
DTEND;TZID=America/New_York:20220629T120000
DTSTAMP:20260423T150337
CREATED:20220531T215621Z
LAST-MODIFIED:20220628T232606Z
UID:10001739-1656500400-1656504000@worldchildrensmuseum.org
SUMMARY:Little Ones Yoga
DESCRIPTION:Guest instructor Neha Golwala leads an age-inclusive yoga class! This program is open to children of all ages. \nCost: Free with admission
URL:https://worldchildrensmuseum.org/events/little-ones-yoga-8/
LOCATION:NY
END:VEVENT
BEGIN:VEVENT
DTSTART;TZID=America/New_York:20220629T100000
DTEND;TZID=America/New_York:20220629T150000
DTSTAMP:20260423T150337
CREATED:20220531T215621Z
LAST-MODIFIED:20220628T232605Z
UID:10001724-1656496800-1656514800@worldchildrensmuseum.org
SUMMARY:Open for General Admission
DESCRIPTION:Pre-registration is encouraged: wacm.ticketleap.com/admission-2022 \nAdmission Costs:Members: FreeNot-Yet-Members: $7 per person\, children under 3 are free.Please visit our website for more information on admission: https://worldchildrensmuseum.org/for-visitors/ \nMasks are required for all visitors ages 3 and up\, regardless of vaccination status. 
URL:https://worldchildrensmuseum.org/events/open-for-general-admission-198/
LOCATION:World Awareness Children’s Museum\, 89 Warren St\, Glens Falls\, NY 12801\, USA
END:VEVENT
BEGIN:VEVENT
DTSTART;TZID=America/New_York:20220628T100000
DTEND;TZID=America/New_York:20220628T150000
DTSTAMP:20260423T150337
CREATED:20220531T215620Z
LAST-MODIFIED:20220627T231348Z
UID:10001740-1656410400-1656428400@worldchildrensmuseum.org
SUMMARY:Open for General Admission
DESCRIPTION:Pre-registration is encouraged: wacm.ticketleap.com/admission-2022 \nAdmission Costs:Members: FreeNot-Yet-Members: $7 per person\, children under 3 are free.Please visit our website for more information on admission: https://worldchildrensmuseum.org/for-visitors/ \nMasks are required for all visitors ages 3 and up\, regardless of vaccination status. 
URL:https://worldchildrensmuseum.org/events/open-for-general-admission-197/
LOCATION:World Awareness Children’s Museum\, 89 Warren St\, Glens Falls\, NY 12801\, USA
END:VEVENT
BEGIN:VEVENT
DTSTART;TZID=America/New_York:20220627T100000
DTEND;TZID=America/New_York:20220627T150000
DTSTAMP:20260423T150337
CREATED:20220105T182523Z
LAST-MODIFIED:20220530T214948Z
UID:10001537-1656324000-1656342000@worldchildrensmuseum.org
SUMMARY:Open for General Admission
DESCRIPTION:Pre-registration is encouraged: wacm.ticketleap.com/admission-2022 \nAdmission Costs:Members: FreeNot-Yet-Members: $7 per person\, children under 3 are free.Please visit our website for more information on admission: https://worldchildrensmuseum.org/for-visitors/ \nMasks are required for all visitors ages 3 and up\, regardless of vaccination status. 
URL:https://worldchildrensmuseum.org/events/open-for-general-admission-189/
LOCATION:World Awareness Children’s Museum\, 89 Warren St\, Glens Falls\, NY 12801\, USA
END:VEVENT
END:VCALENDAR