BEGIN:VCALENDAR
VERSION:2.0
PRODID:-//World Awareness Children&#039;s Museum - ECPv6.15.20//NONSGML v1.0//EN
CALSCALE:GREGORIAN
METHOD:PUBLISH
X-WR-CALNAME:World Awareness Children&#039;s Museum
X-ORIGINAL-URL:https://worldchildrensmuseum.org
X-WR-CALDESC:Events for World Awareness Children&#039;s Museum
REFRESH-INTERVAL;VALUE=DURATION:PT1H
X-Robots-Tag:noindex
X-PUBLISHED-TTL:PT1H
BEGIN:VTIMEZONE
TZID:America/New_York
BEGIN:DAYLIGHT
TZOFFSETFROM:-0500
TZOFFSETTO:-0400
TZNAME:EDT
DTSTART:20210314T070000
END:DAYLIGHT
BEGIN:STANDARD
TZOFFSETFROM:-0400
TZOFFSETTO:-0500
TZNAME:EST
DTSTART:20211107T060000
END:STANDARD
BEGIN:DAYLIGHT
TZOFFSETFROM:-0500
TZOFFSETTO:-0400
TZNAME:EDT
DTSTART:20220313T070000
END:DAYLIGHT
BEGIN:STANDARD
TZOFFSETFROM:-0400
TZOFFSETTO:-0500
TZNAME:EST
DTSTART:20221106T060000
END:STANDARD
BEGIN:DAYLIGHT
TZOFFSETFROM:-0500
TZOFFSETTO:-0400
TZNAME:EDT
DTSTART:20230312T070000
END:DAYLIGHT
BEGIN:STANDARD
TZOFFSETFROM:-0400
TZOFFSETTO:-0500
TZNAME:EST
DTSTART:20231105T060000
END:STANDARD
END:VTIMEZONE
BEGIN:VEVENT
DTSTART;TZID=America/New_York:20220513T100000
DTEND;TZID=America/New_York:20220513T150000
DTSTAMP:20260423T232322
CREATED:20220105T182512Z
LAST-MODIFIED:20220422T012522Z
UID:10001520-1652436000-1652454000@worldchildrensmuseum.org
SUMMARY:Open for General Admission
DESCRIPTION:Pre-registration is encouraged: wacm.ticketleap.com/admission-2022 \nAdmission Costs:Members: FreeNot-Yet-Members: $7 per person\, children under 3 are free.Please visit our website for more information on admission: https://worldchildrensmuseum.org/for-visitors/ \nMasks are required for all visitors ages 3 and up\, regardless of vaccination status. 
URL:https://worldchildrensmuseum.org/events/open-for-general-admission-162/
LOCATION:World Awareness Children’s Museum\, 89 Warren St\, Glens Falls\, NY 12801\, USA
END:VEVENT
BEGIN:VEVENT
DTSTART;TZID=America/New_York:20220509T100000
DTEND;TZID=America/New_York:20220509T150000
DTSTAMP:20260423T232322
CREATED:20220105T182512Z
LAST-MODIFIED:20220422T012522Z
UID:10001519-1652090400-1652108400@worldchildrensmuseum.org
SUMMARY:Open for General Admission
DESCRIPTION:Pre-registration is encouraged: wacm.ticketleap.com/admission-2022 \nAdmission Costs:Members: FreeNot-Yet-Members: $7 per person\, children under 3 are free.Please visit our website for more information on admission: https://worldchildrensmuseum.org/for-visitors/ \nMasks are required for all visitors ages 3 and up\, regardless of vaccination status. 
URL:https://worldchildrensmuseum.org/events/open-for-general-admission-161/
LOCATION:World Awareness Children’s Museum\, 89 Warren St\, Glens Falls\, NY 12801\, USA
END:VEVENT
BEGIN:VEVENT
DTSTART;TZID=America/New_York:20220508T100000
DTEND;TZID=America/New_York:20220508T150000
DTSTAMP:20260423T232322
CREATED:20220325T231018Z
LAST-MODIFIED:20220422T012521Z
UID:10001697-1652004000-1652022000@worldchildrensmuseum.org
SUMMARY:Free Day!
DESCRIPTION:Visit the museum for free today thanks to Stewart’s Holiday Match and all who contributed! We are pleased to offer these free days from 10am-3pm on the Second Sunday of the month. Donations are appreciated\, but not required. \nFree Days are generously sponsored by Stewart’s Holiday Match.  \nYou can learn more by visiting www.stewartsshops.com/community-giving
URL:https://worldchildrensmuseum.org/events/free-day-2/
LOCATION:NY
END:VEVENT
BEGIN:VEVENT
DTSTART;TZID=America/New_York:20220508T100000
DTEND;TZID=America/New_York:20220508T150000
DTSTAMP:20260423T232322
CREATED:20220105T182511Z
LAST-MODIFIED:20220422T012522Z
UID:10001646-1652004000-1652022000@worldchildrensmuseum.org
SUMMARY:Open for General Admission
DESCRIPTION:Pre-registration is encouraged: wacm.ticketleap.com/admission-2022 \nAdmission Costs:Members: FreeNot-Yet-Members: $7 per person\, children under 3 are free.Please visit our website for more information on admission: https://worldchildrensmuseum.org/for-visitors/ \nMasks are required for all visitors ages 3 and up\, regardless of vaccination status. 
URL:https://worldchildrensmuseum.org/events/open-for-general-admission-160/
LOCATION:World Awareness Children’s Museum\, 89 Warren St\, Glens Falls\, NY 12801\, USA
END:VEVENT
BEGIN:VEVENT
DTSTART;TZID=America/New_York:20220507T100000
DTEND;TZID=America/New_York:20220507T150000
DTSTAMP:20260423T232322
CREATED:20220105T182511Z
LAST-MODIFIED:20220422T012521Z
UID:10001645-1651917600-1651935600@worldchildrensmuseum.org
SUMMARY:Open for General Admission
DESCRIPTION:Pre-registration is encouraged: wacm.ticketleap.com/admission-2022 \nAdmission Costs:Members: FreeNot-Yet-Members: $7 per person\, children under 3 are free.Please visit our website for more information on admission: https://worldchildrensmuseum.org/for-visitors/ \nMasks are required for all visitors ages 3 and up\, regardless of vaccination status. 
URL:https://worldchildrensmuseum.org/events/open-for-general-admission-159/
LOCATION:World Awareness Children’s Museum\, 89 Warren St\, Glens Falls\, NY 12801\, USA
END:VEVENT
BEGIN:VEVENT
DTSTART;TZID=America/New_York:20220506T100000
DTEND;TZID=America/New_York:20220506T150000
DTSTAMP:20260423T232322
CREATED:20220105T182511Z
LAST-MODIFIED:20220422T012516Z
UID:10001671-1651831200-1651849200@worldchildrensmuseum.org
SUMMARY:Open for General Admission
DESCRIPTION:Pre-registration is encouraged: wacm.ticketleap.com/admission-2022 \nAdmission Costs:Members: FreeNot-Yet-Members: $7 per person\, children under 3 are free.Please visit our website for more information on admission: https://worldchildrensmuseum.org/for-visitors/ \nMasks are required for all visitors ages 3 and up\, regardless of vaccination status. 
URL:https://worldchildrensmuseum.org/events/open-for-general-admission-158/
LOCATION:World Awareness Children’s Museum\, 89 Warren St\, Glens Falls\, NY 12801\, USA
END:VEVENT
BEGIN:VEVENT
DTSTART;TZID=America/New_York:20220502T100000
DTEND;TZID=America/New_York:20220502T150000
DTSTAMP:20260423T232322
CREATED:20220105T182511Z
LAST-MODIFIED:20220422T012516Z
UID:10001672-1651485600-1651503600@worldchildrensmuseum.org
SUMMARY:Open for General Admission
DESCRIPTION:Pre-registration is encouraged: wacm.ticketleap.com/admission-2022 \nAdmission Costs:Members: FreeNot-Yet-Members: $7 per person\, children under 3 are free.Please visit our website for more information on admission: https://worldchildrensmuseum.org/for-visitors/ \nMasks are required for all visitors ages 3 and up\, regardless of vaccination status. 
URL:https://worldchildrensmuseum.org/events/open-for-general-admission-157/
LOCATION:World Awareness Children’s Museum\, 89 Warren St\, Glens Falls\, NY 12801\, USA
END:VEVENT
BEGIN:VEVENT
DTSTART;TZID=America/New_York:20220501T100000
DTEND;TZID=America/New_York:20220501T150000
DTSTAMP:20260423T232322
CREATED:20220105T182510Z
LAST-MODIFIED:20220422T012515Z
UID:10001687-1651399200-1651417200@worldchildrensmuseum.org
SUMMARY:Open for General Admission
DESCRIPTION:Pre-registration is encouraged: wacm.ticketleap.com/admission-2022 \nAdmission Costs:Members: FreeNot-Yet-Members: $7 per person\, children under 3 are free.Please visit our website for more information on admission: https://worldchildrensmuseum.org/for-visitors/ \nMasks are required for all visitors ages 3 and up\, regardless of vaccination status. 
URL:https://worldchildrensmuseum.org/events/open-for-general-admission-156/
LOCATION:World Awareness Children’s Museum\, 89 Warren St\, Glens Falls\, NY 12801\, USA
END:VEVENT
BEGIN:VEVENT
DTSTART;TZID=America/New_York:20220430T100000
DTEND;TZID=America/New_York:20220430T150000
DTSTAMP:20260423T232322
CREATED:20220105T182510Z
LAST-MODIFIED:20220422T012515Z
UID:10001685-1651312800-1651330800@worldchildrensmuseum.org
SUMMARY:Open for General Admission
DESCRIPTION:Pre-registration is encouraged: wacm.ticketleap.com/admission-2022 \nAdmission Costs:Members: FreeNot-Yet-Members: $7 per person\, children under 3 are free.Please visit our website for more information on admission: https://worldchildrensmuseum.org/for-visitors/ \nMasks are required for all visitors ages 3 and up\, regardless of vaccination status. 
URL:https://worldchildrensmuseum.org/events/open-for-general-admission-155/
LOCATION:World Awareness Children’s Museum\, 89 Warren St\, Glens Falls\, NY 12801\, USA
END:VEVENT
BEGIN:VEVENT
DTSTART;TZID=America/New_York:20220429T100000
DTEND;TZID=America/New_York:20220429T150000
DTSTAMP:20260423T232322
CREATED:20220105T182510Z
LAST-MODIFIED:20220422T012515Z
UID:10001683-1651226400-1651244400@worldchildrensmuseum.org
SUMMARY:Open for General Admission
DESCRIPTION:Pre-registration is encouraged: wacm.ticketleap.com/admission-2022 \nAdmission Costs:Members: FreeNot-Yet-Members: $7 per person\, children under 3 are free.Please visit our website for more information on admission: https://worldchildrensmuseum.org/for-visitors/ \nMasks are required for all visitors ages 3 and up\, regardless of vaccination status. 
URL:https://worldchildrensmuseum.org/events/open-for-general-admission-154/
LOCATION:World Awareness Children’s Museum\, 89 Warren St\, Glens Falls\, NY 12801\, USA
END:VEVENT
BEGIN:VEVENT
DTSTART;TZID=America/New_York:20220425T100000
DTEND;TZID=America/New_York:20220425T150000
DTSTAMP:20260423T232322
CREATED:20220105T182510Z
LAST-MODIFIED:20220422T012515Z
UID:10001681-1650880800-1650898800@worldchildrensmuseum.org
SUMMARY:Open for General Admission
DESCRIPTION:Pre-registration is encouraged: wacm.ticketleap.com/admission-2022 \nAdmission Costs:Members: FreeNot-Yet-Members: $7 per person\, children under 3 are free.Please visit our website for more information on admission: https://worldchildrensmuseum.org/for-visitors/ \nMasks are required for all visitors ages 3 and up\, regardless of vaccination status. 
URL:https://worldchildrensmuseum.org/events/open-for-general-admission-153/
LOCATION:World Awareness Children’s Museum\, 89 Warren St\, Glens Falls\, NY 12801\, USA
END:VEVENT
BEGIN:VEVENT
DTSTART;TZID=America/New_York:20220424T100000
DTEND;TZID=America/New_York:20220424T150000
DTSTAMP:20260423T232322
CREATED:20220105T182509Z
LAST-MODIFIED:20220422T012515Z
UID:10001678-1650794400-1650812400@worldchildrensmuseum.org
SUMMARY:Open for General Admission
DESCRIPTION:Pre-registration is encouraged: wacm.ticketleap.com/admission-2022 \nAdmission Costs:Members: FreeNot-Yet-Members: $7 per person\, children under 3 are free.Please visit our website for more information on admission: https://worldchildrensmuseum.org/for-visitors/ \nMasks are required for all visitors ages 3 and up\, regardless of vaccination status. 
URL:https://worldchildrensmuseum.org/events/open-for-general-admission-152/
LOCATION:World Awareness Children’s Museum\, 89 Warren St\, Glens Falls\, NY 12801\, USA
END:VEVENT
BEGIN:VEVENT
DTSTART;TZID=America/New_York:20220423T100000
DTEND;TZID=America/New_York:20220423T150000
DTSTAMP:20260423T232322
CREATED:20220105T182509Z
LAST-MODIFIED:20220422T012515Z
UID:10001676-1650708000-1650726000@worldchildrensmuseum.org
SUMMARY:Open for General Admission
DESCRIPTION:Pre-registration is encouraged: wacm.ticketleap.com/admission-2022 \nAdmission Costs:Members: FreeNot-Yet-Members: $7 per person\, children under 3 are free.Please visit our website for more information on admission: https://worldchildrensmuseum.org/for-visitors/ \nMasks are required for all visitors ages 3 and up\, regardless of vaccination status. 
URL:https://worldchildrensmuseum.org/events/open-for-general-admission-151/
LOCATION:World Awareness Children’s Museum\, 89 Warren St\, Glens Falls\, NY 12801\, USA
END:VEVENT
BEGIN:VEVENT
DTSTART;TZID=America/New_York:20220422T130000
DTEND;TZID=America/New_York:20220422T143000
DTSTAMP:20260423T232322
CREATED:20220325T231016Z
LAST-MODIFIED:20220422T012515Z
UID:10001696-1650632400-1650637800@worldchildrensmuseum.org
SUMMARY:Paint & Sip: Lake George Waterscape
DESCRIPTION:Join us for our popular family-friendly Paint & Sip series. Artists will take inspiration from beautiful Lake George\, nicknamed “Queen of American Lakes\,” and paint their own masterpiece on canvas with instruction from local artist Patrice Jarvis-Weber. \nCost: $20 per child/adult duo. ($5 for each additional child\, $10 for each additional adult.) \nMembers get a 10% discount! \nPlease call to reserve your spot: 518-793-2773 \nor visit wacm.ticketleap.com to reserve online. \nThis class is limited to 9 people.
URL:https://worldchildrensmuseum.org/events/paint-sip-lake-george-waterscape/
LOCATION:NY
END:VEVENT
BEGIN:VEVENT
DTSTART;TZID=America/New_York:20220422T100000
DTEND;TZID=America/New_York:20220422T150000
DTSTAMP:20260423T232322
CREATED:20220105T182509Z
LAST-MODIFIED:20220422T012515Z
UID:10001675-1650621600-1650639600@worldchildrensmuseum.org
SUMMARY:Open for General Admission
DESCRIPTION:Pre-registration is encouraged: wacm.ticketleap.com/admission-2022 \nAdmission Costs:Members: FreeNot-Yet-Members: $7 per person\, children under 3 are free.Please visit our website for more information on admission: https://worldchildrensmuseum.org/for-visitors/ \nMasks are required for all visitors ages 3 and up\, regardless of vaccination status. 
URL:https://worldchildrensmuseum.org/events/open-for-general-admission-150/
LOCATION:World Awareness Children’s Museum\, 89 Warren St\, Glens Falls\, NY 12801\, USA
END:VEVENT
BEGIN:VEVENT
DTSTART;TZID=America/New_York:20220421T110000
DTEND;TZID=America/New_York:20220421T120000
DTSTAMP:20260423T232322
CREATED:20220325T231016Z
LAST-MODIFIED:20220421T012551Z
UID:10001695-1650538800-1650542400@worldchildrensmuseum.org
SUMMARY:Bubble (Boba) Tea Day
DESCRIPTION:During this special workshop\, we’ll learn about boba tea\, Pakistan\, and even get to try some delicious boba tea provided by Alif Café! \nThis workshop is generously sponsored by Alif Café\, located in Glens Falls. You can visit their website at www.alifonline.cafe \nCost: Free with admission
URL:https://worldchildrensmuseum.org/events/bubble-boba-tea-day/
LOCATION:NY
END:VEVENT
BEGIN:VEVENT
DTSTART;TZID=America/New_York:20220421T100000
DTEND;TZID=America/New_York:20220421T150000
DTSTAMP:20260423T232322
CREATED:20220226T211029Z
LAST-MODIFIED:20220421T012551Z
UID:10001548-1650535200-1650553200@worldchildrensmuseum.org
SUMMARY:Open for General Admission
DESCRIPTION:Pre-registration is encouraged: wacm.ticketleap.com/admission-2022 \nAdmission Costs:Members: FreeNot-Yet-Members: $7 per person\, children under 3 are free.Please visit our website for more information on admission: https://worldchildrensmuseum.org/for-visitors/ \nMasks are required for all visitors ages 3 and up\, regardless of vaccination status. 
URL:https://worldchildrensmuseum.org/events/open-for-general-admission-195/
LOCATION:World Awareness Children’s Museum\, 89 Warren St\, Glens Falls\, NY 12801\, USA
END:VEVENT
BEGIN:VEVENT
DTSTART;TZID=America/New_York:20220420T130000
DTEND;TZID=America/New_York:20220420T140000
DTSTAMP:20260423T232322
CREATED:20220325T231015Z
LAST-MODIFIED:20220420T012520Z
UID:10001693-1650459600-1650463200@worldchildrensmuseum.org
SUMMARY:Mini Masterpieces: Bird's Nest
DESCRIPTION:Join us for our newest series\, Mini Masterpieces! During this class\, artists will paint their own miniature bird’s nest masterpieces on a tiny 4”x4” canvas. This class is taught by local artist Patrice Jarvis-Weber and is recommended for children ages 10 and older. \nCost: $8 per person. Members get a 15% discount! \nPlease call to reserve your spot: 518-793-2773 \nor visit wacm.ticketleap.com to reserve online. \nThis class is limited to 9 people.
URL:https://worldchildrensmuseum.org/events/mini-masterpieces-birds-nest/
LOCATION:NY
END:VEVENT
BEGIN:VEVENT
DTSTART;TZID=America/New_York:20220420T100000
DTEND;TZID=America/New_York:20220420T150000
DTSTAMP:20260423T232322
CREATED:20220226T211028Z
LAST-MODIFIED:20220420T012520Z
UID:10001546-1650448800-1650466800@worldchildrensmuseum.org
SUMMARY:Open for General Admission
DESCRIPTION:Pre-registration is encouraged: wacm.ticketleap.com/admission-2022 \nAdmission Costs:Members: FreeNot-Yet-Members: $7 per person\, children under 3 are free.Please visit our website for more information on admission: https://worldchildrensmuseum.org/for-visitors/ \nMasks are required for all visitors ages 3 and up\, regardless of vaccination status. 
URL:https://worldchildrensmuseum.org/events/open-for-general-admission-194/
LOCATION:World Awareness Children’s Museum\, 89 Warren St\, Glens Falls\, NY 12801\, USA
END:VEVENT
BEGIN:VEVENT
DTSTART;TZID=America/New_York:20220419T110000
DTEND;TZID=America/New_York:20220419T120000
DTSTAMP:20260423T232322
CREATED:20220325T231015Z
LAST-MODIFIED:20220419T012511Z
UID:10001704-1650366000-1650369600@worldchildrensmuseum.org
SUMMARY:Little Ones Yoga
DESCRIPTION:Guest instructor Neha Golwala leads an age-inclusive yoga class! This program is open to children of all ages. \nCost: Free with admission
URL:https://worldchildrensmuseum.org/events/little-ones-yoga-7/
LOCATION:NY
END:VEVENT
BEGIN:VEVENT
DTSTART;TZID=America/New_York:20220419T100000
DTEND;TZID=America/New_York:20220419T150000
DTSTAMP:20260423T232322
CREATED:20220226T211028Z
LAST-MODIFIED:20220419T012510Z
UID:10001545-1650362400-1650380400@worldchildrensmuseum.org
SUMMARY:Open for General Admission
DESCRIPTION:Pre-registration is encouraged: wacm.ticketleap.com/admission-2022 \nAdmission Costs:Members: FreeNot-Yet-Members: $7 per person\, children under 3 are free.Please visit our website for more information on admission: https://worldchildrensmuseum.org/for-visitors/ \nMasks are required for all visitors ages 3 and up\, regardless of vaccination status. 
URL:https://worldchildrensmuseum.org/events/open-for-general-admission-193/
LOCATION:World Awareness Children’s Museum\, 89 Warren St\, Glens Falls\, NY 12801\, USA
END:VEVENT
BEGIN:VEVENT
DTSTART;TZID=America/New_York:20220418T100000
DTEND;TZID=America/New_York:20220418T150000
DTSTAMP:20260423T232322
CREATED:20220105T182509Z
LAST-MODIFIED:20220418T012630Z
UID:10001674-1650276000-1650294000@worldchildrensmuseum.org
SUMMARY:Open for General Admission
DESCRIPTION:Pre-registration is encouraged: wacm.ticketleap.com/admission-2022 \nAdmission Costs:Members: FreeNot-Yet-Members: $7 per person\, children under 3 are free.Please visit our website for more information on admission: https://worldchildrensmuseum.org/for-visitors/ \nMasks are required for all visitors ages 3 and up\, regardless of vaccination status. 
URL:https://worldchildrensmuseum.org/events/open-for-general-admission-149/
LOCATION:World Awareness Children’s Museum\, 89 Warren St\, Glens Falls\, NY 12801\, USA
END:VEVENT
BEGIN:VEVENT
DTSTART;TZID=America/New_York:20220417T100000
DTEND;TZID=America/New_York:20220417T150000
DTSTAMP:20260423T232322
CREATED:20220105T182508Z
LAST-MODIFIED:20220417T011032Z
UID:10001673-1650189600-1650207600@worldchildrensmuseum.org
SUMMARY:Open for General Admission
DESCRIPTION:Pre-registration is encouraged: wacm.ticketleap.com/admission-2022 \nAdmission Costs:Members: FreeNot-Yet-Members: $7 per person\, children under 3 are free.Please visit our website for more information on admission: https://worldchildrensmuseum.org/for-visitors/ \nMasks are required for all visitors ages 3 and up\, regardless of vaccination status. 
URL:https://worldchildrensmuseum.org/events/open-for-general-admission-148/
LOCATION:World Awareness Children’s Museum\, 89 Warren St\, Glens Falls\, NY 12801\, USA
END:VEVENT
BEGIN:VEVENT
DTSTART;TZID=America/New_York:20220416T100000
DTEND;TZID=America/New_York:20220416T150000
DTSTAMP:20260423T232322
CREATED:20220105T182508Z
LAST-MODIFIED:20220416T005518Z
UID:10001659-1650103200-1650121200@worldchildrensmuseum.org
SUMMARY:Open for General Admission
DESCRIPTION:Pre-registration is encouraged: wacm.ticketleap.com/admission-2022 \nAdmission Costs:Members: FreeNot-Yet-Members: $7 per person\, children under 3 are free.Please visit our website for more information on admission: https://worldchildrensmuseum.org/for-visitors/ \nMasks are required for all visitors ages 3 and up\, regardless of vaccination status. 
URL:https://worldchildrensmuseum.org/events/open-for-general-admission-147/
LOCATION:World Awareness Children’s Museum\, 89 Warren St\, Glens Falls\, NY 12801\, USA
END:VEVENT
BEGIN:VEVENT
DTSTART;TZID=America/New_York:20220415T100000
DTEND;TZID=America/New_York:20220415T150000
DTSTAMP:20260423T232322
CREATED:20220105T182508Z
LAST-MODIFIED:20220415T005517Z
UID:10001644-1650016800-1650034800@worldchildrensmuseum.org
SUMMARY:Open for General Admission
DESCRIPTION:Pre-registration is encouraged: wacm.ticketleap.com/admission-2022 \nAdmission Costs:Members: FreeNot-Yet-Members: $7 per person\, children under 3 are free.Please visit our website for more information on admission: https://worldchildrensmuseum.org/for-visitors/ \nMasks are required for all visitors ages 3 and up\, regardless of vaccination status. 
URL:https://worldchildrensmuseum.org/events/open-for-general-admission-146/
LOCATION:World Awareness Children’s Museum\, 89 Warren St\, Glens Falls\, NY 12801\, USA
END:VEVENT
BEGIN:VEVENT
DTSTART;TZID=America/New_York:20220411T100000
DTEND;TZID=America/New_York:20220411T150000
DTSTAMP:20260423T232322
CREATED:20220105T182508Z
LAST-MODIFIED:20220411T002507Z
UID:10001643-1649671200-1649689200@worldchildrensmuseum.org
SUMMARY:Open for General Admission
DESCRIPTION:Pre-registration is encouraged: wacm.ticketleap.com/admission-2022 \nAdmission Costs:Members: FreeNot-Yet-Members: $7 per person\, children under 3 are free.Please visit our website for more information on admission: https://worldchildrensmuseum.org/for-visitors/ \nMasks are required for all visitors ages 3 and up\, regardless of vaccination status. 
URL:https://worldchildrensmuseum.org/events/open-for-general-admission-145/
LOCATION:World Awareness Children’s Museum\, 89 Warren St\, Glens Falls\, NY 12801\, USA
END:VEVENT
BEGIN:VEVENT
DTSTART;TZID=America/New_York:20220410T100000
DTEND;TZID=America/New_York:20220410T150000
DTSTAMP:20260423T232322
CREATED:20220325T231012Z
LAST-MODIFIED:20220410T001244Z
UID:10001705-1649584800-1649602800@worldchildrensmuseum.org
SUMMARY:Free Day!
DESCRIPTION:Second Sunday Free Days are BACK! Visit the museum for free today thanks to Stewart’s Holiday Match and all who contributed! We are pleased to offer these free days from 10am-3pm on the Second Sunday of the month. Donations are appreciated\, but not required. \nFree Days are generously sponsored by Stewart’s Holiday Match.  \nYou can learn more by visiting www.stewartsshops.com/community-giving
URL:https://worldchildrensmuseum.org/events/free-day/
LOCATION:NY
END:VEVENT
BEGIN:VEVENT
DTSTART;TZID=America/New_York:20220410T100000
DTEND;TZID=America/New_York:20220410T150000
DTSTAMP:20260423T232322
CREATED:20220105T182508Z
LAST-MODIFIED:20220410T001244Z
UID:10001625-1649584800-1649602800@worldchildrensmuseum.org
SUMMARY:Open for General Admission
DESCRIPTION:Pre-registration is encouraged: wacm.ticketleap.com/admission-2022 \nAdmission Costs:Members: FreeNot-Yet-Members: $7 per person\, children under 3 are free.Please visit our website for more information on admission: https://worldchildrensmuseum.org/for-visitors/ \nMasks are required for all visitors ages 3 and up\, regardless of vaccination status. 
URL:https://worldchildrensmuseum.org/events/open-for-general-admission-144/
LOCATION:World Awareness Children’s Museum\, 89 Warren St\, Glens Falls\, NY 12801\, USA
END:VEVENT
BEGIN:VEVENT
DTSTART;TZID=America/New_York:20220409T100000
DTEND;TZID=America/New_York:20220409T150000
DTSTAMP:20260423T232322
CREATED:20220105T182507Z
LAST-MODIFIED:20220409T001026Z
UID:10001623-1649498400-1649516400@worldchildrensmuseum.org
SUMMARY:Open for General Admission
DESCRIPTION:Pre-registration is encouraged: wacm.ticketleap.com/admission-2022 \nAdmission Costs:Members: FreeNot-Yet-Members: $7 per person\, children under 3 are free.Please visit our website for more information on admission: https://worldchildrensmuseum.org/for-visitors/ \nMasks are required for all visitors ages 3 and up\, regardless of vaccination status. 
URL:https://worldchildrensmuseum.org/events/open-for-general-admission-143/
LOCATION:World Awareness Children’s Museum\, 89 Warren St\, Glens Falls\, NY 12801\, USA
END:VEVENT
BEGIN:VEVENT
DTSTART;TZID=America/New_York:20220409T100000
DTEND;TZID=America/New_York:20220409T120000
DTSTAMP:20260423T232322
CREATED:20220329T232629Z
LAST-MODIFIED:20220409T001026Z
UID:10001744-1649498400-1649505600@worldchildrensmuseum.org
SUMMARY:Exploring Spanish with SUNY Adirondack!
DESCRIPTION:Click Here to register! \nDiscover Spanish in a fun and engaging way! Explore the diverse nations where Spanish is the official language. This course is designed around stories\, games and creative activities to learn everyday vocabulary and basic communication skills. Join us and discover the history\, music and art of these diverse cultures. Students will have the opportunity to see a variety of related artifacts that World Awareness Children’s Museum has to offer to enhance this cultural experience. \nThis course is open to children in grades 3 to 5. To register\, please visit the SUNY Adirondack website. \nInstructor: Dr. Adriana Umaña\, instructor of Foreign Language at SUNY AdirondackPrice: $25
URL:https://worldchildrensmuseum.org/events/exploring-spanish-with-suny-adirondack/
LOCATION:NY
END:VEVENT
END:VCALENDAR