BEGIN:VCALENDAR
VERSION:2.0
PRODID:-//World Awareness Children&#039;s Museum - ECPv6.15.20//NONSGML v1.0//EN
CALSCALE:GREGORIAN
METHOD:PUBLISH
X-WR-CALNAME:World Awareness Children&#039;s Museum
X-ORIGINAL-URL:https://worldchildrensmuseum.org
X-WR-CALDESC:Events for World Awareness Children&#039;s Museum
REFRESH-INTERVAL;VALUE=DURATION:PT1H
X-Robots-Tag:noindex
X-PUBLISHED-TTL:PT1H
BEGIN:VTIMEZONE
TZID:America/New_York
BEGIN:DAYLIGHT
TZOFFSETFROM:-0500
TZOFFSETTO:-0400
TZNAME:EDT
DTSTART:20240310T070000
END:DAYLIGHT
BEGIN:STANDARD
TZOFFSETFROM:-0400
TZOFFSETTO:-0500
TZNAME:EST
DTSTART:20241103T060000
END:STANDARD
BEGIN:DAYLIGHT
TZOFFSETFROM:-0500
TZOFFSETTO:-0400
TZNAME:EDT
DTSTART:20250309T070000
END:DAYLIGHT
BEGIN:STANDARD
TZOFFSETFROM:-0400
TZOFFSETTO:-0500
TZNAME:EST
DTSTART:20251102T060000
END:STANDARD
BEGIN:DAYLIGHT
TZOFFSETFROM:-0500
TZOFFSETTO:-0400
TZNAME:EDT
DTSTART:20260308T070000
END:DAYLIGHT
BEGIN:STANDARD
TZOFFSETFROM:-0400
TZOFFSETTO:-0500
TZNAME:EST
DTSTART:20261101T060000
END:STANDARD
END:VTIMEZONE
BEGIN:VEVENT
DTSTART;TZID=America/New_York:20250112T100000
DTEND;TZID=America/New_York:20250112T150000
DTSTAMP:20260421T014437
CREATED:20230714T191739Z
LAST-MODIFIED:20250112T195358Z
UID:10002824-1736676000-1736694000@worldchildrensmuseum.org
SUMMARY:Free Day!
DESCRIPTION:Visit the museum for free today\, thanks to Stewart’s Holiday Match and all who contributed! We are pleased to offer these free days from 10am-3pm once per month. Donations are appreciated but not required. \nFree Days are generously sponsored by Stewart’s Holiday Match.  \nYou can learn more by visiting www.stewartsshops.com/community-giving
URL:https://worldchildrensmuseum.org/events/free-day-32/
LOCATION:NY
END:VEVENT
BEGIN:VEVENT
DTSTART;TZID=America/New_York:20250112T100000
DTEND;TZID=America/New_York:20250112T150000
DTSTAMP:20260421T014437
CREATED:20240208T080936Z
LAST-MODIFIED:20240216T113003Z
UID:10003593-1736676000-1736694000@worldchildrensmuseum.org
SUMMARY:Open for General Admission
DESCRIPTION:Tickets can be purchased online at https://wacm.ticketleap.com/museum-admission-2024/Admission Costs:Members: FreeNot-Yet-Members: $7 per person\, children under 12 months are free.Please visit our website for more information on admission: https://worldchildrensmuseum.org/for-visitors/
URL:https://worldchildrensmuseum.org/events/open-for-general-admission-1621/
LOCATION:World Awareness Children’s Museum\, 89 Warren St\, Glens Falls\, NY 12801\, USA
END:VEVENT
BEGIN:VEVENT
DTSTART;TZID=America/New_York:20250113T100000
DTEND;TZID=America/New_York:20250113T150000
DTSTAMP:20260421T014437
CREATED:20240209T082421Z
LAST-MODIFIED:20240216T113003Z
UID:10003594-1736762400-1736780400@worldchildrensmuseum.org
SUMMARY:Open for General Admission
DESCRIPTION:Tickets can be purchased online at https://wacm.ticketleap.com/museum-admission-2024/Admission Costs:Members: FreeNot-Yet-Members: $7 per person\, children under 12 months are free.Please visit our website for more information on admission: https://worldchildrensmuseum.org/for-visitors/
URL:https://worldchildrensmuseum.org/events/open-for-general-admission-1622/
LOCATION:World Awareness Children’s Museum\, 89 Warren St\, Glens Falls\, NY 12801\, USA
END:VEVENT
BEGIN:VEVENT
DTSTART;TZID=America/New_York:20250116T100000
DTEND;TZID=America/New_York:20250116T150000
DTSTAMP:20260421T014437
CREATED:20240210T082427Z
LAST-MODIFIED:20240216T113015Z
UID:10003595-1737021600-1737039600@worldchildrensmuseum.org
SUMMARY:Open for General Admission
DESCRIPTION:Tickets can be purchased online at https://wacm.ticketleap.com/museum-admission-2024/Admission Costs:Members: FreeNot-Yet-Members: $7 per person\, children under 12 months are free.Please visit our website for more information on admission: https://worldchildrensmuseum.org/for-visitors/
URL:https://worldchildrensmuseum.org/events/open-for-general-admission-1623/
LOCATION:World Awareness Children’s Museum\, 89 Warren St\, Glens Falls\, NY 12801\, USA
END:VEVENT
BEGIN:VEVENT
DTSTART;TZID=America/New_York:20250116T103000
DTEND;TZID=America/New_York:20250116T113000
DTSTAMP:20260421T014437
CREATED:20241227T140846Z
LAST-MODIFIED:20250116T160839Z
UID:10004275-1737023400-1737027000@worldchildrensmuseum.org
SUMMARY:Kinder Rhythm
DESCRIPTION:Kinder Rhythm Inspires creativity\, joyful play\, and social interaction through the power of group rhythm-making. This includes singing\, dancing\, playing instruments\, and moving to the beat. Come and join Susie Barber\, national and international music\, theatre\, and movement educator and drum facilitator for a morning of fun and adventure with a hands on rhythmic exploration for your child and the child in you!  As the Zimbabwe proverb says\, “If you can speak you can sing and if you can walk you can dance!” \nCost: Free with admission
URL:https://worldchildrensmuseum.org/events/kinder-rhythm-9/
LOCATION:NY
END:VEVENT
BEGIN:VEVENT
DTSTART;TZID=America/New_York:20250117T100000
DTEND;TZID=America/New_York:20250117T150000
DTSTAMP:20260421T014437
CREATED:20240210T082427Z
LAST-MODIFIED:20240216T113016Z
UID:10003596-1737108000-1737126000@worldchildrensmuseum.org
SUMMARY:Open for General Admission
DESCRIPTION:Tickets can be purchased online at https://wacm.ticketleap.com/museum-admission-2024/Admission Costs:Members: FreeNot-Yet-Members: $7 per person\, children under 12 months are free.Please visit our website for more information on admission: https://worldchildrensmuseum.org/for-visitors/
URL:https://worldchildrensmuseum.org/events/open-for-general-admission-1624/
LOCATION:World Awareness Children’s Museum\, 89 Warren St\, Glens Falls\, NY 12801\, USA
END:VEVENT
BEGIN:VEVENT
DTSTART;TZID=America/New_York:20250117T103000
DTEND;TZID=America/New_York:20250117T113000
DTSTAMP:20260421T014437
CREATED:20241227T133848Z
LAST-MODIFIED:20250117T155330Z
UID:10004268-1737109800-1737113400@worldchildrensmuseum.org
SUMMARY:Storytime Friday
DESCRIPTION:Reading: “Sneezy the Snowman” by Maureen WrightTheme: “Finding your\, ‘Just right.'” \nWe are excited to now offer Storytime Fridays at 10:30 am and 1:30 pm! Please join us every Friday for a story and a craft. Your child will be exposed to themes like character\, diversity\, and exploring our world! Some learning skills they will practice are early literacy\, listening\, and fine motor skills. This program is best suited for children ages 2 and up. \nCost: Free with admission
URL:https://worldchildrensmuseum.org/events/storytime-friday-95/
LOCATION:NY
END:VEVENT
BEGIN:VEVENT
DTSTART;TZID=America/New_York:20250117T133000
DTEND;TZID=America/New_York:20250117T143000
DTSTAMP:20260421T014437
CREATED:20241227T133848Z
LAST-MODIFIED:20250117T190833Z
UID:10004269-1737120600-1737124200@worldchildrensmuseum.org
SUMMARY:Storytime Friday
DESCRIPTION:Reading: “Sneezy the Snowman” by Maureen WrightTheme: “Finding your\, ‘Just right.'” \nWe are excited to now offer Storytime Fridays at 10:30 am and 1:30 pm! Please join us every Friday for a story and a craft. Your child will be exposed to themes like character\, diversity\, and exploring our world! Some learning skills they will practice are early literacy\, listening\, and fine motor skills. This program is best suited for children ages 2 and up. \nCost: Free with admission
URL:https://worldchildrensmuseum.org/events/storytime-friday-96/
LOCATION:NY
END:VEVENT
BEGIN:VEVENT
DTSTART;TZID=America/New_York:20250118T100000
DTEND;TZID=America/New_York:20250118T150000
DTSTAMP:20260421T014437
CREATED:20240211T082431Z
LAST-MODIFIED:20240216T113016Z
UID:10003597-1737194400-1737212400@worldchildrensmuseum.org
SUMMARY:Open for General Admission
DESCRIPTION:Tickets can be purchased online at https://wacm.ticketleap.com/museum-admission-2024/Admission Costs:Members: FreeNot-Yet-Members: $7 per person\, children under 12 months are free.Please visit our website for more information on admission: https://worldchildrensmuseum.org/for-visitors/
URL:https://worldchildrensmuseum.org/events/open-for-general-admission-1625/
LOCATION:World Awareness Children’s Museum\, 89 Warren St\, Glens Falls\, NY 12801\, USA
END:VEVENT
BEGIN:VEVENT
DTSTART;TZID=America/New_York:20250118T130000
DTEND;TZID=America/New_York:20250118T143000
DTSTAMP:20260421T014437
CREATED:20241218T205348Z
LAST-MODIFIED:20250118T190858Z
UID:10004252-1737205200-1737210600@worldchildrensmuseum.org
SUMMARY:Polar Bear Cub Paint & Sip
DESCRIPTION:Join us for our popular family-friendly Paint & Sip series taught by local artist Patrice Jarvis-Weber. Artists will paint their own polar bear cub on canvas.  \nCost: $12 per person. Members get a 10% discount! Please call to reserve your spot: 518-793-2773 or visit wacm.ticketleap.com to reserve online.  \nThis class is limited to 9 people. \nJoin with Google Meet: https://meet.google.com/iiy-ebtq-tep\nOr dial: (US) +1 747-235-3888 PIN: 986823319#\nMore phone numbers: https://tel.meet/iiy-ebtq-tep?pin=5503246527751&hs=7\nLearn more about Meet at: https://support.google.com/a/users/answer/9282720
URL:https://worldchildrensmuseum.org/events/polar-bear-cub-paint-sip/
LOCATION:NY
END:VEVENT
BEGIN:VEVENT
DTSTART;TZID=America/New_York:20250119T100000
DTEND;TZID=America/New_York:20250119T150000
DTSTAMP:20260421T014437
CREATED:20240211T082431Z
LAST-MODIFIED:20240216T113016Z
UID:10003598-1737280800-1737298800@worldchildrensmuseum.org
SUMMARY:Open for General Admission
DESCRIPTION:Tickets can be purchased online at https://wacm.ticketleap.com/museum-admission-2024/Admission Costs:Members: FreeNot-Yet-Members: $7 per person\, children under 12 months are free.Please visit our website for more information on admission: https://worldchildrensmuseum.org/for-visitors/
URL:https://worldchildrensmuseum.org/events/open-for-general-admission-1626/
LOCATION:World Awareness Children’s Museum\, 89 Warren St\, Glens Falls\, NY 12801\, USA
END:VEVENT
BEGIN:VEVENT
DTSTART;TZID=America/New_York:20250120T100000
DTEND;TZID=America/New_York:20250120T150000
DTSTAMP:20260421T014437
CREATED:20240212T082421Z
LAST-MODIFIED:20240216T113016Z
UID:10003599-1737367200-1737385200@worldchildrensmuseum.org
SUMMARY:Open for General Admission
DESCRIPTION:Tickets can be purchased online at https://wacm.ticketleap.com/museum-admission-2024/Admission Costs:Members: FreeNot-Yet-Members: $7 per person\, children under 12 months are free.Please visit our website for more information on admission: https://worldchildrensmuseum.org/for-visitors/
URL:https://worldchildrensmuseum.org/events/open-for-general-admission-1627/
LOCATION:World Awareness Children’s Museum\, 89 Warren St\, Glens Falls\, NY 12801\, USA
END:VEVENT
BEGIN:VEVENT
DTSTART;TZID=America/New_York:20250123T100000
DTEND;TZID=America/New_York:20250123T150000
DTSTAMP:20260421T014437
CREATED:20240212T082422Z
LAST-MODIFIED:20240216T113016Z
UID:10003600-1737626400-1737644400@worldchildrensmuseum.org
SUMMARY:Open for General Admission
DESCRIPTION:Tickets can be purchased online at https://wacm.ticketleap.com/museum-admission-2024/Admission Costs:Members: FreeNot-Yet-Members: $7 per person\, children under 12 months are free.Please visit our website for more information on admission: https://worldchildrensmuseum.org/for-visitors/
URL:https://worldchildrensmuseum.org/events/open-for-general-admission-1628/
LOCATION:World Awareness Children’s Museum\, 89 Warren St\, Glens Falls\, NY 12801\, USA
END:VEVENT
BEGIN:VEVENT
DTSTART;TZID=America/New_York:20250123T103000
DTEND;TZID=America/New_York:20250123T113000
DTSTAMP:20260421T014437
CREATED:20241227T140847Z
LAST-MODIFIED:20250123T160828Z
UID:10004276-1737628200-1737631800@worldchildrensmuseum.org
SUMMARY:Kinder Rhythm
DESCRIPTION:Kinder Rhythm Inspires creativity\, joyful play\, and social interaction through the power of group rhythm-making. This includes singing\, dancing\, playing instruments\, and moving to the beat. Come and join Susie Barber\, national and international music\, theatre\, and movement educator and drum facilitator for a morning of fun and adventure with a hands on rhythmic exploration for your child and the child in you!  As the Zimbabwe proverb says\, “If you can speak you can sing and if you can walk you can dance!” \nCost: Free with admission
URL:https://worldchildrensmuseum.org/events/kinder-rhythm-10/
LOCATION:NY
END:VEVENT
BEGIN:VEVENT
DTSTART;TZID=America/New_York:20250124T100000
DTEND;TZID=America/New_York:20250124T150000
DTSTAMP:20260421T014437
CREATED:20240213T082425Z
LAST-MODIFIED:20240216T113016Z
UID:10003601-1737712800-1737730800@worldchildrensmuseum.org
SUMMARY:Open for General Admission
DESCRIPTION:Tickets can be purchased online at https://wacm.ticketleap.com/museum-admission-2024/Admission Costs:Members: FreeNot-Yet-Members: $7 per person\, children under 12 months are free.Please visit our website for more information on admission: https://worldchildrensmuseum.org/for-visitors/
URL:https://worldchildrensmuseum.org/events/open-for-general-admission-1629/
LOCATION:World Awareness Children’s Museum\, 89 Warren St\, Glens Falls\, NY 12801\, USA
END:VEVENT
BEGIN:VEVENT
DTSTART;TZID=America/New_York:20250124T103000
DTEND;TZID=America/New_York:20250124T113000
DTSTAMP:20260421T014437
CREATED:20241227T133849Z
LAST-MODIFIED:20250124T162332Z
UID:10004270-1737714600-1737718200@worldchildrensmuseum.org
SUMMARY:Storytime Friday
DESCRIPTION:Reading: “How to Catch a Dragon” by Adam WallaceTheme: “Chinese Lunar New Year” \nWe are excited to now offer Storytime Fridays at 10:30 am and 1:30 pm! Please join us every Friday for a story and a craft. Your child will be exposed to themes like character\, diversity\, and exploring our world! Some learning skills they will practice are early literacy\, listening\, and fine motor skills. This program is best suited for children ages 2 and up. \nCost: Free with admission
URL:https://worldchildrensmuseum.org/events/storytime-friday-97/
LOCATION:NY
END:VEVENT
BEGIN:VEVENT
DTSTART;TZID=America/New_York:20250124T133000
DTEND;TZID=America/New_York:20250124T143000
DTSTAMP:20260421T014437
CREATED:20241227T133849Z
LAST-MODIFIED:20250124T192328Z
UID:10004271-1737725400-1737729000@worldchildrensmuseum.org
SUMMARY:Storytime Friday
DESCRIPTION:Reading: “How to Catch a Dragon” by Adam WallaceTheme: “Chinese Lunar New Year” \nWe are excited to now offer Storytime Fridays at 10:30 am and 1:30 pm! Please join us every Friday for a story and a craft. Your child will be exposed to themes like character\, diversity\, and exploring our world! Some learning skills they will practice are early literacy\, listening\, and fine motor skills. This program is best suited for children ages 2 and up. \nCost: Free with admission
URL:https://worldchildrensmuseum.org/events/storytime-friday-98/
LOCATION:NY
END:VEVENT
BEGIN:VEVENT
DTSTART;TZID=America/New_York:20250125T100000
DTEND;TZID=America/New_York:20250125T150000
DTSTAMP:20260421T014437
CREATED:20240214T082448Z
LAST-MODIFIED:20240216T113017Z
UID:10003602-1737799200-1737817200@worldchildrensmuseum.org
SUMMARY:Open for General Admission
DESCRIPTION:Tickets can be purchased online at https://wacm.ticketleap.com/museum-admission-2024/Admission Costs:Members: FreeNot-Yet-Members: $7 per person\, children under 12 months are free.Please visit our website for more information on admission: https://worldchildrensmuseum.org/for-visitors/
URL:https://worldchildrensmuseum.org/events/open-for-general-admission-1630/
LOCATION:World Awareness Children’s Museum\, 89 Warren St\, Glens Falls\, NY 12801\, USA
END:VEVENT
BEGIN:VEVENT
DTSTART;TZID=America/New_York:20250125T130000
DTEND;TZID=America/New_York:20250125T140000
DTSTAMP:20260421T014437
CREATED:20241218T212404Z
LAST-MODIFIED:20250125T182501Z
UID:10004253-1737810000-1737813600@worldchildrensmuseum.org
SUMMARY:World Culture Workshop: Chinese Lunar New Year
DESCRIPTION:Please note: Registration for this program includes a $3 fee\, in addition to museum admission. To register\, visit: https://wacm.ticketleap.com/012525/Museum admission is separate from the price of this program. You can purchase your admission tickets at the Front Desk when you arrive or online here: https://wacm.ticketleap.com/admission-2025/ \nJoin us to learn about this fun celebration! We will read a book about the Chinese Lunar New Year\, observe art and artifacts from the museum’s collection\, and everyone will play a part in the Lion Parade! \nCost: $3 per person in addition to admission. Members get a 10% discount! (Appropriate for ages 3-9) \nLimited to 12 people
URL:https://worldchildrensmuseum.org/events/world-culture-workshop-chinese-lunar-new-year-2/
LOCATION:NY
END:VEVENT
BEGIN:VEVENT
DTSTART;TZID=America/New_York:20250126T100000
DTEND;TZID=America/New_York:20250126T150000
DTSTAMP:20260421T014437
CREATED:20240215T082515Z
LAST-MODIFIED:20240216T113017Z
UID:10003603-1737885600-1737903600@worldchildrensmuseum.org
SUMMARY:Open for General Admission
DESCRIPTION:Tickets can be purchased online at https://wacm.ticketleap.com/museum-admission-2024/Admission Costs:Members: FreeNot-Yet-Members: $7 per person\, children under 12 months are free.Please visit our website for more information on admission: https://worldchildrensmuseum.org/for-visitors/
URL:https://worldchildrensmuseum.org/events/open-for-general-admission-1631/
LOCATION:World Awareness Children’s Museum\, 89 Warren St\, Glens Falls\, NY 12801\, USA
END:VEVENT
BEGIN:VEVENT
DTSTART;TZID=America/New_York:20250127T100000
DTEND;TZID=America/New_York:20250127T150000
DTSTAMP:20260421T014437
CREATED:20240216T082432Z
LAST-MODIFIED:20240216T113017Z
UID:10003604-1737972000-1737990000@worldchildrensmuseum.org
SUMMARY:Open for General Admission
DESCRIPTION:Tickets can be purchased online at https://wacm.ticketleap.com/museum-admission-2024/Admission Costs:Members: FreeNot-Yet-Members: $7 per person\, children under 12 months are free.Please visit our website for more information on admission: https://worldchildrensmuseum.org/for-visitors/
URL:https://worldchildrensmuseum.org/events/open-for-general-admission-1632/
LOCATION:World Awareness Children’s Museum\, 89 Warren St\, Glens Falls\, NY 12801\, USA
END:VEVENT
BEGIN:VEVENT
DTSTART;TZID=America/New_York:20250130T100000
DTEND;TZID=America/New_York:20250130T150000
DTSTAMP:20260421T014437
CREATED:20240217T082553Z
LAST-MODIFIED:20250130T195331Z
UID:10003858-1738231200-1738249200@worldchildrensmuseum.org
SUMMARY:Open for General Admission
DESCRIPTION:Tickets can be purchased online at https://wacm.ticketleap.com/museum-admission-2024/Admission Costs:Members: FreeNot-Yet-Members: $7 per person\, children under 12mo. are free.Please visit our website for more information on admission: https://worldchildrensmuseum.org/for-visitors/
URL:https://worldchildrensmuseum.org/events/open-for-general-admission-1886/
LOCATION:World Awareness Children’s Museum\, 89 Warren St\, Glens Falls\, NY\, United States
GEO:43.310029;-73.639958
X-APPLE-STRUCTURED-LOCATION;VALUE=URI;X-ADDRESS=World Awareness Children’s Museum 89 Warren St Glens Falls NY United States;X-APPLE-RADIUS=500;X-TITLE=89 Warren St:geo:-73.639958,43.310029
END:VEVENT
BEGIN:VEVENT
DTSTART;TZID=America/New_York:20250130T103000
DTEND;TZID=America/New_York:20250130T113000
DTSTAMP:20260421T014437
CREATED:20241227T140848Z
LAST-MODIFIED:20250130T155358Z
UID:10004277-1738233000-1738236600@worldchildrensmuseum.org
SUMMARY:Kinder Rhythm
DESCRIPTION:Kinder Rhythm Inspires creativity\, joyful play\, and social interaction through the power of group rhythm-making. This includes singing\, dancing\, playing instruments\, and moving to the beat. Come and join Susie Barber\, national and international music\, theatre\, and movement educator and drum facilitator for a morning of fun and adventure with a hands on rhythmic exploration for your child and the child in you!  As the Zimbabwe proverb says\, “If you can speak you can sing and if you can walk you can dance!” \nCost: Free with admission
URL:https://worldchildrensmuseum.org/events/kinder-rhythm-11/
LOCATION:NY
END:VEVENT
BEGIN:VEVENT
DTSTART;TZID=America/New_York:20250131T100000
DTEND;TZID=America/New_York:20250131T150000
DTSTAMP:20260421T014437
CREATED:20240217T082554Z
LAST-MODIFIED:20250131T195328Z
UID:10003859-1738317600-1738335600@worldchildrensmuseum.org
SUMMARY:Open for General Admission
DESCRIPTION:Tickets can be purchased online at https://wacm.ticketleap.com/museum-admission-2024/Admission Costs:Members: FreeNot-Yet-Members: $7 per person\, children under 12mo. are free.Please visit our website for more information on admission: https://worldchildrensmuseum.org/for-visitors/
URL:https://worldchildrensmuseum.org/events/open-for-general-admission-1887/
LOCATION:World Awareness Children’s Museum\, 89 Warren St\, Glens Falls\, NY\, United States
GEO:43.310029;-73.639958
X-APPLE-STRUCTURED-LOCATION;VALUE=URI;X-ADDRESS=World Awareness Children’s Museum 89 Warren St Glens Falls NY United States;X-APPLE-RADIUS=500;X-TITLE=89 Warren St:geo:-73.639958,43.310029
END:VEVENT
BEGIN:VEVENT
DTSTART;TZID=America/New_York:20250131T103000
DTEND;TZID=America/New_York:20250131T113000
DTSTAMP:20260421T014437
CREATED:20241227T133850Z
LAST-MODIFIED:20250131T162420Z
UID:10004272-1738319400-1738323000@worldchildrensmuseum.org
SUMMARY:Storytime Friday
DESCRIPTION:Reading: “The Mitten” by Jan BrettTheme: “Winter animals” \nWe are excited to now offer Storytime Fridays at 10:30 am and 1:30 pm! Please join us every Friday for a story and a craft. Your child will be exposed to themes like character\, diversity\, and exploring our world! Some learning skills they will practice are early literacy\, listening\, and fine motor skills. This program is best suited for children ages 2 and up. \nCost: Free with admission
URL:https://worldchildrensmuseum.org/events/storytime-friday-99/
LOCATION:NY
END:VEVENT
BEGIN:VEVENT
DTSTART;TZID=America/New_York:20250131T133000
DTEND;TZID=America/New_York:20250131T143000
DTSTAMP:20260421T014437
CREATED:20241227T140849Z
LAST-MODIFIED:20250131T192450Z
UID:10004278-1738330200-1738333800@worldchildrensmuseum.org
SUMMARY:Storytime Friday
DESCRIPTION:Reading: “The Mitten” by Jan BrettTheme: “Winter animals” \nWe are excited to now offer Storytime Fridays at 10:30 am and 1:30 pm! Please join us every Friday for a story and a craft. Your child will be exposed to themes like character\, diversity\, and exploring our world! Some learning skills they will practice are early literacy\, listening\, and fine motor skills. This program is best suited for children ages 2 and up. \nCost: Free with admission
URL:https://worldchildrensmuseum.org/events/storytime-friday-100/
LOCATION:NY
END:VEVENT
BEGIN:VEVENT
DTSTART;TZID=America/New_York:20250201T100000
DTEND;TZID=America/New_York:20250201T150000
DTSTAMP:20260421T014437
CREATED:20240217T082555Z
LAST-MODIFIED:20250201T195331Z
UID:10003860-1738404000-1738422000@worldchildrensmuseum.org
SUMMARY:Open for General Admission
DESCRIPTION:Tickets can be purchased online at https://wacm.ticketleap.com/museum-admission-2024/Admission Costs:Members: FreeNot-Yet-Members: $7 per person\, children under 12mo. are free.Please visit our website for more information on admission: https://worldchildrensmuseum.org/for-visitors/
URL:https://worldchildrensmuseum.org/events/open-for-general-admission-1888/
LOCATION:World Awareness Children’s Museum\, 89 Warren St\, Glens Falls\, NY\, United States
GEO:43.310029;-73.639958
X-APPLE-STRUCTURED-LOCATION;VALUE=URI;X-ADDRESS=World Awareness Children’s Museum 89 Warren St Glens Falls NY United States;X-APPLE-RADIUS=500;X-TITLE=89 Warren St:geo:-73.639958,43.310029
END:VEVENT
BEGIN:VEVENT
DTSTART;TZID=America/New_York:20250201T100000
DTEND;TZID=America/New_York:20250201T150000
DTSTAMP:20260421T014437
CREATED:20250116T185344Z
LAST-MODIFIED:20250201T195331Z
UID:10004293-1738404000-1738422000@worldchildrensmuseum.org
SUMMARY:Stuffed Lovie Day!
DESCRIPTION:Bring your favorite stuffed animal into the museum for a ‘trip around the world’!   \nCome in and follow Thailand’s elephant footprints on the floor. Are your stuffed animal’s feet bigger or smaller than the elephants? You and your lovie can then stroll to Japan\, explore Mexico’s Kitchen\, and climb the Mountain Tots wall or roast a marshmallow together!  \nDon’t forget to color a picture in the Art Room of your favorite memory today and pick up a sticker at the front desk for your stuffed animal as a keepsake. Did you or your lovie have a favorite exhibit\, or was it just too hard to choose? \nCost: Free with Admission
URL:https://worldchildrensmuseum.org/events/stuffed-lovie-day/
LOCATION:NY
END:VEVENT
BEGIN:VEVENT
DTSTART;TZID=America/New_York:20250202T100000
DTEND;TZID=America/New_York:20250202T150000
DTSTAMP:20260421T014437
CREATED:20240218T083917Z
LAST-MODIFIED:20250202T195413Z
UID:10003861-1738490400-1738508400@worldchildrensmuseum.org
SUMMARY:Open for General Admission
DESCRIPTION:Tickets can be purchased online at https://wacm.ticketleap.com/museum-admission-2024/Admission Costs:Members: FreeNot-Yet-Members: $7 per person\, children under 12mo. are free.Please visit our website for more information on admission: https://worldchildrensmuseum.org/for-visitors/
URL:https://worldchildrensmuseum.org/events/open-for-general-admission-1889/
LOCATION:World Awareness Children’s Museum\, 89 Warren St\, Glens Falls\, NY\, United States
GEO:43.310029;-73.639958
X-APPLE-STRUCTURED-LOCATION;VALUE=URI;X-ADDRESS=World Awareness Children’s Museum 89 Warren St Glens Falls NY United States;X-APPLE-RADIUS=500;X-TITLE=89 Warren St:geo:-73.639958,43.310029
END:VEVENT
BEGIN:VEVENT
DTSTART;TZID=America/New_York:20250203T100000
DTEND;TZID=America/New_York:20250203T150000
DTSTAMP:20260421T014437
CREATED:20240219T083920Z
LAST-MODIFIED:20250203T193839Z
UID:10003862-1738576800-1738594800@worldchildrensmuseum.org
SUMMARY:Open for General Admission
DESCRIPTION:Tickets can be purchased online at https://wacm.ticketleap.com/museum-admission-2024/Admission Costs:Members: FreeNot-Yet-Members: $7 per person\, children under 12mo. are free.Please visit our website for more information on admission: https://worldchildrensmuseum.org/for-visitors/
URL:https://worldchildrensmuseum.org/events/open-for-general-admission-1890/
LOCATION:World Awareness Children’s Museum\, 89 Warren St\, Glens Falls\, NY\, United States
GEO:43.310029;-73.639958
X-APPLE-STRUCTURED-LOCATION;VALUE=URI;X-ADDRESS=World Awareness Children’s Museum 89 Warren St Glens Falls NY United States;X-APPLE-RADIUS=500;X-TITLE=89 Warren St:geo:-73.639958,43.310029
END:VEVENT
END:VCALENDAR