BEGIN:VCALENDAR
VERSION:2.0
PRODID:-//World Awareness Children&#039;s Museum - ECPv6.15.20//NONSGML v1.0//EN
CALSCALE:GREGORIAN
METHOD:PUBLISH
X-ORIGINAL-URL:https://worldchildrensmuseum.org
X-WR-CALDESC:Events for World Awareness Children&#039;s Museum
REFRESH-INTERVAL;VALUE=DURATION:PT1H
X-Robots-Tag:noindex
X-PUBLISHED-TTL:PT1H
BEGIN:VTIMEZONE
TZID:America/New_York
BEGIN:DAYLIGHT
TZOFFSETFROM:-0500
TZOFFSETTO:-0400
TZNAME:EDT
DTSTART:20240310T070000
END:DAYLIGHT
BEGIN:STANDARD
TZOFFSETFROM:-0400
TZOFFSETTO:-0500
TZNAME:EST
DTSTART:20241103T060000
END:STANDARD
BEGIN:DAYLIGHT
TZOFFSETFROM:-0500
TZOFFSETTO:-0400
TZNAME:EDT
DTSTART:20250309T070000
END:DAYLIGHT
BEGIN:STANDARD
TZOFFSETFROM:-0400
TZOFFSETTO:-0500
TZNAME:EST
DTSTART:20251102T060000
END:STANDARD
BEGIN:DAYLIGHT
TZOFFSETFROM:-0500
TZOFFSETTO:-0400
TZNAME:EDT
DTSTART:20260308T070000
END:DAYLIGHT
BEGIN:STANDARD
TZOFFSETFROM:-0400
TZOFFSETTO:-0500
TZNAME:EST
DTSTART:20261101T060000
END:STANDARD
END:VTIMEZONE
BEGIN:VEVENT
DTSTART;TZID=America/New_York:20250124T133000
DTEND;TZID=America/New_York:20250124T143000
DTSTAMP:20260420T035105
CREATED:20241227T133849Z
LAST-MODIFIED:20250124T192328Z
UID:10004271-1737725400-1737729000@worldchildrensmuseum.org
SUMMARY:Storytime Friday
DESCRIPTION:Reading: “How to Catch a Dragon” by Adam WallaceTheme: “Chinese Lunar New Year” \nWe are excited to now offer Storytime Fridays at 10:30 am and 1:30 pm! Please join us every Friday for a story and a craft. Your child will be exposed to themes like character\, diversity\, and exploring our world! Some learning skills they will practice are early literacy\, listening\, and fine motor skills. This program is best suited for children ages 2 and up. \nCost: Free with admission
URL:https://worldchildrensmuseum.org/events/storytime-friday-98/
LOCATION:NY
END:VEVENT
BEGIN:VEVENT
DTSTART;TZID=America/New_York:20250125T100000
DTEND;TZID=America/New_York:20250125T150000
DTSTAMP:20260420T035105
CREATED:20240214T082448Z
LAST-MODIFIED:20240216T113017Z
UID:10003602-1737799200-1737817200@worldchildrensmuseum.org
SUMMARY:Open for General Admission
DESCRIPTION:Tickets can be purchased online at https://wacm.ticketleap.com/museum-admission-2024/Admission Costs:Members: FreeNot-Yet-Members: $7 per person\, children under 12 months are free.Please visit our website for more information on admission: https://worldchildrensmuseum.org/for-visitors/
URL:https://worldchildrensmuseum.org/events/open-for-general-admission-1630/
LOCATION:World Awareness Children’s Museum\, 89 Warren St\, Glens Falls\, NY 12801\, USA
END:VEVENT
BEGIN:VEVENT
DTSTART;TZID=America/New_York:20250125T130000
DTEND;TZID=America/New_York:20250125T140000
DTSTAMP:20260420T035105
CREATED:20241218T212404Z
LAST-MODIFIED:20250125T182501Z
UID:10004253-1737810000-1737813600@worldchildrensmuseum.org
SUMMARY:World Culture Workshop: Chinese Lunar New Year
DESCRIPTION:Please note: Registration for this program includes a $3 fee\, in addition to museum admission. To register\, visit: https://wacm.ticketleap.com/012525/Museum admission is separate from the price of this program. You can purchase your admission tickets at the Front Desk when you arrive or online here: https://wacm.ticketleap.com/admission-2025/ \nJoin us to learn about this fun celebration! We will read a book about the Chinese Lunar New Year\, observe art and artifacts from the museum’s collection\, and everyone will play a part in the Lion Parade! \nCost: $3 per person in addition to admission. Members get a 10% discount! (Appropriate for ages 3-9) \nLimited to 12 people
URL:https://worldchildrensmuseum.org/events/world-culture-workshop-chinese-lunar-new-year-2/
LOCATION:NY
END:VEVENT
BEGIN:VEVENT
DTSTART;TZID=America/New_York:20250126T100000
DTEND;TZID=America/New_York:20250126T150000
DTSTAMP:20260420T035105
CREATED:20240215T082515Z
LAST-MODIFIED:20240216T113017Z
UID:10003603-1737885600-1737903600@worldchildrensmuseum.org
SUMMARY:Open for General Admission
DESCRIPTION:Tickets can be purchased online at https://wacm.ticketleap.com/museum-admission-2024/Admission Costs:Members: FreeNot-Yet-Members: $7 per person\, children under 12 months are free.Please visit our website for more information on admission: https://worldchildrensmuseum.org/for-visitors/
URL:https://worldchildrensmuseum.org/events/open-for-general-admission-1631/
LOCATION:World Awareness Children’s Museum\, 89 Warren St\, Glens Falls\, NY 12801\, USA
END:VEVENT
BEGIN:VEVENT
DTSTART;TZID=America/New_York:20250127T100000
DTEND;TZID=America/New_York:20250127T150000
DTSTAMP:20260420T035105
CREATED:20240216T082432Z
LAST-MODIFIED:20240216T113017Z
UID:10003604-1737972000-1737990000@worldchildrensmuseum.org
SUMMARY:Open for General Admission
DESCRIPTION:Tickets can be purchased online at https://wacm.ticketleap.com/museum-admission-2024/Admission Costs:Members: FreeNot-Yet-Members: $7 per person\, children under 12 months are free.Please visit our website for more information on admission: https://worldchildrensmuseum.org/for-visitors/
URL:https://worldchildrensmuseum.org/events/open-for-general-admission-1632/
LOCATION:World Awareness Children’s Museum\, 89 Warren St\, Glens Falls\, NY 12801\, USA
END:VEVENT
BEGIN:VEVENT
DTSTART;TZID=America/New_York:20250130T100000
DTEND;TZID=America/New_York:20250130T150000
DTSTAMP:20260420T035105
CREATED:20240217T082553Z
LAST-MODIFIED:20250130T195331Z
UID:10003858-1738231200-1738249200@worldchildrensmuseum.org
SUMMARY:Open for General Admission
DESCRIPTION:Tickets can be purchased online at https://wacm.ticketleap.com/museum-admission-2024/Admission Costs:Members: FreeNot-Yet-Members: $7 per person\, children under 12mo. are free.Please visit our website for more information on admission: https://worldchildrensmuseum.org/for-visitors/
URL:https://worldchildrensmuseum.org/events/open-for-general-admission-1886/
LOCATION:World Awareness Children’s Museum\, 89 Warren St\, Glens Falls\, NY\, United States
GEO:43.310029;-73.639958
X-APPLE-STRUCTURED-LOCATION;VALUE=URI;X-ADDRESS=World Awareness Children’s Museum 89 Warren St Glens Falls NY United States;X-APPLE-RADIUS=500;X-TITLE=89 Warren St:geo:-73.639958,43.310029
END:VEVENT
BEGIN:VEVENT
DTSTART;TZID=America/New_York:20250130T103000
DTEND;TZID=America/New_York:20250130T113000
DTSTAMP:20260420T035105
CREATED:20241227T140848Z
LAST-MODIFIED:20250130T155358Z
UID:10004277-1738233000-1738236600@worldchildrensmuseum.org
SUMMARY:Kinder Rhythm
DESCRIPTION:Kinder Rhythm Inspires creativity\, joyful play\, and social interaction through the power of group rhythm-making. This includes singing\, dancing\, playing instruments\, and moving to the beat. Come and join Susie Barber\, national and international music\, theatre\, and movement educator and drum facilitator for a morning of fun and adventure with a hands on rhythmic exploration for your child and the child in you!  As the Zimbabwe proverb says\, “If you can speak you can sing and if you can walk you can dance!” \nCost: Free with admission
URL:https://worldchildrensmuseum.org/events/kinder-rhythm-11/
LOCATION:NY
END:VEVENT
BEGIN:VEVENT
DTSTART;TZID=America/New_York:20250131T100000
DTEND;TZID=America/New_York:20250131T150000
DTSTAMP:20260420T035105
CREATED:20240217T082554Z
LAST-MODIFIED:20250131T195328Z
UID:10003859-1738317600-1738335600@worldchildrensmuseum.org
SUMMARY:Open for General Admission
DESCRIPTION:Tickets can be purchased online at https://wacm.ticketleap.com/museum-admission-2024/Admission Costs:Members: FreeNot-Yet-Members: $7 per person\, children under 12mo. are free.Please visit our website for more information on admission: https://worldchildrensmuseum.org/for-visitors/
URL:https://worldchildrensmuseum.org/events/open-for-general-admission-1887/
LOCATION:World Awareness Children’s Museum\, 89 Warren St\, Glens Falls\, NY\, United States
GEO:43.310029;-73.639958
X-APPLE-STRUCTURED-LOCATION;VALUE=URI;X-ADDRESS=World Awareness Children’s Museum 89 Warren St Glens Falls NY United States;X-APPLE-RADIUS=500;X-TITLE=89 Warren St:geo:-73.639958,43.310029
END:VEVENT
BEGIN:VEVENT
DTSTART;TZID=America/New_York:20250131T103000
DTEND;TZID=America/New_York:20250131T113000
DTSTAMP:20260420T035105
CREATED:20241227T133850Z
LAST-MODIFIED:20250131T162420Z
UID:10004272-1738319400-1738323000@worldchildrensmuseum.org
SUMMARY:Storytime Friday
DESCRIPTION:Reading: “The Mitten” by Jan BrettTheme: “Winter animals” \nWe are excited to now offer Storytime Fridays at 10:30 am and 1:30 pm! Please join us every Friday for a story and a craft. Your child will be exposed to themes like character\, diversity\, and exploring our world! Some learning skills they will practice are early literacy\, listening\, and fine motor skills. This program is best suited for children ages 2 and up. \nCost: Free with admission
URL:https://worldchildrensmuseum.org/events/storytime-friday-99/
LOCATION:NY
END:VEVENT
BEGIN:VEVENT
DTSTART;TZID=America/New_York:20250131T133000
DTEND;TZID=America/New_York:20250131T143000
DTSTAMP:20260420T035105
CREATED:20241227T140849Z
LAST-MODIFIED:20250131T192450Z
UID:10004278-1738330200-1738333800@worldchildrensmuseum.org
SUMMARY:Storytime Friday
DESCRIPTION:Reading: “The Mitten” by Jan BrettTheme: “Winter animals” \nWe are excited to now offer Storytime Fridays at 10:30 am and 1:30 pm! Please join us every Friday for a story and a craft. Your child will be exposed to themes like character\, diversity\, and exploring our world! Some learning skills they will practice are early literacy\, listening\, and fine motor skills. This program is best suited for children ages 2 and up. \nCost: Free with admission
URL:https://worldchildrensmuseum.org/events/storytime-friday-100/
LOCATION:NY
END:VEVENT
BEGIN:VEVENT
DTSTART;TZID=America/New_York:20250201T100000
DTEND;TZID=America/New_York:20250201T150000
DTSTAMP:20260420T035105
CREATED:20240217T082555Z
LAST-MODIFIED:20250201T195331Z
UID:10003860-1738404000-1738422000@worldchildrensmuseum.org
SUMMARY:Open for General Admission
DESCRIPTION:Tickets can be purchased online at https://wacm.ticketleap.com/museum-admission-2024/Admission Costs:Members: FreeNot-Yet-Members: $7 per person\, children under 12mo. are free.Please visit our website for more information on admission: https://worldchildrensmuseum.org/for-visitors/
URL:https://worldchildrensmuseum.org/events/open-for-general-admission-1888/
LOCATION:World Awareness Children’s Museum\, 89 Warren St\, Glens Falls\, NY\, United States
GEO:43.310029;-73.639958
X-APPLE-STRUCTURED-LOCATION;VALUE=URI;X-ADDRESS=World Awareness Children’s Museum 89 Warren St Glens Falls NY United States;X-APPLE-RADIUS=500;X-TITLE=89 Warren St:geo:-73.639958,43.310029
END:VEVENT
BEGIN:VEVENT
DTSTART;TZID=America/New_York:20250201T100000
DTEND;TZID=America/New_York:20250201T150000
DTSTAMP:20260420T035105
CREATED:20250116T185344Z
LAST-MODIFIED:20250201T195331Z
UID:10004293-1738404000-1738422000@worldchildrensmuseum.org
SUMMARY:Stuffed Lovie Day!
DESCRIPTION:Bring your favorite stuffed animal into the museum for a ‘trip around the world’!   \nCome in and follow Thailand’s elephant footprints on the floor. Are your stuffed animal’s feet bigger or smaller than the elephants? You and your lovie can then stroll to Japan\, explore Mexico’s Kitchen\, and climb the Mountain Tots wall or roast a marshmallow together!  \nDon’t forget to color a picture in the Art Room of your favorite memory today and pick up a sticker at the front desk for your stuffed animal as a keepsake. Did you or your lovie have a favorite exhibit\, or was it just too hard to choose? \nCost: Free with Admission
URL:https://worldchildrensmuseum.org/events/stuffed-lovie-day/
LOCATION:NY
END:VEVENT
BEGIN:VEVENT
DTSTART;TZID=America/New_York:20250202T100000
DTEND;TZID=America/New_York:20250202T150000
DTSTAMP:20260420T035105
CREATED:20240218T083917Z
LAST-MODIFIED:20250202T195413Z
UID:10003861-1738490400-1738508400@worldchildrensmuseum.org
SUMMARY:Open for General Admission
DESCRIPTION:Tickets can be purchased online at https://wacm.ticketleap.com/museum-admission-2024/Admission Costs:Members: FreeNot-Yet-Members: $7 per person\, children under 12mo. are free.Please visit our website for more information on admission: https://worldchildrensmuseum.org/for-visitors/
URL:https://worldchildrensmuseum.org/events/open-for-general-admission-1889/
LOCATION:World Awareness Children’s Museum\, 89 Warren St\, Glens Falls\, NY\, United States
GEO:43.310029;-73.639958
X-APPLE-STRUCTURED-LOCATION;VALUE=URI;X-ADDRESS=World Awareness Children’s Museum 89 Warren St Glens Falls NY United States;X-APPLE-RADIUS=500;X-TITLE=89 Warren St:geo:-73.639958,43.310029
END:VEVENT
BEGIN:VEVENT
DTSTART;TZID=America/New_York:20250203T100000
DTEND;TZID=America/New_York:20250203T150000
DTSTAMP:20260420T035105
CREATED:20240219T083920Z
LAST-MODIFIED:20250203T193839Z
UID:10003862-1738576800-1738594800@worldchildrensmuseum.org
SUMMARY:Open for General Admission
DESCRIPTION:Tickets can be purchased online at https://wacm.ticketleap.com/museum-admission-2024/Admission Costs:Members: FreeNot-Yet-Members: $7 per person\, children under 12mo. are free.Please visit our website for more information on admission: https://worldchildrensmuseum.org/for-visitors/
URL:https://worldchildrensmuseum.org/events/open-for-general-admission-1890/
LOCATION:World Awareness Children’s Museum\, 89 Warren St\, Glens Falls\, NY\, United States
GEO:43.310029;-73.639958
X-APPLE-STRUCTURED-LOCATION;VALUE=URI;X-ADDRESS=World Awareness Children’s Museum 89 Warren St Glens Falls NY United States;X-APPLE-RADIUS=500;X-TITLE=89 Warren St:geo:-73.639958,43.310029
END:VEVENT
BEGIN:VEVENT
DTSTART;TZID=America/New_York:20250203T100000
DTEND;TZID=America/New_York:20250203T150000
DTSTAMP:20260420T035105
CREATED:20250116T185344Z
LAST-MODIFIED:20250203T193839Z
UID:10004294-1738576800-1738594800@worldchildrensmuseum.org
SUMMARY:Make & Take a Valentine
DESCRIPTION:Make your own valentine at the museum and learn how to write\, ‘I love you’\, in a different language! \nJoin us today for a fun-filled craft where you can create your own personalized valentines using a variety of materials provided by the museum.  In the Art Room\, you can create your own unique valentine\, and explore cultures by writing “I love you” in different languages and scripts. \nCost: Free with admission & while supplies last. 
URL:https://worldchildrensmuseum.org/events/make-take-a-valentine/
LOCATION:NY
END:VEVENT
BEGIN:VEVENT
DTSTART;TZID=America/New_York:20250206T100000
DTEND;TZID=America/New_York:20250206T150000
DTSTAMP:20260420T035105
CREATED:20240220T084038Z
LAST-MODIFIED:20250206T192334Z
UID:10003863-1738836000-1738854000@worldchildrensmuseum.org
SUMMARY:Open for General Admission
DESCRIPTION:Tickets can be purchased online at https://wacm.ticketleap.com/museum-admission-2024/Admission Costs:Members: FreeNot-Yet-Members: $7 per person\, children under 12mo. are free.Please visit our website for more information on admission: https://worldchildrensmuseum.org/for-visitors/
URL:https://worldchildrensmuseum.org/events/open-for-general-admission-1891/
LOCATION:World Awareness Children’s Museum\, 89 Warren St\, Glens Falls\, NY\, United States
GEO:43.310029;-73.639958
X-APPLE-STRUCTURED-LOCATION;VALUE=URI;X-ADDRESS=World Awareness Children’s Museum 89 Warren St Glens Falls NY United States;X-APPLE-RADIUS=500;X-TITLE=89 Warren St:geo:-73.639958,43.310029
END:VEVENT
BEGIN:VEVENT
DTSTART;TZID=America/New_York:20250207T100000
DTEND;TZID=America/New_York:20250207T150000
DTSTAMP:20260420T035105
CREATED:20240220T084038Z
LAST-MODIFIED:20250207T195405Z
UID:10003864-1738922400-1738940400@worldchildrensmuseum.org
SUMMARY:Open for General Admission
DESCRIPTION:Tickets can be purchased online at https://wacm.ticketleap.com/museum-admission-2024/Admission Costs:Members: FreeNot-Yet-Members: $7 per person\, children under 12mo. are free.Please visit our website for more information on admission: https://worldchildrensmuseum.org/for-visitors/
URL:https://worldchildrensmuseum.org/events/open-for-general-admission-1892/
LOCATION:World Awareness Children’s Museum\, 89 Warren St\, Glens Falls\, NY\, United States
GEO:43.310029;-73.639958
X-APPLE-STRUCTURED-LOCATION;VALUE=URI;X-ADDRESS=World Awareness Children’s Museum 89 Warren St Glens Falls NY United States;X-APPLE-RADIUS=500;X-TITLE=89 Warren St:geo:-73.639958,43.310029
END:VEVENT
BEGIN:VEVENT
DTSTART;TZID=America/New_York:20250208T100000
DTEND;TZID=America/New_York:20250208T150000
DTSTAMP:20260420T035105
CREATED:20240221T083935Z
LAST-MODIFIED:20250208T195345Z
UID:10003865-1739008800-1739026800@worldchildrensmuseum.org
SUMMARY:Open for General Admission
DESCRIPTION:Tickets can be purchased online at https://wacm.ticketleap.com/museum-admission-2024/Admission Costs:Members: FreeNot-Yet-Members: $7 per person\, children under 12mo. are free.Please visit our website for more information on admission: https://worldchildrensmuseum.org/for-visitors/
URL:https://worldchildrensmuseum.org/events/open-for-general-admission-1893/
LOCATION:World Awareness Children’s Museum\, 89 Warren St\, Glens Falls\, NY\, United States
GEO:43.310029;-73.639958
X-APPLE-STRUCTURED-LOCATION;VALUE=URI;X-ADDRESS=World Awareness Children’s Museum 89 Warren St Glens Falls NY United States;X-APPLE-RADIUS=500;X-TITLE=89 Warren St:geo:-73.639958,43.310029
END:VEVENT
BEGIN:VEVENT
DTSTART;TZID=America/New_York:20250209T100000
DTEND;TZID=America/New_York:20250209T150000
DTSTAMP:20260420T035105
CREATED:20230714T191739Z
LAST-MODIFIED:20250209T193832Z
UID:10002825-1739095200-1739113200@worldchildrensmuseum.org
SUMMARY:Free Day!
DESCRIPTION:Visit the museum for free today\, thanks to Stewart’s Holiday Match and all who contributed! We are pleased to offer these free days from 10am-3pm once per month. Donations are appreciated but not required. \nFree Days are generously sponsored by Stewart’s Holiday Match.  \nYou can learn more by visiting www.stewartsshops.com/community-giving
URL:https://worldchildrensmuseum.org/events/free-day-33/
LOCATION:NY
END:VEVENT
BEGIN:VEVENT
DTSTART;TZID=America/New_York:20250209T100000
DTEND;TZID=America/New_York:20250209T150000
DTSTAMP:20260420T035105
CREATED:20240221T083936Z
LAST-MODIFIED:20250209T193832Z
UID:10003866-1739095200-1739113200@worldchildrensmuseum.org
SUMMARY:Open for General Admission
DESCRIPTION:Tickets can be purchased online at https://wacm.ticketleap.com/museum-admission-2024/Admission Costs:Members: FreeNot-Yet-Members: $7 per person\, children under 12mo. are free.Please visit our website for more information on admission: https://worldchildrensmuseum.org/for-visitors/
URL:https://worldchildrensmuseum.org/events/open-for-general-admission-1894/
LOCATION:World Awareness Children’s Museum\, 89 Warren St\, Glens Falls\, NY\, United States
GEO:43.310029;-73.639958
X-APPLE-STRUCTURED-LOCATION;VALUE=URI;X-ADDRESS=World Awareness Children’s Museum 89 Warren St Glens Falls NY United States;X-APPLE-RADIUS=500;X-TITLE=89 Warren St:geo:-73.639958,43.310029
END:VEVENT
BEGIN:VEVENT
DTSTART;TZID=America/New_York:20250210T100000
DTEND;TZID=America/New_York:20250210T150000
DTSTAMP:20260420T035105
CREATED:20240226T085427Z
LAST-MODIFIED:20250210T193833Z
UID:10003873-1739181600-1739199600@worldchildrensmuseum.org
SUMMARY:Open for General Admission
DESCRIPTION:Tickets can be purchased online at https://wacm.ticketleap.com/museum-admission-2024/Admission Costs:Members: FreeNot-Yet-Members: $7 per person\, children under 12mo. are free.Please visit our website for more information on admission: https://worldchildrensmuseum.org/for-visitors/
URL:https://worldchildrensmuseum.org/events/open-for-general-admission-1895/
LOCATION:World Awareness Children’s Museum\, 89 Warren St\, Glens Falls\, NY\, United States
GEO:43.310029;-73.639958
X-APPLE-STRUCTURED-LOCATION;VALUE=URI;X-ADDRESS=World Awareness Children’s Museum 89 Warren St Glens Falls NY United States;X-APPLE-RADIUS=500;X-TITLE=89 Warren St:geo:-73.639958,43.310029
END:VEVENT
BEGIN:VEVENT
DTSTART;TZID=America/New_York:20250213T100000
DTEND;TZID=America/New_York:20250213T150000
DTSTAMP:20260420T035105
CREATED:20240305T093951Z
LAST-MODIFIED:20250213T195340Z
UID:10003883-1739440800-1739458800@worldchildrensmuseum.org
SUMMARY:Open for General Admission
DESCRIPTION:Tickets can be purchased online at https://wacm.ticketleap.com/museum-admission-2024/Admission Costs:Members: FreeNot-Yet-Members: $7 per person\, children under 12mo. are free.Please visit our website for more information on admission: https://worldchildrensmuseum.org/for-visitors/
URL:https://worldchildrensmuseum.org/events/open-for-general-admission-1896/
LOCATION:World Awareness Children’s Museum\, 89 Warren St\, Glens Falls\, NY\, United States
GEO:43.310029;-73.639958
X-APPLE-STRUCTURED-LOCATION;VALUE=URI;X-ADDRESS=World Awareness Children’s Museum 89 Warren St Glens Falls NY United States;X-APPLE-RADIUS=500;X-TITLE=89 Warren St:geo:-73.639958,43.310029
END:VEVENT
BEGIN:VEVENT
DTSTART;TZID=America/New_York:20250214T100000
DTEND;TZID=America/New_York:20250214T150000
DTSTAMP:20260420T035105
CREATED:20240306T093913Z
LAST-MODIFIED:20250214T193905Z
UID:10003884-1739527200-1739545200@worldchildrensmuseum.org
SUMMARY:Open for General Admission
DESCRIPTION:Tickets can be purchased online at https://wacm.ticketleap.com/museum-admission-2024/Admission Costs:Members: FreeNot-Yet-Members: $7 per person\, children under 12mo. are free.Please visit our website for more information on admission: https://worldchildrensmuseum.org/for-visitors/
URL:https://worldchildrensmuseum.org/events/open-for-general-admission-1897/
LOCATION:World Awareness Children’s Museum\, 89 Warren St\, Glens Falls\, NY\, United States
GEO:43.310029;-73.639958
X-APPLE-STRUCTURED-LOCATION;VALUE=URI;X-ADDRESS=World Awareness Children’s Museum 89 Warren St Glens Falls NY United States;X-APPLE-RADIUS=500;X-TITLE=89 Warren St:geo:-73.639958,43.310029
END:VEVENT
BEGIN:VEVENT
DTSTART;TZID=America/New_York:20250214T103000
DTEND;TZID=America/New_York:20250214T113000
DTSTAMP:20260420T035105
CREATED:20250116T185347Z
LAST-MODIFIED:20250214T162332Z
UID:10004299-1739529000-1739532600@worldchildrensmuseum.org
SUMMARY:Storytime Friday
DESCRIPTION:Everyone is welcome at Storytime Fridays\, a recurring program designed to spark joy and curiosity in little ones! Each week\, we explore early literacy skills through movement\, imaginative play\, and a creative craft that brings the story to life. Perfect for toddlers\, preschoolers\, and their caregivers. \nCost: Free with Admission
URL:https://worldchildrensmuseum.org/events/storytime-friday-103/
LOCATION:NY
END:VEVENT
BEGIN:VEVENT
DTSTART;TZID=America/New_York:20250214T120000
DTEND;TZID=America/New_York:20250214T123000
DTSTAMP:20260420T035105
CREATED:20250116T192351Z
LAST-MODIFIED:20250214T165330Z
UID:10004303-1739534400-1739536200@worldchildrensmuseum.org
SUMMARY:Fork Painted Love Monster Craft
DESCRIPTION:Grab a smock in the Art Room and create a friendly Love Monster craft to take home. We will use washable paint\, a plastic fork as our painting tool\, and a range of tiny to large googly eyes! What will your love monster look like? \nCost: Free with Admission
URL:https://worldchildrensmuseum.org/events/fork-painted-love-monster-craft/
LOCATION:NY
END:VEVENT
BEGIN:VEVENT
DTSTART;TZID=America/New_York:20250214T133000
DTEND;TZID=America/New_York:20250214T143000
DTSTAMP:20260420T035105
CREATED:20250116T185348Z
LAST-MODIFIED:20250214T190838Z
UID:10004300-1739539800-1739543400@worldchildrensmuseum.org
SUMMARY:Storytime Friday
DESCRIPTION:Everyone is welcome at Storytime Fridays\, a recurring program designed to spark joy and curiosity in little ones! Each week\, we explore early literacy skills through movement\, imaginative play\, and a creative craft that brings the story to life. Perfect for toddlers\, preschoolers\, and their caregivers. \nCost: Free with Admission
URL:https://worldchildrensmuseum.org/events/storytime-friday-104/
LOCATION:NY
END:VEVENT
BEGIN:VEVENT
DTSTART;TZID=America/New_York:20250215T100000
DTEND;TZID=America/New_York:20250215T150000
DTSTAMP:20260420T035105
CREATED:20240307T095451Z
LAST-MODIFIED:20250215T193844Z
UID:10003885-1739613600-1739631600@worldchildrensmuseum.org
SUMMARY:Open for General Admission
DESCRIPTION:Tickets can be purchased online at https://wacm.ticketleap.com/museum-admission-2024/Admission Costs:Members: FreeNot-Yet-Members: $7 per person\, children under 12mo. are free.Please visit our website for more information on admission: https://worldchildrensmuseum.org/for-visitors/
URL:https://worldchildrensmuseum.org/events/open-for-general-admission-1898/
LOCATION:World Awareness Children’s Museum\, 89 Warren St\, Glens Falls\, NY\, United States
GEO:43.310029;-73.639958
X-APPLE-STRUCTURED-LOCATION;VALUE=URI;X-ADDRESS=World Awareness Children’s Museum 89 Warren St Glens Falls NY United States;X-APPLE-RADIUS=500;X-TITLE=89 Warren St:geo:-73.639958,43.310029
END:VEVENT
BEGIN:VEVENT
DTSTART;TZID=America/New_York:20250215T103000
DTEND;TZID=America/New_York:20250215T120000
DTSTAMP:20260420T035105
CREATED:20250117T182335Z
LAST-MODIFIED:20250215T163841Z
UID:10004311-1739615400-1739620800@worldchildrensmuseum.org
SUMMARY:Drumming Circle Workshop
DESCRIPTION:*This is a drop-off event\, and you can register for as many days as you would like and are available! \nLet your child embark on a rhythmic journey across the globe! In this engaging drop-off event\, children will explore the sounds and rhythms of Africa\, the Middle East\, India\, Indonesia\, and Japan. You can register for one day or all five! \nCost: $15 for members or $20 for not-yet-members\, per person\, per day. (Admission cost included.) Please call to reserve your spot at 518-793-2773 or visit https://wacm.ticketleap.com/to reserve online and for more details. \n*This workshop is limited to 10 children per day. Ages: 8-12.
URL:https://worldchildrensmuseum.org/events/drumming-circle-workshop/
LOCATION:NY
END:VEVENT
BEGIN:VEVENT
DTSTART;TZID=America/New_York:20250216T100000
DTEND;TZID=America/New_York:20250216T150000
DTSTAMP:20260420T035105
CREATED:20240308T100920Z
LAST-MODIFIED:20250216T195330Z
UID:10003886-1739700000-1739718000@worldchildrensmuseum.org
SUMMARY:Open for General Admission
DESCRIPTION:Tickets can be purchased online at https://wacm.ticketleap.com/museum-admission-2024/Admission Costs:Members: FreeNot-Yet-Members: $7 per person\, children under 12mo. are free.Please visit our website for more information on admission: https://worldchildrensmuseum.org/for-visitors/
URL:https://worldchildrensmuseum.org/events/open-for-general-admission-1899/
LOCATION:World Awareness Children’s Museum\, 89 Warren St\, Glens Falls\, NY\, United States
GEO:43.310029;-73.639958
X-APPLE-STRUCTURED-LOCATION;VALUE=URI;X-ADDRESS=World Awareness Children’s Museum 89 Warren St Glens Falls NY United States;X-APPLE-RADIUS=500;X-TITLE=89 Warren St:geo:-73.639958,43.310029
END:VEVENT
BEGIN:VEVENT
DTSTART;TZID=America/New_York:20250216T103000
DTEND;TZID=America/New_York:20250216T120000
DTSTAMP:20260420T035105
CREATED:20250117T182336Z
LAST-MODIFIED:20250216T165342Z
UID:10004312-1739701800-1739707200@worldchildrensmuseum.org
SUMMARY:Drumming Circle Workshop
DESCRIPTION:*This is a drop-off event\, and you can register for as many days as you would like and are available! \nLet your child embark on a rhythmic journey across the globe! In this engaging drop-off event\, children will explore the sounds and rhythms of Africa\, the Middle East\, India\, Indonesia\, and Japan. You can register for one day or all five! \nCost: $15 for members or $20 for not-yet-members\, per person\, per day. (Admission cost included.) Please call to reserve your spot at 518-793-2773 or visit https://wacm.ticketleap.com/ to reserve online and for more details. \n*This workshop is limited to 10 children per day. Ages: 8-12.
URL:https://worldchildrensmuseum.org/events/drumming-circle-workshop-2/
LOCATION:NY
END:VEVENT
END:VCALENDAR