BEGIN:VCALENDAR
VERSION:2.0
PRODID:-//World Awareness Children&#039;s Museum - ECPv6.15.20//NONSGML v1.0//EN
CALSCALE:GREGORIAN
METHOD:PUBLISH
X-ORIGINAL-URL:https://worldchildrensmuseum.org
X-WR-CALDESC:Events for World Awareness Children&#039;s Museum
REFRESH-INTERVAL;VALUE=DURATION:PT1H
X-Robots-Tag:noindex
X-PUBLISHED-TTL:PT1H
BEGIN:VTIMEZONE
TZID:America/New_York
BEGIN:DAYLIGHT
TZOFFSETFROM:-0500
TZOFFSETTO:-0400
TZNAME:EDT
DTSTART:20220313T070000
END:DAYLIGHT
BEGIN:STANDARD
TZOFFSETFROM:-0400
TZOFFSETTO:-0500
TZNAME:EST
DTSTART:20221106T060000
END:STANDARD
BEGIN:DAYLIGHT
TZOFFSETFROM:-0500
TZOFFSETTO:-0400
TZNAME:EDT
DTSTART:20230312T070000
END:DAYLIGHT
BEGIN:STANDARD
TZOFFSETFROM:-0400
TZOFFSETTO:-0500
TZNAME:EST
DTSTART:20231105T060000
END:STANDARD
BEGIN:DAYLIGHT
TZOFFSETFROM:-0500
TZOFFSETTO:-0400
TZNAME:EDT
DTSTART:20240310T070000
END:DAYLIGHT
BEGIN:STANDARD
TZOFFSETFROM:-0400
TZOFFSETTO:-0500
TZNAME:EST
DTSTART:20241103T060000
END:STANDARD
END:VTIMEZONE
BEGIN:VEVENT
DTSTART;TZID=America/New_York:20230326T100000
DTEND;TZID=America/New_York:20230326T150000
DTSTAMP:20260423T114345
CREATED:20220824T022745Z
LAST-MODIFIED:20221221T214116Z
UID:10001978-1679824800-1679842800@worldchildrensmuseum.org
SUMMARY:Open for General Admission
DESCRIPTION:Pre-registration is encouraged: wacm.ticketleap.com/admission-2022 \nAdmission Costs:Members: FreeNot-Yet-Members: $7 per person\, children under 3 are free.Please visit our website for more information on admission: https://worldchildrensmuseum.org/for-visitors/
URL:https://worldchildrensmuseum.org/events/open-for-general-admission-408/
LOCATION:World Awareness Children’s Museum\, 89 Warren St\, Glens Falls\, NY 12801\, USA
END:VEVENT
BEGIN:VEVENT
DTSTART;TZID=America/New_York:20230327T100000
DTEND;TZID=America/New_York:20230327T150000
DTSTAMP:20260423T114345
CREATED:20220824T022745Z
LAST-MODIFIED:20221221T214116Z
UID:10001979-1679911200-1679929200@worldchildrensmuseum.org
SUMMARY:Open for General Admission
DESCRIPTION:Pre-registration is encouraged: wacm.ticketleap.com/admission-2022 \nAdmission Costs:Members: FreeNot-Yet-Members: $7 per person\, children under 3 are free.Please visit our website for more information on admission: https://worldchildrensmuseum.org/for-visitors/
URL:https://worldchildrensmuseum.org/events/open-for-general-admission-409/
LOCATION:World Awareness Children’s Museum\, 89 Warren St\, Glens Falls\, NY 12801\, USA
END:VEVENT
BEGIN:VEVENT
DTSTART;VALUE=DATE:20230328
DTEND;VALUE=DATE:20230329
DTSTAMP:20260423T114345
CREATED:20220907T045621Z
LAST-MODIFIED:20230328T042331Z
UID:10002116-1679961600-1680047999@worldchildrensmuseum.org
SUMMARY:MUSEUM CLOSED
DESCRIPTION:
URL:https://worldchildrensmuseum.org/events/museum-closed-62/
LOCATION:NY
END:VEVENT
BEGIN:VEVENT
DTSTART;VALUE=DATE:20230329
DTEND;VALUE=DATE:20230330
DTSTAMP:20260423T114345
CREATED:20220907T045621Z
LAST-MODIFIED:20230329T042340Z
UID:10002117-1680048000-1680134399@worldchildrensmuseum.org
SUMMARY:MUSEUM CLOSED
DESCRIPTION:
URL:https://worldchildrensmuseum.org/events/museum-closed-63/
LOCATION:NY
END:VEVENT
BEGIN:VEVENT
DTSTART;TZID=America/New_York:20230330T100000
DTEND;TZID=America/New_York:20230330T150000
DTSTAMP:20260423T114345
CREATED:20220824T022746Z
LAST-MODIFIED:20221221T214116Z
UID:10001753-1680170400-1680188400@worldchildrensmuseum.org
SUMMARY:Open for General Admission
DESCRIPTION:Pre-registration is encouraged: wacm.ticketleap.com/admission-2022 \nAdmission Costs:Members: FreeNot-Yet-Members: $7 per person\, children under 3 are free.Please visit our website for more information on admission: https://worldchildrensmuseum.org/for-visitors/
URL:https://worldchildrensmuseum.org/events/open-for-general-admission-410/
LOCATION:World Awareness Children’s Museum\, 89 Warren St\, Glens Falls\, NY 12801\, USA
END:VEVENT
BEGIN:VEVENT
DTSTART;TZID=America/New_York:20230330T103000
DTEND;TZID=America/New_York:20230330T113000
DTSTAMP:20260423T114345
CREATED:20230301T015339Z
LAST-MODIFIED:20230330T042332Z
UID:10002245-1680172200-1680175800@worldchildrensmuseum.org
SUMMARY:Flower Painting for Preschoolers
DESCRIPTION:Children will learn about the parts of a flower and paint their own! Cost: Free with admission
URL:https://worldchildrensmuseum.org/events/flower-painting-for-preschoolers/
LOCATION:NY
END:VEVENT
BEGIN:VEVENT
DTSTART;TZID=America/New_York:20230331T100000
DTEND;TZID=America/New_York:20230331T150000
DTSTAMP:20260423T114345
CREATED:20220824T022746Z
LAST-MODIFIED:20221221T214116Z
UID:10001754-1680256800-1680274800@worldchildrensmuseum.org
SUMMARY:Open for General Admission
DESCRIPTION:Pre-registration is encouraged: wacm.ticketleap.com/admission-2022 \nAdmission Costs:Members: FreeNot-Yet-Members: $7 per person\, children under 3 are free.Please visit our website for more information on admission: https://worldchildrensmuseum.org/for-visitors/
URL:https://worldchildrensmuseum.org/events/open-for-general-admission-411/
LOCATION:World Awareness Children’s Museum\, 89 Warren St\, Glens Falls\, NY 12801\, USA
END:VEVENT
BEGIN:VEVENT
DTSTART;TZID=America/New_York:20230401T100000
DTEND;TZID=America/New_York:20230401T150000
DTSTAMP:20260423T114345
CREATED:20220824T022746Z
LAST-MODIFIED:20221221T214116Z
UID:10001755-1680343200-1680361200@worldchildrensmuseum.org
SUMMARY:Open for General Admission
DESCRIPTION:Pre-registration is encouraged: wacm.ticketleap.com/admission-2022 \nAdmission Costs:Members: FreeNot-Yet-Members: $7 per person\, children under 3 are free.Please visit our website for more information on admission: https://worldchildrensmuseum.org/for-visitors/
URL:https://worldchildrensmuseum.org/events/open-for-general-admission-412/
LOCATION:World Awareness Children’s Museum\, 89 Warren St\, Glens Falls\, NY 12801\, USA
END:VEVENT
END:VCALENDAR