BEGIN:VCALENDAR
VERSION:2.0
PRODID:-//World Awareness Children&#039;s Museum - ECPv6.15.20//NONSGML v1.0//EN
CALSCALE:GREGORIAN
METHOD:PUBLISH
X-ORIGINAL-URL:https://worldchildrensmuseum.org
X-WR-CALDESC:Events for World Awareness Children&#039;s Museum
REFRESH-INTERVAL;VALUE=DURATION:PT1H
X-Robots-Tag:noindex
X-PUBLISHED-TTL:PT1H
BEGIN:VTIMEZONE
TZID:America/New_York
BEGIN:DAYLIGHT
TZOFFSETFROM:-0500
TZOFFSETTO:-0400
TZNAME:EDT
DTSTART:20220313T070000
END:DAYLIGHT
BEGIN:STANDARD
TZOFFSETFROM:-0400
TZOFFSETTO:-0500
TZNAME:EST
DTSTART:20221106T060000
END:STANDARD
BEGIN:DAYLIGHT
TZOFFSETFROM:-0500
TZOFFSETTO:-0400
TZNAME:EDT
DTSTART:20230312T070000
END:DAYLIGHT
BEGIN:STANDARD
TZOFFSETFROM:-0400
TZOFFSETTO:-0500
TZNAME:EST
DTSTART:20231105T060000
END:STANDARD
BEGIN:DAYLIGHT
TZOFFSETFROM:-0500
TZOFFSETTO:-0400
TZNAME:EDT
DTSTART:20240310T070000
END:DAYLIGHT
BEGIN:STANDARD
TZOFFSETFROM:-0400
TZOFFSETTO:-0500
TZNAME:EST
DTSTART:20241103T060000
END:STANDARD
END:VTIMEZONE
BEGIN:VEVENT
DTSTART;TZID=America/New_York:20230402T100000
DTEND;TZID=America/New_York:20230402T150000
DTSTAMP:20260423T100243
CREATED:20220824T022746Z
LAST-MODIFIED:20221221T214116Z
UID:10001756-1680429600-1680447600@worldchildrensmuseum.org
SUMMARY:Open for General Admission
DESCRIPTION:Pre-registration is encouraged: wacm.ticketleap.com/admission-2022 \nAdmission Costs:Members: FreeNot-Yet-Members: $7 per person\, children under 3 are free.Please visit our website for more information on admission: https://worldchildrensmuseum.org/for-visitors/
URL:https://worldchildrensmuseum.org/events/open-for-general-admission-413/
LOCATION:World Awareness Children’s Museum\, 89 Warren St\, Glens Falls\, NY 12801\, USA
END:VEVENT
BEGIN:VEVENT
DTSTART;VALUE=DATE:20230404
DTEND;VALUE=DATE:20230405
DTSTAMP:20260423T100243
CREATED:20220907T045622Z
LAST-MODIFIED:20230404T043833Z
UID:10002142-1680566400-1680652799@worldchildrensmuseum.org
SUMMARY:MUSEUM CLOSED
DESCRIPTION:
URL:https://worldchildrensmuseum.org/events/museum-closed-65/
LOCATION:NY
END:VEVENT
BEGIN:VEVENT
DTSTART;VALUE=DATE:20230405
DTEND;VALUE=DATE:20230406
DTSTAMP:20260423T100243
CREATED:20220907T045622Z
LAST-MODIFIED:20230405T043832Z
UID:10002118-1680652800-1680739199@worldchildrensmuseum.org
SUMMARY:MUSEUM CLOSED
DESCRIPTION:
URL:https://worldchildrensmuseum.org/events/museum-closed-64/
LOCATION:NY
END:VEVENT
BEGIN:VEVENT
DTSTART;TZID=America/New_York:20230406T100000
DTEND;TZID=America/New_York:20230406T150000
DTSTAMP:20260423T100243
CREATED:20220824T022747Z
LAST-MODIFIED:20221221T214117Z
UID:10001757-1680775200-1680793200@worldchildrensmuseum.org
SUMMARY:Open for General Admission
DESCRIPTION:Pre-registration is encouraged: wacm.ticketleap.com/admission-2022 \nAdmission Costs:Members: FreeNot-Yet-Members: $7 per person\, children under 3 are free.Please visit our website for more information on admission: https://worldchildrensmuseum.org/for-visitors/
URL:https://worldchildrensmuseum.org/events/open-for-general-admission-415/
LOCATION:World Awareness Children’s Museum\, 89 Warren St\, Glens Falls\, NY 12801\, USA
END:VEVENT
BEGIN:VEVENT
DTSTART;TZID=America/New_York:20230407T100000
DTEND;TZID=America/New_York:20230407T150000
DTSTAMP:20260423T100243
CREATED:20220824T022747Z
LAST-MODIFIED:20221221T214117Z
UID:10001758-1680861600-1680879600@worldchildrensmuseum.org
SUMMARY:Open for General Admission
DESCRIPTION:Pre-registration is encouraged: wacm.ticketleap.com/admission-2022 \nAdmission Costs:Members: FreeNot-Yet-Members: $7 per person\, children under 3 are free.Please visit our website for more information on admission: https://worldchildrensmuseum.org/for-visitors/
URL:https://worldchildrensmuseum.org/events/open-for-general-admission-416/
LOCATION:World Awareness Children’s Museum\, 89 Warren St\, Glens Falls\, NY 12801\, USA
END:VEVENT
BEGIN:VEVENT
DTSTART;TZID=America/New_York:20230407T133000
DTEND;TZID=America/New_York:20230407T143000
DTSTAMP:20260423T100243
CREATED:20230330T042331Z
LAST-MODIFIED:20230407T043834Z
UID:10002458-1680874200-1680877800@worldchildrensmuseum.org
SUMMARY:Storytime Friday: Qingming Festival
DESCRIPTION:Reading: “The Fearless Flights of Hazel Ying Lee” by Julie Leung \nEveryone is welcome at our recurring program\, Storytime Fridays! This program is appropriate for all ages and includes a story and a craft.  \nCost: Free with admission
URL:https://worldchildrensmuseum.org/events/storytime-friday-qingming-festival/
LOCATION:NY
END:VEVENT
BEGIN:VEVENT
DTSTART;TZID=America/New_York:20230408T100000
DTEND;TZID=America/New_York:20230408T150000
DTSTAMP:20260423T100243
CREATED:20220824T022747Z
LAST-MODIFIED:20221221T214117Z
UID:10001759-1680948000-1680966000@worldchildrensmuseum.org
SUMMARY:Open for General Admission
DESCRIPTION:Pre-registration is encouraged: wacm.ticketleap.com/admission-2022 \nAdmission Costs:Members: FreeNot-Yet-Members: $7 per person\, children under 3 are free.Please visit our website for more information on admission: https://worldchildrensmuseum.org/for-visitors/
URL:https://worldchildrensmuseum.org/events/open-for-general-admission-417/
LOCATION:World Awareness Children’s Museum\, 89 Warren St\, Glens Falls\, NY 12801\, USA
END:VEVENT
END:VCALENDAR