BEGIN:VCALENDAR
VERSION:2.0
PRODID:-//World Awareness Children&#039;s Museum - ECPv6.15.20//NONSGML v1.0//EN
CALSCALE:GREGORIAN
METHOD:PUBLISH
X-ORIGINAL-URL:https://worldchildrensmuseum.org
X-WR-CALDESC:Events for World Awareness Children&#039;s Museum
REFRESH-INTERVAL;VALUE=DURATION:PT1H
X-Robots-Tag:noindex
X-PUBLISHED-TTL:PT1H
BEGIN:VTIMEZONE
TZID:America/New_York
BEGIN:DAYLIGHT
TZOFFSETFROM:-0500
TZOFFSETTO:-0400
TZNAME:EDT
DTSTART:20220313T070000
END:DAYLIGHT
BEGIN:STANDARD
TZOFFSETFROM:-0400
TZOFFSETTO:-0500
TZNAME:EST
DTSTART:20221106T060000
END:STANDARD
BEGIN:DAYLIGHT
TZOFFSETFROM:-0500
TZOFFSETTO:-0400
TZNAME:EDT
DTSTART:20230312T070000
END:DAYLIGHT
BEGIN:STANDARD
TZOFFSETFROM:-0400
TZOFFSETTO:-0500
TZNAME:EST
DTSTART:20231105T060000
END:STANDARD
BEGIN:DAYLIGHT
TZOFFSETFROM:-0500
TZOFFSETTO:-0400
TZNAME:EDT
DTSTART:20240310T070000
END:DAYLIGHT
BEGIN:STANDARD
TZOFFSETFROM:-0400
TZOFFSETTO:-0500
TZNAME:EST
DTSTART:20241103T060000
END:STANDARD
END:VTIMEZONE
BEGIN:VEVENT
DTSTART;TZID=America/New_York:20230416T100000
DTEND;TZID=America/New_York:20230416T150000
DTSTAMP:20260423T065247
CREATED:20230330T042335Z
LAST-MODIFIED:20230416T045415Z
UID:10002467-1681639200-1681657200@worldchildrensmuseum.org
SUMMARY:Free Day!
DESCRIPTION:Visit the museum for free today thanks to Stewart’s Holiday Match and all who contributed! We are pleased to offer these free days from 10am-3pm on the Second Sunday of the month. Donations are appreciated\, but not required. \nFree Days are generously sponsored by Stewart’s Holiday Match.  \nYou can learn more by visiting www.stewartsshops.com/community-giving
URL:https://worldchildrensmuseum.org/events/free-day-14/
LOCATION:NY
END:VEVENT
BEGIN:VEVENT
DTSTART;VALUE=DATE:20230418
DTEND;VALUE=DATE:20230419
DTSTAMP:20260423T065247
CREATED:20220907T045629Z
LAST-MODIFIED:20230418T052430Z
UID:10002156-1681776000-1681862399@worldchildrensmuseum.org
SUMMARY:MUSEUM CLOSED
DESCRIPTION:
URL:https://worldchildrensmuseum.org/events/museum-closed-69/
LOCATION:NY
END:VEVENT
BEGIN:VEVENT
DTSTART;VALUE=DATE:20230419
DTEND;VALUE=DATE:20230420
DTSTAMP:20260423T065247
CREATED:20220907T045629Z
LAST-MODIFIED:20230419T052346Z
UID:10002143-1681862400-1681948799@worldchildrensmuseum.org
SUMMARY:MUSEUM CLOSED
DESCRIPTION:
URL:https://worldchildrensmuseum.org/events/museum-closed-68/
LOCATION:NY
END:VEVENT
BEGIN:VEVENT
DTSTART;TZID=America/New_York:20230420T100000
DTEND;TZID=America/New_York:20230420T150000
DTSTAMP:20260423T065247
CREATED:20220824T022749Z
LAST-MODIFIED:20221221T214119Z
UID:10002018-1681984800-1682002800@worldchildrensmuseum.org
SUMMARY:Open for General Admission
DESCRIPTION:Pre-registration is encouraged: wacm.ticketleap.com/admission-2022 \nAdmission Costs:Members: FreeNot-Yet-Members: $7 per person\, children under 3 are free.Please visit our website for more information on admission: https://worldchildrensmuseum.org/for-visitors/
URL:https://worldchildrensmuseum.org/events/open-for-general-admission-425/
LOCATION:World Awareness Children’s Museum\, 89 Warren St\, Glens Falls\, NY 12801\, USA
END:VEVENT
BEGIN:VEVENT
DTSTART;TZID=America/New_York:20230421T100000
DTEND;TZID=America/New_York:20230421T150000
DTSTAMP:20260423T065247
CREATED:20220824T022749Z
LAST-MODIFIED:20221221T214119Z
UID:10002019-1682071200-1682089200@worldchildrensmuseum.org
SUMMARY:Open for General Admission
DESCRIPTION:Pre-registration is encouraged: wacm.ticketleap.com/admission-2022 \nAdmission Costs:Members: FreeNot-Yet-Members: $7 per person\, children under 3 are free.Please visit our website for more information on admission: https://worldchildrensmuseum.org/for-visitors/
URL:https://worldchildrensmuseum.org/events/open-for-general-admission-426/
LOCATION:World Awareness Children’s Museum\, 89 Warren St\, Glens Falls\, NY 12801\, USA
END:VEVENT
BEGIN:VEVENT
DTSTART;TZID=America/New_York:20230421T133000
DTEND;TZID=America/New_York:20230421T143000
DTSTAMP:20260423T065247
CREATED:20230330T042336Z
LAST-MODIFIED:20230421T052433Z
UID:10002457-1682083800-1682087400@worldchildrensmuseum.org
SUMMARY:Storytime Friday: Ramadan
DESCRIPTION:Reading: “Rashad’s Ramadan and Eid Al-Fitr” by Lisa Bullard \nEveryone is welcome at our recurring program\, Storytime Fridays! This program is appropriate for all ages and includes a story and a craft.  \nCost: Free with admission
URL:https://worldchildrensmuseum.org/events/storytime-friday-ramadan/
LOCATION:NY
END:VEVENT
BEGIN:VEVENT
DTSTART;TZID=America/New_York:20230422T100000
DTEND;TZID=America/New_York:20230422T150000
DTSTAMP:20260423T065247
CREATED:20220824T022749Z
LAST-MODIFIED:20221221T214119Z
UID:10002020-1682157600-1682175600@worldchildrensmuseum.org
SUMMARY:Open for General Admission
DESCRIPTION:Pre-registration is encouraged: wacm.ticketleap.com/admission-2022 \nAdmission Costs:Members: FreeNot-Yet-Members: $7 per person\, children under 3 are free.Please visit our website for more information on admission: https://worldchildrensmuseum.org/for-visitors/
URL:https://worldchildrensmuseum.org/events/open-for-general-admission-427/
LOCATION:World Awareness Children’s Museum\, 89 Warren St\, Glens Falls\, NY 12801\, USA
END:VEVENT
BEGIN:VEVENT
DTSTART;TZID=America/New_York:20230422T110000
DTEND;TZID=America/New_York:20230422T120000
DTSTAMP:20260423T065247
CREATED:20230412T043923Z
LAST-MODIFIED:20230422T052450Z
UID:10002449-1682161200-1682164800@worldchildrensmuseum.org
SUMMARY:Gratitude Workshop: Arms Around the World
DESCRIPTION:Burundi\, Africa ranks the poorest country in the world\, but the children are rich in gratitude. Non-profit founder\, Ashley Campbell\, will be sharing photos of children in Burundi\, what their everyday lives and homes look like and where Burundi is on the map. She'll then share pictures of their personal letters and artwork with us so we can see here\, what kids are grateful for there. After\, kids will have the opportunity to get creative and  color and write their own letters of gratitude. Elementary-lined cards with space for artwork will be provided and no experience is necessary.  \nCost: Free with admission
URL:https://worldchildrensmuseum.org/events/gratitude-workshop-arms-around-the-world/
LOCATION:NY
END:VEVENT
END:VCALENDAR