BEGIN:VCALENDAR
VERSION:2.0
PRODID:-//World Awareness Children&#039;s Museum - ECPv6.15.20//NONSGML v1.0//EN
CALSCALE:GREGORIAN
METHOD:PUBLISH
X-ORIGINAL-URL:https://worldchildrensmuseum.org
X-WR-CALDESC:Events for World Awareness Children&#039;s Museum
REFRESH-INTERVAL;VALUE=DURATION:PT1H
X-Robots-Tag:noindex
X-PUBLISHED-TTL:PT1H
BEGIN:VTIMEZONE
TZID:America/New_York
BEGIN:DAYLIGHT
TZOFFSETFROM:-0500
TZOFFSETTO:-0400
TZNAME:EDT
DTSTART:20230312T070000
END:DAYLIGHT
BEGIN:STANDARD
TZOFFSETFROM:-0400
TZOFFSETTO:-0500
TZNAME:EST
DTSTART:20231105T060000
END:STANDARD
BEGIN:DAYLIGHT
TZOFFSETFROM:-0500
TZOFFSETTO:-0400
TZNAME:EDT
DTSTART:20240310T070000
END:DAYLIGHT
BEGIN:STANDARD
TZOFFSETFROM:-0400
TZOFFSETTO:-0500
TZNAME:EST
DTSTART:20241103T060000
END:STANDARD
BEGIN:DAYLIGHT
TZOFFSETFROM:-0500
TZOFFSETTO:-0400
TZNAME:EDT
DTSTART:20250309T070000
END:DAYLIGHT
BEGIN:STANDARD
TZOFFSETFROM:-0400
TZOFFSETTO:-0500
TZNAME:EST
DTSTART:20251102T060000
END:STANDARD
END:VTIMEZONE
BEGIN:VEVENT
DTSTART;TZID=America/New_York:20240519T163000
DTEND;TZID=America/New_York:20240519T203000
DTSTAMP:20260420T085847
CREATED:20240503T122536Z
LAST-MODIFIED:20240519T150832Z
UID:10003971-1716136200-1716150600@worldchildrensmuseum.org
SUMMARY:34th Annual International Cuisine Dinner & Auction
DESCRIPTION:Every year\, the World Awareness Children’s Museum hosts more than 200 guests to dine on a wide array of delicious international foods\, while supporting the museum’s mission to bring our diverse world to children. This year’s event will be like none you have seen before: with international performances\, live participatory art\, a photo booth\, black-tie encouraged dress\, and a highlight on new and diverse cuisine. In addition\, our raffle\, live auction\, and silent auction present a variety of unique luxury items and experiences for you and your loved ones to win.  \nThis event continues to be the museum’s biggest fundraiser\, with a goal this year to raise $60\,000 to support our mission-driven work\, and we cannot wait to see you there. Dress code: Black tie optional \nGet your tickets at https://wacm.ticketleap.com/gala2024
URL:https://worldchildrensmuseum.org/events/34th-annual-international-cuisine-dinner-auction/
LOCATION:NY
END:VEVENT
BEGIN:VEVENT
DTSTART;VALUE=DATE:20240521
DTEND;VALUE=DATE:20240522
DTSTAMP:20260420T085847
CREATED:20230830T210923Z
LAST-MODIFIED:20240521T150855Z
UID:10002923-1716249600-1716335999@worldchildrensmuseum.org
SUMMARY:MUSEUM CLOSED
DESCRIPTION:School Year Schedule: \nMondays: Open 10am-3pmTuesdays: ClosedWednesdays: ClosedThursdays: Open 10am-3pmFridays: Open 10am-3pmSaturdays: Open 10am-3pmSundays: Open 10am-3pm
URL:https://worldchildrensmuseum.org/events/museum-closed-167/
LOCATION:NY
END:VEVENT
BEGIN:VEVENT
DTSTART;VALUE=DATE:20240522
DTEND;VALUE=DATE:20240523
DTSTAMP:20260420T085847
CREATED:20230830T210923Z
LAST-MODIFIED:20240522T150847Z
UID:10002922-1716336000-1716422399@worldchildrensmuseum.org
SUMMARY:MUSEUM CLOSED
DESCRIPTION:School Year Schedule: \nMondays: Open 10am-3pmTuesdays: ClosedWednesdays: ClosedThursdays: Open 10am-3pmFridays: Open 10am-3pmSaturdays: Open 10am-3pmSundays: Open 10am-3pm
URL:https://worldchildrensmuseum.org/events/museum-closed-166/
LOCATION:NY
END:VEVENT
BEGIN:VEVENT
DTSTART;TZID=America/New_York:20240523T103000
DTEND;TZID=America/New_York:20240523T113000
DTSTAMP:20260420T085847
CREATED:20240503T122536Z
LAST-MODIFIED:20240523T150855Z
UID:10003972-1716460200-1716463800@worldchildrensmuseum.org
SUMMARY:Learn about Indonesia
DESCRIPTION:Indonesia is the largest archipelagic nation in the world\, which means it is made up of just islands! Let’s check out some art from Indonesian kids and learn about the country.  \nCost: Free with admission
URL:https://worldchildrensmuseum.org/events/learn-about-indonesia/
LOCATION:NY
END:VEVENT
BEGIN:VEVENT
DTSTART;TZID=America/New_York:20240524T103000
DTEND;TZID=America/New_York:20240524T113000
DTSTAMP:20260420T085847
CREATED:20240503T122536Z
LAST-MODIFIED:20240524T150834Z
UID:10003973-1716546600-1716550200@worldchildrensmuseum.org
SUMMARY:Storytime Friday
DESCRIPTION:Reading: “Bodhi Sees the World: Thailand” by Marisa Aragon Ware    Theme: Thai culture \n \n \n \nEveryone is welcome at our recurring program\, Storytime Fridays! This program is appropriate for all ages and includes a story and a craft.  \nCost: Free with admission
URL:https://worldchildrensmuseum.org/events/storytime-friday-65/
LOCATION:NY
END:VEVENT
BEGIN:VEVENT
DTSTART;TZID=America/New_York:20240525T103000
DTEND;TZID=America/New_York:20240525T113000
DTSTAMP:20260420T085847
CREATED:20240503T122537Z
LAST-MODIFIED:20240525T150850Z
UID:10003974-1716633000-1716636600@worldchildrensmuseum.org
SUMMARY:Memorial Day Craft
DESCRIPTION:Monday is Memorial Day\, a day when we honor our military members of the past. Join us in painting fields of poppies to honor them.  \nCost: Free with admission
URL:https://worldchildrensmuseum.org/events/memorial-day-craft/
LOCATION:NY
END:VEVENT
BEGIN:VEVENT
DTSTART;TZID=America/New_York:20240525T130000
DTEND;TZID=America/New_York:20240525T143000
DTSTAMP:20260420T085847
CREATED:20240503T122537Z
LAST-MODIFIED:20240525T150850Z
UID:10003975-1716642000-1716647400@worldchildrensmuseum.org
SUMMARY:Chickadee Bird Paint & Sip
DESCRIPTION:Join us for our popular family-friendly Paint & Sip series taught by local artist Patrice Jarvis-Weber. Artists will paint their own chickadee bird on canvas. \nCost: $12 per person. Members get a 10% discount! Please call to reserve your spot: 518-793-2773 or visit wacm.ticketleap.com to reserve online. \nThis class is limited to 9 people.
URL:https://worldchildrensmuseum.org/events/chickadee-bird-paint-sip/
LOCATION:NY
END:VEVENT
END:VCALENDAR