BEGIN:VCALENDAR
VERSION:2.0
PRODID:-//World Awareness Children&#039;s Museum - ECPv6.15.20//NONSGML v1.0//EN
CALSCALE:GREGORIAN
METHOD:PUBLISH
X-WR-CALNAME:World Awareness Children&#039;s Museum
X-ORIGINAL-URL:https://worldchildrensmuseum.org
X-WR-CALDESC:Events for World Awareness Children&#039;s Museum
REFRESH-INTERVAL;VALUE=DURATION:PT1H
X-Robots-Tag:noindex
X-PUBLISHED-TTL:PT1H
BEGIN:VTIMEZONE
TZID:America/New_York
BEGIN:DAYLIGHT
TZOFFSETFROM:-0500
TZOFFSETTO:-0400
TZNAME:EDT
DTSTART:20230312T070000
END:DAYLIGHT
BEGIN:STANDARD
TZOFFSETFROM:-0400
TZOFFSETTO:-0500
TZNAME:EST
DTSTART:20231105T060000
END:STANDARD
BEGIN:DAYLIGHT
TZOFFSETFROM:-0500
TZOFFSETTO:-0400
TZNAME:EDT
DTSTART:20240310T070000
END:DAYLIGHT
BEGIN:STANDARD
TZOFFSETFROM:-0400
TZOFFSETTO:-0500
TZNAME:EST
DTSTART:20241103T060000
END:STANDARD
BEGIN:DAYLIGHT
TZOFFSETFROM:-0500
TZOFFSETTO:-0400
TZNAME:EDT
DTSTART:20250309T070000
END:DAYLIGHT
BEGIN:STANDARD
TZOFFSETFROM:-0400
TZOFFSETTO:-0500
TZNAME:EST
DTSTART:20251102T060000
END:STANDARD
END:VTIMEZONE
BEGIN:VEVENT
DTSTART;VALUE=DATE:20240527
DTEND;VALUE=DATE:20240528
DTSTAMP:20260424T051410
CREATED:20240309T100901Z
LAST-MODIFIED:20240527T152340Z
UID:10003887-1716768000-1716854399@worldchildrensmuseum.org
SUMMARY:Museum Closed for Memorial Day
DESCRIPTION:
URL:https://worldchildrensmuseum.org/events/museum-closed-for-memorial-day-3/
LOCATION:NY
END:VEVENT
BEGIN:VEVENT
DTSTART;VALUE=DATE:20240529
DTEND;VALUE=DATE:20240530
DTSTAMP:20260424T051410
CREATED:20230830T210923Z
LAST-MODIFIED:20240529T152338Z
UID:10002924-1716940800-1717027199@worldchildrensmuseum.org
SUMMARY:MUSEUM CLOSED
DESCRIPTION:School Year Schedule: \nMondays: Open 10am-3pmTuesdays: ClosedWednesdays: ClosedThursdays: Open 10am-3pmFridays: Open 10am-3pmSaturdays: Open 10am-3pmSundays: Open 10am-3pm
URL:https://worldchildrensmuseum.org/events/museum-closed-168/
LOCATION:NY
END:VEVENT
BEGIN:VEVENT
DTSTART;TZID=America/New_York:20240531T103000
DTEND;TZID=America/New_York:20240531T113000
DTSTAMP:20260424T051410
CREATED:20240503T122538Z
LAST-MODIFIED:20240531T152349Z
UID:10003976-1717151400-1717155000@worldchildrensmuseum.org
SUMMARY:Storytime Friday
DESCRIPTION:Reading: “We are All Connected” by Gabi Garcia     Theme: Our diverse world \n \n \n \nEveryone is welcome at our recurring program\, Storytime Fridays! This program is appropriate for all ages and includes a story and a craft.  \nCost: Free with admission
URL:https://worldchildrensmuseum.org/events/storytime-friday-66/
LOCATION:NY
END:VEVENT
END:VCALENDAR