BEGIN:VCALENDAR
VERSION:2.0
PRODID:-//World Awareness Children&#039;s Museum - ECPv6.15.20//NONSGML v1.0//EN
CALSCALE:GREGORIAN
METHOD:PUBLISH
X-WR-CALNAME:World Awareness Children&#039;s Museum
X-ORIGINAL-URL:https://worldchildrensmuseum.org
X-WR-CALDESC:Events for World Awareness Children&#039;s Museum
REFRESH-INTERVAL;VALUE=DURATION:PT1H
X-Robots-Tag:noindex
X-PUBLISHED-TTL:PT1H
BEGIN:VTIMEZONE
TZID:America/New_York
BEGIN:DAYLIGHT
TZOFFSETFROM:-0500
TZOFFSETTO:-0400
TZNAME:EDT
DTSTART:20200308T070000
END:DAYLIGHT
BEGIN:STANDARD
TZOFFSETFROM:-0400
TZOFFSETTO:-0500
TZNAME:EST
DTSTART:20201101T060000
END:STANDARD
BEGIN:DAYLIGHT
TZOFFSETFROM:-0500
TZOFFSETTO:-0400
TZNAME:EDT
DTSTART:20210314T070000
END:DAYLIGHT
BEGIN:STANDARD
TZOFFSETFROM:-0400
TZOFFSETTO:-0500
TZNAME:EST
DTSTART:20211107T060000
END:STANDARD
BEGIN:DAYLIGHT
TZOFFSETFROM:-0500
TZOFFSETTO:-0400
TZNAME:EDT
DTSTART:20220313T070000
END:DAYLIGHT
BEGIN:STANDARD
TZOFFSETFROM:-0400
TZOFFSETTO:-0500
TZNAME:EST
DTSTART:20221106T060000
END:STANDARD
END:VTIMEZONE
BEGIN:VEVENT
DTSTART;TZID=America/New_York:20210625T103000
DTEND;TZID=America/New_York:20210625T113000
DTSTAMP:20260419T165353
CREATED:20210528T061243Z
LAST-MODIFIED:20210625T130953Z
UID:10001474-1624617000-1624620600@worldchildrensmuseum.org
SUMMARY:Storytime Friday: The Secret Life of Squirrels
DESCRIPTION:Everyone is welcome at our recurring program\, Storytime Fridays! This program is appropriate for all ages and includes a story and craft. Cost: $6 per child\, $3 per adult. Members get $2 off! Visit https://wacm.ticketleap.com/t/GCWACM/ to reserve your spot.
URL:https://worldchildrensmuseum.org/events/storytime-friday-the-secret-life-of-squirrels-2/
LOCATION:World Awareness Children’s Museum\, 89 Warren Street\, Glens Falls\, NY 12801
END:VEVENT
BEGIN:VEVENT
DTSTART;TZID=America/New_York:20210623T103000
DTEND;TZID=America/New_York:20210623T113000
DTSTAMP:20260419T165353
CREATED:20210528T061231Z
LAST-MODIFIED:20210623T125604Z
UID:10001473-1624444200-1624447800@worldchildrensmuseum.org
SUMMARY:Finger Painting with Friends
DESCRIPTION:Get your hands dirty at our finger painting workshop! We’ll learn about nature and make our own finger-painted scenes! \nCost: $6 per child\, $3 per adult. Members get $2 off! \nVisit https://wacm.ticketleap.com/t/GCWACM/ to reserve your spot. 
URL:https://worldchildrensmuseum.org/events/finger-painting-with-friends-4/
LOCATION:World Awareness Children’s Museum\, 89 Warren Street\, Glens Falls\, NY 12801
END:VEVENT
BEGIN:VEVENT
DTSTART;TZID=America/New_York:20210621T103000
DTEND;TZID=America/New_York:20210621T113000
DTSTAMP:20260419T165353
CREATED:20210528T061231Z
LAST-MODIFIED:20210621T123013Z
UID:10001472-1624271400-1624275000@worldchildrensmuseum.org
SUMMARY:Slime Lab
DESCRIPTION:Become a Slime Scientist! This program is appropriate for all ages\, and each child will take home their own slime creation. Cost: $6 per child\, $3 per adult. Members get $2 off! Visit https://wacm.ticketleap.com/t/GCWACM/ to reserve your spot.
URL:https://worldchildrensmuseum.org/events/slime-lab-2/
LOCATION:World Awareness Children’s Museum\, 89 Warren Street\, Glens Falls\, NY 12801
END:VEVENT
BEGIN:VEVENT
DTSTART;TZID=America/New_York:20210618T103000
DTEND;TZID=America/New_York:20210618T113000
DTSTAMP:20260419T165353
CREATED:20210528T061231Z
LAST-MODIFIED:20210617T121058Z
UID:10001471-1624012200-1624015800@worldchildrensmuseum.org
SUMMARY:Storytime Friday: Bear Sees Colors
DESCRIPTION:Everyone is welcome at our recurring program\, Storytime Fridays! This program is appropriate for all ages and includes a story and craft. Cost: $6 per child\, $3 per adult. Members get $2 off! Visit https://wacm.ticketleap.com/t/GCWACM/  to reserve your spot.
URL:https://worldchildrensmuseum.org/events/storytime-friday-bear-sees-colors-2/
LOCATION:World Awareness Children’s Museum\, 89 Warren Street\, Glens Falls\, NY 12801
END:VEVENT
BEGIN:VEVENT
DTSTART;TZID=America/New_York:20210616T103000
DTEND;TZID=America/New_York:20210616T113000
DTSTAMP:20260419T165353
CREATED:20210528T061231Z
LAST-MODIFIED:20210616T120951Z
UID:10001453-1623839400-1623843000@worldchildrensmuseum.org
SUMMARY:Dragon Boat Festival Craft
DESCRIPTION:Today we’ll be learning about the Taiwanese Dragon Boat Festival and making our own paper dragon boats!  Cost: $6 per child\, $3 per adult. Members get $2 off! Visit https://wacm.ticketleap.com/t/GCWACM/   to reserve your spot.
URL:https://worldchildrensmuseum.org/events/dragon-boat-festival-craft/
LOCATION:World Awareness Children’s Museum\, 89 Warren Street\, Glens Falls\, NY 12801
END:VEVENT
BEGIN:VEVENT
DTSTART;TZID=America/New_York:20210614T103000
DTEND;TZID=America/New_York:20210614T113000
DTSTAMP:20260419T165353
CREATED:20210528T061231Z
LAST-MODIFIED:20210613T115837Z
UID:10001451-1623666600-1623670200@worldchildrensmuseum.org
SUMMARY:Flag Day Windsock Craft
DESCRIPTION:Join us as we learn about Flag Day and make our own red\, white\, and blue windsock to take home! Cost: $6 per child\, $3 per adult. Members get $2 off! Visit https://wacm.ticketleap.com/t/GCWACM/  to reserve your spot!
URL:https://worldchildrensmuseum.org/events/flag-day-woodsock-craft/
LOCATION:World Awareness Children’s Museum\, 89 Warren Street\, Glens Falls\, NY 12801
END:VEVENT
BEGIN:VEVENT
DTSTART;TZID=America/New_York:20210609T103000
DTEND;TZID=America/New_York:20210609T113000
DTSTAMP:20260419T165353
CREATED:20210528T061230Z
LAST-MODIFIED:20210609T114301Z
UID:10001429-1623234600-1623238200@worldchildrensmuseum.org
SUMMARY:Finger Painting with Friends
DESCRIPTION:Get your hands dirty at our finger painting workshop! We’ll learn about nature and make our own finger-painted scenes! Cost: $6 per child\, $3 per adult. Members get $2 off! Visit https://wacm.ticketleap.com/t/GCWACM/ to reserve your spot!
URL:https://worldchildrensmuseum.org/events/finger-painting-with-friends-3/
LOCATION:World Awareness Children’s Museum\, 89 Warren Street\, Glens Falls\, NY 12801
END:VEVENT
BEGIN:VEVENT
DTSTART;TZID=America/New_York:20210606T130000
DTEND;TZID=America/New_York:20210606T143000
DTSTAMP:20260419T165353
CREATED:20210528T061230Z
LAST-MODIFIED:20210606T071125Z
UID:10001426-1622984400-1622989800@worldchildrensmuseum.org
SUMMARY:Paint & Sip: Dragonflies
DESCRIPTION:Join us for our popular family-friendly Paint & Sip series. Artists will paint a dragonfly masterpiece with acrylic on canvas to celebrate these summertime insects. Cost: $20 per child/adult duo. ($5 for each additional child\, $10 for each additional adult.) Members get a 10% discount! Visit https://wacm.ticketleap.com/t/GCWACM/ to reserve your spot.
URL:https://worldchildrensmuseum.org/events/paint-sip-dragonflies/
LOCATION:World Awareness Children’s Museum\, 89 Warren Street\, Glens Falls\, NY 12801
END:VEVENT
BEGIN:VEVENT
DTSTART;TZID=America/New_York:20210604T103000
DTEND;TZID=America/New_York:20210604T113000
DTSTAMP:20260419T165353
CREATED:20210528T061230Z
LAST-MODIFIED:20210604T071058Z
UID:10001424-1622802600-1622806200@worldchildrensmuseum.org
SUMMARY:Bean Sprout Greenhouse Craft
DESCRIPTION:To celebrate our wonderful earth\, we’ll be making bean sprout greenhouses! Each child will be able to take home their greenhouse to hang it in a window and watch their bean grow! cTo celebrate our wonderful earth\, we’ll be making bean sprout greenhouses! Each child will be able to take home their greenhouse to hang it in a window and watch their bean grow!Cost: $6 per child\, $3 per adult. Members get $2 off!Visit https://wacm.ticketleap.com/t/GCWACM/ to reserve your spot.
URL:https://worldchildrensmuseum.org/events/bean-sprout-greenhouse-craft/
LOCATION:World Awareness Children’s Museum\, 89 Warren Street\, Glens Falls\, NY 12801
END:VEVENT
END:VCALENDAR